{"text_format":"1","workbook":"xlsx","n_sheets":56,"sheets":["Planeación","BD_Depurada","Índice","Rep_Inst","Graf_Inst","Rep_Arq","Graf_Arq","Rep_Com","Rep_CsPol","Rep_Eco","Graf_Eco","Rep_Der","Graf_Der","Rep_Dis","Graf_Dis","Rep_Edu","Rep_Emp","Rep_Enf","Rep_Esp","Graf_Esp","Rep_Fin","Graf_Fin","Rep_Fis","Graf_Fis","Rep_His","Graf_His","Rep_Hum","Graf_Hum","Rep_Civ","Graf_Civ","Rep_Sis","Graf_Sis","Rep_Ind","Graf_Ind","Rep_Mec","Graf_Mec","Rep_LegE","Graf_LegE","Rep_Mat","Graf_Mat","Rep_Med","Graf_Med","Rep_Mer","Rep_Mus","Graf_Mus","Rep_Odo","Graf_Odo","Rep_Psi","Graf_Psi","Rep_Qui","Graf_Qui","Rep_Sal","Rep_Ele","Graf_Ele","TD BD","Departamentos"],"not_rendered":{"charts":22,"images":1,"macros":1,"external_links":2,"defined_names":80,"comments":0,"pivot_tables":1},"unopened":[],"bounds":{"document_bytes":16777216,"sheet_cells":100000,"rows_first":2000,"rows_last":500,"rows_between":2000,"halvings":0,"cell_chars":16384,"cell_head_chars":4096},"cells_cut":0,"cells_raw":0,"read":"whole","date_system":"1900"}

{"sheet":"Planeación","index":0,"n_rows":28,"n_cols":11,"rows_kept":28,"cut":false,"hidden":false,"merged":[[14,2,14,16],[16,2,16,16],[25,2,25,16],[27,2,27,16],[15,2,15,16]]}
["2023-2"]
[]
[]
[]
[]
[]
[]
[]
[null,null,null,null,null,null,null,null,null,null,"OFICINA DE PLANEACIÓN"]
[]
[]
[]
[]
[]
[null,null,"Informe de Perdidos y Retirados"]
[null,null,"por cursos y departamentos académicos"]
[null,null,{"$f":"CONCATENATE(IF(RIGHT(A1,1)=\"1\",\"I\",\"II\"),\" SEMESTRE DE \",LEFT(A1,4))","v":"II SEMESTRE DE 2023"}]
[]
[]
[]
[]
[]
[]
[]
[]
[null,null,"INFORMACIÓN Y ESTADÍSTICA"]
[]
[null,null,"Elaborado:  14 de febrero 2023"]

{"sheet":"BD_Depurada","index":1,"n_rows":2582,"n_cols":19,"rows_kept":2582,"cut":false,"hidden":false,"merged":[]}
["CRN_KEY","CODASG","Nombre Asg","Grp","SEM","Mat Inicial","totalm","totalp","totalr","repi","%perdidos","%retirados","%repitencia","STVDEPT_CODE","Departamento","CEDULA","NOMBRE","DED","Nivel"]
[1307,"ARQ4014","HISTORIA Y TEORIA - SIGLO XIX",1,202330,23,17,0,6,6,{"$f":"+BD_DEP[[#This Row],[totalp]]/BD_DEP[[#This Row],[Mat Inicial]]","v":0},{"$f":"+BD_DEP[[#This Row],[totalr]]/BD_DEP[[#This Row],[Mat Inicial]]","v":0.2608695652173913},{"$f":"+BD_DEP[[#This Row],[repi]]/BD_DEP[[#This Row],[Mat Inicial]]","v":0.2608695652173913},"47","Dpto. Arquitectura y Urbanismo",52888105,"ROJAS BERNAL CLAUDIA","TC","PR"]
[1308,"ARQ4014","HISTORIA Y TEORIA - SIGLO XIX",2,202330,38,37,0,1,1,{"$f":"+BD_DEP[[#This Row],[totalp]]/BD_DEP[[#This Row],[Mat Inicial]]","v":0},{"$f":"+BD_DEP[[#This Row],[totalr]]/BD_DEP[[#This Row],[Mat Inicial]]","v":2.6315789473684209E-2},{"$f":"+BD_DEP[[#This Row],[repi]]/BD_DEP[[#This Row],[Mat Inicial]]","v":2.6315789473684209E-2},"47","Dpto. Arquitectura y Urbanismo",52888105,"ROJAS BERNAL CLAUDIA","TC","PR"]
[1310,"ARQ4017","HISTORIA Y TEORIA PENSAM CLASI",1,202330,24,20,1,4,5,{"$f":"+BD_DEP[[#This Row],[totalp]]/BD_DEP[[#This Row],[Mat Inicial]]","v":4.1666666666666664E-2},{"$f":"+BD_DEP[[#This Row],[totalr]]/BD_DEP[[#This Row],[Mat Inicial]]","v":0.16666666666666666},{"$f":"+BD_DEP[[#This Row],[repi]]/BD_DEP[[#This Row],[Mat Inicial]]","v":0.20833333333333334},"47","Dpto. Arquitectura y Urbanismo",1140868697,"Meza Nuñez Alessandra","TC","PR"]
[1302,"ARQ4011","HISTORIA Y TEORIA VANGUARDIAS",1,202330,29,27,1,2,3,{"$f":"+BD_DEP[[#This Row],[totalp]]/BD_DEP[[#This Row],[Mat Inicial]]","v":3.4482758620689655E-2},{"$f":"+BD_DEP[[#This Row],[totalr]]/BD_DEP[[#This Row],[Mat Inicial]]","v":6.8965517241379309E-2},{"$f":"+BD_DEP[[#This Row],[repi]]/BD_DEP[[#This Row],[Mat Inicial]]","v":0.10344827586206896},"47","Dpto. Arquitectura y Urbanismo",1140864916,"Castilla Riasco Martha","TC","PR"]
[1328,"ARQ4028","PROYECTO DE GRADO I",1,202330,15,15,1,0,1,{"$f":"+BD_DEP[[#This Row],[totalp]]/BD_DEP[[#This Row],[Mat Inicial]]","v":6.6666666666666666E-2},{"$f":"+BD_DEP[[#This Row],[totalr]]/BD_DEP[[#This Row],[Mat Inicial]]","v":0},{"$f":"+BD_DEP[[#This Row],[repi]]/BD_DEP[[#This Row],[Mat Inicial]]","v":6.6666666666666666E-2},"47","Dpto. Arquitectura y Urbanismo",80423166,"Vargas Tovar Yalmar","TC","PR"]
[1354,"ARQ4095","T.ARQUITEC II: HAB Y VIVIENDA",4,202330,13,12,2,1,3,{"$f":"+BD_DEP[[#This Row],[totalp]]/BD_DEP[[#This Row],[Mat Inicial]]","v":0.15384615384615385},{"$f":"+BD_DEP[[#This Row],[totalr]]/BD_DEP[[#This Row],[Mat Inicial]]","v":7.6923076923076927E-2},{"$f":"+BD_DEP[[#This Row],[repi]]/BD_DEP[[#This Row],[Mat Inicial]]","v":0.23076923076923078},"47","Dpto. Arquitectura y Urbanismo",79547723,"NIÑO SOTO ALEXANDER","TC","PR"]
[1351,"ARQ4095","T.ARQUITEC II: HAB Y VIVIENDA",1,202330,10,10,0,0,0,{"$f":"+BD_DEP[[#This Row],[totalp]]/BD_DEP[[#This Row],[Mat Inicial]]","v":0},{"$f":"+BD_DEP[[#This Row],[totalr]]/BD_DEP[[#This Row],[Mat Inicial]]","v":0},{"$f":"+BD_DEP[[#This Row],[repi]]/BD_DEP[[#This Row],[Mat Inicial]]","v":0},"47","Dpto. Arquitectura y Urbanismo",80136735,"BUENO RIVERO CARLOS","TC","PR"]
[1350,"ARQ4090","T.ARQUITEC III: EQUIPAMIENTOS",2,202330,12,11,1,1,2,{"$f":"+BD_DEP[[#This Row],[totalp]]/BD_DEP[[#This Row],[Mat Inicial]]","v":8.3333333333333329E-2},{"$f":"+BD_DEP[[#This Row],[totalr]]/BD_DEP[[#This Row],[Mat Inicial]]","v":8.3333333333333329E-2},{"$f":"+BD_DEP[[#This Row],[repi]]/BD_DEP[[#This Row],[Mat Inicial]]","v":0.16666666666666666},"47","Dpto. Arquitectura y Urbanismo",1140868697,"Meza Nuñez Alessandra","TC","PR"]
[1356,"ARQ4100","T.ARQUITECTURA I: ARQ BASICAS",2,202330,17,17,3,0,3,{"$f":"+BD_DEP[[#This Row],[totalp]]/BD_DEP[[#This Row],[Mat Inicial]]","v":0.17647058823529413},{"$f":"+BD_DEP[[#This Row],[totalr]]/BD_DEP[[#This Row],[Mat Inicial]]","v":0},{"$f":"+BD_DEP[[#This Row],[repi]]/BD_DEP[[#This Row],[Mat Inicial]]","v":0.17647058823529413},"47","Dpto. Arquitectura y Urbanismo",1140868697,"Meza Nuñez Alessandra","TC","PR"]
[1347,"ARQ4085","T.CIUDAD I: ESPAC PUB DIS URBA",2,202330,15,13,0,2,2,{"$f":"+BD_DEP[[#This Row],[totalp]]/BD_DEP[[#This Row],[Mat Inicial]]","v":0},{"$f":"+BD_DEP[[#This Row],[totalr]]/BD_DEP[[#This Row],[Mat Inicial]]","v":0.13333333333333333},{"$f":"+BD_DEP[[#This Row],[repi]]/BD_DEP[[#This Row],[Mat Inicial]]","v":0.13333333333333333},"47","Dpto. Arquitectura y Urbanismo",52888105,"ROJAS BERNAL CLAUDIA","TC","PR"]
[1348,"ARQ4085","T.CIUDAD I: ESPAC PUB DIS URBA",3,202330,14,14,0,0,0,{"$f":"+BD_DEP[[#This Row],[totalp]]/BD_DEP[[#This Row],[Mat Inicial]]","v":0},{"$f":"+BD_DEP[[#This Row],[totalr]]/BD_DEP[[#This Row],[Mat Inicial]]","v":0},{"$f":"+BD_DEP[[#This Row],[repi]]/BD_DEP[[#This Row],[Mat Inicial]]","v":0},"47","Dpto. Arquitectura y Urbanismo",80136735,"BUENO RIVERO CARLOS","TC","PR"]
[1346,"ARQ4085","T.CIUDAD I: ESPAC PUB DIS URBA",1,202330,15,14,0,1,1,{"$f":"+BD_DEP[[#This Row],[totalp]]/BD_DEP[[#This Row],[Mat Inicial]]","v":0},{"$f":"+BD_DEP[[#This Row],[totalr]]/BD_DEP[[#This Row],[Mat Inicial]]","v":6.6666666666666666E-2},{"$f":"+BD_DEP[[#This Row],[repi]]/BD_DEP[[#This Row],[Mat Inicial]]","v":6.6666666666666666E-2},"47","Dpto. Arquitectura y Urbanismo",1140864916,"Castilla Riasco Martha","TC","PR"]
[4214,"ARQ4125","TALLER BASICO 1:FUND DEL DISEÑ",51,202330,12,12,1,0,1,{"$f":"+BD_DEP[[#This Row],[totalp]]/BD_DEP[[#This Row],[Mat Inicial]]","v":8.3333333333333329E-2},{"$f":"+BD_DEP[[#This Row],[totalr]]/BD_DEP[[#This Row],[Mat Inicial]]","v":0},{"$f":"+BD_DEP[[#This Row],[repi]]/BD_DEP[[#This Row],[Mat Inicial]]","v":8.3333333333333329E-2},"47","Dpto. Arquitectura y Urbanismo",72200663,"Moreno Slagter Manuel","TC","PR"]
[1359,"ARQ4120","TALLER BASICOII: FUND DEL PROY",3,202330,15,15,0,0,0,{"$f":"+BD_DEP[[#This Row],[totalp]]/BD_DEP[[#This Row],[Mat Inicial]]","v":0},{"$f":"+BD_DEP[[#This Row],[totalr]]/BD_DEP[[#This Row],[Mat Inicial]]","v":0},{"$f":"+BD_DEP[[#This Row],[repi]]/BD_DEP[[#This Row],[Mat Inicial]]","v":0},"47","Dpto. Arquitectura y Urbanismo",1140864916,"Castilla Riasco Martha","TC","PR"]
[1344,"ARQ4080","TALLER CIUDAD II: SOST URBANA",1,202330,11,10,0,1,1,{"$f":"+BD_DEP[[#This Row],[totalp]]/BD_DEP[[#This Row],[Mat Inicial]]","v":0},{"$f":"+BD_DEP[[#This Row],[totalr]]/BD_DEP[[#This Row],[Mat Inicial]]","v":9.0909090909090912E-2},{"$f":"+BD_DEP[[#This Row],[repi]]/BD_DEP[[#This Row],[Mat Inicial]]","v":9.0909090909090912E-2},"47","Dpto. Arquitectura y Urbanismo",79547723,"NIÑO SOTO ALEXANDER","TC","PR"]
[1316,"ARQ4021","TEC GRAFICAS III COMUNICACIÓN",1,202330,13,12,0,1,1,{"$f":"+BD_DEP[[#This Row],[totalp]]/BD_DEP[[#This Row],[Mat Inicial]]","v":0},{"$f":"+BD_DEP[[#This Row],[totalr]]/BD_DEP[[#This Row],[Mat Inicial]]","v":7.6923076923076927E-2},{"$f":"+BD_DEP[[#This Row],[repi]]/BD_DEP[[#This Row],[Mat Inicial]]","v":7.6923076923076927E-2},"47","Dpto. Arquitectura y Urbanismo",80136735,"BUENO RIVERO CARLOS","TC","PR"]
[1303,"ARQ4012","PROYECTO DE GRADO II",1,202330,16,15,0,1,1,{"$f":"+BD_DEP[[#This Row],[totalp]]/BD_DEP[[#This Row],[Mat Inicial]]","v":0},{"$f":"+BD_DEP[[#This Row],[totalr]]/BD_DEP[[#This Row],[Mat Inicial]]","v":6.25E-2},{"$f":"+BD_DEP[[#This Row],[repi]]/BD_DEP[[#This Row],[Mat Inicial]]","v":6.25E-2},"47","Dpto. Arquitectura y Urbanismo",79148511,"AMAYA VALDIVIESO FABIAN","MT","PR"]
[1304,"ARQ4012","PROYECTO DE GRADO II",2,202330,16,16,0,0,0,{"$f":"+BD_DEP[[#This Row],[totalp]]/BD_DEP[[#This Row],[Mat Inicial]]","v":0},{"$f":"+BD_DEP[[#This Row],[totalr]]/BD_DEP[[#This Row],[Mat Inicial]]","v":0},{"$f":"+BD_DEP[[#This Row],[repi]]/BD_DEP[[#This Row],[Mat Inicial]]","v":0},"47","Dpto. Arquitectura y Urbanismo",79148511,"AMAYA VALDIVIESO FABIAN","MT","PR"]
[1321,"ARQ4023","CONST I ENVOL Y CONF CONSTRUC",1,202330,40,36,5,4,9,{"$f":"+BD_DEP[[#This Row],[totalp]]/BD_DEP[[#This Row],[Mat Inicial]]","v":0.125},{"$f":"+BD_DEP[[#This Row],[totalr]]/BD_DEP[[#This Row],[Mat Inicial]]","v":0.1},{"$f":"+BD_DEP[[#This Row],[repi]]/BD_DEP[[#This Row],[Mat Inicial]]","v":0.22500000000000001},"47","Dpto. Arquitectura y Urbanismo",32878075,"Ayala Rueda Claudia","CA","PR"]
[1326,"ARQ4026","CONST III TECN AVANZ INDUST",1,202330,22,19,5,3,8,{"$f":"+BD_DEP[[#This Row],[totalp]]/BD_DEP[[#This Row],[Mat Inicial]]","v":0.22727272727272727},{"$f":"+BD_DEP[[#This Row],[totalr]]/BD_DEP[[#This Row],[Mat Inicial]]","v":0.13636363636363635},{"$f":"+BD_DEP[[#This Row],[repi]]/BD_DEP[[#This Row],[Mat Inicial]]","v":0.36363636363636365},"47","Dpto. Arquitectura y Urbanismo",85464511,"Tinoco Posada Mauricio","CA","PR"]
[1322,"ARQ4024","CONSTR II INST E INFRAESTRUCTU",1,202330,30,30,0,0,0,{"$f":"+BD_DEP[[#This Row],[totalp]]/BD_DEP[[#This Row],[Mat Inicial]]","v":0},{"$f":"+BD_DEP[[#This Row],[totalr]]/BD_DEP[[#This Row],[Mat Inicial]]","v":0},{"$f":"+BD_DEP[[#This Row],[repi]]/BD_DEP[[#This Row],[Mat Inicial]]","v":0},"47","Dpto. Arquitectura y Urbanismo",79955640,"RODRIGUEZ PEÑARANDA OSCAR","CA","PR"]
[1323,"ARQ4024","CONSTR II INST E INFRAESTRUCTU",2,202330,30,30,0,0,0,{"$f":"+BD_DEP[[#This Row],[totalp]]/BD_DEP[[#This Row],[Mat Inicial]]","v":0},{"$f":"+BD_DEP[[#This Row],[totalr]]/BD_DEP[[#This Row],[Mat Inicial]]","v":0},{"$f":"+BD_DEP[[#This Row],[repi]]/BD_DEP[[#This Row],[Mat Inicial]]","v":0},"47","Dpto. Arquitectura y Urbanismo",1129535971,"Gonzalez Arias Alcides","CA","PR"]
[1324,"ARQ4025","GESTIÓN URBANA",1,202330,25,25,0,0,0,{"$f":"+BD_DEP[[#This Row],[totalp]]/BD_DEP[[#This Row],[Mat Inicial]]","v":0},{"$f":"+BD_DEP[[#This Row],[totalr]]/BD_DEP[[#This Row],[Mat Inicial]]","v":0},{"$f":"+BD_DEP[[#This Row],[repi]]/BD_DEP[[#This Row],[Mat Inicial]]","v":0},"47","Dpto. Arquitectura y Urbanismo",7633544,"Carpintero Charris Luis","CA","PR"]
[1325,"ARQ4025","GESTIÓN URBANA",2,202330,20,20,0,0,0,{"$f":"+BD_DEP[[#This Row],[totalp]]/BD_DEP[[#This Row],[Mat Inicial]]","v":0},{"$f":"+BD_DEP[[#This Row],[totalr]]/BD_DEP[[#This Row],[Mat Inicial]]","v":0},{"$f":"+BD_DEP[[#This Row],[repi]]/BD_DEP[[#This Row],[Mat Inicial]]","v":0},"47","Dpto. Arquitectura y Urbanismo",7633544,"Carpintero Charris Luis","CA","PR"]
[1337,"ARQ4050","HABITAT,CLIMA Y MEDIO AMBIENTE",1,202330,39,33,3,6,9,{"$f":"+BD_DEP[[#This Row],[totalp]]/BD_DEP[[#This Row],[Mat Inicial]]","v":7.6923076923076927E-2},{"$f":"+BD_DEP[[#This Row],[totalr]]/BD_DEP[[#This Row],[Mat Inicial]]","v":0.15384615384615385},{"$f":"+BD_DEP[[#This Row],[repi]]/BD_DEP[[#This Row],[Mat Inicial]]","v":0.23076923076923078},"47","Dpto. Arquitectura y Urbanismo",1140867055,"Guzman Gordon Maria","CA","PR"]
[2019,"HIS4115","HIST ARQUITECTURA:ANTIG Y CLAS",1,202330,24,23,0,1,1,{"$f":"+BD_DEP[[#This Row],[totalp]]/BD_DEP[[#This Row],[Mat Inicial]]","v":0},{"$f":"+BD_DEP[[#This Row],[totalr]]/BD_DEP[[#This Row],[Mat Inicial]]","v":4.1666666666666664E-2},{"$f":"+BD_DEP[[#This Row],[repi]]/BD_DEP[[#This Row],[Mat Inicial]]","v":4.1666666666666664E-2},"47","Dpto. Arquitectura y Urbanismo",52030306,"Delgado Osorio Claudia","CA","PR"]
[2020,"HIS4115","HIST ARQUITECTURA:ANTIG Y CLAS",2,202330,25,25,0,0,0,{"$f":"+BD_DEP[[#This Row],[totalp]]/BD_DEP[[#This Row],[Mat Inicial]]","v":0},{"$f":"+BD_DEP[[#This Row],[totalr]]/BD_DEP[[#This Row],[Mat Inicial]]","v":0},{"$f":"+BD_DEP[[#This Row],[repi]]/BD_DEP[[#This Row],[Mat Inicial]]","v":0},"47","Dpto. Arquitectura y Urbanismo",52030306,"Delgado Osorio Claudia","CA","PR"]
[1306,"ARQ4013","HIST Y TEORIA LATINOAMERICANA",2,202330,38,34,0,4,4,{"$f":"+BD_DEP[[#This Row],[totalp]]/BD_DEP[[#This Row],[Mat Inicial]]","v":0},{"$f":"+BD_DEP[[#This Row],[totalr]]/BD_DEP[[#This Row],[Mat Inicial]]","v":0.10526315789473684},{"$f":"+BD_DEP[[#This Row],[repi]]/BD_DEP[[#This Row],[Mat Inicial]]","v":0.10526315789473684},"47","Dpto. Arquitectura y Urbanismo",1065625952,"AMAYA SAADE MARIA","CA","PR"]
[2017,"HIS4002","HISTORIA INTRO ARQ Y URBANISMO",1,202330,21,21,0,0,0,{"$f":"+BD_DEP[[#This Row],[totalp]]/BD_DEP[[#This Row],[Mat Inicial]]","v":0},{"$f":"+BD_DEP[[#This Row],[totalr]]/BD_DEP[[#This Row],[Mat Inicial]]","v":0},{"$f":"+BD_DEP[[#This Row],[repi]]/BD_DEP[[#This Row],[Mat Inicial]]","v":0},"47","Dpto. Arquitectura y Urbanismo",1140824723,"Mestre Hermines Juan","CA","PR"]
[2018,"HIS4002","HISTORIA INTRO ARQ Y URBANISMO",2,202330,20,20,1,0,1,{"$f":"+BD_DEP[[#This Row],[totalp]]/BD_DEP[[#This Row],[Mat Inicial]]","v":0.05},{"$f":"+BD_DEP[[#This Row],[totalr]]/BD_DEP[[#This Row],[Mat Inicial]]","v":0},{"$f":"+BD_DEP[[#This Row],[repi]]/BD_DEP[[#This Row],[Mat Inicial]]","v":0.05},"47","Dpto. Arquitectura y Urbanismo",1140847476,"Gomez Abdala Ana","CA","PR"]
[1309,"ARQ4016","HISTORIA Y TEORIA MOV MODERNO",1,202330,20,20,0,0,0,{"$f":"+BD_DEP[[#This Row],[totalp]]/BD_DEP[[#This Row],[Mat Inicial]]","v":0},{"$f":"+BD_DEP[[#This Row],[totalr]]/BD_DEP[[#This Row],[Mat Inicial]]","v":0},{"$f":"+BD_DEP[[#This Row],[repi]]/BD_DEP[[#This Row],[Mat Inicial]]","v":0},"47","Dpto. Arquitectura y Urbanismo",1032365671,"GONZALEZ RUIZ ANA","CA","PR"]
[1110,"ARQ4017","HISTORIA Y TEORIA PENSAM CLASI",2,202330,30,29,0,1,1,{"$f":"+BD_DEP[[#This Row],[totalp]]/BD_DEP[[#This Row],[Mat Inicial]]","v":0},{"$f":"+BD_DEP[[#This Row],[totalr]]/BD_DEP[[#This Row],[Mat Inicial]]","v":3.3333333333333333E-2},{"$f":"+BD_DEP[[#This Row],[repi]]/BD_DEP[[#This Row],[Mat Inicial]]","v":3.3333333333333333E-2},"47","Dpto. Arquitectura y Urbanismo",1032365671,"GONZALEZ RUIZ ANA","CA","PR"]
[1112,"ARQ4027","PRINCIPIOS DE CONSTRUCCION",2,202330,39,37,0,2,2,{"$f":"+BD_DEP[[#This Row],[totalp]]/BD_DEP[[#This Row],[Mat Inicial]]","v":0},{"$f":"+BD_DEP[[#This Row],[totalr]]/BD_DEP[[#This Row],[Mat Inicial]]","v":5.128205128205128E-2},{"$f":"+BD_DEP[[#This Row],[repi]]/BD_DEP[[#This Row],[Mat Inicial]]","v":5.128205128205128E-2},"47","Dpto. Arquitectura y Urbanismo",32692831,"Mora Ortiz Catalina","CA","PR"]
[1341,"ARQ4070","PROYECTO DE GRADO",3,202330,2,2,1,0,1,{"$f":"+BD_DEP[[#This Row],[totalp]]/BD_DEP[[#This Row],[Mat Inicial]]","v":0.5},{"$f":"+BD_DEP[[#This Row],[totalr]]/BD_DEP[[#This Row],[Mat Inicial]]","v":0},{"$f":"+BD_DEP[[#This Row],[repi]]/BD_DEP[[#This Row],[Mat Inicial]]","v":0.5},"47","Dpto. Arquitectura y Urbanismo",1020731004,"CUBEROS ACEVEDO JUAN","CA","PR"]
[1331,"ARQ4028","PROYECTO DE GRADO I",4,202330,14,14,1,0,1,{"$f":"+BD_DEP[[#This Row],[totalp]]/BD_DEP[[#This Row],[Mat Inicial]]","v":7.1428571428571425E-2},{"$f":"+BD_DEP[[#This Row],[totalr]]/BD_DEP[[#This Row],[Mat Inicial]]","v":0},{"$f":"+BD_DEP[[#This Row],[repi]]/BD_DEP[[#This Row],[Mat Inicial]]","v":7.1428571428571425E-2},"47","Dpto. Arquitectura y Urbanismo",77170941,"Olmos Hernandez Antonio","CA","PR"]
[1329,"ARQ4028","PROYECTO DE GRADO I",2,202330,15,13,0,2,2,{"$f":"+BD_DEP[[#This Row],[totalp]]/BD_DEP[[#This Row],[Mat Inicial]]","v":0},{"$f":"+BD_DEP[[#This Row],[totalr]]/BD_DEP[[#This Row],[Mat Inicial]]","v":0.13333333333333333},{"$f":"+BD_DEP[[#This Row],[repi]]/BD_DEP[[#This Row],[Mat Inicial]]","v":0.13333333333333333},"47","Dpto. Arquitectura y Urbanismo",85448108,"Garces De Vivo Juan","CA","PR"]
[1330,"ARQ4028","PROYECTO DE GRADO I",3,202330,14,14,0,0,0,{"$f":"+BD_DEP[[#This Row],[totalp]]/BD_DEP[[#This Row],[Mat Inicial]]","v":0},{"$f":"+BD_DEP[[#This Row],[totalr]]/BD_DEP[[#This Row],[Mat Inicial]]","v":0},{"$f":"+BD_DEP[[#This Row],[repi]]/BD_DEP[[#This Row],[Mat Inicial]]","v":0},"47","Dpto. Arquitectura y Urbanismo",1102823024,"Chavez Martinez Sander","CA","PR"]
[1305,"ARQ4012","PROYECTO DE GRADO II",3,202330,15,14,1,1,2,{"$f":"+BD_DEP[[#This Row],[totalp]]/BD_DEP[[#This Row],[Mat Inicial]]","v":6.6666666666666666E-2},{"$f":"+BD_DEP[[#This Row],[totalr]]/BD_DEP[[#This Row],[Mat Inicial]]","v":6.6666666666666666E-2},{"$f":"+BD_DEP[[#This Row],[repi]]/BD_DEP[[#This Row],[Mat Inicial]]","v":0.13333333333333333},"47","Dpto. Arquitectura y Urbanismo",1020731004,"CUBEROS ACEVEDO JUAN","CA","PR"]
[2058,"HUM0280","SIMBOLOS Y SIGNIFIC  ARQUITEC",2,202330,13,11,0,2,2,{"$f":"+BD_DEP[[#This Row],[totalp]]/BD_DEP[[#This Row],[Mat Inicial]]","v":0},{"$f":"+BD_DEP[[#This Row],[totalr]]/BD_DEP[[#This Row],[Mat Inicial]]","v":0.15384615384615385},{"$f":"+BD_DEP[[#This Row],[repi]]/BD_DEP[[#This Row],[Mat Inicial]]","v":0.15384615384615385},"47","Dpto. Arquitectura y Urbanismo",9143154,"DURAN POLO JOSE","CA","PR"]
[1332,"ARQ4035","SISTEMAS ESTRUCTURALES",1,202330,26,25,0,1,1,{"$f":"+BD_DEP[[#This Row],[totalp]]/BD_DEP[[#This Row],[Mat Inicial]]","v":0},{"$f":"+BD_DEP[[#This Row],[totalr]]/BD_DEP[[#This Row],[Mat Inicial]]","v":3.8461538461538464E-2},{"$f":"+BD_DEP[[#This Row],[repi]]/BD_DEP[[#This Row],[Mat Inicial]]","v":3.8461538461538464E-2},"47","Dpto. Arquitectura y Urbanismo",79955640,"RODRIGUEZ PEÑARANDA OSCAR","CA","PR"]
[1333,"ARQ4035","SISTEMAS ESTRUCTURALES",2,202330,31,28,0,3,3,{"$f":"+BD_DEP[[#This Row],[totalp]]/BD_DEP[[#This Row],[Mat Inicial]]","v":0},{"$f":"+BD_DEP[[#This Row],[totalr]]/BD_DEP[[#This Row],[Mat Inicial]]","v":9.6774193548387094E-2},{"$f":"+BD_DEP[[#This Row],[repi]]/BD_DEP[[#This Row],[Mat Inicial]]","v":9.6774193548387094E-2},"47","Dpto. Arquitectura y Urbanismo",1129535971,"Gonzalez Arias Alcides","CA","PR"]
[1114,"ARQ4095","T.ARQUITEC II: HAB Y VIVIENDA",5,202330,13,12,0,1,1,{"$f":"+BD_DEP[[#This Row],[totalp]]/BD_DEP[[#This Row],[Mat Inicial]]","v":0},{"$f":"+BD_DEP[[#This Row],[totalr]]/BD_DEP[[#This Row],[Mat Inicial]]","v":7.6923076923076927E-2},{"$f":"+BD_DEP[[#This Row],[repi]]/BD_DEP[[#This Row],[Mat Inicial]]","v":7.6923076923076927E-2},"47","Dpto. Arquitectura y Urbanismo",22580964,"Rueda Erazo Adriana","CA","PR"]
[1352,"ARQ4095","T.ARQUITEC II: HAB Y VIVIENDA",2,202330,13,13,0,0,0,{"$f":"+BD_DEP[[#This Row],[totalp]]/BD_DEP[[#This Row],[Mat Inicial]]","v":0},{"$f":"+BD_DEP[[#This Row],[totalr]]/BD_DEP[[#This Row],[Mat Inicial]]","v":0},{"$f":"+BD_DEP[[#This Row],[repi]]/BD_DEP[[#This Row],[Mat Inicial]]","v":0},"47","Dpto. Arquitectura y Urbanismo",32692831,"Mora Ortiz Catalina","CA","PR"]
[1353,"ARQ4095","T.ARQUITEC II: HAB Y VIVIENDA",3,202330,13,13,0,0,0,{"$f":"+BD_DEP[[#This Row],[totalp]]/BD_DEP[[#This Row],[Mat Inicial]]","v":0},{"$f":"+BD_DEP[[#This Row],[totalr]]/BD_DEP[[#This Row],[Mat Inicial]]","v":0},{"$f":"+BD_DEP[[#This Row],[repi]]/BD_DEP[[#This Row],[Mat Inicial]]","v":0},"47","Dpto. Arquitectura y Urbanismo",1065625952,"AMAYA SAADE MARIA","CA","PR"]
[1349,"ARQ4090","T.ARQUITEC III: EQUIPAMIENTOS",1,202330,15,14,0,1,1,{"$f":"+BD_DEP[[#This Row],[totalp]]/BD_DEP[[#This Row],[Mat Inicial]]","v":0},{"$f":"+BD_DEP[[#This Row],[totalr]]/BD_DEP[[#This Row],[Mat Inicial]]","v":6.6666666666666666E-2},{"$f":"+BD_DEP[[#This Row],[repi]]/BD_DEP[[#This Row],[Mat Inicial]]","v":6.6666666666666666E-2},"47","Dpto. Arquitectura y Urbanismo",22580964,"Rueda Erazo Adriana","CA","PR"]
[1355,"ARQ4100","T.ARQUITECTURA I: ARQ BASICAS",1,202330,16,14,0,2,2,{"$f":"+BD_DEP[[#This Row],[totalp]]/BD_DEP[[#This Row],[Mat Inicial]]","v":0},{"$f":"+BD_DEP[[#This Row],[totalr]]/BD_DEP[[#This Row],[Mat Inicial]]","v":0.125},{"$f":"+BD_DEP[[#This Row],[repi]]/BD_DEP[[#This Row],[Mat Inicial]]","v":0.125},"47","Dpto. Arquitectura y Urbanismo",1140867386,"Velez Cheu Myrian","CA","PR"]
[4216,"ARQ4125","TALLER BASICO 1:FUND DEL DISEÑ",53,202330,14,14,0,0,0,{"$f":"+BD_DEP[[#This Row],[totalp]]/BD_DEP[[#This Row],[Mat Inicial]]","v":0},{"$f":"+BD_DEP[[#This Row],[totalr]]/BD_DEP[[#This Row],[Mat Inicial]]","v":0},{"$f":"+BD_DEP[[#This Row],[repi]]/BD_DEP[[#This Row],[Mat Inicial]]","v":0},"47","Dpto. Arquitectura y Urbanismo",85448108,"Garces De Vivo Juan","CA","PR"]
[4215,"ARQ4125","TALLER BASICO 1:FUND DEL DISEÑ",52,202330,15,14,0,1,1,{"$f":"+BD_DEP[[#This Row],[totalp]]/BD_DEP[[#This Row],[Mat Inicial]]","v":0},{"$f":"+BD_DEP[[#This Row],[totalr]]/BD_DEP[[#This Row],[Mat Inicial]]","v":6.6666666666666666E-2},{"$f":"+BD_DEP[[#This Row],[repi]]/BD_DEP[[#This Row],[Mat Inicial]]","v":6.6666666666666666E-2},"47","Dpto. Arquitectura y Urbanismo",1065625952,"AMAYA SAADE MARIA","CA","PR"]
[1358,"ARQ4120","TALLER BASICOII: FUND DEL PROY",2,202330,17,16,2,1,3,{"$f":"+BD_DEP[[#This Row],[totalp]]/BD_DEP[[#This Row],[Mat Inicial]]","v":0.11764705882352941},{"$f":"+BD_DEP[[#This Row],[totalr]]/BD_DEP[[#This Row],[Mat Inicial]]","v":5.8823529411764705E-2},{"$f":"+BD_DEP[[#This Row],[repi]]/BD_DEP[[#This Row],[Mat Inicial]]","v":0.17647058823529413},"47","Dpto. Arquitectura y Urbanismo",1140867055,"Guzman Gordon Maria","CA","PR"]
[1357,"ARQ4120","TALLER BASICOII: FUND DEL PROY",1,202330,15,14,4,1,5,{"$f":"+BD_DEP[[#This Row],[totalp]]/BD_DEP[[#This Row],[Mat Inicial]]","v":0.26666666666666666},{"$f":"+BD_DEP[[#This Row],[totalr]]/BD_DEP[[#This Row],[Mat Inicial]]","v":6.6666666666666666E-2},{"$f":"+BD_DEP[[#This Row],[repi]]/BD_DEP[[#This Row],[Mat Inicial]]","v":0.33333333333333331},"47","Dpto. Arquitectura y Urbanismo",1140867386,"Velez Cheu Myrian","CA","PR"]
[1345,"ARQ4080","TALLER CIUDAD II: SOST URBANA",2,202330,11,10,0,1,1,{"$f":"+BD_DEP[[#This Row],[totalp]]/BD_DEP[[#This Row],[Mat Inicial]]","v":0},{"$f":"+BD_DEP[[#This Row],[totalr]]/BD_DEP[[#This Row],[Mat Inicial]]","v":9.0909090909090912E-2},{"$f":"+BD_DEP[[#This Row],[repi]]/BD_DEP[[#This Row],[Mat Inicial]]","v":9.0909090909090912E-2},"47","Dpto. Arquitectura y Urbanismo",72291438,"Chain Rodriguez Rodrigo","CA","PR"]
[4212,"ARQ4071","TALLER DE EXPRESION I",51,202330,21,20,0,1,1,{"$f":"+BD_DEP[[#This Row],[totalp]]/BD_DEP[[#This Row],[Mat Inicial]]","v":0},{"$f":"+BD_DEP[[#This Row],[totalr]]/BD_DEP[[#This Row],[Mat Inicial]]","v":4.7619047619047616E-2},{"$f":"+BD_DEP[[#This Row],[repi]]/BD_DEP[[#This Row],[Mat Inicial]]","v":4.7619047619047616E-2},"47","Dpto. Arquitectura y Urbanismo",1140831707,"Garavito Garcia Karolay","CA","PR"]
[4213,"ARQ4071","TALLER DE EXPRESION I",52,202330,20,18,1,2,3,{"$f":"+BD_DEP[[#This Row],[totalp]]/BD_DEP[[#This Row],[Mat Inicial]]","v":0.05},{"$f":"+BD_DEP[[#This Row],[totalr]]/BD_DEP[[#This Row],[Mat Inicial]]","v":0.1},{"$f":"+BD_DEP[[#This Row],[repi]]/BD_DEP[[#This Row],[Mat Inicial]]","v":0.15},"47","Dpto. Arquitectura y Urbanismo",1140877112,"PEDROSA ABDALA VERONICA","CA","PR"]
[1342,"ARQ4072","TALLER DE EXPRESION II",1,202330,20,20,0,0,0,{"$f":"+BD_DEP[[#This Row],[totalp]]/BD_DEP[[#This Row],[Mat Inicial]]","v":0},{"$f":"+BD_DEP[[#This Row],[totalr]]/BD_DEP[[#This Row],[Mat Inicial]]","v":0},{"$f":"+BD_DEP[[#This Row],[repi]]/BD_DEP[[#This Row],[Mat Inicial]]","v":0},"47","Dpto. Arquitectura y Urbanismo",32692831,"Mora Ortiz Catalina","CA","PR"]
[1343,"ARQ4072","TALLER DE EXPRESION II",2,202330,22,19,4,3,7,{"$f":"+BD_DEP[[#This Row],[totalp]]/BD_DEP[[#This Row],[Mat Inicial]]","v":0.18181818181818182},{"$f":"+BD_DEP[[#This Row],[totalr]]/BD_DEP[[#This Row],[Mat Inicial]]","v":0.13636363636363635},{"$f":"+BD_DEP[[#This Row],[repi]]/BD_DEP[[#This Row],[Mat Inicial]]","v":0.31818181818181818},"47","Dpto. Arquitectura y Urbanismo",1140867055,"Guzman Gordon Maria","CA","PR"]
[1311,"ARQ4018","TEC GRAFICAS I  REPRESENTACION",1,202330,19,19,1,0,1,{"$f":"+BD_DEP[[#This Row],[totalp]]/BD_DEP[[#This Row],[Mat Inicial]]","v":5.2631578947368418E-2},{"$f":"+BD_DEP[[#This Row],[totalr]]/BD_DEP[[#This Row],[Mat Inicial]]","v":0},{"$f":"+BD_DEP[[#This Row],[repi]]/BD_DEP[[#This Row],[Mat Inicial]]","v":5.2631578947368418E-2},"47","Dpto. Arquitectura y Urbanismo",8713463,"Holguin Calonge Federico","CA","PR"]
[1312,"ARQ4018","TEC GRAFICAS I  REPRESENTACION",2,202330,13,10,0,3,3,{"$f":"+BD_DEP[[#This Row],[totalp]]/BD_DEP[[#This Row],[Mat Inicial]]","v":0},{"$f":"+BD_DEP[[#This Row],[totalr]]/BD_DEP[[#This Row],[Mat Inicial]]","v":0.23076923076923078},{"$f":"+BD_DEP[[#This Row],[repi]]/BD_DEP[[#This Row],[Mat Inicial]]","v":0.23076923076923078},"47","Dpto. Arquitectura y Urbanismo",10025872,"Tapias Martinez Juan","CA","PR"]
[1314,"ARQ4019","TEC GRAFICAS II MODELACION",2,202330,19,18,1,1,2,{"$f":"+BD_DEP[[#This Row],[totalp]]/BD_DEP[[#This Row],[Mat Inicial]]","v":5.2631578947368418E-2},{"$f":"+BD_DEP[[#This Row],[totalr]]/BD_DEP[[#This Row],[Mat Inicial]]","v":5.2631578947368418E-2},{"$f":"+BD_DEP[[#This Row],[repi]]/BD_DEP[[#This Row],[Mat Inicial]]","v":0.10526315789473684},"47","Dpto. Arquitectura y Urbanismo",9021880,"Hurtado Morales Jim","CA","PR"]
[1313,"ARQ4019","TEC GRAFICAS II MODELACION",1,202330,21,20,1,1,2,{"$f":"+BD_DEP[[#This Row],[totalp]]/BD_DEP[[#This Row],[Mat Inicial]]","v":4.7619047619047616E-2},{"$f":"+BD_DEP[[#This Row],[totalr]]/BD_DEP[[#This Row],[Mat Inicial]]","v":4.7619047619047616E-2},{"$f":"+BD_DEP[[#This Row],[repi]]/BD_DEP[[#This Row],[Mat Inicial]]","v":9.5238095238095233E-2},"47","Dpto. Arquitectura y Urbanismo",1140818248,"ALFARO DIAZ JESUS","CA","PR"]
[1315,"ARQ4019","TEC GRAFICAS II MODELACION",3,202330,22,18,1,4,5,{"$f":"+BD_DEP[[#This Row],[totalp]]/BD_DEP[[#This Row],[Mat Inicial]]","v":4.5454545454545456E-2},{"$f":"+BD_DEP[[#This Row],[totalr]]/BD_DEP[[#This Row],[Mat Inicial]]","v":0.18181818181818182},{"$f":"+BD_DEP[[#This Row],[repi]]/BD_DEP[[#This Row],[Mat Inicial]]","v":0.22727272727272727},"47","Dpto. Arquitectura y Urbanismo",1140871625,"Arenas Niebles Sebastian","CA","PR"]
[1317,"ARQ4021","TEC GRAFICAS III COMUNICACIÓN",2,202330,13,12,1,1,2,{"$f":"+BD_DEP[[#This Row],[totalp]]/BD_DEP[[#This Row],[Mat Inicial]]","v":7.6923076923076927E-2},{"$f":"+BD_DEP[[#This Row],[totalr]]/BD_DEP[[#This Row],[Mat Inicial]]","v":7.6923076923076927E-2},{"$f":"+BD_DEP[[#This Row],[repi]]/BD_DEP[[#This Row],[Mat Inicial]]","v":0.15384615384615385},"47","Dpto. Arquitectura y Urbanismo",1140871625,"Arenas Niebles Sebastian","CA","PR"]
[1318,"ARQ4022","TÉC GRAFICAS IV DOCUMENTACIÓN",1,202330,21,18,5,3,8,{"$f":"+BD_DEP[[#This Row],[totalp]]/BD_DEP[[#This Row],[Mat Inicial]]","v":0.23809523809523808},{"$f":"+BD_DEP[[#This Row],[totalr]]/BD_DEP[[#This Row],[Mat Inicial]]","v":0.14285714285714285},{"$f":"+BD_DEP[[#This Row],[repi]]/BD_DEP[[#This Row],[Mat Inicial]]","v":0.38095238095238093},"47","Dpto. Arquitectura y Urbanismo",1140867386,"Velez Cheu Myrian","CA","PR"]
[1319,"ARQ4022","TÉC GRAFICAS IV DOCUMENTACIÓN",2,202330,19,18,0,1,1,{"$f":"+BD_DEP[[#This Row],[totalp]]/BD_DEP[[#This Row],[Mat Inicial]]","v":0},{"$f":"+BD_DEP[[#This Row],[totalr]]/BD_DEP[[#This Row],[Mat Inicial]]","v":5.2631578947368418E-2},{"$f":"+BD_DEP[[#This Row],[repi]]/BD_DEP[[#This Row],[Mat Inicial]]","v":5.2631578947368418E-2},"47","Dpto. Arquitectura y Urbanismo",1140867386,"Velez Cheu Myrian","CA","PR"]
[1320,"ARQ4022","TÉC GRAFICAS IV DOCUMENTACIÓN",3,202330,21,14,1,7,8,{"$f":"+BD_DEP[[#This Row],[totalp]]/BD_DEP[[#This Row],[Mat Inicial]]","v":4.7619047619047616E-2},{"$f":"+BD_DEP[[#This Row],[totalr]]/BD_DEP[[#This Row],[Mat Inicial]]","v":0.33333333333333331},{"$f":"+BD_DEP[[#This Row],[repi]]/BD_DEP[[#This Row],[Mat Inicial]]","v":0.38095238095238093},"47","Dpto. Arquitectura y Urbanismo",1140868484,"Ortiz Hernandez Maria","CA","PR"]
[1490,"CMN7240","ANALISIS CINEMATOGRAFICO",2,202330,28,26,0,2,2,{"$f":"+BD_DEP[[#This Row],[totalp]]/BD_DEP[[#This Row],[Mat Inicial]]","v":0},{"$f":"+BD_DEP[[#This Row],[totalr]]/BD_DEP[[#This Row],[Mat Inicial]]","v":7.1428571428571425E-2},{"$f":"+BD_DEP[[#This Row],[repi]]/BD_DEP[[#This Row],[Mat Inicial]]","v":7.1428571428571425E-2},"40","Dpto. Comunicación Social",72311006,"Osman Florez Juan","TC","PR"]
[1500,"CMN7530","CINE E HISTORIA",1,202330,29,29,2,0,2,{"$f":"+BD_DEP[[#This Row],[totalp]]/BD_DEP[[#This Row],[Mat Inicial]]","v":6.8965517241379309E-2},{"$f":"+BD_DEP[[#This Row],[totalr]]/BD_DEP[[#This Row],[Mat Inicial]]","v":0},{"$f":"+BD_DEP[[#This Row],[repi]]/BD_DEP[[#This Row],[Mat Inicial]]","v":6.8965517241379309E-2},"40","Dpto. Comunicación Social",72311006,"Osman Florez Juan","TC","PR"]
[1507,"CMN9270","COMUNICACIÓN CORPORATIVA",1,202330,37,37,0,0,0,{"$f":"+BD_DEP[[#This Row],[totalp]]/BD_DEP[[#This Row],[Mat Inicial]]","v":0},{"$f":"+BD_DEP[[#This Row],[totalr]]/BD_DEP[[#This Row],[Mat Inicial]]","v":0},{"$f":"+BD_DEP[[#This Row],[repi]]/BD_DEP[[#This Row],[Mat Inicial]]","v":0},"40","Dpto. Comunicación Social",22477800,"Peña Escobar Yenny","TC","PR"]
[1509,"CMN9365","COMUNICACIÓN DE MARKETING",1,202330,11,10,0,1,1,{"$f":"+BD_DEP[[#This Row],[totalp]]/BD_DEP[[#This Row],[Mat Inicial]]","v":0},{"$f":"+BD_DEP[[#This Row],[totalr]]/BD_DEP[[#This Row],[Mat Inicial]]","v":9.0909090909090912E-2},{"$f":"+BD_DEP[[#This Row],[repi]]/BD_DEP[[#This Row],[Mat Inicial]]","v":9.0909090909090912E-2},"40","Dpto. Comunicación Social",80414869,"Llano Aristizabal Sergio","TC","PR"]
[1487,"CMN7190","COMUNICACION Y DESARROLLO",1,202330,19,19,0,0,0,{"$f":"+BD_DEP[[#This Row],[totalp]]/BD_DEP[[#This Row],[Mat Inicial]]","v":0},{"$f":"+BD_DEP[[#This Row],[totalr]]/BD_DEP[[#This Row],[Mat Inicial]]","v":0},{"$f":"+BD_DEP[[#This Row],[repi]]/BD_DEP[[#This Row],[Mat Inicial]]","v":0},"40","Dpto. Comunicación Social",71779693,"Perez Quintero Camilo","TC","PR"]
[1488,"CMN7190","COMUNICACION Y DESARROLLO",2,202330,19,19,0,0,0,{"$f":"+BD_DEP[[#This Row],[totalp]]/BD_DEP[[#This Row],[Mat Inicial]]","v":0},{"$f":"+BD_DEP[[#This Row],[totalr]]/BD_DEP[[#This Row],[Mat Inicial]]","v":0},{"$f":"+BD_DEP[[#This Row],[repi]]/BD_DEP[[#This Row],[Mat Inicial]]","v":0},"40","Dpto. Comunicación Social",71779693,"Perez Quintero Camilo","TC","PR"]
[1480,"CMN6051","COMUNICACION Y POLITICA",1,202330,37,36,0,1,1,{"$f":"+BD_DEP[[#This Row],[totalp]]/BD_DEP[[#This Row],[Mat Inicial]]","v":0},{"$f":"+BD_DEP[[#This Row],[totalr]]/BD_DEP[[#This Row],[Mat Inicial]]","v":2.7027027027027029E-2},{"$f":"+BD_DEP[[#This Row],[repi]]/BD_DEP[[#This Row],[Mat Inicial]]","v":2.7027027027027029E-2},"40","Dpto. Comunicación Social",8767107,"Vega Casanova Manuel","TC","PR"]
[1481,"CMN6051","COMUNICACION Y POLITICA",2,202330,37,36,0,1,1,{"$f":"+BD_DEP[[#This Row],[totalp]]/BD_DEP[[#This Row],[Mat Inicial]]","v":0},{"$f":"+BD_DEP[[#This Row],[totalr]]/BD_DEP[[#This Row],[Mat Inicial]]","v":2.7027027027027029E-2},{"$f":"+BD_DEP[[#This Row],[repi]]/BD_DEP[[#This Row],[Mat Inicial]]","v":2.7027027027027029E-2},"40","Dpto. Comunicación Social",8767107,"Vega Casanova Manuel","TC","PR"]
[1468,"CMN2070","CULTURA Y COMUNIC ORGANIZAC",1,202330,39,37,0,2,2,{"$f":"+BD_DEP[[#This Row],[totalp]]/BD_DEP[[#This Row],[Mat Inicial]]","v":0},{"$f":"+BD_DEP[[#This Row],[totalr]]/BD_DEP[[#This Row],[Mat Inicial]]","v":5.128205128205128E-2},{"$f":"+BD_DEP[[#This Row],[repi]]/BD_DEP[[#This Row],[Mat Inicial]]","v":5.128205128205128E-2},"40","Dpto. Comunicación Social",22580147,"Villamizar Loaiza Carolina","TC","PR"]
[1444,"CMN0088","EMPRENDER PERIODIS",1,202330,13,13,0,0,0,{"$f":"+BD_DEP[[#This Row],[totalp]]/BD_DEP[[#This Row],[Mat Inicial]]","v":0},{"$f":"+BD_DEP[[#This Row],[totalr]]/BD_DEP[[#This Row],[Mat Inicial]]","v":0},{"$f":"+BD_DEP[[#This Row],[repi]]/BD_DEP[[#This Row],[Mat Inicial]]","v":0},"40","Dpto. Comunicación Social",43877220,"Muñoz Lalinde Johanna","TC","PR"]
[1498,"CMN7390","MEDIOS MASIVOS Y CONFLICTO",1,202330,18,17,0,1,1,{"$f":"+BD_DEP[[#This Row],[totalp]]/BD_DEP[[#This Row],[Mat Inicial]]","v":0},{"$f":"+BD_DEP[[#This Row],[totalr]]/BD_DEP[[#This Row],[Mat Inicial]]","v":5.5555555555555552E-2},{"$f":"+BD_DEP[[#This Row],[repi]]/BD_DEP[[#This Row],[Mat Inicial]]","v":5.5555555555555552E-2},"40","Dpto. Comunicación Social",79144239,"FERRO CASAS JUAN","TC","PR"]
[1456,"CMN2010","PERIODISMO I",1,202330,30,30,0,0,0,{"$f":"+BD_DEP[[#This Row],[totalp]]/BD_DEP[[#This Row],[Mat Inicial]]","v":0},{"$f":"+BD_DEP[[#This Row],[totalr]]/BD_DEP[[#This Row],[Mat Inicial]]","v":0},{"$f":"+BD_DEP[[#This Row],[repi]]/BD_DEP[[#This Row],[Mat Inicial]]","v":0},"40","Dpto. Comunicación Social",79144239,"FERRO CASAS JUAN","TC","PR"]
[1457,"CMN2010","PERIODISMO I",2,202330,27,27,0,0,0,{"$f":"+BD_DEP[[#This Row],[totalp]]/BD_DEP[[#This Row],[Mat Inicial]]","v":0},{"$f":"+BD_DEP[[#This Row],[totalr]]/BD_DEP[[#This Row],[Mat Inicial]]","v":0},{"$f":"+BD_DEP[[#This Row],[repi]]/BD_DEP[[#This Row],[Mat Inicial]]","v":0},"40","Dpto. Comunicación Social",79144239,"FERRO CASAS JUAN","TC","PR"]
[1458,"CMN2040","PERIODISMO III",1,202330,36,36,1,0,1,{"$f":"+BD_DEP[[#This Row],[totalp]]/BD_DEP[[#This Row],[Mat Inicial]]","v":2.7777777777777776E-2},{"$f":"+BD_DEP[[#This Row],[totalr]]/BD_DEP[[#This Row],[Mat Inicial]]","v":0},{"$f":"+BD_DEP[[#This Row],[repi]]/BD_DEP[[#This Row],[Mat Inicial]]","v":2.7777777777777776E-2},"40","Dpto. Comunicación Social",43877220,"Muñoz Lalinde Johanna","TC","PR"]
[1459,"CMN2040","PERIODISMO III",2,202330,32,32,0,0,0,{"$f":"+BD_DEP[[#This Row],[totalp]]/BD_DEP[[#This Row],[Mat Inicial]]","v":0},{"$f":"+BD_DEP[[#This Row],[totalr]]/BD_DEP[[#This Row],[Mat Inicial]]","v":0},{"$f":"+BD_DEP[[#This Row],[repi]]/BD_DEP[[#This Row],[Mat Inicial]]","v":0},"40","Dpto. Comunicación Social",43877220,"Muñoz Lalinde Johanna","TC","PR"]
[1466,"CMN2060","PERIODISMO IV",1,202330,16,15,2,1,3,{"$f":"+BD_DEP[[#This Row],[totalp]]/BD_DEP[[#This Row],[Mat Inicial]]","v":0.125},{"$f":"+BD_DEP[[#This Row],[totalr]]/BD_DEP[[#This Row],[Mat Inicial]]","v":6.25E-2},{"$f":"+BD_DEP[[#This Row],[repi]]/BD_DEP[[#This Row],[Mat Inicial]]","v":0.1875},"40","Dpto. Comunicación Social",80779533,"CORTES MARTINEZ CARLOS","TC","PR"]
[1467,"CMN2060","PERIODISMO IV",2,202330,23,23,1,0,1,{"$f":"+BD_DEP[[#This Row],[totalp]]/BD_DEP[[#This Row],[Mat Inicial]]","v":4.3478260869565216E-2},{"$f":"+BD_DEP[[#This Row],[totalr]]/BD_DEP[[#This Row],[Mat Inicial]]","v":0},{"$f":"+BD_DEP[[#This Row],[repi]]/BD_DEP[[#This Row],[Mat Inicial]]","v":4.3478260869565216E-2},"40","Dpto. Comunicación Social",80779533,"CORTES MARTINEZ CARLOS","TC","PR"]
[1475,"CMN3090","PERIODISMO V",1,202330,22,21,0,1,1,{"$f":"+BD_DEP[[#This Row],[totalp]]/BD_DEP[[#This Row],[Mat Inicial]]","v":0},{"$f":"+BD_DEP[[#This Row],[totalr]]/BD_DEP[[#This Row],[Mat Inicial]]","v":4.5454545454545456E-2},{"$f":"+BD_DEP[[#This Row],[repi]]/BD_DEP[[#This Row],[Mat Inicial]]","v":4.5454545454545456E-2},"40","Dpto. Comunicación Social",1140815099,"Cancino Borbon Andrea","TC","PR"]
[1476,"CMN3090","PERIODISMO V",2,202330,27,27,0,0,0,{"$f":"+BD_DEP[[#This Row],[totalp]]/BD_DEP[[#This Row],[Mat Inicial]]","v":0},{"$f":"+BD_DEP[[#This Row],[totalr]]/BD_DEP[[#This Row],[Mat Inicial]]","v":0},{"$f":"+BD_DEP[[#This Row],[repi]]/BD_DEP[[#This Row],[Mat Inicial]]","v":0},"40","Dpto. Comunicación Social",1140815099,"Cancino Borbon Andrea","TC","PR"]
[1477,"CMN3090","PERIODISMO V",3,202330,26,26,0,0,0,{"$f":"+BD_DEP[[#This Row],[totalp]]/BD_DEP[[#This Row],[Mat Inicial]]","v":0},{"$f":"+BD_DEP[[#This Row],[totalr]]/BD_DEP[[#This Row],[Mat Inicial]]","v":0},{"$f":"+BD_DEP[[#This Row],[repi]]/BD_DEP[[#This Row],[Mat Inicial]]","v":0},"40","Dpto. Comunicación Social",1140815099,"Cancino Borbon Andrea","TC","PR"]
[1495,"CMN7341","PROY COMUNIC ORGANIZACIONAL",1,202330,37,36,6,1,7,{"$f":"+BD_DEP[[#This Row],[totalp]]/BD_DEP[[#This Row],[Mat Inicial]]","v":0.16216216216216217},{"$f":"+BD_DEP[[#This Row],[totalr]]/BD_DEP[[#This Row],[Mat Inicial]]","v":2.7027027027027029E-2},{"$f":"+BD_DEP[[#This Row],[repi]]/BD_DEP[[#This Row],[Mat Inicial]]","v":0.1891891891891892},"40","Dpto. Comunicación Social",80414869,"Llano Aristizabal Sergio","TC","PR"]
[1496,"CMN7341","PROY COMUNIC ORGANIZACIONAL",2,202330,39,39,1,0,1,{"$f":"+BD_DEP[[#This Row],[totalp]]/BD_DEP[[#This Row],[Mat Inicial]]","v":2.564102564102564E-2},{"$f":"+BD_DEP[[#This Row],[totalr]]/BD_DEP[[#This Row],[Mat Inicial]]","v":0},{"$f":"+BD_DEP[[#This Row],[repi]]/BD_DEP[[#This Row],[Mat Inicial]]","v":2.564102564102564E-2},"40","Dpto. Comunicación Social",80414869,"Llano Aristizabal Sergio","TC","PR"]
[4247,"CMN1150","REALIZACION MEDIO AUDIOVISUAL1",51,202330,12,12,0,0,0,{"$f":"+BD_DEP[[#This Row],[totalp]]/BD_DEP[[#This Row],[Mat Inicial]]","v":0},{"$f":"+BD_DEP[[#This Row],[totalr]]/BD_DEP[[#This Row],[Mat Inicial]]","v":0},{"$f":"+BD_DEP[[#This Row],[repi]]/BD_DEP[[#This Row],[Mat Inicial]]","v":0},"40","Dpto. Comunicación Social",1143225466,"Reyes Redondo Maria","TC","PR"]
[4248,"CMN1150","REALIZACION MEDIO AUDIOVISUAL1",52,202330,11,11,0,0,0,{"$f":"+BD_DEP[[#This Row],[totalp]]/BD_DEP[[#This Row],[Mat Inicial]]","v":0},{"$f":"+BD_DEP[[#This Row],[totalr]]/BD_DEP[[#This Row],[Mat Inicial]]","v":0},{"$f":"+BD_DEP[[#This Row],[repi]]/BD_DEP[[#This Row],[Mat Inicial]]","v":0},"40","Dpto. Comunicación Social",1143225466,"Reyes Redondo Maria","TC","PR"]
[4249,"CMN1150","REALIZACION MEDIO AUDIOVISUAL1",53,202330,10,9,0,1,1,{"$f":"+BD_DEP[[#This Row],[totalp]]/BD_DEP[[#This Row],[Mat Inicial]]","v":0},{"$f":"+BD_DEP[[#This Row],[totalr]]/BD_DEP[[#This Row],[Mat Inicial]]","v":0.1},{"$f":"+BD_DEP[[#This Row],[repi]]/BD_DEP[[#This Row],[Mat Inicial]]","v":0.1},"40","Dpto. Comunicación Social",1143225466,"Reyes Redondo Maria","TC","PR"]
[4250,"CMN1150","REALIZACION MEDIO AUDIOVISUAL1",54,202330,11,11,1,0,1,{"$f":"+BD_DEP[[#This Row],[totalp]]/BD_DEP[[#This Row],[Mat Inicial]]","v":9.0909090909090912E-2},{"$f":"+BD_DEP[[#This Row],[totalr]]/BD_DEP[[#This Row],[Mat Inicial]]","v":0},{"$f":"+BD_DEP[[#This Row],[repi]]/BD_DEP[[#This Row],[Mat Inicial]]","v":9.0909090909090912E-2},"40","Dpto. Comunicación Social",1143225466,"Reyes Redondo Maria","TC","PR"]
[1454,"CMN1180","REALIZACION MEDIO AUDIOVISUAL3",1,202330,42,42,6,0,6,{"$f":"+BD_DEP[[#This Row],[totalp]]/BD_DEP[[#This Row],[Mat Inicial]]","v":0.14285714285714285},{"$f":"+BD_DEP[[#This Row],[totalr]]/BD_DEP[[#This Row],[Mat Inicial]]","v":0},{"$f":"+BD_DEP[[#This Row],[repi]]/BD_DEP[[#This Row],[Mat Inicial]]","v":0.14285714285714285},"40","Dpto. Comunicación Social",72308847,"Sabbagh Fajardo Alfredo","TC","PR"]
[1460,"CMN2050","REALIZACION MEDIO AUDIOVISUAL4",1,202330,11,11,1,0,1,{"$f":"+BD_DEP[[#This Row],[totalp]]/BD_DEP[[#This Row],[Mat Inicial]]","v":9.0909090909090912E-2},{"$f":"+BD_DEP[[#This Row],[totalr]]/BD_DEP[[#This Row],[Mat Inicial]]","v":0},{"$f":"+BD_DEP[[#This Row],[repi]]/BD_DEP[[#This Row],[Mat Inicial]]","v":9.0909090909090912E-2},"40","Dpto. Comunicación Social",72260311,"Cure Londoño Yamil","TC","PR"]
[1461,"CMN2050","REALIZACION MEDIO AUDIOVISUAL4",2,202330,12,12,0,0,0,{"$f":"+BD_DEP[[#This Row],[totalp]]/BD_DEP[[#This Row],[Mat Inicial]]","v":0},{"$f":"+BD_DEP[[#This Row],[totalr]]/BD_DEP[[#This Row],[Mat Inicial]]","v":0},{"$f":"+BD_DEP[[#This Row],[repi]]/BD_DEP[[#This Row],[Mat Inicial]]","v":0},"40","Dpto. Comunicación Social",72260311,"Cure Londoño Yamil","TC","PR"]
[1462,"CMN2050","REALIZACION MEDIO AUDIOVISUAL4",3,202330,12,12,0,0,0,{"$f":"+BD_DEP[[#This Row],[totalp]]/BD_DEP[[#This Row],[Mat Inicial]]","v":0},{"$f":"+BD_DEP[[#This Row],[totalr]]/BD_DEP[[#This Row],[Mat Inicial]]","v":0},{"$f":"+BD_DEP[[#This Row],[repi]]/BD_DEP[[#This Row],[Mat Inicial]]","v":0},"40","Dpto. Comunicación Social",72260311,"Cure Londoño Yamil","TC","PR"]
[1463,"CMN2050","REALIZACION MEDIO AUDIOVISUAL4",4,202330,12,11,1,1,2,{"$f":"+BD_DEP[[#This Row],[totalp]]/BD_DEP[[#This Row],[Mat Inicial]]","v":8.3333333333333329E-2},{"$f":"+BD_DEP[[#This Row],[totalr]]/BD_DEP[[#This Row],[Mat Inicial]]","v":8.3333333333333329E-2},{"$f":"+BD_DEP[[#This Row],[repi]]/BD_DEP[[#This Row],[Mat Inicial]]","v":0.16666666666666666},"40","Dpto. Comunicación Social",72260311,"Cure Londoño Yamil","TC","PR"]
[1464,"CMN2050","REALIZACION MEDIO AUDIOVISUAL4",5,202330,10,10,0,0,0,{"$f":"+BD_DEP[[#This Row],[totalp]]/BD_DEP[[#This Row],[Mat Inicial]]","v":0},{"$f":"+BD_DEP[[#This Row],[totalr]]/BD_DEP[[#This Row],[Mat Inicial]]","v":0},{"$f":"+BD_DEP[[#This Row],[repi]]/BD_DEP[[#This Row],[Mat Inicial]]","v":0},"40","Dpto. Comunicación Social",72260311,"Cure Londoño Yamil","TC","PR"]
[1465,"CMN2050","REALIZACION MEDIO AUDIOVISUAL4",6,202330,8,8,0,0,0,{"$f":"+BD_DEP[[#This Row],[totalp]]/BD_DEP[[#This Row],[Mat Inicial]]","v":0},{"$f":"+BD_DEP[[#This Row],[totalr]]/BD_DEP[[#This Row],[Mat Inicial]]","v":0},{"$f":"+BD_DEP[[#This Row],[repi]]/BD_DEP[[#This Row],[Mat Inicial]]","v":0},"40","Dpto. Comunicación Social",72260311,"Cure Londoño Yamil","TC","PR"]
[1469,"CMN2080","REALIZACION MEDIO AUDIOVISUAL5",1,202330,10,10,0,0,0,{"$f":"+BD_DEP[[#This Row],[totalp]]/BD_DEP[[#This Row],[Mat Inicial]]","v":0},{"$f":"+BD_DEP[[#This Row],[totalr]]/BD_DEP[[#This Row],[Mat Inicial]]","v":0},{"$f":"+BD_DEP[[#This Row],[repi]]/BD_DEP[[#This Row],[Mat Inicial]]","v":0},"40","Dpto. Comunicación Social",72308847,"Sabbagh Fajardo Alfredo","TC","PR"]
[1470,"CMN2080","REALIZACION MEDIO AUDIOVISUAL5",2,202330,8,7,0,1,1,{"$f":"+BD_DEP[[#This Row],[totalp]]/BD_DEP[[#This Row],[Mat Inicial]]","v":0},{"$f":"+BD_DEP[[#This Row],[totalr]]/BD_DEP[[#This Row],[Mat Inicial]]","v":0.125},{"$f":"+BD_DEP[[#This Row],[repi]]/BD_DEP[[#This Row],[Mat Inicial]]","v":0.125},"40","Dpto. Comunicación Social",72308847,"Sabbagh Fajardo Alfredo","TC","PR"]
[1471,"CMN2080","REALIZACION MEDIO AUDIOVISUAL5",3,202330,8,8,0,0,0,{"$f":"+BD_DEP[[#This Row],[totalp]]/BD_DEP[[#This Row],[Mat Inicial]]","v":0},{"$f":"+BD_DEP[[#This Row],[totalr]]/BD_DEP[[#This Row],[Mat Inicial]]","v":0},{"$f":"+BD_DEP[[#This Row],[repi]]/BD_DEP[[#This Row],[Mat Inicial]]","v":0},"40","Dpto. Comunicación Social",72308847,"Sabbagh Fajardo Alfredo","TC","PR"]
[1472,"CMN2080","REALIZACION MEDIO AUDIOVISUAL5",4,202330,6,6,0,0,0,{"$f":"+BD_DEP[[#This Row],[totalp]]/BD_DEP[[#This Row],[Mat Inicial]]","v":0},{"$f":"+BD_DEP[[#This Row],[totalr]]/BD_DEP[[#This Row],[Mat Inicial]]","v":0},{"$f":"+BD_DEP[[#This Row],[repi]]/BD_DEP[[#This Row],[Mat Inicial]]","v":0},"40","Dpto. Comunicación Social",72308847,"Sabbagh Fajardo Alfredo","TC","PR"]
[1473,"CMN2080","REALIZACION MEDIO AUDIOVISUAL5",5,202330,4,4,0,0,0,{"$f":"+BD_DEP[[#This Row],[totalp]]/BD_DEP[[#This Row],[Mat Inicial]]","v":0},{"$f":"+BD_DEP[[#This Row],[totalr]]/BD_DEP[[#This Row],[Mat Inicial]]","v":0},{"$f":"+BD_DEP[[#This Row],[repi]]/BD_DEP[[#This Row],[Mat Inicial]]","v":0},"40","Dpto. Comunicación Social",72308847,"Sabbagh Fajardo Alfredo","TC","PR"]
[1474,"CMN2080","REALIZACION MEDIO AUDIOVISUAL5",6,202330,3,3,0,0,0,{"$f":"+BD_DEP[[#This Row],[totalp]]/BD_DEP[[#This Row],[Mat Inicial]]","v":0},{"$f":"+BD_DEP[[#This Row],[totalr]]/BD_DEP[[#This Row],[Mat Inicial]]","v":0},{"$f":"+BD_DEP[[#This Row],[repi]]/BD_DEP[[#This Row],[Mat Inicial]]","v":0},"40","Dpto. Comunicación Social",72308847,"Sabbagh Fajardo Alfredo","TC","PR"]
[1484,"CMN6080","REALIZACION MEDIO AUDIOVISUAL6",1,202330,44,44,9,0,9,{"$f":"+BD_DEP[[#This Row],[totalp]]/BD_DEP[[#This Row],[Mat Inicial]]","v":0.20454545454545456},{"$f":"+BD_DEP[[#This Row],[totalr]]/BD_DEP[[#This Row],[Mat Inicial]]","v":0},{"$f":"+BD_DEP[[#This Row],[repi]]/BD_DEP[[#This Row],[Mat Inicial]]","v":0.20454545454545456},"40","Dpto. Comunicación Social",72308847,"Sabbagh Fajardo Alfredo","TC","PR"]
[1486,"CMN6080","REALIZACION MEDIO AUDIOVISUAL6",3,202330,35,34,5,1,6,{"$f":"+BD_DEP[[#This Row],[totalp]]/BD_DEP[[#This Row],[Mat Inicial]]","v":0.14285714285714285},{"$f":"+BD_DEP[[#This Row],[totalr]]/BD_DEP[[#This Row],[Mat Inicial]]","v":2.8571428571428571E-2},{"$f":"+BD_DEP[[#This Row],[repi]]/BD_DEP[[#This Row],[Mat Inicial]]","v":0.17142857142857143},"40","Dpto. Comunicación Social",72308847,"Sabbagh Fajardo Alfredo","TC","PR"]
[1440,"CMN0011","REALIZACION MEDIOS AUDIOVI VII",2,202330,38,38,0,0,0,{"$f":"+BD_DEP[[#This Row],[totalp]]/BD_DEP[[#This Row],[Mat Inicial]]","v":0},{"$f":"+BD_DEP[[#This Row],[totalr]]/BD_DEP[[#This Row],[Mat Inicial]]","v":0},{"$f":"+BD_DEP[[#This Row],[repi]]/BD_DEP[[#This Row],[Mat Inicial]]","v":0},"40","Dpto. Comunicación Social",72311006,"Osman Florez Juan","TC","PR"]
[1503,"CMN9011","SEM COMUNIC ORGANIZACIONAL",1,202330,32,32,0,0,0,{"$f":"+BD_DEP[[#This Row],[totalp]]/BD_DEP[[#This Row],[Mat Inicial]]","v":0},{"$f":"+BD_DEP[[#This Row],[totalr]]/BD_DEP[[#This Row],[Mat Inicial]]","v":0},{"$f":"+BD_DEP[[#This Row],[repi]]/BD_DEP[[#This Row],[Mat Inicial]]","v":0},"40","Dpto. Comunicación Social",22580147,"Villamizar Loaiza Carolina","TC","PR"]
[1504,"CMN9011","SEM COMUNIC ORGANIZACIONAL",2,202330,22,22,3,0,3,{"$f":"+BD_DEP[[#This Row],[totalp]]/BD_DEP[[#This Row],[Mat Inicial]]","v":0.13636363636363635},{"$f":"+BD_DEP[[#This Row],[totalr]]/BD_DEP[[#This Row],[Mat Inicial]]","v":0},{"$f":"+BD_DEP[[#This Row],[repi]]/BD_DEP[[#This Row],[Mat Inicial]]","v":0.13636363636363635},"40","Dpto. Comunicación Social",22580147,"Villamizar Loaiza Carolina","TC","PR"]
[1492,"CMN7320","SEM INVEST EN COMUNICACION",1,202330,36,35,0,1,1,{"$f":"+BD_DEP[[#This Row],[totalp]]/BD_DEP[[#This Row],[Mat Inicial]]","v":0},{"$f":"+BD_DEP[[#This Row],[totalr]]/BD_DEP[[#This Row],[Mat Inicial]]","v":2.7777777777777776E-2},{"$f":"+BD_DEP[[#This Row],[repi]]/BD_DEP[[#This Row],[Mat Inicial]]","v":2.7777777777777776E-2},"40","Dpto. Comunicación Social",80779533,"CORTES MARTINEZ CARLOS","TC","PR"]
[1493,"CMN7320","SEM INVEST EN COMUNICACION",2,202330,39,39,0,0,0,{"$f":"+BD_DEP[[#This Row],[totalp]]/BD_DEP[[#This Row],[Mat Inicial]]","v":0},{"$f":"+BD_DEP[[#This Row],[totalr]]/BD_DEP[[#This Row],[Mat Inicial]]","v":0},{"$f":"+BD_DEP[[#This Row],[repi]]/BD_DEP[[#This Row],[Mat Inicial]]","v":0},"40","Dpto. Comunicación Social",80779533,"CORTES MARTINEZ CARLOS","TC","PR"]
[1447,"CMN1060","SEMIÓTICA Y COMUNICACIÓN",1,202330,40,39,0,1,1,{"$f":"+BD_DEP[[#This Row],[totalp]]/BD_DEP[[#This Row],[Mat Inicial]]","v":0},{"$f":"+BD_DEP[[#This Row],[totalr]]/BD_DEP[[#This Row],[Mat Inicial]]","v":2.5000000000000001E-2},{"$f":"+BD_DEP[[#This Row],[repi]]/BD_DEP[[#This Row],[Mat Inicial]]","v":2.5000000000000001E-2},"40","Dpto. Comunicación Social",1143225466,"Reyes Redondo Maria","TC","PR"]
[1448,"CMN1060","SEMIÓTICA Y COMUNICACIÓN",2,202330,24,24,0,0,0,{"$f":"+BD_DEP[[#This Row],[totalp]]/BD_DEP[[#This Row],[Mat Inicial]]","v":0},{"$f":"+BD_DEP[[#This Row],[totalr]]/BD_DEP[[#This Row],[Mat Inicial]]","v":0},{"$f":"+BD_DEP[[#This Row],[repi]]/BD_DEP[[#This Row],[Mat Inicial]]","v":0},"40","Dpto. Comunicación Social",1143225466,"Reyes Redondo Maria","TC","PR"]
[2411,"INV7481","TECNICAS INV EN COMUNICACION",1,202330,39,39,8,0,8,{"$f":"+BD_DEP[[#This Row],[totalp]]/BD_DEP[[#This Row],[Mat Inicial]]","v":0.20512820512820512},{"$f":"+BD_DEP[[#This Row],[totalr]]/BD_DEP[[#This Row],[Mat Inicial]]","v":0},{"$f":"+BD_DEP[[#This Row],[repi]]/BD_DEP[[#This Row],[Mat Inicial]]","v":0.20512820512820512},"40","Dpto. Comunicación Social",80414869,"Llano Aristizabal Sergio","TC","PR"]
[4246,"CMN1030","TEORIA COMUNICACION I",51,202330,42,41,0,1,1,{"$f":"+BD_DEP[[#This Row],[totalp]]/BD_DEP[[#This Row],[Mat Inicial]]","v":0},{"$f":"+BD_DEP[[#This Row],[totalr]]/BD_DEP[[#This Row],[Mat Inicial]]","v":2.3809523809523808E-2},{"$f":"+BD_DEP[[#This Row],[repi]]/BD_DEP[[#This Row],[Mat Inicial]]","v":2.3809523809523808E-2},"40","Dpto. Comunicación Social",1143225466,"Reyes Redondo Maria","TC","PR"]
[1445,"CMN1040","TEORIA COMUNICACION II",1,202330,29,29,0,0,0,{"$f":"+BD_DEP[[#This Row],[totalp]]/BD_DEP[[#This Row],[Mat Inicial]]","v":0},{"$f":"+BD_DEP[[#This Row],[totalr]]/BD_DEP[[#This Row],[Mat Inicial]]","v":0},{"$f":"+BD_DEP[[#This Row],[repi]]/BD_DEP[[#This Row],[Mat Inicial]]","v":0},"40","Dpto. Comunicación Social",71779693,"Perez Quintero Camilo","TC","PR"]
[1446,"CMN1040","TEORIA COMUNICACION II",2,202330,30,30,0,0,0,{"$f":"+BD_DEP[[#This Row],[totalp]]/BD_DEP[[#This Row],[Mat Inicial]]","v":0},{"$f":"+BD_DEP[[#This Row],[totalr]]/BD_DEP[[#This Row],[Mat Inicial]]","v":0},{"$f":"+BD_DEP[[#This Row],[repi]]/BD_DEP[[#This Row],[Mat Inicial]]","v":0},"40","Dpto. Comunicación Social",71779693,"Perez Quintero Camilo","TC","PR"]
[1502,"CMN8130","TEORIA DE LA COMUNICACION 3",1,202330,38,37,0,1,1,{"$f":"+BD_DEP[[#This Row],[totalp]]/BD_DEP[[#This Row],[Mat Inicial]]","v":0},{"$f":"+BD_DEP[[#This Row],[totalr]]/BD_DEP[[#This Row],[Mat Inicial]]","v":2.6315789473684209E-2},{"$f":"+BD_DEP[[#This Row],[repi]]/BD_DEP[[#This Row],[Mat Inicial]]","v":2.6315789473684209E-2},"40","Dpto. Comunicación Social",8767107,"Vega Casanova Manuel","TC","PR"]
[2417,"INV9580","TRABAJO DE GRADO",5,202330,6,6,1,0,1,{"$f":"+BD_DEP[[#This Row],[totalp]]/BD_DEP[[#This Row],[Mat Inicial]]","v":0.16666666666666666},{"$f":"+BD_DEP[[#This Row],[totalr]]/BD_DEP[[#This Row],[Mat Inicial]]","v":0},{"$f":"+BD_DEP[[#This Row],[repi]]/BD_DEP[[#This Row],[Mat Inicial]]","v":0.16666666666666666},"40","Dpto. Comunicación Social",22477800,"Peña Escobar Yenny","TC","PR"]
[2420,"INV9580","TRABAJO DE GRADO",8,202330,5,5,0,0,0,{"$f":"+BD_DEP[[#This Row],[totalp]]/BD_DEP[[#This Row],[Mat Inicial]]","v":0},{"$f":"+BD_DEP[[#This Row],[totalr]]/BD_DEP[[#This Row],[Mat Inicial]]","v":0},{"$f":"+BD_DEP[[#This Row],[repi]]/BD_DEP[[#This Row],[Mat Inicial]]","v":0},"40","Dpto. Comunicación Social",22580147,"Villamizar Loaiza Carolina","TC","PR"]
[6941,"INV9580","TRABAJO DE GRADO",20,202330,4,4,0,0,0,{"$f":"+BD_DEP[[#This Row],[totalp]]/BD_DEP[[#This Row],[Mat Inicial]]","v":0},{"$f":"+BD_DEP[[#This Row],[totalr]]/BD_DEP[[#This Row],[Mat Inicial]]","v":0},{"$f":"+BD_DEP[[#This Row],[repi]]/BD_DEP[[#This Row],[Mat Inicial]]","v":0},"40","Dpto. Comunicación Social",22580147,"Villamizar Loaiza Carolina","TC","PR"]
[2421,"INV9580","TRABAJO DE GRADO",9,202330,9,9,0,0,0,{"$f":"+BD_DEP[[#This Row],[totalp]]/BD_DEP[[#This Row],[Mat Inicial]]","v":0},{"$f":"+BD_DEP[[#This Row],[totalr]]/BD_DEP[[#This Row],[Mat Inicial]]","v":0},{"$f":"+BD_DEP[[#This Row],[repi]]/BD_DEP[[#This Row],[Mat Inicial]]","v":0},"40","Dpto. Comunicación Social",72311006,"Osman Florez Juan","TC","PR"]
[2413,"INV9580","TRABAJO DE GRADO",1,202330,12,11,0,1,1,{"$f":"+BD_DEP[[#This Row],[totalp]]/BD_DEP[[#This Row],[Mat Inicial]]","v":0},{"$f":"+BD_DEP[[#This Row],[totalr]]/BD_DEP[[#This Row],[Mat Inicial]]","v":8.3333333333333329E-2},{"$f":"+BD_DEP[[#This Row],[repi]]/BD_DEP[[#This Row],[Mat Inicial]]","v":8.3333333333333329E-2},"40","Dpto. Comunicación Social",79144239,"FERRO CASAS JUAN","TC","PR"]
[2414,"INV9580","TRABAJO DE GRADO",2,202330,4,4,1,0,1,{"$f":"+BD_DEP[[#This Row],[totalp]]/BD_DEP[[#This Row],[Mat Inicial]]","v":0.25},{"$f":"+BD_DEP[[#This Row],[totalr]]/BD_DEP[[#This Row],[Mat Inicial]]","v":0},{"$f":"+BD_DEP[[#This Row],[repi]]/BD_DEP[[#This Row],[Mat Inicial]]","v":0.25},"40","Dpto. Comunicación Social",79144239,"FERRO CASAS JUAN","TC","PR"]
[1489,"CMN7240","ANALISIS CINEMATOGRAFICO",1,202330,38,38,1,0,1,{"$f":"+BD_DEP[[#This Row],[totalp]]/BD_DEP[[#This Row],[Mat Inicial]]","v":2.6315789473684209E-2},{"$f":"+BD_DEP[[#This Row],[totalr]]/BD_DEP[[#This Row],[Mat Inicial]]","v":0},{"$f":"+BD_DEP[[#This Row],[repi]]/BD_DEP[[#This Row],[Mat Inicial]]","v":2.6315789473684209E-2},"40","Dpto. Comunicación Social",51612181,"Flores Prieto Pamela","MT","PR"]
[1479,"CMN6041","COMUNICACION Y CULTURA",1,202330,41,40,0,1,1,{"$f":"+BD_DEP[[#This Row],[totalp]]/BD_DEP[[#This Row],[Mat Inicial]]","v":0},{"$f":"+BD_DEP[[#This Row],[totalr]]/BD_DEP[[#This Row],[Mat Inicial]]","v":2.4390243902439025E-2},{"$f":"+BD_DEP[[#This Row],[repi]]/BD_DEP[[#This Row],[Mat Inicial]]","v":2.4390243902439025E-2},"40","Dpto. Comunicación Social",51612181,"Flores Prieto Pamela","MT","PR"]
[1499,"CMN7520","GRANDES DIRECTORES DEL CINE",1,202330,12,12,2,0,2,{"$f":"+BD_DEP[[#This Row],[totalp]]/BD_DEP[[#This Row],[Mat Inicial]]","v":0.16666666666666666},{"$f":"+BD_DEP[[#This Row],[totalr]]/BD_DEP[[#This Row],[Mat Inicial]]","v":0},{"$f":"+BD_DEP[[#This Row],[repi]]/BD_DEP[[#This Row],[Mat Inicial]]","v":0.16666666666666666},"40","Dpto. Comunicación Social",51612181,"Flores Prieto Pamela","MT","PR"]
[1452,"CMN1170","PERIODISMO II",1,202330,13,13,0,0,0,{"$f":"+BD_DEP[[#This Row],[totalp]]/BD_DEP[[#This Row],[Mat Inicial]]","v":0},{"$f":"+BD_DEP[[#This Row],[totalr]]/BD_DEP[[#This Row],[Mat Inicial]]","v":0},{"$f":"+BD_DEP[[#This Row],[repi]]/BD_DEP[[#This Row],[Mat Inicial]]","v":0},"40","Dpto. Comunicación Social",8735282,"Franco Altamar Javier","MT","PR"]
[1453,"CMN1170","PERIODISMO II",2,202330,24,24,0,0,0,{"$f":"+BD_DEP[[#This Row],[totalp]]/BD_DEP[[#This Row],[Mat Inicial]]","v":0},{"$f":"+BD_DEP[[#This Row],[totalr]]/BD_DEP[[#This Row],[Mat Inicial]]","v":0},{"$f":"+BD_DEP[[#This Row],[repi]]/BD_DEP[[#This Row],[Mat Inicial]]","v":0},"40","Dpto. Comunicación Social",8735282,"Franco Altamar Javier","MT","PR"]
[1510,"CMN9375","PERIODISMO LITERARIO",1,202330,23,23,0,0,0,{"$f":"+BD_DEP[[#This Row],[totalp]]/BD_DEP[[#This Row],[Mat Inicial]]","v":0},{"$f":"+BD_DEP[[#This Row],[totalr]]/BD_DEP[[#This Row],[Mat Inicial]]","v":0},{"$f":"+BD_DEP[[#This Row],[repi]]/BD_DEP[[#This Row],[Mat Inicial]]","v":0},"40","Dpto. Comunicación Social",8735282,"Franco Altamar Javier","MT","PR"]
[2418,"INV9580","TRABAJO DE GRADO",6,202330,9,9,0,0,0,{"$f":"+BD_DEP[[#This Row],[totalp]]/BD_DEP[[#This Row],[Mat Inicial]]","v":0},{"$f":"+BD_DEP[[#This Row],[totalr]]/BD_DEP[[#This Row],[Mat Inicial]]","v":0},{"$f":"+BD_DEP[[#This Row],[repi]]/BD_DEP[[#This Row],[Mat Inicial]]","v":0},"40","Dpto. Comunicación Social",8735282,"Franco Altamar Javier","MT","PR"]
[2422,"INV9580","TRABAJO DE GRADO",11,202330,9,9,0,0,0,{"$f":"+BD_DEP[[#This Row],[totalp]]/BD_DEP[[#This Row],[Mat Inicial]]","v":0},{"$f":"+BD_DEP[[#This Row],[totalr]]/BD_DEP[[#This Row],[Mat Inicial]]","v":0},{"$f":"+BD_DEP[[#This Row],[repi]]/BD_DEP[[#This Row],[Mat Inicial]]","v":0},"40","Dpto. Comunicación Social",51612181,"Flores Prieto Pamela","MT","PR"]
[1505,"CMN9040","ARGUMENTACIÓN PERIODÍSTICA",1,202330,20,20,1,0,1,{"$f":"+BD_DEP[[#This Row],[totalp]]/BD_DEP[[#This Row],[Mat Inicial]]","v":0.05},{"$f":"+BD_DEP[[#This Row],[totalr]]/BD_DEP[[#This Row],[Mat Inicial]]","v":0},{"$f":"+BD_DEP[[#This Row],[repi]]/BD_DEP[[#This Row],[Mat Inicial]]","v":0.05},"40","Dpto. Comunicación Social",72257464,"Sarmiento Figueroa Jorge","CA","PR"]
[1506,"CMN9040","ARGUMENTACIÓN PERIODÍSTICA",2,202330,30,30,0,0,0,{"$f":"+BD_DEP[[#This Row],[totalp]]/BD_DEP[[#This Row],[Mat Inicial]]","v":0},{"$f":"+BD_DEP[[#This Row],[totalr]]/BD_DEP[[#This Row],[Mat Inicial]]","v":0},{"$f":"+BD_DEP[[#This Row],[repi]]/BD_DEP[[#This Row],[Mat Inicial]]","v":0},"40","Dpto. Comunicación Social",72257464,"Sarmiento Figueroa Jorge","CA","PR"]
[1482,"CMN6060","FILOSOFIA Y COMUNICACION",1,202330,33,32,1,1,2,{"$f":"+BD_DEP[[#This Row],[totalp]]/BD_DEP[[#This Row],[Mat Inicial]]","v":3.0303030303030304E-2},{"$f":"+BD_DEP[[#This Row],[totalr]]/BD_DEP[[#This Row],[Mat Inicial]]","v":3.0303030303030304E-2},{"$f":"+BD_DEP[[#This Row],[repi]]/BD_DEP[[#This Row],[Mat Inicial]]","v":6.0606060606060608E-2},"40","Dpto. Comunicación Social",55225540,"Pozo Garcia Kelly","CA","PR"]
[1483,"CMN6060","FILOSOFIA Y COMUNICACION",2,202330,16,16,0,0,0,{"$f":"+BD_DEP[[#This Row],[totalp]]/BD_DEP[[#This Row],[Mat Inicial]]","v":0},{"$f":"+BD_DEP[[#This Row],[totalr]]/BD_DEP[[#This Row],[Mat Inicial]]","v":0},{"$f":"+BD_DEP[[#This Row],[repi]]/BD_DEP[[#This Row],[Mat Inicial]]","v":0},"40","Dpto. Comunicación Social",55225540,"Pozo Garcia Kelly","CA","PR"]
[1362,"ART0020","FOTOGRAFIA Y LABORATORIO",1,202330,36,36,0,0,0,{"$f":"+BD_DEP[[#This Row],[totalp]]/BD_DEP[[#This Row],[Mat Inicial]]","v":0},{"$f":"+BD_DEP[[#This Row],[totalr]]/BD_DEP[[#This Row],[Mat Inicial]]","v":0},{"$f":"+BD_DEP[[#This Row],[repi]]/BD_DEP[[#This Row],[Mat Inicial]]","v":0},"40","Dpto. Comunicación Social",8743889,"Gil Zubiria Julio","CA","PR"]
[4217,"ART0020","FOTOGRAFIA Y LABORATORIO",53,202330,37,36,0,1,1,{"$f":"+BD_DEP[[#This Row],[totalp]]/BD_DEP[[#This Row],[Mat Inicial]]","v":0},{"$f":"+BD_DEP[[#This Row],[totalr]]/BD_DEP[[#This Row],[Mat Inicial]]","v":2.7027027027027029E-2},{"$f":"+BD_DEP[[#This Row],[repi]]/BD_DEP[[#This Row],[Mat Inicial]]","v":2.7027027027027029E-2},"40","Dpto. Comunicación Social",1045684896,"Gutierrez Ravelo Raquel","CA","PR"]
[4219,"ART0020","FOTOGRAFIA Y LABORATORIO",52,202330,16,15,0,1,1,{"$f":"+BD_DEP[[#This Row],[totalp]]/BD_DEP[[#This Row],[Mat Inicial]]","v":0},{"$f":"+BD_DEP[[#This Row],[totalr]]/BD_DEP[[#This Row],[Mat Inicial]]","v":6.25E-2},{"$f":"+BD_DEP[[#This Row],[repi]]/BD_DEP[[#This Row],[Mat Inicial]]","v":6.25E-2},"40","Dpto. Comunicación Social",1045684896,"Gutierrez Ravelo Raquel","CA","PR"]
[1441,"CMN0013","PRACTICA RADIAL",1,202330,36,36,0,0,0,{"$f":"+BD_DEP[[#This Row],[totalp]]/BD_DEP[[#This Row],[Mat Inicial]]","v":0},{"$f":"+BD_DEP[[#This Row],[totalr]]/BD_DEP[[#This Row],[Mat Inicial]]","v":0},{"$f":"+BD_DEP[[#This Row],[repi]]/BD_DEP[[#This Row],[Mat Inicial]]","v":0},"40","Dpto. Comunicación Social",72266157,"Duva Ruiz Ivan","CA","PR"]
[1449,"CMN1160","REALIZACION MEDIO AUDIOVISUAL2",1,202330,21,21,0,0,0,{"$f":"+BD_DEP[[#This Row],[totalp]]/BD_DEP[[#This Row],[Mat Inicial]]","v":0},{"$f":"+BD_DEP[[#This Row],[totalr]]/BD_DEP[[#This Row],[Mat Inicial]]","v":0},{"$f":"+BD_DEP[[#This Row],[repi]]/BD_DEP[[#This Row],[Mat Inicial]]","v":0},"40","Dpto. Comunicación Social",72167566,"Rojas Barandica Miguel","CA","PR"]
[1450,"CMN1160","REALIZACION MEDIO AUDIOVISUAL2",2,202330,24,24,0,0,0,{"$f":"+BD_DEP[[#This Row],[totalp]]/BD_DEP[[#This Row],[Mat Inicial]]","v":0},{"$f":"+BD_DEP[[#This Row],[totalr]]/BD_DEP[[#This Row],[Mat Inicial]]","v":0},{"$f":"+BD_DEP[[#This Row],[repi]]/BD_DEP[[#This Row],[Mat Inicial]]","v":0},"40","Dpto. Comunicación Social",72167566,"Rojas Barandica Miguel","CA","PR"]
[1451,"CMN1160","REALIZACION MEDIO AUDIOVISUAL2",3,202330,13,13,0,0,0,{"$f":"+BD_DEP[[#This Row],[totalp]]/BD_DEP[[#This Row],[Mat Inicial]]","v":0},{"$f":"+BD_DEP[[#This Row],[totalr]]/BD_DEP[[#This Row],[Mat Inicial]]","v":0},{"$f":"+BD_DEP[[#This Row],[repi]]/BD_DEP[[#This Row],[Mat Inicial]]","v":0},"40","Dpto. Comunicación Social",72167566,"Rojas Barandica Miguel","CA","PR"]
[1436,"CMN0008","SONIDO Y LENGUAJE RADIOFONICO",1,202330,23,23,0,0,0,{"$f":"+BD_DEP[[#This Row],[totalp]]/BD_DEP[[#This Row],[Mat Inicial]]","v":0},{"$f":"+BD_DEP[[#This Row],[totalr]]/BD_DEP[[#This Row],[Mat Inicial]]","v":0},{"$f":"+BD_DEP[[#This Row],[repi]]/BD_DEP[[#This Row],[Mat Inicial]]","v":0},"40","Dpto. Comunicación Social",1140839328,"DIAZ HENAO JOSEPH","CA","PR"]
[1437,"CMN0008","SONIDO Y LENGUAJE RADIOFONICO",2,202330,24,24,0,0,0,{"$f":"+BD_DEP[[#This Row],[totalp]]/BD_DEP[[#This Row],[Mat Inicial]]","v":0},{"$f":"+BD_DEP[[#This Row],[totalr]]/BD_DEP[[#This Row],[Mat Inicial]]","v":0},{"$f":"+BD_DEP[[#This Row],[repi]]/BD_DEP[[#This Row],[Mat Inicial]]","v":0},"40","Dpto. Comunicación Social",1140839328,"DIAZ HENAO JOSEPH","CA","PR"]
[1438,"CMN0008","SONIDO Y LENGUAJE RADIOFONICO",3,202330,11,11,0,0,0,{"$f":"+BD_DEP[[#This Row],[totalp]]/BD_DEP[[#This Row],[Mat Inicial]]","v":0},{"$f":"+BD_DEP[[#This Row],[totalr]]/BD_DEP[[#This Row],[Mat Inicial]]","v":0},{"$f":"+BD_DEP[[#This Row],[repi]]/BD_DEP[[#This Row],[Mat Inicial]]","v":0},"40","Dpto. Comunicación Social",1140839328,"DIAZ HENAO JOSEPH","CA","PR"]
[2954,"POL4524","COMU Y MARKETING POLITICO",1,202330,26,25,0,1,1,{"$f":"+BD_DEP[[#This Row],[totalp]]/BD_DEP[[#This Row],[Mat Inicial]]","v":0},{"$f":"+BD_DEP[[#This Row],[totalr]]/BD_DEP[[#This Row],[Mat Inicial]]","v":3.8461538461538464E-2},{"$f":"+BD_DEP[[#This Row],[repi]]/BD_DEP[[#This Row],[Mat Inicial]]","v":3.8461538461538464E-2},"50","Dpto. Cs Politica y Rel Intern",1044425733,"Solis Menco Karol","TC","PR"]
[2955,"POL4524","COMU Y MARKETING POLITICO",2,202330,27,26,0,1,1,{"$f":"+BD_DEP[[#This Row],[totalp]]/BD_DEP[[#This Row],[Mat Inicial]]","v":0},{"$f":"+BD_DEP[[#This Row],[totalr]]/BD_DEP[[#This Row],[Mat Inicial]]","v":3.7037037037037035E-2},{"$f":"+BD_DEP[[#This Row],[repi]]/BD_DEP[[#This Row],[Mat Inicial]]","v":3.7037037037037035E-2},"50","Dpto. Cs Politica y Rel Intern",1044425733,"Solis Menco Karol","TC","PR"]
[3127,"SCO4110","COOPERACION INTER PAZ DD HH",1,202330,19,19,0,0,0,{"$f":"+BD_DEP[[#This Row],[totalp]]/BD_DEP[[#This Row],[Mat Inicial]]","v":0},{"$f":"+BD_DEP[[#This Row],[totalr]]/BD_DEP[[#This Row],[Mat Inicial]]","v":0},{"$f":"+BD_DEP[[#This Row],[repi]]/BD_DEP[[#This Row],[Mat Inicial]]","v":0},"50","Dpto. Cs Politica y Rel Intern",1140820687,"Rueda Fiorentino Mariangela","TC","PR"]
[3128,"SCO4110","COOPERACION INTER PAZ DD HH",2,202330,14,13,0,1,1,{"$f":"+BD_DEP[[#This Row],[totalp]]/BD_DEP[[#This Row],[Mat Inicial]]","v":0},{"$f":"+BD_DEP[[#This Row],[totalr]]/BD_DEP[[#This Row],[Mat Inicial]]","v":7.1428571428571425E-2},{"$f":"+BD_DEP[[#This Row],[repi]]/BD_DEP[[#This Row],[Mat Inicial]]","v":7.1428571428571425E-2},"50","Dpto. Cs Politica y Rel Intern",1140820687,"Rueda Fiorentino Mariangela","TC","PR"]
[2957,"POL4527","DESCENT Y GOB TERRITORIAL",1,202330,15,14,0,1,1,{"$f":"+BD_DEP[[#This Row],[totalp]]/BD_DEP[[#This Row],[Mat Inicial]]","v":0},{"$f":"+BD_DEP[[#This Row],[totalr]]/BD_DEP[[#This Row],[Mat Inicial]]","v":6.6666666666666666E-2},{"$f":"+BD_DEP[[#This Row],[repi]]/BD_DEP[[#This Row],[Mat Inicial]]","v":6.6666666666666666E-2},"50","Dpto. Cs Politica y Rel Intern",72002637,"Tuiran Sarmiento Angel","TC","PR"]
[3118,"SCO4000","DIPLOMACIA Y POLITICA INTERNAC",1,202330,21,20,0,1,1,{"$f":"+BD_DEP[[#This Row],[totalp]]/BD_DEP[[#This Row],[Mat Inicial]]","v":0},{"$f":"+BD_DEP[[#This Row],[totalr]]/BD_DEP[[#This Row],[Mat Inicial]]","v":4.7619047619047616E-2},{"$f":"+BD_DEP[[#This Row],[repi]]/BD_DEP[[#This Row],[Mat Inicial]]","v":4.7619047619047616E-2},"50","Dpto. Cs Politica y Rel Intern",16208389,"Agudelo Taborda Jairo","TC","PR"]
[2959,"POL4529","ENFOQUES EN CIENCIA POL",1,202330,13,13,0,0,0,{"$f":"+BD_DEP[[#This Row],[totalp]]/BD_DEP[[#This Row],[Mat Inicial]]","v":0},{"$f":"+BD_DEP[[#This Row],[totalr]]/BD_DEP[[#This Row],[Mat Inicial]]","v":0},{"$f":"+BD_DEP[[#This Row],[repi]]/BD_DEP[[#This Row],[Mat Inicial]]","v":0},"50","Dpto. Cs Politica y Rel Intern",1045669074,"De La Puente Pacheco Mario","TC","PR"]
[2939,"POL0080","GEOPOLITICA",2,202330,25,25,0,0,0,{"$f":"+BD_DEP[[#This Row],[totalp]]/BD_DEP[[#This Row],[Mat Inicial]]","v":0},{"$f":"+BD_DEP[[#This Row],[totalr]]/BD_DEP[[#This Row],[Mat Inicial]]","v":0},{"$f":"+BD_DEP[[#This Row],[repi]]/BD_DEP[[#This Row],[Mat Inicial]]","v":0},"50","Dpto. Cs Politica y Rel Intern",72245278,"Melamed Visbal Janiel","TC","PR"]
[4480,"POL4310","INST POLITICAS Y CONSTITUCION",51,202330,28,28,1,0,1,{"$f":"+BD_DEP[[#This Row],[totalp]]/BD_DEP[[#This Row],[Mat Inicial]]","v":3.5714285714285712E-2},{"$f":"+BD_DEP[[#This Row],[totalr]]/BD_DEP[[#This Row],[Mat Inicial]]","v":0},{"$f":"+BD_DEP[[#This Row],[repi]]/BD_DEP[[#This Row],[Mat Inicial]]","v":3.5714285714285712E-2},"50","Dpto. Cs Politica y Rel Intern",1140865839,"Lopez Muñoz Laura","TC","PR"]
[4485,"SCO1010","INT RELACIONES INTERNALES",51,202330,44,43,2,1,3,{"$f":"+BD_DEP[[#This Row],[totalp]]/BD_DEP[[#This Row],[Mat Inicial]]","v":4.5454545454545456E-2},{"$f":"+BD_DEP[[#This Row],[totalr]]/BD_DEP[[#This Row],[Mat Inicial]]","v":2.2727272727272728E-2},{"$f":"+BD_DEP[[#This Row],[repi]]/BD_DEP[[#This Row],[Mat Inicial]]","v":6.8181818181818177E-2},"50","Dpto. Cs Politica y Rel Intern",16208389,"Agudelo Taborda Jairo","TC","PR"]
[4479,"POL0010","INTROD A LA CIENCIA POLITICA",51,202330,44,44,4,0,4,{"$f":"+BD_DEP[[#This Row],[totalp]]/BD_DEP[[#This Row],[Mat Inicial]]","v":9.0909090909090912E-2},{"$f":"+BD_DEP[[#This Row],[totalr]]/BD_DEP[[#This Row],[Mat Inicial]]","v":0},{"$f":"+BD_DEP[[#This Row],[repi]]/BD_DEP[[#This Row],[Mat Inicial]]","v":9.0909090909090912E-2},"50","Dpto. Cs Politica y Rel Intern",1044425733,"Solis Menco Karol","TC","PR"]
[2960,"POL4531","METODOLOGIA",1,202330,7,6,1,1,2,{"$f":"+BD_DEP[[#This Row],[totalp]]/BD_DEP[[#This Row],[Mat Inicial]]","v":0.14285714285714285},{"$f":"+BD_DEP[[#This Row],[totalr]]/BD_DEP[[#This Row],[Mat Inicial]]","v":0.14285714285714285},{"$f":"+BD_DEP[[#This Row],[repi]]/BD_DEP[[#This Row],[Mat Inicial]]","v":0.2857142857142857},"50","Dpto. Cs Politica y Rel Intern",9398085,"MORALES VEGAS GUSTAVO","TC","PR"]
[2948,"POL4330","NORTH AMERICAN POLITICS",1,202330,21,21,0,0,0,{"$f":"+BD_DEP[[#This Row],[totalp]]/BD_DEP[[#This Row],[Mat Inicial]]","v":0},{"$f":"+BD_DEP[[#This Row],[totalr]]/BD_DEP[[#This Row],[Mat Inicial]]","v":0},{"$f":"+BD_DEP[[#This Row],[repi]]/BD_DEP[[#This Row],[Mat Inicial]]","v":0},"50","Dpto. Cs Politica y Rel Intern",609608,"BALDERACCHI CLAUDIO","TC","PR"]
[3130,"SCO8460","ORDEN Y SEGURIDAD GLOBAL",1,202330,28,28,0,0,0,{"$f":"+BD_DEP[[#This Row],[totalp]]/BD_DEP[[#This Row],[Mat Inicial]]","v":0},{"$f":"+BD_DEP[[#This Row],[totalr]]/BD_DEP[[#This Row],[Mat Inicial]]","v":0},{"$f":"+BD_DEP[[#This Row],[repi]]/BD_DEP[[#This Row],[Mat Inicial]]","v":0},"50","Dpto. Cs Politica y Rel Intern",72245278,"Melamed Visbal Janiel","TC","PR"]
[3119,"SCO4015","ORGANISMOS INTERNACIONALES",1,202330,21,20,1,1,2,{"$f":"+BD_DEP[[#This Row],[totalp]]/BD_DEP[[#This Row],[Mat Inicial]]","v":4.7619047619047616E-2},{"$f":"+BD_DEP[[#This Row],[totalr]]/BD_DEP[[#This Row],[Mat Inicial]]","v":4.7619047619047616E-2},{"$f":"+BD_DEP[[#This Row],[repi]]/BD_DEP[[#This Row],[Mat Inicial]]","v":9.5238095238095233E-2},"50","Dpto. Cs Politica y Rel Intern",9398085,"MORALES VEGAS GUSTAVO","TC","PR"]
[2937,"POL0030","POLÍTICA COLOMBIANA",1,202330,17,16,2,1,3,{"$f":"+BD_DEP[[#This Row],[totalp]]/BD_DEP[[#This Row],[Mat Inicial]]","v":0.11764705882352941},{"$f":"+BD_DEP[[#This Row],[totalr]]/BD_DEP[[#This Row],[Mat Inicial]]","v":5.8823529411764705E-2},{"$f":"+BD_DEP[[#This Row],[repi]]/BD_DEP[[#This Row],[Mat Inicial]]","v":0.17647058823529413},"50","Dpto. Cs Politica y Rel Intern",72311023,"Trejos Rosero Luis","TC","PR"]
[2971,"POL8170","POLITICA DE LA UNION EUROPEA",1,202330,29,27,0,2,2,{"$f":"+BD_DEP[[#This Row],[totalp]]/BD_DEP[[#This Row],[Mat Inicial]]","v":0},{"$f":"+BD_DEP[[#This Row],[totalr]]/BD_DEP[[#This Row],[Mat Inicial]]","v":6.8965517241379309E-2},{"$f":"+BD_DEP[[#This Row],[repi]]/BD_DEP[[#This Row],[Mat Inicial]]","v":6.8965517241379309E-2},"50","Dpto. Cs Politica y Rel Intern",16208389,"Agudelo Taborda Jairo","TC","PR"]
[2969,"POL8165","POLITICA DE MEDIO ORIENTE",1,202330,39,39,0,0,0,{"$f":"+BD_DEP[[#This Row],[totalp]]/BD_DEP[[#This Row],[Mat Inicial]]","v":0},{"$f":"+BD_DEP[[#This Row],[totalr]]/BD_DEP[[#This Row],[Mat Inicial]]","v":0},{"$f":"+BD_DEP[[#This Row],[repi]]/BD_DEP[[#This Row],[Mat Inicial]]","v":0},"50","Dpto. Cs Politica y Rel Intern",72245278,"Melamed Visbal Janiel","TC","PR"]
[2940,"POL3050","POLITICA EXTERIOR COLOMBIANA",1,202330,21,21,0,0,0,{"$f":"+BD_DEP[[#This Row],[totalp]]/BD_DEP[[#This Row],[Mat Inicial]]","v":0},{"$f":"+BD_DEP[[#This Row],[totalr]]/BD_DEP[[#This Row],[Mat Inicial]]","v":0},{"$f":"+BD_DEP[[#This Row],[repi]]/BD_DEP[[#This Row],[Mat Inicial]]","v":0},"50","Dpto. Cs Politica y Rel Intern",72311023,"Trejos Rosero Luis","TC","PR"]
[2943,"POL4230","POLITICA LATINOAMERIC Y CARIBE",1,202330,30,30,0,0,0,{"$f":"+BD_DEP[[#This Row],[totalp]]/BD_DEP[[#This Row],[Mat Inicial]]","v":0},{"$f":"+BD_DEP[[#This Row],[totalr]]/BD_DEP[[#This Row],[Mat Inicial]]","v":0},{"$f":"+BD_DEP[[#This Row],[repi]]/BD_DEP[[#This Row],[Mat Inicial]]","v":0},"50","Dpto. Cs Politica y Rel Intern",609608,"BALDERACCHI CLAUDIO","TC","PR"]
[2972,"POL8180","POLÍTICAS PÚBLICAS",1,202330,19,19,0,0,0,{"$f":"+BD_DEP[[#This Row],[totalp]]/BD_DEP[[#This Row],[Mat Inicial]]","v":0},{"$f":"+BD_DEP[[#This Row],[totalr]]/BD_DEP[[#This Row],[Mat Inicial]]","v":0},{"$f":"+BD_DEP[[#This Row],[repi]]/BD_DEP[[#This Row],[Mat Inicial]]","v":0},"50","Dpto. Cs Politica y Rel Intern",72002637,"Tuiran Sarmiento Angel","TC","PR"]
[2973,"POL8180","POLÍTICAS PÚBLICAS",2,202330,19,19,0,0,0,{"$f":"+BD_DEP[[#This Row],[totalp]]/BD_DEP[[#This Row],[Mat Inicial]]","v":0},{"$f":"+BD_DEP[[#This Row],[totalr]]/BD_DEP[[#This Row],[Mat Inicial]]","v":0},{"$f":"+BD_DEP[[#This Row],[repi]]/BD_DEP[[#This Row],[Mat Inicial]]","v":0},"50","Dpto. Cs Politica y Rel Intern",72002637,"Tuiran Sarmiento Angel","TC","PR"]
[3125,"SCO4100","SEM DE CONFLICTO Y PAZ",1,202330,23,23,0,0,0,{"$f":"+BD_DEP[[#This Row],[totalp]]/BD_DEP[[#This Row],[Mat Inicial]]","v":0},{"$f":"+BD_DEP[[#This Row],[totalr]]/BD_DEP[[#This Row],[Mat Inicial]]","v":0},{"$f":"+BD_DEP[[#This Row],[repi]]/BD_DEP[[#This Row],[Mat Inicial]]","v":0},"50","Dpto. Cs Politica y Rel Intern",1140820687,"Rueda Fiorentino Mariangela","TC","PR"]
[3126,"SCO4100","SEM DE CONFLICTO Y PAZ",2,202330,19,19,0,0,0,{"$f":"+BD_DEP[[#This Row],[totalp]]/BD_DEP[[#This Row],[Mat Inicial]]","v":0},{"$f":"+BD_DEP[[#This Row],[totalr]]/BD_DEP[[#This Row],[Mat Inicial]]","v":0},{"$f":"+BD_DEP[[#This Row],[repi]]/BD_DEP[[#This Row],[Mat Inicial]]","v":0},"50","Dpto. Cs Politica y Rel Intern",1140820687,"Rueda Fiorentino Mariangela","TC","PR"]
[3122,"SCO4050","SEMINARIO DE GLOBALIZACION",1,202330,23,22,1,1,2,{"$f":"+BD_DEP[[#This Row],[totalp]]/BD_DEP[[#This Row],[Mat Inicial]]","v":4.3478260869565216E-2},{"$f":"+BD_DEP[[#This Row],[totalr]]/BD_DEP[[#This Row],[Mat Inicial]]","v":4.3478260869565216E-2},{"$f":"+BD_DEP[[#This Row],[repi]]/BD_DEP[[#This Row],[Mat Inicial]]","v":8.6956521739130432E-2},"50","Dpto. Cs Politica y Rel Intern",1140820687,"Rueda Fiorentino Mariangela","TC","PR"]
[2383,"INV4085","SEMINARIO DE INVESTIGACION I",1,202330,20,20,0,0,0,{"$f":"+BD_DEP[[#This Row],[totalp]]/BD_DEP[[#This Row],[Mat Inicial]]","v":0},{"$f":"+BD_DEP[[#This Row],[totalr]]/BD_DEP[[#This Row],[Mat Inicial]]","v":0},{"$f":"+BD_DEP[[#This Row],[repi]]/BD_DEP[[#This Row],[Mat Inicial]]","v":0},"50","Dpto. Cs Politica y Rel Intern",30338632,"Rico Revelo Diana","TC","PR"]
[2384,"INV4085","SEMINARIO DE INVESTIGACION I",2,202330,19,18,0,1,1,{"$f":"+BD_DEP[[#This Row],[totalp]]/BD_DEP[[#This Row],[Mat Inicial]]","v":0},{"$f":"+BD_DEP[[#This Row],[totalr]]/BD_DEP[[#This Row],[Mat Inicial]]","v":5.2631578947368418E-2},{"$f":"+BD_DEP[[#This Row],[repi]]/BD_DEP[[#This Row],[Mat Inicial]]","v":5.2631578947368418E-2},"50","Dpto. Cs Politica y Rel Intern",1140865839,"Lopez Muñoz Laura","TC","PR"]
[2385,"INV4095","SEMINARIO DE INVESTIGACION II",1,202330,19,19,0,0,0,{"$f":"+BD_DEP[[#This Row],[totalp]]/BD_DEP[[#This Row],[Mat Inicial]]","v":0},{"$f":"+BD_DEP[[#This Row],[totalr]]/BD_DEP[[#This Row],[Mat Inicial]]","v":0},{"$f":"+BD_DEP[[#This Row],[repi]]/BD_DEP[[#This Row],[Mat Inicial]]","v":0},"50","Dpto. Cs Politica y Rel Intern",1140865839,"Lopez Muñoz Laura","TC","PR"]
[2974,"POL8210","SEMINARIO PROTOCOLO",1,202330,24,21,0,3,3,{"$f":"+BD_DEP[[#This Row],[totalp]]/BD_DEP[[#This Row],[Mat Inicial]]","v":0},{"$f":"+BD_DEP[[#This Row],[totalr]]/BD_DEP[[#This Row],[Mat Inicial]]","v":0.125},{"$f":"+BD_DEP[[#This Row],[repi]]/BD_DEP[[#This Row],[Mat Inicial]]","v":0.125},"50","Dpto. Cs Politica y Rel Intern",32634549,"Plata Cepeda Sara","TC","PR"]
[2965,"POL8065","SISTEMAS POLITICOS COMPARADOS",1,202330,20,20,0,0,0,{"$f":"+BD_DEP[[#This Row],[totalp]]/BD_DEP[[#This Row],[Mat Inicial]]","v":0},{"$f":"+BD_DEP[[#This Row],[totalr]]/BD_DEP[[#This Row],[Mat Inicial]]","v":0},{"$f":"+BD_DEP[[#This Row],[repi]]/BD_DEP[[#This Row],[Mat Inicial]]","v":0},"50","Dpto. Cs Politica y Rel Intern",1045676539,"GONZALEZ MALABET MARIA","TC","PR"]
[2966,"POL8065","SISTEMAS POLITICOS COMPARADOS",2,202330,17,17,0,0,0,{"$f":"+BD_DEP[[#This Row],[totalp]]/BD_DEP[[#This Row],[Mat Inicial]]","v":0},{"$f":"+BD_DEP[[#This Row],[totalr]]/BD_DEP[[#This Row],[Mat Inicial]]","v":0},{"$f":"+BD_DEP[[#This Row],[repi]]/BD_DEP[[#This Row],[Mat Inicial]]","v":0},"50","Dpto. Cs Politica y Rel Intern",1045676539,"GONZALEZ MALABET MARIA","TC","PR"]
[2967,"POL8065","SISTEMAS POLITICOS COMPARADOS",3,202330,8,8,0,0,0,{"$f":"+BD_DEP[[#This Row],[totalp]]/BD_DEP[[#This Row],[Mat Inicial]]","v":0},{"$f":"+BD_DEP[[#This Row],[totalr]]/BD_DEP[[#This Row],[Mat Inicial]]","v":0},{"$f":"+BD_DEP[[#This Row],[repi]]/BD_DEP[[#This Row],[Mat Inicial]]","v":0},"50","Dpto. Cs Politica y Rel Intern",1045676539,"GONZALEZ MALABET MARIA","TC","PR"]
[3123,"SCO4090","TEORIA DE LAS REL INTERNAC II",1,202330,21,20,0,1,1,{"$f":"+BD_DEP[[#This Row],[totalp]]/BD_DEP[[#This Row],[Mat Inicial]]","v":0},{"$f":"+BD_DEP[[#This Row],[totalr]]/BD_DEP[[#This Row],[Mat Inicial]]","v":4.7619047619047616E-2},{"$f":"+BD_DEP[[#This Row],[repi]]/BD_DEP[[#This Row],[Mat Inicial]]","v":4.7619047619047616E-2},"50","Dpto. Cs Politica y Rel Intern",52969363,"Rodriguez Rodriguez Angelica","TC","PR"]
[3124,"SCO4090","TEORIA DE LAS REL INTERNAC II",2,202330,16,16,0,0,0,{"$f":"+BD_DEP[[#This Row],[totalp]]/BD_DEP[[#This Row],[Mat Inicial]]","v":0},{"$f":"+BD_DEP[[#This Row],[totalr]]/BD_DEP[[#This Row],[Mat Inicial]]","v":0},{"$f":"+BD_DEP[[#This Row],[repi]]/BD_DEP[[#This Row],[Mat Inicial]]","v":0},"50","Dpto. Cs Politica y Rel Intern",52969363,"Rodriguez Rodriguez Angelica","TC","PR"]
[3121,"SCO4025","TEORIA DE LAS RELACIONES INTER",1,202330,38,35,1,3,4,{"$f":"+BD_DEP[[#This Row],[totalp]]/BD_DEP[[#This Row],[Mat Inicial]]","v":2.6315789473684209E-2},{"$f":"+BD_DEP[[#This Row],[totalr]]/BD_DEP[[#This Row],[Mat Inicial]]","v":7.8947368421052627E-2},{"$f":"+BD_DEP[[#This Row],[repi]]/BD_DEP[[#This Row],[Mat Inicial]]","v":0.10526315789473684},"50","Dpto. Cs Politica y Rel Intern",52969363,"Rodriguez Rodriguez Angelica","TC","PR"]
[2951,"POL4521","TEORIA POLITICA I",1,202330,16,16,1,0,1,{"$f":"+BD_DEP[[#This Row],[totalp]]/BD_DEP[[#This Row],[Mat Inicial]]","v":6.25E-2},{"$f":"+BD_DEP[[#This Row],[totalr]]/BD_DEP[[#This Row],[Mat Inicial]]","v":0},{"$f":"+BD_DEP[[#This Row],[repi]]/BD_DEP[[#This Row],[Mat Inicial]]","v":6.25E-2},"50","Dpto. Cs Politica y Rel Intern",609608,"BALDERACCHI CLAUDIO","TC","PR"]
[2952,"POL4522","TEORIA POLITICA II",1,202330,9,9,0,0,0,{"$f":"+BD_DEP[[#This Row],[totalp]]/BD_DEP[[#This Row],[Mat Inicial]]","v":0},{"$f":"+BD_DEP[[#This Row],[totalr]]/BD_DEP[[#This Row],[Mat Inicial]]","v":0},{"$f":"+BD_DEP[[#This Row],[repi]]/BD_DEP[[#This Row],[Mat Inicial]]","v":0},"50","Dpto. Cs Politica y Rel Intern",9398085,"MORALES VEGAS GUSTAVO","TC","PR"]
[2941,"POL4010","TEORIA Y ESTRUCTURA DEL ESTADO",1,202330,26,26,0,0,0,{"$f":"+BD_DEP[[#This Row],[totalp]]/BD_DEP[[#This Row],[Mat Inicial]]","v":0},{"$f":"+BD_DEP[[#This Row],[totalr]]/BD_DEP[[#This Row],[Mat Inicial]]","v":0},{"$f":"+BD_DEP[[#This Row],[repi]]/BD_DEP[[#This Row],[Mat Inicial]]","v":0},"50","Dpto. Cs Politica y Rel Intern",16208389,"Agudelo Taborda Jairo","TC","PR"]
[2953,"POL4523","TEORIAS DE LA DEMOCRACIA",2,202330,13,12,0,1,1,{"$f":"+BD_DEP[[#This Row],[totalp]]/BD_DEP[[#This Row],[Mat Inicial]]","v":0},{"$f":"+BD_DEP[[#This Row],[totalr]]/BD_DEP[[#This Row],[Mat Inicial]]","v":7.6923076923076927E-2},{"$f":"+BD_DEP[[#This Row],[repi]]/BD_DEP[[#This Row],[Mat Inicial]]","v":7.6923076923076927E-2},"50","Dpto. Cs Politica y Rel Intern",9398085,"MORALES VEGAS GUSTAVO","TC","PR"]
[2956,"POL4525","CULTURA POLITICA Y OPINION PUB",1,202330,30,29,0,1,1,{"$f":"+BD_DEP[[#This Row],[totalp]]/BD_DEP[[#This Row],[Mat Inicial]]","v":0},{"$f":"+BD_DEP[[#This Row],[totalr]]/BD_DEP[[#This Row],[Mat Inicial]]","v":3.3333333333333333E-2},{"$f":"+BD_DEP[[#This Row],[repi]]/BD_DEP[[#This Row],[Mat Inicial]]","v":3.3333333333333333E-2},"50","Dpto. Cs Politica y Rel Intern",1082856396,"PEÑARANDA FERNANDEZ ALICIA","CA","PR"]
[2958,"POL4528","DISEÑOS CUALI Y CUANTI",1,202330,19,18,0,1,1,{"$f":"+BD_DEP[[#This Row],[totalp]]/BD_DEP[[#This Row],[Mat Inicial]]","v":0},{"$f":"+BD_DEP[[#This Row],[totalr]]/BD_DEP[[#This Row],[Mat Inicial]]","v":5.2631578947368418E-2},{"$f":"+BD_DEP[[#This Row],[repi]]/BD_DEP[[#This Row],[Mat Inicial]]","v":5.2631578947368418E-2},"50","Dpto. Cs Politica y Rel Intern",72253006,"Valencia Cobo Jorge","CA","PR"]
[2945,"POL4285","EVALUACIÓN DEPOLITICAS PÚBLICA",1,202330,14,13,0,1,1,{"$f":"+BD_DEP[[#This Row],[totalp]]/BD_DEP[[#This Row],[Mat Inicial]]","v":0},{"$f":"+BD_DEP[[#This Row],[totalr]]/BD_DEP[[#This Row],[Mat Inicial]]","v":7.1428571428571425E-2},{"$f":"+BD_DEP[[#This Row],[repi]]/BD_DEP[[#This Row],[Mat Inicial]]","v":7.1428571428571425E-2},"50",{"$f":"+VLOOKUP(BD_DEP[[#This Row],[CODASG]],[2]carga!$C$1:$N$13231,5,FALSE)","v":"Dpto. Cs Politica y Rel Intern"},73207919,"Garcia Torres David","CA","PR"]
[2946,"POL4285","EVALUACIÓN DEPOLITICAS PÚBLICA",2,202330,19,18,0,1,1,{"$f":"+BD_DEP[[#This Row],[totalp]]/BD_DEP[[#This Row],[Mat Inicial]]","v":0},{"$f":"+BD_DEP[[#This Row],[totalr]]/BD_DEP[[#This Row],[Mat Inicial]]","v":5.2631578947368418E-2},{"$f":"+BD_DEP[[#This Row],[repi]]/BD_DEP[[#This Row],[Mat Inicial]]","v":5.2631578947368418E-2},"50",{"$f":"+VLOOKUP(BD_DEP[[#This Row],[CODASG]],[2]carga!$C$1:$N$13231,5,FALSE)","v":"Dpto. Cs Politica y Rel Intern"},1234093915,"Monsalvo Amaris Carmen","CA","PR"]
[2938,"POL0080","GEOPOLITICA",1,202330,16,16,0,0,0,{"$f":"+BD_DEP[[#This Row],[totalp]]/BD_DEP[[#This Row],[Mat Inicial]]","v":0},{"$f":"+BD_DEP[[#This Row],[totalr]]/BD_DEP[[#This Row],[Mat Inicial]]","v":0},{"$f":"+BD_DEP[[#This Row],[repi]]/BD_DEP[[#This Row],[Mat Inicial]]","v":0},"50","Dpto. Cs Politica y Rel Intern",1129579653,"Londoño Meza Guillermo","CA","PR"]
[1185,"POL4530","GERENCIA PUBLICA",1,202330,17,16,0,1,1,{"$f":"+BD_DEP[[#This Row],[totalp]]/BD_DEP[[#This Row],[Mat Inicial]]","v":0},{"$f":"+BD_DEP[[#This Row],[totalr]]/BD_DEP[[#This Row],[Mat Inicial]]","v":5.8823529411764705E-2},{"$f":"+BD_DEP[[#This Row],[repi]]/BD_DEP[[#This Row],[Mat Inicial]]","v":5.8823529411764705E-2},"50","Dpto. Cs Politica y Rel Intern",19472285,"Gomez Mendoza Arnold","CA","PR"]
[2944,"POL4270","INTRODUC A LA ADMON PUBLICA",1,202330,12,12,1,0,1,{"$f":"+BD_DEP[[#This Row],[totalp]]/BD_DEP[[#This Row],[Mat Inicial]]","v":8.3333333333333329E-2},{"$f":"+BD_DEP[[#This Row],[totalr]]/BD_DEP[[#This Row],[Mat Inicial]]","v":0},{"$f":"+BD_DEP[[#This Row],[repi]]/BD_DEP[[#This Row],[Mat Inicial]]","v":8.3333333333333329E-2},"50",{"$f":"+VLOOKUP(BD_DEP[[#This Row],[CODASG]],[2]carga!$C$1:$N$13231,5,FALSE)","v":"Dpto. Cs Politica y Rel Intern"},1140821228,"Diartt Pombo Katherine","CA","PR"]
[2961,"POL4532","PARTICIPACION Y PROCESOS ELEC",1,202330,7,6,0,1,1,{"$f":"+BD_DEP[[#This Row],[totalp]]/BD_DEP[[#This Row],[Mat Inicial]]","v":0},{"$f":"+BD_DEP[[#This Row],[totalr]]/BD_DEP[[#This Row],[Mat Inicial]]","v":0.14285714285714285},{"$f":"+BD_DEP[[#This Row],[repi]]/BD_DEP[[#This Row],[Mat Inicial]]","v":0.14285714285714285},"50","Dpto. Cs Politica y Rel Intern",1140821254,"Aroca Vidal Maria","CA","PR"]
[2962,"POL4533","PARTIDOS Y SISTEMAS DE PART.",1,202330,15,15,1,0,1,{"$f":"+BD_DEP[[#This Row],[totalp]]/BD_DEP[[#This Row],[Mat Inicial]]","v":6.6666666666666666E-2},{"$f":"+BD_DEP[[#This Row],[totalr]]/BD_DEP[[#This Row],[Mat Inicial]]","v":0},{"$f":"+BD_DEP[[#This Row],[repi]]/BD_DEP[[#This Row],[Mat Inicial]]","v":6.6666666666666666E-2},"50","Dpto. Cs Politica y Rel Intern",1129579179,"Ruiz Aycardi Paola","CA","PR"]
[2963,"POL4534","PLANEACION DEL DESARROLLO",1,202330,15,15,0,0,0,{"$f":"+BD_DEP[[#This Row],[totalp]]/BD_DEP[[#This Row],[Mat Inicial]]","v":0},{"$f":"+BD_DEP[[#This Row],[totalr]]/BD_DEP[[#This Row],[Mat Inicial]]","v":0},{"$f":"+BD_DEP[[#This Row],[repi]]/BD_DEP[[#This Row],[Mat Inicial]]","v":0},"50","Dpto. Cs Politica y Rel Intern",1045679071,"Pineda Serge Camilo","CA","PR"]
[2964,"POL4534","PLANEACION DEL DESARROLLO",2,202330,12,10,0,2,2,{"$f":"+BD_DEP[[#This Row],[totalp]]/BD_DEP[[#This Row],[Mat Inicial]]","v":0},{"$f":"+BD_DEP[[#This Row],[totalr]]/BD_DEP[[#This Row],[Mat Inicial]]","v":0.16666666666666666},{"$f":"+BD_DEP[[#This Row],[repi]]/BD_DEP[[#This Row],[Mat Inicial]]","v":0.16666666666666666},"50","Dpto. Cs Politica y Rel Intern",1045679071,"Pineda Serge Camilo","CA","PR"]
[2968,"POL8160","POLITICA DE ASIA PACIFICO",1,202330,38,38,0,0,0,{"$f":"+BD_DEP[[#This Row],[totalp]]/BD_DEP[[#This Row],[Mat Inicial]]","v":0},{"$f":"+BD_DEP[[#This Row],[totalr]]/BD_DEP[[#This Row],[Mat Inicial]]","v":0},{"$f":"+BD_DEP[[#This Row],[repi]]/BD_DEP[[#This Row],[Mat Inicial]]","v":0},"50",{"$f":"+VLOOKUP(BD_DEP[[#This Row],[CODASG]],[2]carga!$C$1:$N$13231,5,FALSE)","v":"Dpto. Cs Politica y Rel Intern"},79407658,"GALEANO DAVID HECTOR","CA","PR"]
[2942,"POL4220","POLITICA EXTERIOR COLOMBIANA",1,202330,21,19,1,2,3,{"$f":"+BD_DEP[[#This Row],[totalp]]/BD_DEP[[#This Row],[Mat Inicial]]","v":4.7619047619047616E-2},{"$f":"+BD_DEP[[#This Row],[totalr]]/BD_DEP[[#This Row],[Mat Inicial]]","v":9.5238095238095233E-2},{"$f":"+BD_DEP[[#This Row],[repi]]/BD_DEP[[#This Row],[Mat Inicial]]","v":0.14285714285714285},"50","Dpto. Cs Politica y Rel Intern",79407658,"GALEANO DAVID HECTOR","CA","PR"]
[2950,"POL4520","PROCESOS LEGISLATIVOS",1,202330,7,7,0,0,0,{"$f":"+BD_DEP[[#This Row],[totalp]]/BD_DEP[[#This Row],[Mat Inicial]]","v":0},{"$f":"+BD_DEP[[#This Row],[totalr]]/BD_DEP[[#This Row],[Mat Inicial]]","v":0},{"$f":"+BD_DEP[[#This Row],[repi]]/BD_DEP[[#This Row],[Mat Inicial]]","v":0},"50","Dpto. Cs Politica y Rel Intern",1140855035,"Caballero Lopera Jose","CA","PR"]
[2949,"POL4335","SEM DE INTEGRACION ECONOMICA",1,202330,15,14,0,1,1,{"$f":"+BD_DEP[[#This Row],[totalp]]/BD_DEP[[#This Row],[Mat Inicial]]","v":0},{"$f":"+BD_DEP[[#This Row],[totalr]]/BD_DEP[[#This Row],[Mat Inicial]]","v":6.6666666666666666E-2},{"$f":"+BD_DEP[[#This Row],[repi]]/BD_DEP[[#This Row],[Mat Inicial]]","v":6.6666666666666666E-2},"50",{"$f":"+VLOOKUP(BD_DEP[[#This Row],[CODASG]],[2]carga!$C$1:$N$13231,5,FALSE)","v":"Dpto. Cs Politica y Rel Intern"},72302939,"Navarro Garcia Alejandro","CA","PR"]
[1289,"AMB4035","SEM MEDIO AMBIENTE Y RELAC INT",1,202330,18,18,1,0,1,{"$f":"+BD_DEP[[#This Row],[totalp]]/BD_DEP[[#This Row],[Mat Inicial]]","v":5.5555555555555552E-2},{"$f":"+BD_DEP[[#This Row],[totalr]]/BD_DEP[[#This Row],[Mat Inicial]]","v":0},{"$f":"+BD_DEP[[#This Row],[repi]]/BD_DEP[[#This Row],[Mat Inicial]]","v":5.5555555555555552E-2},"50",{"$f":"+VLOOKUP(BD_DEP[[#This Row],[CODASG]],[2]carga!$C$1:$N$13231,5,FALSE)","v":"Dpto. Cs Politica y Rel Intern"},39651826,"BONILLA BECERRA MYRIAM","CA","PR"]
[2397,"INV4536","SEMINARIO DE INVESTIGACION I",1,202330,22,22,0,0,0,{"$f":"+BD_DEP[[#This Row],[totalp]]/BD_DEP[[#This Row],[Mat Inicial]]","v":0},{"$f":"+BD_DEP[[#This Row],[totalr]]/BD_DEP[[#This Row],[Mat Inicial]]","v":0},{"$f":"+BD_DEP[[#This Row],[repi]]/BD_DEP[[#This Row],[Mat Inicial]]","v":0},"50","Dpto. Cs Politica y Rel Intern",39651826,"BONILLA BECERRA MYRIAM","CA","PR"]
[2398,"INV4537","SEMINARIO DE INVESTIGACION II",1,202330,16,15,1,1,2,{"$f":"+BD_DEP[[#This Row],[totalp]]/BD_DEP[[#This Row],[Mat Inicial]]","v":6.25E-2},{"$f":"+BD_DEP[[#This Row],[totalr]]/BD_DEP[[#This Row],[Mat Inicial]]","v":6.25E-2},{"$f":"+BD_DEP[[#This Row],[repi]]/BD_DEP[[#This Row],[Mat Inicial]]","v":0.125},"50","Dpto. Cs Politica y Rel Intern",1140832862,"Zableh Orozco Judith","CA","PR"]
[1729,"ECO7141","DESARROLLO ECONOMICO",1,202330,20,19,2,1,3,{"$f":"+BD_DEP[[#This Row],[totalp]]/BD_DEP[[#This Row],[Mat Inicial]]","v":0.1},{"$f":"+BD_DEP[[#This Row],[totalr]]/BD_DEP[[#This Row],[Mat Inicial]]","v":0.05},{"$f":"+BD_DEP[[#This Row],[repi]]/BD_DEP[[#This Row],[Mat Inicial]]","v":0.15},"13","Dpto. de Economía",79580174,"PERILLA JIMENEZ JUAN","TC","PR"]
[1725,"ECO4110","DESARROLLO ECONOMICO",1,202330,25,25,0,0,0,{"$f":"+BD_DEP[[#This Row],[totalp]]/BD_DEP[[#This Row],[Mat Inicial]]","v":0},{"$f":"+BD_DEP[[#This Row],[totalr]]/BD_DEP[[#This Row],[Mat Inicial]]","v":0},{"$f":"+BD_DEP[[#This Row],[repi]]/BD_DEP[[#This Row],[Mat Inicial]]","v":0},"13","Dpto. de Economía",1045669074,"De La Puente Pacheco Mario","TC","PR"]
[1135,"ECO8738","DINAMICA Y PROGRAMACION ECO",1,202330,8,7,0,1,1,{"$f":"+BD_DEP[[#This Row],[totalp]]/BD_DEP[[#This Row],[Mat Inicial]]","v":0},{"$f":"+BD_DEP[[#This Row],[totalr]]/BD_DEP[[#This Row],[Mat Inicial]]","v":0.125},{"$f":"+BD_DEP[[#This Row],[repi]]/BD_DEP[[#This Row],[Mat Inicial]]","v":0.125},"13","Dpto. de Economía",73131763,"Almanza Ramirez Camilo","TC","PR"]
[1737,"ECO8733","ECONOMETRIA I",1,202330,12,11,0,1,1,{"$f":"+BD_DEP[[#This Row],[totalp]]/BD_DEP[[#This Row],[Mat Inicial]]","v":0},{"$f":"+BD_DEP[[#This Row],[totalr]]/BD_DEP[[#This Row],[Mat Inicial]]","v":8.3333333333333329E-2},{"$f":"+BD_DEP[[#This Row],[repi]]/BD_DEP[[#This Row],[Mat Inicial]]","v":8.3333333333333329E-2},"13","Dpto. de Economía",1020735133,"MOGOLLON PLAZAS MONICA","TC","PR"]
[1731,"ECO8340","ECONOMETRIA II",1,202330,18,18,1,0,1,{"$f":"+BD_DEP[[#This Row],[totalp]]/BD_DEP[[#This Row],[Mat Inicial]]","v":5.5555555555555552E-2},{"$f":"+BD_DEP[[#This Row],[totalr]]/BD_DEP[[#This Row],[Mat Inicial]]","v":0},{"$f":"+BD_DEP[[#This Row],[repi]]/BD_DEP[[#This Row],[Mat Inicial]]","v":5.5555555555555552E-2},"13","Dpto. de Economía",9298811,"YANES GUERRA CARLOS","TC","PR"]
[1728,"ECO7130","ECONOMIA DEL MEDIO AMBIENTE",1,202330,9,9,0,0,0,{"$f":"+BD_DEP[[#This Row],[totalp]]/BD_DEP[[#This Row],[Mat Inicial]]","v":0},{"$f":"+BD_DEP[[#This Row],[totalr]]/BD_DEP[[#This Row],[Mat Inicial]]","v":0},{"$f":"+BD_DEP[[#This Row],[repi]]/BD_DEP[[#This Row],[Mat Inicial]]","v":0},"13","Dpto. de Economía",80082291,"Vargas Perez Andres","TC","PR"]
[1733,"ECO8430","ECONOMIA INDUSTRIAL",1,202330,15,15,1,0,1,{"$f":"+BD_DEP[[#This Row],[totalp]]/BD_DEP[[#This Row],[Mat Inicial]]","v":6.6666666666666666E-2},{"$f":"+BD_DEP[[#This Row],[totalr]]/BD_DEP[[#This Row],[Mat Inicial]]","v":0},{"$f":"+BD_DEP[[#This Row],[repi]]/BD_DEP[[#This Row],[Mat Inicial]]","v":6.6666666666666666E-2},"13","Dpto. de Economía",79693549,"Villarraga Orjuela Luis","TC","PR"]
[1740,"ECO8736","ECONOMIA INTERNACIONAL",1,202330,10,10,0,0,0,{"$f":"+BD_DEP[[#This Row],[totalp]]/BD_DEP[[#This Row],[Mat Inicial]]","v":0},{"$f":"+BD_DEP[[#This Row],[totalr]]/BD_DEP[[#This Row],[Mat Inicial]]","v":0},{"$f":"+BD_DEP[[#This Row],[repi]]/BD_DEP[[#This Row],[Mat Inicial]]","v":0},"13","Dpto. de Economía",73131763,"Almanza Ramirez Camilo","TC","PR"]
[1738,"ECO8734","ECONOMIA MONETARIA",1,202330,11,11,1,0,1,{"$f":"+BD_DEP[[#This Row],[totalp]]/BD_DEP[[#This Row],[Mat Inicial]]","v":9.0909090909090912E-2},{"$f":"+BD_DEP[[#This Row],[totalr]]/BD_DEP[[#This Row],[Mat Inicial]]","v":0},{"$f":"+BD_DEP[[#This Row],[repi]]/BD_DEP[[#This Row],[Mat Inicial]]","v":9.0909090909090912E-2},"13","Dpto. de Economía",73188966,"QUINTERO OTERO JORGE","TC","PR"]
[1732,"ECO8373","ECONOMIA PUBLICA",1,202330,11,11,0,0,0,{"$f":"+BD_DEP[[#This Row],[totalp]]/BD_DEP[[#This Row],[Mat Inicial]]","v":0},{"$f":"+BD_DEP[[#This Row],[totalr]]/BD_DEP[[#This Row],[Mat Inicial]]","v":0},{"$f":"+BD_DEP[[#This Row],[repi]]/BD_DEP[[#This Row],[Mat Inicial]]","v":0},"13","Dpto. de Economía",19153487,"Diaz Florian David","TC","PR"]
[1741,"ECO8737","ECONOMIA REGIONAL URBANA",1,202330,17,17,0,0,0,{"$f":"+BD_DEP[[#This Row],[totalp]]/BD_DEP[[#This Row],[Mat Inicial]]","v":0},{"$f":"+BD_DEP[[#This Row],[totalr]]/BD_DEP[[#This Row],[Mat Inicial]]","v":0},{"$f":"+BD_DEP[[#This Row],[repi]]/BD_DEP[[#This Row],[Mat Inicial]]","v":0},"13","Dpto. de Economía",1047413417,"MOLA AVILA JOSE","TC","PR"]
[2007,"GPY7181","EVAL. ECON. Y SOCIAL DE PROY.",1,202330,13,13,1,0,1,{"$f":"+BD_DEP[[#This Row],[totalp]]/BD_DEP[[#This Row],[Mat Inicial]]","v":7.6923076923076927E-2},{"$f":"+BD_DEP[[#This Row],[totalr]]/BD_DEP[[#This Row],[Mat Inicial]]","v":0},{"$f":"+BD_DEP[[#This Row],[repi]]/BD_DEP[[#This Row],[Mat Inicial]]","v":7.6923076923076927E-2},"13","Dpto. de Economía",72130092,"RAMOS RUIZ JOSE","TC","PR"]
[1734,"ECO8580","EVALUACION DE IMPACTO DE PROG.",1,202330,13,13,1,0,1,{"$f":"+BD_DEP[[#This Row],[totalp]]/BD_DEP[[#This Row],[Mat Inicial]]","v":7.6923076923076927E-2},{"$f":"+BD_DEP[[#This Row],[totalr]]/BD_DEP[[#This Row],[Mat Inicial]]","v":0},{"$f":"+BD_DEP[[#This Row],[repi]]/BD_DEP[[#This Row],[Mat Inicial]]","v":7.6923076923076927E-2},"13","Dpto. de Economía",1047413417,"MOLA AVILA JOSE","TC","PR"]
[1899,"FIN4032","FINANZAS PUBLICAS",1,202330,14,14,0,0,0,{"$f":"+BD_DEP[[#This Row],[totalp]]/BD_DEP[[#This Row],[Mat Inicial]]","v":0},{"$f":"+BD_DEP[[#This Row],[totalr]]/BD_DEP[[#This Row],[Mat Inicial]]","v":0},{"$f":"+BD_DEP[[#This Row],[repi]]/BD_DEP[[#This Row],[Mat Inicial]]","v":0},"13","Dpto. de Economía",19153487,"Diaz Florian David","TC","PR"]
[1724,"ECO4020","HRIA ECONOMICA DE COLOMBIA",1,202330,6,6,1,0,1,{"$f":"+BD_DEP[[#This Row],[totalp]]/BD_DEP[[#This Row],[Mat Inicial]]","v":0.16666666666666666},{"$f":"+BD_DEP[[#This Row],[totalr]]/BD_DEP[[#This Row],[Mat Inicial]]","v":0},{"$f":"+BD_DEP[[#This Row],[repi]]/BD_DEP[[#This Row],[Mat Inicial]]","v":0.16666666666666666},"13","Dpto. de Economía",80091473,"COLMENARES GUERRA LUIS","TC","PR"]
[1682,"ECA1000","INT A LA ECONOMIA DEL CARIBE",1,202330,38,34,1,4,5,{"$f":"+BD_DEP[[#This Row],[totalp]]/BD_DEP[[#This Row],[Mat Inicial]]","v":2.6315789473684209E-2},{"$f":"+BD_DEP[[#This Row],[totalr]]/BD_DEP[[#This Row],[Mat Inicial]]","v":0.10526315789473684},{"$f":"+BD_DEP[[#This Row],[repi]]/BD_DEP[[#This Row],[Mat Inicial]]","v":0.13157894736842105},"13","Dpto. de Economía",1047413417,"MOLA AVILA JOSE","TC","PR"]
[1129,"CSO0120","INTROD A LA ECONOMIA COLOMB",1,202330,45,45,6,0,6,{"$f":"+BD_DEP[[#This Row],[totalp]]/BD_DEP[[#This Row],[Mat Inicial]]","v":0.13333333333333333},{"$f":"+BD_DEP[[#This Row],[totalr]]/BD_DEP[[#This Row],[Mat Inicial]]","v":0},{"$f":"+BD_DEP[[#This Row],[repi]]/BD_DEP[[#This Row],[Mat Inicial]]","v":0.13333333333333333},"13","Dpto. de Economía",73188966,"QUINTERO OTERO JORGE","TC","PR"]
[4312,"ECO0010","INTRODUCCION A LA ECONOMIA",4,202330,49,45,5,4,9,{"$f":"+BD_DEP[[#This Row],[totalp]]/BD_DEP[[#This Row],[Mat Inicial]]","v":0.10204081632653061},{"$f":"+BD_DEP[[#This Row],[totalr]]/BD_DEP[[#This Row],[Mat Inicial]]","v":8.1632653061224483E-2},{"$f":"+BD_DEP[[#This Row],[repi]]/BD_DEP[[#This Row],[Mat Inicial]]","v":0.18367346938775511},"13","Dpto. de Economía",9298811,"YANES GUERRA CARLOS","TC","PR"]
[4313,"ECO0010","INTRODUCCION A LA ECONOMIA",5,202330,39,38,3,1,4,{"$f":"+BD_DEP[[#This Row],[totalp]]/BD_DEP[[#This Row],[Mat Inicial]]","v":7.6923076923076927E-2},{"$f":"+BD_DEP[[#This Row],[totalr]]/BD_DEP[[#This Row],[Mat Inicial]]","v":2.564102564102564E-2},{"$f":"+BD_DEP[[#This Row],[repi]]/BD_DEP[[#This Row],[Mat Inicial]]","v":0.10256410256410256},"13","Dpto. de Economía",19153487,"Diaz Florian David","TC","PR"]
[4314,"ECO0010","INTRODUCCION A LA ECONOMIA",6,202330,38,37,5,1,6,{"$f":"+BD_DEP[[#This Row],[totalp]]/BD_DEP[[#This Row],[Mat Inicial]]","v":0.13157894736842105},{"$f":"+BD_DEP[[#This Row],[totalr]]/BD_DEP[[#This Row],[Mat Inicial]]","v":2.6315789473684209E-2},{"$f":"+BD_DEP[[#This Row],[repi]]/BD_DEP[[#This Row],[Mat Inicial]]","v":0.15789473684210525},"13","Dpto. de Economía",19153487,"Diaz Florian David","TC","PR"]
[4315,"ECO0010","INTRODUCCION A LA ECONOMIA",7,202330,45,41,3,4,7,{"$f":"+BD_DEP[[#This Row],[totalp]]/BD_DEP[[#This Row],[Mat Inicial]]","v":6.6666666666666666E-2},{"$f":"+BD_DEP[[#This Row],[totalr]]/BD_DEP[[#This Row],[Mat Inicial]]","v":8.8888888888888892E-2},{"$f":"+BD_DEP[[#This Row],[repi]]/BD_DEP[[#This Row],[Mat Inicial]]","v":0.15555555555555556},"13","Dpto. de Economía",19153487,"Diaz Florian David","TC","PR"]
[4309,"ECO0010","INTRODUCCION A LA ECONOMIA",1,202330,39,38,6,1,7,{"$f":"+BD_DEP[[#This Row],[totalp]]/BD_DEP[[#This Row],[Mat Inicial]]","v":0.15384615384615385},{"$f":"+BD_DEP[[#This Row],[totalr]]/BD_DEP[[#This Row],[Mat Inicial]]","v":2.564102564102564E-2},{"$f":"+BD_DEP[[#This Row],[repi]]/BD_DEP[[#This Row],[Mat Inicial]]","v":0.17948717948717949},"13","Dpto. de Economía",79693549,"Villarraga Orjuela Luis","TC","PR"]
[4310,"ECO0010","INTRODUCCION A LA ECONOMIA",2,202330,40,40,5,0,5,{"$f":"+BD_DEP[[#This Row],[totalp]]/BD_DEP[[#This Row],[Mat Inicial]]","v":0.125},{"$f":"+BD_DEP[[#This Row],[totalr]]/BD_DEP[[#This Row],[Mat Inicial]]","v":0},{"$f":"+BD_DEP[[#This Row],[repi]]/BD_DEP[[#This Row],[Mat Inicial]]","v":0.125},"13","Dpto. de Economía",79693549,"Villarraga Orjuela Luis","TC","PR"]
[4311,"ECO0010","INTRODUCCION A LA ECONOMIA",3,202330,40,40,2,0,2,{"$f":"+BD_DEP[[#This Row],[totalp]]/BD_DEP[[#This Row],[Mat Inicial]]","v":0.05},{"$f":"+BD_DEP[[#This Row],[totalr]]/BD_DEP[[#This Row],[Mat Inicial]]","v":0},{"$f":"+BD_DEP[[#This Row],[repi]]/BD_DEP[[#This Row],[Mat Inicial]]","v":0.05},"13","Dpto. de Economía",79693549,"Villarraga Orjuela Luis","TC","PR"]
[1722,"ECO2120","MACROECONOMIA I",1,202330,21,20,0,1,1,{"$f":"+BD_DEP[[#This Row],[totalp]]/BD_DEP[[#This Row],[Mat Inicial]]","v":0},{"$f":"+BD_DEP[[#This Row],[totalr]]/BD_DEP[[#This Row],[Mat Inicial]]","v":4.7619047619047616E-2},{"$f":"+BD_DEP[[#This Row],[repi]]/BD_DEP[[#This Row],[Mat Inicial]]","v":4.7619047619047616E-2},"13","Dpto. de Economía",73188966,"QUINTERO OTERO JORGE","TC","PR"]
[1721,"ECO2080","MACROECONOMIA II",1,202330,29,28,3,1,4,{"$f":"+BD_DEP[[#This Row],[totalp]]/BD_DEP[[#This Row],[Mat Inicial]]","v":0.10344827586206896},{"$f":"+BD_DEP[[#This Row],[totalr]]/BD_DEP[[#This Row],[Mat Inicial]]","v":3.4482758620689655E-2},{"$f":"+BD_DEP[[#This Row],[repi]]/BD_DEP[[#This Row],[Mat Inicial]]","v":0.13793103448275862},"13","Dpto. de Economía",79580174,"PERILLA JIMENEZ JUAN","TC","PR"]
[1736,"ECO8732","MEDICION ECONOMICA",1,202330,25,24,0,1,1,{"$f":"+BD_DEP[[#This Row],[totalp]]/BD_DEP[[#This Row],[Mat Inicial]]","v":0},{"$f":"+BD_DEP[[#This Row],[totalr]]/BD_DEP[[#This Row],[Mat Inicial]]","v":0.04},{"$f":"+BD_DEP[[#This Row],[repi]]/BD_DEP[[#This Row],[Mat Inicial]]","v":0.04},"13","Dpto. de Economía",72130092,"RAMOS RUIZ JOSE","TC","PR"]
[1735,"ECO8731","MICROECONOMIA I",1,202330,28,19,2,9,11,{"$f":"+BD_DEP[[#This Row],[totalp]]/BD_DEP[[#This Row],[Mat Inicial]]","v":7.1428571428571425E-2},{"$f":"+BD_DEP[[#This Row],[totalr]]/BD_DEP[[#This Row],[Mat Inicial]]","v":0.32142857142857145},{"$f":"+BD_DEP[[#This Row],[repi]]/BD_DEP[[#This Row],[Mat Inicial]]","v":0.39285714285714285},"13","Dpto. de Economía",79693549,"Villarraga Orjuela Luis","TC","PR"]
[1742,"ECO9000","MICROECONOMIA II",1,202330,28,27,4,1,5,{"$f":"+BD_DEP[[#This Row],[totalp]]/BD_DEP[[#This Row],[Mat Inicial]]","v":0.14285714285714285},{"$f":"+BD_DEP[[#This Row],[totalr]]/BD_DEP[[#This Row],[Mat Inicial]]","v":3.5714285714285712E-2},{"$f":"+BD_DEP[[#This Row],[repi]]/BD_DEP[[#This Row],[Mat Inicial]]","v":0.17857142857142858},"13","Dpto. de Economía",52227310,"CUENCA CORAL MARIA","TC","PR"]
[1720,"ECO2061","MICROECONOMIA III",1,202330,25,24,1,1,2,{"$f":"+BD_DEP[[#This Row],[totalp]]/BD_DEP[[#This Row],[Mat Inicial]]","v":0.04},{"$f":"+BD_DEP[[#This Row],[totalr]]/BD_DEP[[#This Row],[Mat Inicial]]","v":0.04},{"$f":"+BD_DEP[[#This Row],[repi]]/BD_DEP[[#This Row],[Mat Inicial]]","v":0.08},"13","Dpto. de Economía",73131763,"Almanza Ramirez Camilo","TC","PR"]
[1739,"ECO8735","PENSAMIENTO ECONOMICO I",1,202330,23,22,1,1,2,{"$f":"+BD_DEP[[#This Row],[totalp]]/BD_DEP[[#This Row],[Mat Inicial]]","v":4.3478260869565216E-2},{"$f":"+BD_DEP[[#This Row],[totalr]]/BD_DEP[[#This Row],[Mat Inicial]]","v":4.3478260869565216E-2},{"$f":"+BD_DEP[[#This Row],[repi]]/BD_DEP[[#This Row],[Mat Inicial]]","v":8.6956521739130432E-2},"13","Dpto. de Economía",52227310,"CUENCA CORAL MARIA","TC","PR"]
[1726,"ECO4145","PENSAMIENTO ECONOMICO II",1,202330,12,12,1,0,1,{"$f":"+BD_DEP[[#This Row],[totalp]]/BD_DEP[[#This Row],[Mat Inicial]]","v":8.3333333333333329E-2},{"$f":"+BD_DEP[[#This Row],[totalr]]/BD_DEP[[#This Row],[Mat Inicial]]","v":0},{"$f":"+BD_DEP[[#This Row],[repi]]/BD_DEP[[#This Row],[Mat Inicial]]","v":8.3333333333333329E-2},"13","Dpto. de Economía",80082291,"Vargas Perez Andres","TC","PR"]
[1718,"ECO2021","PRINCIPIOS DE MACROECONOMIA",4,202330,19,19,0,0,0,{"$f":"+BD_DEP[[#This Row],[totalp]]/BD_DEP[[#This Row],[Mat Inicial]]","v":0},{"$f":"+BD_DEP[[#This Row],[totalr]]/BD_DEP[[#This Row],[Mat Inicial]]","v":0},{"$f":"+BD_DEP[[#This Row],[repi]]/BD_DEP[[#This Row],[Mat Inicial]]","v":0},"13","Dpto. de Economía",1020735133,"MOGOLLON PLAZAS MONICA","TC","PR"]
[1719,"ECO2021","PRINCIPIOS DE MACROECONOMIA",5,202330,22,22,1,0,1,{"$f":"+BD_DEP[[#This Row],[totalp]]/BD_DEP[[#This Row],[Mat Inicial]]","v":4.5454545454545456E-2},{"$f":"+BD_DEP[[#This Row],[totalr]]/BD_DEP[[#This Row],[Mat Inicial]]","v":0},{"$f":"+BD_DEP[[#This Row],[repi]]/BD_DEP[[#This Row],[Mat Inicial]]","v":4.5454545454545456E-2},"13","Dpto. de Economía",1020735133,"MOGOLLON PLAZAS MONICA","TC","PR"]
[1723,"ECO2130","PRINCIPIOS DE MACROECONOMIA",1,202330,14,14,0,0,0,{"$f":"+BD_DEP[[#This Row],[totalp]]/BD_DEP[[#This Row],[Mat Inicial]]","v":0},{"$f":"+BD_DEP[[#This Row],[totalr]]/BD_DEP[[#This Row],[Mat Inicial]]","v":0},{"$f":"+BD_DEP[[#This Row],[repi]]/BD_DEP[[#This Row],[Mat Inicial]]","v":0},"13","Dpto. de Economía",1020735133,"MOGOLLON PLAZAS MONICA","TC","PR"]
[1715,"ECO2021","PRINCIPIOS DE MACROECONOMIA",1,202330,38,36,0,2,2,{"$f":"+BD_DEP[[#This Row],[totalp]]/BD_DEP[[#This Row],[Mat Inicial]]","v":0},{"$f":"+BD_DEP[[#This Row],[totalr]]/BD_DEP[[#This Row],[Mat Inicial]]","v":5.2631578947368418E-2},{"$f":"+BD_DEP[[#This Row],[repi]]/BD_DEP[[#This Row],[Mat Inicial]]","v":5.2631578947368418E-2},"13","Dpto. de Economía",1047413417,"MOLA AVILA JOSE","TC","PR"]
[1716,"ECO2021","PRINCIPIOS DE MACROECONOMIA",2,202330,23,23,1,0,1,{"$f":"+BD_DEP[[#This Row],[totalp]]/BD_DEP[[#This Row],[Mat Inicial]]","v":4.3478260869565216E-2},{"$f":"+BD_DEP[[#This Row],[totalr]]/BD_DEP[[#This Row],[Mat Inicial]]","v":0},{"$f":"+BD_DEP[[#This Row],[repi]]/BD_DEP[[#This Row],[Mat Inicial]]","v":4.3478260869565216E-2},"13","Dpto. de Economía",1047413417,"MOLA AVILA JOSE","TC","PR"]
[1717,"ECO2021","PRINCIPIOS DE MACROECONOMIA",3,202330,30,29,0,1,1,{"$f":"+BD_DEP[[#This Row],[totalp]]/BD_DEP[[#This Row],[Mat Inicial]]","v":0},{"$f":"+BD_DEP[[#This Row],[totalr]]/BD_DEP[[#This Row],[Mat Inicial]]","v":3.3333333333333333E-2},{"$f":"+BD_DEP[[#This Row],[repi]]/BD_DEP[[#This Row],[Mat Inicial]]","v":3.3333333333333333E-2},"13","Dpto. de Economía",1047413417,"MOLA AVILA JOSE","TC","PR"]
[1708,"ECO2011","PRINCIPIOS DE MICROECONOMIA",1,202330,40,40,0,0,0,{"$f":"+BD_DEP[[#This Row],[totalp]]/BD_DEP[[#This Row],[Mat Inicial]]","v":0},{"$f":"+BD_DEP[[#This Row],[totalr]]/BD_DEP[[#This Row],[Mat Inicial]]","v":0},{"$f":"+BD_DEP[[#This Row],[repi]]/BD_DEP[[#This Row],[Mat Inicial]]","v":0},"13","Dpto. de Economía",9298811,"YANES GUERRA CARLOS","TC","PR"]
[1709,"ECO2011","PRINCIPIOS DE MICROECONOMIA",2,202330,40,40,0,0,0,{"$f":"+BD_DEP[[#This Row],[totalp]]/BD_DEP[[#This Row],[Mat Inicial]]","v":0},{"$f":"+BD_DEP[[#This Row],[totalr]]/BD_DEP[[#This Row],[Mat Inicial]]","v":0},{"$f":"+BD_DEP[[#This Row],[repi]]/BD_DEP[[#This Row],[Mat Inicial]]","v":0},"13","Dpto. de Economía",9298811,"YANES GUERRA CARLOS","TC","PR"]
[1710,"ECO2011","PRINCIPIOS DE MICROECONOMIA",3,202330,40,40,0,0,0,{"$f":"+BD_DEP[[#This Row],[totalp]]/BD_DEP[[#This Row],[Mat Inicial]]","v":0},{"$f":"+BD_DEP[[#This Row],[totalr]]/BD_DEP[[#This Row],[Mat Inicial]]","v":0},{"$f":"+BD_DEP[[#This Row],[repi]]/BD_DEP[[#This Row],[Mat Inicial]]","v":0},"13","Dpto. de Economía",9298811,"YANES GUERRA CARLOS","TC","PR"]
[1711,"ECO2011","PRINCIPIOS DE MICROECONOMIA",4,202330,25,25,2,0,2,{"$f":"+BD_DEP[[#This Row],[totalp]]/BD_DEP[[#This Row],[Mat Inicial]]","v":0.08},{"$f":"+BD_DEP[[#This Row],[totalr]]/BD_DEP[[#This Row],[Mat Inicial]]","v":0},{"$f":"+BD_DEP[[#This Row],[repi]]/BD_DEP[[#This Row],[Mat Inicial]]","v":0.08},"13","Dpto. de Economía",52227310,"CUENCA CORAL MARIA","TC","PR"]
[1712,"ECO2011","PRINCIPIOS DE MICROECONOMIA",5,202330,21,21,1,0,1,{"$f":"+BD_DEP[[#This Row],[totalp]]/BD_DEP[[#This Row],[Mat Inicial]]","v":4.7619047619047616E-2},{"$f":"+BD_DEP[[#This Row],[totalr]]/BD_DEP[[#This Row],[Mat Inicial]]","v":0},{"$f":"+BD_DEP[[#This Row],[repi]]/BD_DEP[[#This Row],[Mat Inicial]]","v":4.7619047619047616E-2},"13","Dpto. de Economía",52227310,"CUENCA CORAL MARIA","TC","PR"]
[1713,"ECO2011","PRINCIPIOS DE MICROECONOMIA",6,202330,15,13,2,2,4,{"$f":"+BD_DEP[[#This Row],[totalp]]/BD_DEP[[#This Row],[Mat Inicial]]","v":0.13333333333333333},{"$f":"+BD_DEP[[#This Row],[totalr]]/BD_DEP[[#This Row],[Mat Inicial]]","v":0.13333333333333333},{"$f":"+BD_DEP[[#This Row],[repi]]/BD_DEP[[#This Row],[Mat Inicial]]","v":0.26666666666666666},"13","Dpto. de Economía",52227310,"CUENCA CORAL MARIA","TC","PR"]
[1706,"ECO0190","TALLER DE INVESTIGACION",1,202330,3,3,0,0,0,{"$f":"+BD_DEP[[#This Row],[totalp]]/BD_DEP[[#This Row],[Mat Inicial]]","v":0},{"$f":"+BD_DEP[[#This Row],[totalr]]/BD_DEP[[#This Row],[Mat Inicial]]","v":0},{"$f":"+BD_DEP[[#This Row],[repi]]/BD_DEP[[#This Row],[Mat Inicial]]","v":0},"13","Dpto. de Economía",79580174,"PERILLA JIMENEZ JUAN","TC","PR"]
[1151,"IDS0020","EMPRENDIMIENTO SOCIAL",2,202330,59,58,0,1,1,{"$f":"+BD_DEP[[#This Row],[totalp]]/BD_DEP[[#This Row],[Mat Inicial]]","v":0},{"$f":"+BD_DEP[[#This Row],[totalr]]/BD_DEP[[#This Row],[Mat Inicial]]","v":1.6949152542372881E-2},{"$f":"+BD_DEP[[#This Row],[repi]]/BD_DEP[[#This Row],[Mat Inicial]]","v":1.6949152542372881E-2},"13","Dpto. de Economía",1045677437,"Rendon Abuchaibe Alexandro","CA","PR"]
[2140,"IDS0020","EMPRENDIMIENTO SOCIAL",1,202330,40,40,0,0,0,{"$f":"+BD_DEP[[#This Row],[totalp]]/BD_DEP[[#This Row],[Mat Inicial]]","v":0},{"$f":"+BD_DEP[[#This Row],[totalr]]/BD_DEP[[#This Row],[Mat Inicial]]","v":0},{"$f":"+BD_DEP[[#This Row],[repi]]/BD_DEP[[#This Row],[Mat Inicial]]","v":0},"13","Dpto. de Economía",1045677437,"Rendon Abuchaibe Alexandro","CA","PR"]
[1707,"ECO1060","HRIA ECONOMICA GENERAL",1,202330,22,22,0,0,0,{"$f":"+BD_DEP[[#This Row],[totalp]]/BD_DEP[[#This Row],[Mat Inicial]]","v":0},{"$f":"+BD_DEP[[#This Row],[totalr]]/BD_DEP[[#This Row],[Mat Inicial]]","v":0},{"$f":"+BD_DEP[[#This Row],[repi]]/BD_DEP[[#This Row],[Mat Inicial]]","v":0},"13","Dpto. de Economía",1066739374,"De La Puente Sierra Pedro","CA","PR"]
[1727,"ECO4618","SOCIEDAD ECONOMIA Y POLITICA",1,202330,14,13,0,1,1,{"$f":"+BD_DEP[[#This Row],[totalp]]/BD_DEP[[#This Row],[Mat Inicial]]","v":0},{"$f":"+BD_DEP[[#This Row],[totalr]]/BD_DEP[[#This Row],[Mat Inicial]]","v":7.1428571428571425E-2},{"$f":"+BD_DEP[[#This Row],[repi]]/BD_DEP[[#This Row],[Mat Inicial]]","v":7.1428571428571425E-2},"13","Dpto. de Economía",72302939,"Navarro Garcia Alejandro","CA","PR"]
[2581,"LEY4815","ACCIONES PUBLICAS Y PROC ADM",2,202330,13,12,0,1,1,{"$f":"+BD_DEP[[#This Row],[totalp]]/BD_DEP[[#This Row],[Mat Inicial]]","v":0},{"$f":"+BD_DEP[[#This Row],[totalr]]/BD_DEP[[#This Row],[Mat Inicial]]","v":7.6923076923076927E-2},{"$f":"+BD_DEP[[#This Row],[repi]]/BD_DEP[[#This Row],[Mat Inicial]]","v":7.6923076923076927E-2},"51","Dpto. Derecho",1088312584,"GUEVARA ZAPATA HUGO","TC","PR"]
[2582,"LEY4815","ACCIONES PUBLICAS Y PROC ADM",3,202330,33,32,2,1,3,{"$f":"+BD_DEP[[#This Row],[totalp]]/BD_DEP[[#This Row],[Mat Inicial]]","v":6.0606060606060608E-2},{"$f":"+BD_DEP[[#This Row],[totalr]]/BD_DEP[[#This Row],[Mat Inicial]]","v":3.0303030303030304E-2},{"$f":"+BD_DEP[[#This Row],[repi]]/BD_DEP[[#This Row],[Mat Inicial]]","v":9.0909090909090912E-2},"51","Dpto. Derecho",1088312584,"GUEVARA ZAPATA HUGO","TC","PR"]
[2520,"LEY4600","ADMINISTRATIVO I",1,202330,40,28,2,12,14,{"$f":"+BD_DEP[[#This Row],[totalp]]/BD_DEP[[#This Row],[Mat Inicial]]","v":0.05},{"$f":"+BD_DEP[[#This Row],[totalr]]/BD_DEP[[#This Row],[Mat Inicial]]","v":0.3},{"$f":"+BD_DEP[[#This Row],[repi]]/BD_DEP[[#This Row],[Mat Inicial]]","v":0.35},"51","Dpto. Derecho",1088312584,"GUEVARA ZAPATA HUGO","TC","PR"]
[2522,"LEY4600","ADMINISTRATIVO I",3,202330,20,19,4,1,5,{"$f":"+BD_DEP[[#This Row],[totalp]]/BD_DEP[[#This Row],[Mat Inicial]]","v":0.2},{"$f":"+BD_DEP[[#This Row],[totalr]]/BD_DEP[[#This Row],[Mat Inicial]]","v":0.05},{"$f":"+BD_DEP[[#This Row],[repi]]/BD_DEP[[#This Row],[Mat Inicial]]","v":0.25},"51","Dpto. Derecho",1088312584,"GUEVARA ZAPATA HUGO","TC","PR"]
[2523,"LEY4610","ADMINISTRATIVO II",1,202330,30,29,2,1,3,{"$f":"+BD_DEP[[#This Row],[totalp]]/BD_DEP[[#This Row],[Mat Inicial]]","v":6.6666666666666666E-2},{"$f":"+BD_DEP[[#This Row],[totalr]]/BD_DEP[[#This Row],[Mat Inicial]]","v":3.3333333333333333E-2},{"$f":"+BD_DEP[[#This Row],[repi]]/BD_DEP[[#This Row],[Mat Inicial]]","v":0.1},"51","Dpto. Derecho",72213717,"Velasquez Muñoz Carlos","TC","PR"]
[2524,"LEY4610","ADMINISTRATIVO II",2,202330,18,17,0,1,1,{"$f":"+BD_DEP[[#This Row],[totalp]]/BD_DEP[[#This Row],[Mat Inicial]]","v":0},{"$f":"+BD_DEP[[#This Row],[totalr]]/BD_DEP[[#This Row],[Mat Inicial]]","v":5.5555555555555552E-2},{"$f":"+BD_DEP[[#This Row],[repi]]/BD_DEP[[#This Row],[Mat Inicial]]","v":5.5555555555555552E-2},"51","Dpto. Derecho",72213717,"Velasquez Muñoz Carlos","TC","PR"]
[2525,"LEY4610","ADMINISTRATIVO II",3,202330,27,27,0,0,0,{"$f":"+BD_DEP[[#This Row],[totalp]]/BD_DEP[[#This Row],[Mat Inicial]]","v":0},{"$f":"+BD_DEP[[#This Row],[totalr]]/BD_DEP[[#This Row],[Mat Inicial]]","v":0},{"$f":"+BD_DEP[[#This Row],[repi]]/BD_DEP[[#This Row],[Mat Inicial]]","v":0},"51","Dpto. Derecho",1088312584,"GUEVARA ZAPATA HUGO","TC","PR"]
[2526,"LEY4615","ARBITRAJE",1,202330,25,25,0,0,0,{"$f":"+BD_DEP[[#This Row],[totalp]]/BD_DEP[[#This Row],[Mat Inicial]]","v":0},{"$f":"+BD_DEP[[#This Row],[totalr]]/BD_DEP[[#This Row],[Mat Inicial]]","v":0},{"$f":"+BD_DEP[[#This Row],[repi]]/BD_DEP[[#This Row],[Mat Inicial]]","v":0},"51","Dpto. Derecho",79794982,"CRUZ TEJADA HORACIO","TC","PR"]
[2527,"LEY4615","ARBITRAJE",2,202330,46,46,0,0,0,{"$f":"+BD_DEP[[#This Row],[totalp]]/BD_DEP[[#This Row],[Mat Inicial]]","v":0},{"$f":"+BD_DEP[[#This Row],[totalr]]/BD_DEP[[#This Row],[Mat Inicial]]","v":0},{"$f":"+BD_DEP[[#This Row],[repi]]/BD_DEP[[#This Row],[Mat Inicial]]","v":0},"51","Dpto. Derecho",79794982,"CRUZ TEJADA HORACIO","TC","PR"]
[2486,"LEY1060","BIENES",1,202330,36,34,0,2,2,{"$f":"+BD_DEP[[#This Row],[totalp]]/BD_DEP[[#This Row],[Mat Inicial]]","v":0},{"$f":"+BD_DEP[[#This Row],[totalr]]/BD_DEP[[#This Row],[Mat Inicial]]","v":5.5555555555555552E-2},{"$f":"+BD_DEP[[#This Row],[repi]]/BD_DEP[[#This Row],[Mat Inicial]]","v":5.5555555555555552E-2},"51","Dpto. Derecho",80083379,"Latorre Restrepo Sergio","TC","PR"]
[2488,"LEY1060","BIENES",3,202330,33,31,3,2,5,{"$f":"+BD_DEP[[#This Row],[totalp]]/BD_DEP[[#This Row],[Mat Inicial]]","v":9.0909090909090912E-2},{"$f":"+BD_DEP[[#This Row],[totalr]]/BD_DEP[[#This Row],[Mat Inicial]]","v":6.0606060606060608E-2},{"$f":"+BD_DEP[[#This Row],[repi]]/BD_DEP[[#This Row],[Mat Inicial]]","v":0.15151515151515152},"51","Dpto. Derecho",80083379,"Latorre Restrepo Sergio","TC","PR"]
[2595,"LEY7305","CONSULTORIO JURIDICO I",1,202330,13,13,2,0,2,{"$f":"+BD_DEP[[#This Row],[totalp]]/BD_DEP[[#This Row],[Mat Inicial]]","v":0.15384615384615385},{"$f":"+BD_DEP[[#This Row],[totalr]]/BD_DEP[[#This Row],[Mat Inicial]]","v":0},{"$f":"+BD_DEP[[#This Row],[repi]]/BD_DEP[[#This Row],[Mat Inicial]]","v":0.15384615384615385},"51","Dpto. Derecho",26996314,"OROZCO GONZALEZ EDENIA","TC","PR"]
[2596,"LEY7305","CONSULTORIO JURIDICO I",2,202330,13,12,0,1,1,{"$f":"+BD_DEP[[#This Row],[totalp]]/BD_DEP[[#This Row],[Mat Inicial]]","v":0},{"$f":"+BD_DEP[[#This Row],[totalr]]/BD_DEP[[#This Row],[Mat Inicial]]","v":7.6923076923076927E-2},{"$f":"+BD_DEP[[#This Row],[repi]]/BD_DEP[[#This Row],[Mat Inicial]]","v":7.6923076923076927E-2},"51","Dpto. Derecho",72001157,"Gonzalez Segrera Paul","TC","PR"]
[2597,"LEY7305","CONSULTORIO JURIDICO I",3,202330,13,13,1,0,1,{"$f":"+BD_DEP[[#This Row],[totalp]]/BD_DEP[[#This Row],[Mat Inicial]]","v":7.6923076923076927E-2},{"$f":"+BD_DEP[[#This Row],[totalr]]/BD_DEP[[#This Row],[Mat Inicial]]","v":0},{"$f":"+BD_DEP[[#This Row],[repi]]/BD_DEP[[#This Row],[Mat Inicial]]","v":7.6923076923076927E-2},"51","Dpto. Derecho",72001157,"Gonzalez Segrera Paul","TC","PR"]
[2598,"LEY7305","CONSULTORIO JURIDICO I",4,202330,4,4,0,0,0,{"$f":"+BD_DEP[[#This Row],[totalp]]/BD_DEP[[#This Row],[Mat Inicial]]","v":0},{"$f":"+BD_DEP[[#This Row],[totalr]]/BD_DEP[[#This Row],[Mat Inicial]]","v":0},{"$f":"+BD_DEP[[#This Row],[repi]]/BD_DEP[[#This Row],[Mat Inicial]]","v":0},"51","Dpto. Derecho",72001157,"Gonzalez Segrera Paul","TC","PR"]
[2601,"LEY7312","CONSULTORIO JURIDICO II",1,202330,55,55,4,0,4,{"$f":"+BD_DEP[[#This Row],[totalp]]/BD_DEP[[#This Row],[Mat Inicial]]","v":7.2727272727272724E-2},{"$f":"+BD_DEP[[#This Row],[totalr]]/BD_DEP[[#This Row],[Mat Inicial]]","v":0},{"$f":"+BD_DEP[[#This Row],[repi]]/BD_DEP[[#This Row],[Mat Inicial]]","v":7.2727272727272724E-2},"51","Dpto. Derecho",79794982,"CRUZ TEJADA HORACIO","TC","PR"]
[2602,"LEY7312","CONSULTORIO JURIDICO II",2,202330,54,54,2,0,2,{"$f":"+BD_DEP[[#This Row],[totalp]]/BD_DEP[[#This Row],[Mat Inicial]]","v":3.7037037037037035E-2},{"$f":"+BD_DEP[[#This Row],[totalr]]/BD_DEP[[#This Row],[Mat Inicial]]","v":0},{"$f":"+BD_DEP[[#This Row],[repi]]/BD_DEP[[#This Row],[Mat Inicial]]","v":3.7037037037037035E-2},"51","Dpto. Derecho",79794982,"CRUZ TEJADA HORACIO","TC","PR"]
[2603,"LEY7322","CONSULTORIO JURIDICO III",1,202330,30,28,1,2,3,{"$f":"+BD_DEP[[#This Row],[totalp]]/BD_DEP[[#This Row],[Mat Inicial]]","v":3.3333333333333333E-2},{"$f":"+BD_DEP[[#This Row],[totalr]]/BD_DEP[[#This Row],[Mat Inicial]]","v":6.6666666666666666E-2},{"$f":"+BD_DEP[[#This Row],[repi]]/BD_DEP[[#This Row],[Mat Inicial]]","v":0.1},"51","Dpto. Derecho",22606779,"Caro Mora Ana","TC","PR"]
[2604,"LEY7322","CONSULTORIO JURIDICO III",2,202330,25,25,1,0,1,{"$f":"+BD_DEP[[#This Row],[totalp]]/BD_DEP[[#This Row],[Mat Inicial]]","v":0.04},{"$f":"+BD_DEP[[#This Row],[totalr]]/BD_DEP[[#This Row],[Mat Inicial]]","v":0},{"$f":"+BD_DEP[[#This Row],[repi]]/BD_DEP[[#This Row],[Mat Inicial]]","v":0.04},"51","Dpto. Derecho",22606779,"Caro Mora Ana","TC","PR"]
[2605,"LEY7332","CONSULTORIO JURIDICO IV",1,202330,37,37,0,0,0,{"$f":"+BD_DEP[[#This Row],[totalp]]/BD_DEP[[#This Row],[Mat Inicial]]","v":0},{"$f":"+BD_DEP[[#This Row],[totalr]]/BD_DEP[[#This Row],[Mat Inicial]]","v":0},{"$f":"+BD_DEP[[#This Row],[repi]]/BD_DEP[[#This Row],[Mat Inicial]]","v":0},"51","Dpto. Derecho",22606779,"Caro Mora Ana","TC","PR"]
[2586,"LEY7051","CONTRATOS I",1,202330,12,10,2,2,4,{"$f":"+BD_DEP[[#This Row],[totalp]]/BD_DEP[[#This Row],[Mat Inicial]]","v":0.16666666666666666},{"$f":"+BD_DEP[[#This Row],[totalr]]/BD_DEP[[#This Row],[Mat Inicial]]","v":0.16666666666666666},{"$f":"+BD_DEP[[#This Row],[repi]]/BD_DEP[[#This Row],[Mat Inicial]]","v":0.33333333333333331},"51","Dpto. Derecho",32750320,"Gloria De Vivo Silvia","TC","PR"]
[2587,"LEY7051","CONTRATOS I",2,202330,16,15,2,1,3,{"$f":"+BD_DEP[[#This Row],[totalp]]/BD_DEP[[#This Row],[Mat Inicial]]","v":0.125},{"$f":"+BD_DEP[[#This Row],[totalr]]/BD_DEP[[#This Row],[Mat Inicial]]","v":6.25E-2},{"$f":"+BD_DEP[[#This Row],[repi]]/BD_DEP[[#This Row],[Mat Inicial]]","v":0.1875},"51","Dpto. Derecho",1045667497,"Navarro Reyes Daniela","TC","PR"]
[2588,"LEY7051","CONTRATOS I",3,202330,32,30,5,2,7,{"$f":"+BD_DEP[[#This Row],[totalp]]/BD_DEP[[#This Row],[Mat Inicial]]","v":0.15625},{"$f":"+BD_DEP[[#This Row],[totalr]]/BD_DEP[[#This Row],[Mat Inicial]]","v":6.25E-2},{"$f":"+BD_DEP[[#This Row],[repi]]/BD_DEP[[#This Row],[Mat Inicial]]","v":0.21875},"51","Dpto. Derecho",1045667497,"Navarro Reyes Daniela","TC","PR"]
[2589,"LEY7061","CONTRATOS II",1,202330,40,39,3,1,4,{"$f":"+BD_DEP[[#This Row],[totalp]]/BD_DEP[[#This Row],[Mat Inicial]]","v":7.4999999999999997E-2},{"$f":"+BD_DEP[[#This Row],[totalr]]/BD_DEP[[#This Row],[Mat Inicial]]","v":2.5000000000000001E-2},{"$f":"+BD_DEP[[#This Row],[repi]]/BD_DEP[[#This Row],[Mat Inicial]]","v":0.1},"51","Dpto. Derecho",32750320,"Gloria De Vivo Silvia","TC","PR"]
[2590,"LEY7061","CONTRATOS II",2,202330,40,36,6,4,10,{"$f":"+BD_DEP[[#This Row],[totalp]]/BD_DEP[[#This Row],[Mat Inicial]]","v":0.15},{"$f":"+BD_DEP[[#This Row],[totalr]]/BD_DEP[[#This Row],[Mat Inicial]]","v":0.1},{"$f":"+BD_DEP[[#This Row],[repi]]/BD_DEP[[#This Row],[Mat Inicial]]","v":0.25},"51","Dpto. Derecho",32750320,"Gloria De Vivo Silvia","TC","PR"]
[2578,"LEY4740","CRIMINOLOGIA Y POLITICA CRIMIN",1,202330,20,18,0,2,2,{"$f":"+BD_DEP[[#This Row],[totalp]]/BD_DEP[[#This Row],[Mat Inicial]]","v":0},{"$f":"+BD_DEP[[#This Row],[totalr]]/BD_DEP[[#This Row],[Mat Inicial]]","v":0.1},{"$f":"+BD_DEP[[#This Row],[repi]]/BD_DEP[[#This Row],[Mat Inicial]]","v":0.1},"51","Dpto. Derecho",72260734,"Orozco Arcieri Carlos","TC","PR"]
[2519,"LEY4526","DCHO. INTER Y DCHOS. HUMANOS",1,202330,17,15,0,2,2,{"$f":"+BD_DEP[[#This Row],[totalp]]/BD_DEP[[#This Row],[Mat Inicial]]","v":0},{"$f":"+BD_DEP[[#This Row],[totalr]]/BD_DEP[[#This Row],[Mat Inicial]]","v":0.11764705882352941},{"$f":"+BD_DEP[[#This Row],[repi]]/BD_DEP[[#This Row],[Mat Inicial]]","v":0.11764705882352941},"51","Dpto. Derecho",1074541,"GONGORA MERA MANUEL","TC","PR"]
[2508,"LEY4290","DD HH  DERECHO INTER HUMANI RI",1,202330,28,25,1,3,4,{"$f":"+BD_DEP[[#This Row],[totalp]]/BD_DEP[[#This Row],[Mat Inicial]]","v":3.5714285714285712E-2},{"$f":"+BD_DEP[[#This Row],[totalr]]/BD_DEP[[#This Row],[Mat Inicial]]","v":0.10714285714285714},{"$f":"+BD_DEP[[#This Row],[repi]]/BD_DEP[[#This Row],[Mat Inicial]]","v":0.14285714285714285},"51","Dpto. Derecho",92640186,"Tous Chima Javier","TC","PR"]
[2517,"LEY4475","DER HUM Y DER INTERN HUMANITAR",1,202330,21,21,5,0,5,{"$f":"+BD_DEP[[#This Row],[totalp]]/BD_DEP[[#This Row],[Mat Inicial]]","v":0.23809523809523808},{"$f":"+BD_DEP[[#This Row],[totalr]]/BD_DEP[[#This Row],[Mat Inicial]]","v":0},{"$f":"+BD_DEP[[#This Row],[repi]]/BD_DEP[[#This Row],[Mat Inicial]]","v":0.23809523809523808},"51","Dpto. Derecho",1074541,"GONGORA MERA MANUEL","TC","PR"]
[2518,"LEY4475","DER HUM Y DER INTERN HUMANITAR",2,202330,25,23,0,2,2,{"$f":"+BD_DEP[[#This Row],[totalp]]/BD_DEP[[#This Row],[Mat Inicial]]","v":0},{"$f":"+BD_DEP[[#This Row],[totalr]]/BD_DEP[[#This Row],[Mat Inicial]]","v":0.08},{"$f":"+BD_DEP[[#This Row],[repi]]/BD_DEP[[#This Row],[Mat Inicial]]","v":0.08},"51","Dpto. Derecho",1074541,"GONGORA MERA MANUEL","TC","PR"]
[2607,"LEY7740","DERECHO IMPACTO CINE Y LITERAT",1,202330,37,35,0,2,2,{"$f":"+BD_DEP[[#This Row],[totalp]]/BD_DEP[[#This Row],[Mat Inicial]]","v":0},{"$f":"+BD_DEP[[#This Row],[totalr]]/BD_DEP[[#This Row],[Mat Inicial]]","v":5.4054054054054057E-2},{"$f":"+BD_DEP[[#This Row],[repi]]/BD_DEP[[#This Row],[Mat Inicial]]","v":5.4054054054054057E-2},"51","Dpto. Derecho",32767212,"Molinares Hassan Viridiana","TC","PR"]
[1879,"FIL4110","FILOSOFIA DEL DERECHO",1,202330,14,14,0,0,0,{"$f":"+BD_DEP[[#This Row],[totalp]]/BD_DEP[[#This Row],[Mat Inicial]]","v":0},{"$f":"+BD_DEP[[#This Row],[totalr]]/BD_DEP[[#This Row],[Mat Inicial]]","v":0},{"$f":"+BD_DEP[[#This Row],[repi]]/BD_DEP[[#This Row],[Mat Inicial]]","v":0},"51","Dpto. Derecho",856445,"SANDOVAL TRIGO GERMAN","TC","PR"]
[1880,"FIL4110","FILOSOFIA DEL DERECHO",2,202330,24,23,0,1,1,{"$f":"+BD_DEP[[#This Row],[totalp]]/BD_DEP[[#This Row],[Mat Inicial]]","v":0},{"$f":"+BD_DEP[[#This Row],[totalr]]/BD_DEP[[#This Row],[Mat Inicial]]","v":4.1666666666666664E-2},{"$f":"+BD_DEP[[#This Row],[repi]]/BD_DEP[[#This Row],[Mat Inicial]]","v":4.1666666666666664E-2},"51","Dpto. Derecho",856445,"SANDOVAL TRIGO GERMAN","TC","PR"]
[1881,"FIL4110","FILOSOFIA DEL DERECHO",3,202330,22,22,0,0,0,{"$f":"+BD_DEP[[#This Row],[totalp]]/BD_DEP[[#This Row],[Mat Inicial]]","v":0},{"$f":"+BD_DEP[[#This Row],[totalr]]/BD_DEP[[#This Row],[Mat Inicial]]","v":0},{"$f":"+BD_DEP[[#This Row],[repi]]/BD_DEP[[#This Row],[Mat Inicial]]","v":0},"51","Dpto. Derecho",856445,"SANDOVAL TRIGO GERMAN","TC","PR"]
[4323,"HIS1020","HISTORIA DEL DERECHO",1,202330,40,33,2,7,9,{"$f":"+BD_DEP[[#This Row],[totalp]]/BD_DEP[[#This Row],[Mat Inicial]]","v":0.05},{"$f":"+BD_DEP[[#This Row],[totalr]]/BD_DEP[[#This Row],[Mat Inicial]]","v":0.17499999999999999},{"$f":"+BD_DEP[[#This Row],[repi]]/BD_DEP[[#This Row],[Mat Inicial]]","v":0.22500000000000001},"51","Dpto. Derecho",856445,"SANDOVAL TRIGO GERMAN","TC","PR"]
[4324,"HIS1020","HISTORIA DEL DERECHO",2,202330,42,37,1,5,6,{"$f":"+BD_DEP[[#This Row],[totalp]]/BD_DEP[[#This Row],[Mat Inicial]]","v":2.3809523809523808E-2},{"$f":"+BD_DEP[[#This Row],[totalr]]/BD_DEP[[#This Row],[Mat Inicial]]","v":0.11904761904761904},{"$f":"+BD_DEP[[#This Row],[repi]]/BD_DEP[[#This Row],[Mat Inicial]]","v":0.14285714285714285},"51","Dpto. Derecho",856445,"SANDOVAL TRIGO GERMAN","TC","PR"]
[2495,"LEY3020","INTERNACIONAL PRIVADO",1,202330,24,24,2,0,2,{"$f":"+BD_DEP[[#This Row],[totalp]]/BD_DEP[[#This Row],[Mat Inicial]]","v":8.3333333333333329E-2},{"$f":"+BD_DEP[[#This Row],[totalr]]/BD_DEP[[#This Row],[Mat Inicial]]","v":0},{"$f":"+BD_DEP[[#This Row],[repi]]/BD_DEP[[#This Row],[Mat Inicial]]","v":8.3333333333333329E-2},"51","Dpto. Derecho",22476579,"Llain Arenilla Shirlley","TC","PR"]
[2496,"LEY3020","INTERNACIONAL PRIVADO",2,202330,40,40,0,0,0,{"$f":"+BD_DEP[[#This Row],[totalp]]/BD_DEP[[#This Row],[Mat Inicial]]","v":0},{"$f":"+BD_DEP[[#This Row],[totalr]]/BD_DEP[[#This Row],[Mat Inicial]]","v":0},{"$f":"+BD_DEP[[#This Row],[repi]]/BD_DEP[[#This Row],[Mat Inicial]]","v":0},"51","Dpto. Derecho",22476579,"Llain Arenilla Shirlley","TC","PR"]
[2497,"LEY3020","INTERNACIONAL PRIVADO",3,202330,36,34,0,2,2,{"$f":"+BD_DEP[[#This Row],[totalp]]/BD_DEP[[#This Row],[Mat Inicial]]","v":0},{"$f":"+BD_DEP[[#This Row],[totalr]]/BD_DEP[[#This Row],[Mat Inicial]]","v":5.5555555555555552E-2},{"$f":"+BD_DEP[[#This Row],[repi]]/BD_DEP[[#This Row],[Mat Inicial]]","v":5.5555555555555552E-2},"51","Dpto. Derecho",22476579,"Llain Arenilla Shirlley","TC","PR"]
[2539,"LEY4640","INTERPRETACION CONST Y LEGAL",3,202330,40,38,6,2,8,{"$f":"+BD_DEP[[#This Row],[totalp]]/BD_DEP[[#This Row],[Mat Inicial]]","v":0.15},{"$f":"+BD_DEP[[#This Row],[totalr]]/BD_DEP[[#This Row],[Mat Inicial]]","v":0.05},{"$f":"+BD_DEP[[#This Row],[repi]]/BD_DEP[[#This Row],[Mat Inicial]]","v":0.2},"51","Dpto. Derecho",79800591,"Barrero Berardinelli Juan","TC","PR"]
[2537,"LEY4640","INTERPRETACION CONST Y LEGAL",1,202330,45,37,3,8,11,{"$f":"+BD_DEP[[#This Row],[totalp]]/BD_DEP[[#This Row],[Mat Inicial]]","v":6.6666666666666666E-2},{"$f":"+BD_DEP[[#This Row],[totalr]]/BD_DEP[[#This Row],[Mat Inicial]]","v":0.17777777777777778},{"$f":"+BD_DEP[[#This Row],[repi]]/BD_DEP[[#This Row],[Mat Inicial]]","v":0.24444444444444444},"51","Dpto. Derecho",87716081,"Isaza Gutierrez Juan","TC","PR"]
[2583,"LEY5972","JUSTICIA TRANSICIONAL",1,202330,31,29,1,2,3,{"$f":"+BD_DEP[[#This Row],[totalp]]/BD_DEP[[#This Row],[Mat Inicial]]","v":3.2258064516129031E-2},{"$f":"+BD_DEP[[#This Row],[totalr]]/BD_DEP[[#This Row],[Mat Inicial]]","v":6.4516129032258063E-2},{"$f":"+BD_DEP[[#This Row],[repi]]/BD_DEP[[#This Row],[Mat Inicial]]","v":9.6774193548387094E-2},"51","Dpto. Derecho",1074541,"GONGORA MERA MANUEL","TC","PR"]
[2492,"LEY2055","LEGISLACION EMPRESARIAL",1,202330,44,44,2,0,2,{"$f":"+BD_DEP[[#This Row],[totalp]]/BD_DEP[[#This Row],[Mat Inicial]]","v":4.5454545454545456E-2},{"$f":"+BD_DEP[[#This Row],[totalr]]/BD_DEP[[#This Row],[Mat Inicial]]","v":0},{"$f":"+BD_DEP[[#This Row],[repi]]/BD_DEP[[#This Row],[Mat Inicial]]","v":4.5454545454545456E-2},"51","Dpto. Derecho",22479366,"De La Rosa Torralvo Karina","TC","PR"]
[2493,"LEY2055","LEGISLACION EMPRESARIAL",2,202330,47,47,1,0,1,{"$f":"+BD_DEP[[#This Row],[totalp]]/BD_DEP[[#This Row],[Mat Inicial]]","v":2.1276595744680851E-2},{"$f":"+BD_DEP[[#This Row],[totalr]]/BD_DEP[[#This Row],[Mat Inicial]]","v":0},{"$f":"+BD_DEP[[#This Row],[repi]]/BD_DEP[[#This Row],[Mat Inicial]]","v":2.1276595744680851E-2},"51","Dpto. Derecho",22479366,"De La Rosa Torralvo Karina","TC","PR"]
[2380,"INV3010","MET INV JURIDI Y SOCIOJURIDICA",1,202330,20,19,2,1,3,{"$f":"+BD_DEP[[#This Row],[totalp]]/BD_DEP[[#This Row],[Mat Inicial]]","v":0.1},{"$f":"+BD_DEP[[#This Row],[totalr]]/BD_DEP[[#This Row],[Mat Inicial]]","v":0.05},{"$f":"+BD_DEP[[#This Row],[repi]]/BD_DEP[[#This Row],[Mat Inicial]]","v":0.15},"51","Dpto. Derecho",32670883,"Echeverria Molina Judith","TC","PR"]
[2381,"INV3010","MET INV JURIDI Y SOCIOJURIDICA",2,202330,17,17,3,0,3,{"$f":"+BD_DEP[[#This Row],[totalp]]/BD_DEP[[#This Row],[Mat Inicial]]","v":0.17647058823529413},{"$f":"+BD_DEP[[#This Row],[totalr]]/BD_DEP[[#This Row],[Mat Inicial]]","v":0},{"$f":"+BD_DEP[[#This Row],[repi]]/BD_DEP[[#This Row],[Mat Inicial]]","v":0.17647058823529413},"51","Dpto. Derecho",32670883,"Echeverria Molina Judith","TC","PR"]
[2382,"INV3010","MET INV JURIDI Y SOCIOJURIDICA",3,202330,12,12,0,0,0,{"$f":"+BD_DEP[[#This Row],[totalp]]/BD_DEP[[#This Row],[Mat Inicial]]","v":0},{"$f":"+BD_DEP[[#This Row],[totalr]]/BD_DEP[[#This Row],[Mat Inicial]]","v":0},{"$f":"+BD_DEP[[#This Row],[repi]]/BD_DEP[[#This Row],[Mat Inicial]]","v":0},"51","Dpto. Derecho",32670883,"Echeverria Molina Judith","TC","PR"]
[2499,"LEY4011","OBLIGACIONES I",1,202330,24,17,2,7,9,{"$f":"+BD_DEP[[#This Row],[totalp]]/BD_DEP[[#This Row],[Mat Inicial]]","v":8.3333333333333329E-2},{"$f":"+BD_DEP[[#This Row],[totalr]]/BD_DEP[[#This Row],[Mat Inicial]]","v":0.29166666666666669},{"$f":"+BD_DEP[[#This Row],[repi]]/BD_DEP[[#This Row],[Mat Inicial]]","v":0.375},"51","Dpto. Derecho",1045667497,"Navarro Reyes Daniela","TC","PR"]
[2502,"LEY4021","OBLIGACIONES II",1,202330,26,25,4,1,5,{"$f":"+BD_DEP[[#This Row],[totalp]]/BD_DEP[[#This Row],[Mat Inicial]]","v":0.15384615384615385},{"$f":"+BD_DEP[[#This Row],[totalr]]/BD_DEP[[#This Row],[Mat Inicial]]","v":3.8461538461538464E-2},{"$f":"+BD_DEP[[#This Row],[repi]]/BD_DEP[[#This Row],[Mat Inicial]]","v":0.19230769230769232},"51","Dpto. Derecho",1129578200,"Cabrera Peña Karen","TC","PR"]
[2503,"LEY4021","OBLIGACIONES II",2,202330,40,36,16,4,20,{"$f":"+BD_DEP[[#This Row],[totalp]]/BD_DEP[[#This Row],[Mat Inicial]]","v":0.4},{"$f":"+BD_DEP[[#This Row],[totalr]]/BD_DEP[[#This Row],[Mat Inicial]]","v":0.1},{"$f":"+BD_DEP[[#This Row],[repi]]/BD_DEP[[#This Row],[Mat Inicial]]","v":0.5},"51","Dpto. Derecho",1129578200,"Cabrera Peña Karen","TC","PR"]
[2504,"LEY4021","OBLIGACIONES II",3,202330,18,16,8,2,10,{"$f":"+BD_DEP[[#This Row],[totalp]]/BD_DEP[[#This Row],[Mat Inicial]]","v":0.44444444444444442},{"$f":"+BD_DEP[[#This Row],[totalr]]/BD_DEP[[#This Row],[Mat Inicial]]","v":0.1111111111111111},{"$f":"+BD_DEP[[#This Row],[repi]]/BD_DEP[[#This Row],[Mat Inicial]]","v":0.55555555555555558},"51","Dpto. Derecho",1129578200,"Cabrera Peña Karen","TC","PR"]
[2540,"LEY4645","ORALIDAD JURIDICA",1,202330,24,23,0,1,1,{"$f":"+BD_DEP[[#This Row],[totalp]]/BD_DEP[[#This Row],[Mat Inicial]]","v":0},{"$f":"+BD_DEP[[#This Row],[totalr]]/BD_DEP[[#This Row],[Mat Inicial]]","v":4.1666666666666664E-2},{"$f":"+BD_DEP[[#This Row],[repi]]/BD_DEP[[#This Row],[Mat Inicial]]","v":4.1666666666666664E-2},"51","Dpto. Derecho",79794982,"CRUZ TEJADA HORACIO","TC","PR"]
[2541,"LEY4645","ORALIDAD JURIDICA",2,202330,20,20,1,0,1,{"$f":"+BD_DEP[[#This Row],[totalp]]/BD_DEP[[#This Row],[Mat Inicial]]","v":0.05},{"$f":"+BD_DEP[[#This Row],[totalr]]/BD_DEP[[#This Row],[Mat Inicial]]","v":0},{"$f":"+BD_DEP[[#This Row],[repi]]/BD_DEP[[#This Row],[Mat Inicial]]","v":0.05},"51","Dpto. Derecho",79794982,"CRUZ TEJADA HORACIO","TC","PR"]
[2545,"LEY4650","PENAL I",2,202330,40,36,7,4,11,{"$f":"+BD_DEP[[#This Row],[totalp]]/BD_DEP[[#This Row],[Mat Inicial]]","v":0.17499999999999999},{"$f":"+BD_DEP[[#This Row],[totalr]]/BD_DEP[[#This Row],[Mat Inicial]]","v":0.1},{"$f":"+BD_DEP[[#This Row],[repi]]/BD_DEP[[#This Row],[Mat Inicial]]","v":0.27500000000000002},"51","Dpto. Derecho",72357091,"Cantillo Arcon Juan Carlos","TC","PR"]
[2506,"LEY4181","PENAL II",2,202330,10,8,1,2,3,{"$f":"+BD_DEP[[#This Row],[totalp]]/BD_DEP[[#This Row],[Mat Inicial]]","v":0.1},{"$f":"+BD_DEP[[#This Row],[totalr]]/BD_DEP[[#This Row],[Mat Inicial]]","v":0.2},{"$f":"+BD_DEP[[#This Row],[repi]]/BD_DEP[[#This Row],[Mat Inicial]]","v":0.3},"51","Dpto. Derecho",72357091,"Cantillo Arcon Juan Carlos","TC","PR"]
[2507,"LEY4181","PENAL II",3,202330,21,20,7,1,8,{"$f":"+BD_DEP[[#This Row],[totalp]]/BD_DEP[[#This Row],[Mat Inicial]]","v":0.33333333333333331},{"$f":"+BD_DEP[[#This Row],[totalr]]/BD_DEP[[#This Row],[Mat Inicial]]","v":4.7619047619047616E-2},{"$f":"+BD_DEP[[#This Row],[repi]]/BD_DEP[[#This Row],[Mat Inicial]]","v":0.38095238095238093},"51","Dpto. Derecho",72357091,"Cantillo Arcon Juan Carlos","TC","PR"]
[2594,"LEY7205","PENAL III",3,202330,36,30,2,6,8,{"$f":"+BD_DEP[[#This Row],[totalp]]/BD_DEP[[#This Row],[Mat Inicial]]","v":5.5555555555555552E-2},{"$f":"+BD_DEP[[#This Row],[totalr]]/BD_DEP[[#This Row],[Mat Inicial]]","v":0.16666666666666666},{"$f":"+BD_DEP[[#This Row],[repi]]/BD_DEP[[#This Row],[Mat Inicial]]","v":0.22222222222222221},"51","Dpto. Derecho",72357091,"Cantillo Arcon Juan Carlos","TC","PR"]
[4365,"LEY1031","PERSONAS",1,202330,40,39,4,1,5,{"$f":"+BD_DEP[[#This Row],[totalp]]/BD_DEP[[#This Row],[Mat Inicial]]","v":0.1},{"$f":"+BD_DEP[[#This Row],[totalr]]/BD_DEP[[#This Row],[Mat Inicial]]","v":2.5000000000000001E-2},{"$f":"+BD_DEP[[#This Row],[repi]]/BD_DEP[[#This Row],[Mat Inicial]]","v":0.125},"51","Dpto. Derecho",80083379,"Latorre Restrepo Sergio","TC","PR"]
[1175,"LEY4660","PROCEDIMIENTO CIVIL  GRAL",1,202330,30,25,3,5,8,{"$f":"+BD_DEP[[#This Row],[totalp]]/BD_DEP[[#This Row],[Mat Inicial]]","v":0.1},{"$f":"+BD_DEP[[#This Row],[totalr]]/BD_DEP[[#This Row],[Mat Inicial]]","v":0.16666666666666666},{"$f":"+BD_DEP[[#This Row],[repi]]/BD_DEP[[#This Row],[Mat Inicial]]","v":0.26666666666666666},"51","Dpto. Derecho",32792081,"Vasquez Alfaro Monica","TC","PR"]
[1176,"LEY4660","PROCEDIMIENTO CIVIL  GRAL",2,202330,35,20,2,15,17,{"$f":"+BD_DEP[[#This Row],[totalp]]/BD_DEP[[#This Row],[Mat Inicial]]","v":5.7142857142857141E-2},{"$f":"+BD_DEP[[#This Row],[totalr]]/BD_DEP[[#This Row],[Mat Inicial]]","v":0.42857142857142855},{"$f":"+BD_DEP[[#This Row],[repi]]/BD_DEP[[#This Row],[Mat Inicial]]","v":0.48571428571428571},"51","Dpto. Derecho",32792081,"Vasquez Alfaro Monica","TC","PR"]
[2562,"LEY4685","REL DE TRAB Y SEG SOCIAL I",2,202330,32,31,6,1,7,{"$f":"+BD_DEP[[#This Row],[totalp]]/BD_DEP[[#This Row],[Mat Inicial]]","v":0.1875},{"$f":"+BD_DEP[[#This Row],[totalr]]/BD_DEP[[#This Row],[Mat Inicial]]","v":3.125E-2},{"$f":"+BD_DEP[[#This Row],[repi]]/BD_DEP[[#This Row],[Mat Inicial]]","v":0.21875},"51","Dpto. Derecho",22479366,"De La Rosa Torralvo Karina","TC","PR"]
[2563,"LEY4685","REL DE TRAB Y SEG SOCIAL I",3,202330,31,30,6,1,7,{"$f":"+BD_DEP[[#This Row],[totalp]]/BD_DEP[[#This Row],[Mat Inicial]]","v":0.19354838709677419},{"$f":"+BD_DEP[[#This Row],[totalr]]/BD_DEP[[#This Row],[Mat Inicial]]","v":3.2258064516129031E-2},{"$f":"+BD_DEP[[#This Row],[repi]]/BD_DEP[[#This Row],[Mat Inicial]]","v":0.22580645161290322},"51","Dpto. Derecho",22479366,"De La Rosa Torralvo Karina","TC","PR"]
[2561,"LEY4685","REL DE TRAB Y SEG SOCIAL I",1,202330,15,12,4,3,7,{"$f":"+BD_DEP[[#This Row],[totalp]]/BD_DEP[[#This Row],[Mat Inicial]]","v":0.26666666666666666},{"$f":"+BD_DEP[[#This Row],[totalr]]/BD_DEP[[#This Row],[Mat Inicial]]","v":0.2},{"$f":"+BD_DEP[[#This Row],[repi]]/BD_DEP[[#This Row],[Mat Inicial]]","v":0.46666666666666667},"51","Dpto. Derecho",80256740,"CAMARGO RODRIGUEZ ANDRES","TC","PR"]
[2555,"LEY4675","REL DE TRAB Y SEG SOCIAL II",1,202330,41,41,2,0,2,{"$f":"+BD_DEP[[#This Row],[totalp]]/BD_DEP[[#This Row],[Mat Inicial]]","v":4.878048780487805E-2},{"$f":"+BD_DEP[[#This Row],[totalr]]/BD_DEP[[#This Row],[Mat Inicial]]","v":0},{"$f":"+BD_DEP[[#This Row],[repi]]/BD_DEP[[#This Row],[Mat Inicial]]","v":4.878048780487805E-2},"51","Dpto. Derecho",22479366,"De La Rosa Torralvo Karina","TC","PR"]
[2558,"LEY4680","REL DE TRAB Y SEG SOCIAL III",1,202330,29,27,4,2,6,{"$f":"+BD_DEP[[#This Row],[totalp]]/BD_DEP[[#This Row],[Mat Inicial]]","v":0.13793103448275862},{"$f":"+BD_DEP[[#This Row],[totalr]]/BD_DEP[[#This Row],[Mat Inicial]]","v":6.8965517241379309E-2},{"$f":"+BD_DEP[[#This Row],[repi]]/BD_DEP[[#This Row],[Mat Inicial]]","v":0.20689655172413793},"51","Dpto. Derecho",80256740,"CAMARGO RODRIGUEZ ANDRES","TC","PR"]
[2559,"LEY4680","REL DE TRAB Y SEG SOCIAL III",2,202330,30,26,3,4,7,{"$f":"+BD_DEP[[#This Row],[totalp]]/BD_DEP[[#This Row],[Mat Inicial]]","v":0.1},{"$f":"+BD_DEP[[#This Row],[totalr]]/BD_DEP[[#This Row],[Mat Inicial]]","v":0.13333333333333333},{"$f":"+BD_DEP[[#This Row],[repi]]/BD_DEP[[#This Row],[Mat Inicial]]","v":0.23333333333333334},"51","Dpto. Derecho",80256740,"CAMARGO RODRIGUEZ ANDRES","TC","PR"]
[2560,"LEY4680","REL DE TRAB Y SEG SOCIAL III",3,202330,28,23,6,5,11,{"$f":"+BD_DEP[[#This Row],[totalp]]/BD_DEP[[#This Row],[Mat Inicial]]","v":0.21428571428571427},{"$f":"+BD_DEP[[#This Row],[totalr]]/BD_DEP[[#This Row],[Mat Inicial]]","v":0.17857142857142858},{"$f":"+BD_DEP[[#This Row],[repi]]/BD_DEP[[#This Row],[Mat Inicial]]","v":0.39285714285714285},"51","Dpto. Derecho",80256740,"CAMARGO RODRIGUEZ ANDRES","TC","PR"]
[2564,"LEY4690","RELACIONES DE FAMILIA I",1,202330,13,11,0,2,2,{"$f":"+BD_DEP[[#This Row],[totalp]]/BD_DEP[[#This Row],[Mat Inicial]]","v":0},{"$f":"+BD_DEP[[#This Row],[totalr]]/BD_DEP[[#This Row],[Mat Inicial]]","v":0.15384615384615385},{"$f":"+BD_DEP[[#This Row],[repi]]/BD_DEP[[#This Row],[Mat Inicial]]","v":0.15384615384615385},"51","Dpto. Derecho",32109734,"Tobon Berrio Luz","TC","PR"]
[1546,"CSO7150","SOCIOLOGÍA JURÍDICA",1,202330,40,40,6,0,6,{"$f":"+BD_DEP[[#This Row],[totalp]]/BD_DEP[[#This Row],[Mat Inicial]]","v":0.15},{"$f":"+BD_DEP[[#This Row],[totalr]]/BD_DEP[[#This Row],[Mat Inicial]]","v":0},{"$f":"+BD_DEP[[#This Row],[repi]]/BD_DEP[[#This Row],[Mat Inicial]]","v":0.15},"51","Dpto. Derecho",72260734,"Orozco Arcieri Carlos","TC","PR"]
[1547,"CSO7150","SOCIOLOGÍA JURÍDICA",2,202330,9,9,4,0,4,{"$f":"+BD_DEP[[#This Row],[totalp]]/BD_DEP[[#This Row],[Mat Inicial]]","v":0.44444444444444442},{"$f":"+BD_DEP[[#This Row],[totalr]]/BD_DEP[[#This Row],[Mat Inicial]]","v":0},{"$f":"+BD_DEP[[#This Row],[repi]]/BD_DEP[[#This Row],[Mat Inicial]]","v":0.44444444444444442},"51","Dpto. Derecho",72260734,"Orozco Arcieri Carlos","TC","PR"]
[1548,"CSO7150","SOCIOLOGÍA JURÍDICA",3,202330,31,30,6,1,7,{"$f":"+BD_DEP[[#This Row],[totalp]]/BD_DEP[[#This Row],[Mat Inicial]]","v":0.19354838709677419},{"$f":"+BD_DEP[[#This Row],[totalr]]/BD_DEP[[#This Row],[Mat Inicial]]","v":3.2258064516129031E-2},{"$f":"+BD_DEP[[#This Row],[repi]]/BD_DEP[[#This Row],[Mat Inicial]]","v":0.22580645161290322},"51","Dpto. Derecho",72260734,"Orozco Arcieri Carlos","TC","PR"]
[2514,"LEY4455","T.GRAL DEREC INT Y DER INT PUB",1,202330,29,29,0,0,0,{"$f":"+BD_DEP[[#This Row],[totalp]]/BD_DEP[[#This Row],[Mat Inicial]]","v":0},{"$f":"+BD_DEP[[#This Row],[totalr]]/BD_DEP[[#This Row],[Mat Inicial]]","v":0},{"$f":"+BD_DEP[[#This Row],[repi]]/BD_DEP[[#This Row],[Mat Inicial]]","v":0},"51","Dpto. Derecho",32779896,"Insignares Cera Silvana","TC","PR"]
[4367,"LEY2021","TEORIA CONS. E INST. POLITICAS",1,202330,46,35,5,11,16,{"$f":"+BD_DEP[[#This Row],[totalp]]/BD_DEP[[#This Row],[Mat Inicial]]","v":0.10869565217391304},{"$f":"+BD_DEP[[#This Row],[totalr]]/BD_DEP[[#This Row],[Mat Inicial]]","v":0.2391304347826087},{"$f":"+BD_DEP[[#This Row],[repi]]/BD_DEP[[#This Row],[Mat Inicial]]","v":0.34782608695652173},"51","Dpto. Derecho",32767212,"Molinares Hassan Viridiana","TC","PR"]
[4368,"LEY2021","TEORIA CONS. E INST. POLITICAS",2,202330,43,40,10,3,13,{"$f":"+BD_DEP[[#This Row],[totalp]]/BD_DEP[[#This Row],[Mat Inicial]]","v":0.23255813953488372},{"$f":"+BD_DEP[[#This Row],[totalr]]/BD_DEP[[#This Row],[Mat Inicial]]","v":6.9767441860465115E-2},{"$f":"+BD_DEP[[#This Row],[repi]]/BD_DEP[[#This Row],[Mat Inicial]]","v":0.30232558139534882},"51","Dpto. Derecho",32767212,"Molinares Hassan Viridiana","TC","PR"]
[2572,"LEY4705","TEORIA DE LA ARGUMENTACION",1,202330,18,17,2,1,3,{"$f":"+BD_DEP[[#This Row],[totalp]]/BD_DEP[[#This Row],[Mat Inicial]]","v":0.1111111111111111},{"$f":"+BD_DEP[[#This Row],[totalr]]/BD_DEP[[#This Row],[Mat Inicial]]","v":5.5555555555555552E-2},{"$f":"+BD_DEP[[#This Row],[repi]]/BD_DEP[[#This Row],[Mat Inicial]]","v":0.16666666666666666},"51","Dpto. Derecho",87716081,"Isaza Gutierrez Juan","TC","PR"]
[2573,"LEY4705","TEORIA DE LA ARGUMENTACION",2,202330,30,27,3,3,6,{"$f":"+BD_DEP[[#This Row],[totalp]]/BD_DEP[[#This Row],[Mat Inicial]]","v":0.1},{"$f":"+BD_DEP[[#This Row],[totalr]]/BD_DEP[[#This Row],[Mat Inicial]]","v":0.1},{"$f":"+BD_DEP[[#This Row],[repi]]/BD_DEP[[#This Row],[Mat Inicial]]","v":0.2},"51","Dpto. Derecho",87716081,"Isaza Gutierrez Juan","TC","PR"]
[2574,"LEY4705","TEORIA DE LA ARGUMENTACION",3,202330,16,14,5,2,7,{"$f":"+BD_DEP[[#This Row],[totalp]]/BD_DEP[[#This Row],[Mat Inicial]]","v":0.3125},{"$f":"+BD_DEP[[#This Row],[totalr]]/BD_DEP[[#This Row],[Mat Inicial]]","v":0.125},{"$f":"+BD_DEP[[#This Row],[repi]]/BD_DEP[[#This Row],[Mat Inicial]]","v":0.4375},"51","Dpto. Derecho",87716081,"Isaza Gutierrez Juan","TC","PR"]
[4370,"LEY4715","TEORIA DEL DERECHO",1,202330,40,40,10,0,10,{"$f":"+BD_DEP[[#This Row],[totalp]]/BD_DEP[[#This Row],[Mat Inicial]]","v":0.25},{"$f":"+BD_DEP[[#This Row],[totalr]]/BD_DEP[[#This Row],[Mat Inicial]]","v":0},{"$f":"+BD_DEP[[#This Row],[repi]]/BD_DEP[[#This Row],[Mat Inicial]]","v":0.25},"51","Dpto. Derecho",80054549,"Mahecha Bustos Ivan","TC","PR"]
[2575,"LEY4710","TEORIA DEL DERECHO PROCESAL",1,202330,38,25,11,13,24,{"$f":"+BD_DEP[[#This Row],[totalp]]/BD_DEP[[#This Row],[Mat Inicial]]","v":0.28947368421052633},{"$f":"+BD_DEP[[#This Row],[totalr]]/BD_DEP[[#This Row],[Mat Inicial]]","v":0.34210526315789475},{"$f":"+BD_DEP[[#This Row],[repi]]/BD_DEP[[#This Row],[Mat Inicial]]","v":0.63157894736842102},"51","Dpto. Derecho",32792081,"Vasquez Alfaro Monica","TC","PR"]
[2577,"LEY4710","TEORIA DEL DERECHO PROCESAL",3,202330,36,20,7,16,23,{"$f":"+BD_DEP[[#This Row],[totalp]]/BD_DEP[[#This Row],[Mat Inicial]]","v":0.19444444444444445},{"$f":"+BD_DEP[[#This Row],[totalr]]/BD_DEP[[#This Row],[Mat Inicial]]","v":0.44444444444444442},{"$f":"+BD_DEP[[#This Row],[repi]]/BD_DEP[[#This Row],[Mat Inicial]]","v":0.63888888888888884},"51","Dpto. Derecho",32792081,"Vasquez Alfaro Monica","TC","PR"]
[2491,"LEY1080","TEORIA Y ORG. DEL ESTADO",3,202330,27,17,1,10,11,{"$f":"+BD_DEP[[#This Row],[totalp]]/BD_DEP[[#This Row],[Mat Inicial]]","v":3.7037037037037035E-2},{"$f":"+BD_DEP[[#This Row],[totalr]]/BD_DEP[[#This Row],[Mat Inicial]]","v":0.37037037037037035},{"$f":"+BD_DEP[[#This Row],[repi]]/BD_DEP[[#This Row],[Mat Inicial]]","v":0.40740740740740738},"51","Dpto. Derecho",32670883,"Echeverria Molina Judith","TC","PR"]
[2489,"LEY1080","TEORIA Y ORG. DEL ESTADO",1,202330,16,10,4,6,10,{"$f":"+BD_DEP[[#This Row],[totalp]]/BD_DEP[[#This Row],[Mat Inicial]]","v":0.25},{"$f":"+BD_DEP[[#This Row],[totalr]]/BD_DEP[[#This Row],[Mat Inicial]]","v":0.375},{"$f":"+BD_DEP[[#This Row],[repi]]/BD_DEP[[#This Row],[Mat Inicial]]","v":0.625},"51","Dpto. Derecho",32797696,"Ramirez Torrado Maria","TC","PR"]
[2490,"LEY1080","TEORIA Y ORG. DEL ESTADO",2,202330,42,35,11,7,18,{"$f":"+BD_DEP[[#This Row],[totalp]]/BD_DEP[[#This Row],[Mat Inicial]]","v":0.26190476190476192},{"$f":"+BD_DEP[[#This Row],[totalr]]/BD_DEP[[#This Row],[Mat Inicial]]","v":0.16666666666666666},{"$f":"+BD_DEP[[#This Row],[repi]]/BD_DEP[[#This Row],[Mat Inicial]]","v":0.42857142857142855},"51","Dpto. Derecho",32797696,"Ramirez Torrado Maria","TC","PR"]
[2546,"LEY4650","PENAL I",3,202330,34,33,3,1,4,{"$f":"+BD_DEP[[#This Row],[totalp]]/BD_DEP[[#This Row],[Mat Inicial]]","v":8.8235294117647065E-2},{"$f":"+BD_DEP[[#This Row],[totalr]]/BD_DEP[[#This Row],[Mat Inicial]]","v":2.9411764705882353E-2},{"$f":"+BD_DEP[[#This Row],[repi]]/BD_DEP[[#This Row],[Mat Inicial]]","v":0.11764705882352941},"51","Dpto. Derecho",7483696,"Sandoval Fernandez Jaime","MT","PR"]
[2505,"LEY4181","PENAL II",1,202330,25,24,4,1,5,{"$f":"+BD_DEP[[#This Row],[totalp]]/BD_DEP[[#This Row],[Mat Inicial]]","v":0.16},{"$f":"+BD_DEP[[#This Row],[totalr]]/BD_DEP[[#This Row],[Mat Inicial]]","v":0.04},{"$f":"+BD_DEP[[#This Row],[repi]]/BD_DEP[[#This Row],[Mat Inicial]]","v":0.2},"51","Dpto. Derecho",7483696,"Sandoval Fernandez Jaime","MT","PR"]
[2529,"LEY4620","BIENES DEL COMERCIO",1,202330,39,39,0,0,0,{"$f":"+BD_DEP[[#This Row],[totalp]]/BD_DEP[[#This Row],[Mat Inicial]]","v":0},{"$f":"+BD_DEP[[#This Row],[totalr]]/BD_DEP[[#This Row],[Mat Inicial]]","v":0},{"$f":"+BD_DEP[[#This Row],[repi]]/BD_DEP[[#This Row],[Mat Inicial]]","v":0},"51","Dpto. Derecho",32701467,"Hurtado Turbay Patricia","CA","PR"]
[2530,"LEY4620","BIENES DEL COMERCIO",2,202330,34,32,1,2,3,{"$f":"+BD_DEP[[#This Row],[totalp]]/BD_DEP[[#This Row],[Mat Inicial]]","v":2.9411764705882353E-2},{"$f":"+BD_DEP[[#This Row],[totalr]]/BD_DEP[[#This Row],[Mat Inicial]]","v":5.8823529411764705E-2},{"$f":"+BD_DEP[[#This Row],[repi]]/BD_DEP[[#This Row],[Mat Inicial]]","v":8.8235294117647065E-2},"51","Dpto. Derecho",32701467,"Hurtado Turbay Patricia","CA","PR"]
[2532,"LEY4625","CONTRATACION ESTATAL",2,202330,40,40,0,0,0,{"$f":"+BD_DEP[[#This Row],[totalp]]/BD_DEP[[#This Row],[Mat Inicial]]","v":0},{"$f":"+BD_DEP[[#This Row],[totalr]]/BD_DEP[[#This Row],[Mat Inicial]]","v":0},{"$f":"+BD_DEP[[#This Row],[repi]]/BD_DEP[[#This Row],[Mat Inicial]]","v":0},"51","Dpto. Derecho",8643192,"Alvarez Estrada Yassir","CA","PR"]
[6633,"LEY4625","CONTRATACION ESTATAL",3,202330,35,35,0,0,0,{"$f":"+BD_DEP[[#This Row],[totalp]]/BD_DEP[[#This Row],[Mat Inicial]]","v":0},{"$f":"+BD_DEP[[#This Row],[totalr]]/BD_DEP[[#This Row],[Mat Inicial]]","v":0},{"$f":"+BD_DEP[[#This Row],[repi]]/BD_DEP[[#This Row],[Mat Inicial]]","v":0},"51","Dpto. Derecho",8643192,"Alvarez Estrada Yassir","CA","PR"]
[2531,"LEY4625","CONTRATACION ESTATAL",1,202330,39,37,0,2,2,{"$f":"+BD_DEP[[#This Row],[totalp]]/BD_DEP[[#This Row],[Mat Inicial]]","v":0},{"$f":"+BD_DEP[[#This Row],[totalr]]/BD_DEP[[#This Row],[Mat Inicial]]","v":5.128205128205128E-2},{"$f":"+BD_DEP[[#This Row],[repi]]/BD_DEP[[#This Row],[Mat Inicial]]","v":5.128205128205128E-2},"51","Dpto. Derecho",79347459,"De Vivero Arciniegas Felipe","CA","PR"]
[2483,"LEY0006","DERECHO COMERCIAL INTER.",2,202330,34,34,0,0,0,{"$f":"+BD_DEP[[#This Row],[totalp]]/BD_DEP[[#This Row],[Mat Inicial]]","v":0},{"$f":"+BD_DEP[[#This Row],[totalr]]/BD_DEP[[#This Row],[Mat Inicial]]","v":0},{"$f":"+BD_DEP[[#This Row],[repi]]/BD_DEP[[#This Row],[Mat Inicial]]","v":0},"51","Dpto. Derecho",22551431,"BOCANEGRA JIMENEZ MARIA","CA","PR"]
[2482,"LEY0006","DERECHO COMERCIAL INTER.",1,202330,26,25,0,1,1,{"$f":"+BD_DEP[[#This Row],[totalp]]/BD_DEP[[#This Row],[Mat Inicial]]","v":0},{"$f":"+BD_DEP[[#This Row],[totalr]]/BD_DEP[[#This Row],[Mat Inicial]]","v":3.8461538461538464E-2},{"$f":"+BD_DEP[[#This Row],[repi]]/BD_DEP[[#This Row],[Mat Inicial]]","v":3.8461538461538464E-2},"51","Dpto. Derecho",72346811,"GOMEZ SAAD LUIS","CA","PR"]
[2533,"LEY4630","DERECHO CORPORATIVO",1,202330,42,42,8,0,8,{"$f":"+BD_DEP[[#This Row],[totalp]]/BD_DEP[[#This Row],[Mat Inicial]]","v":0.19047619047619047},{"$f":"+BD_DEP[[#This Row],[totalr]]/BD_DEP[[#This Row],[Mat Inicial]]","v":0},{"$f":"+BD_DEP[[#This Row],[repi]]/BD_DEP[[#This Row],[Mat Inicial]]","v":0.19047619047619047},"51","Dpto. Derecho",8530349,"Vitola Tamara Orlando","CA","PR"]
[2534,"LEY4630","DERECHO CORPORATIVO",2,202330,40,39,2,1,3,{"$f":"+BD_DEP[[#This Row],[totalp]]/BD_DEP[[#This Row],[Mat Inicial]]","v":0.05},{"$f":"+BD_DEP[[#This Row],[totalr]]/BD_DEP[[#This Row],[Mat Inicial]]","v":2.5000000000000001E-2},{"$f":"+BD_DEP[[#This Row],[repi]]/BD_DEP[[#This Row],[Mat Inicial]]","v":7.4999999999999997E-2},"51","Dpto. Derecho",8530349,"Vitola Tamara Orlando","CA","PR"]
[2579,"LEY4780","DERECHO TRIBUTARIO",1,202330,40,39,0,1,1,{"$f":"+BD_DEP[[#This Row],[totalp]]/BD_DEP[[#This Row],[Mat Inicial]]","v":0},{"$f":"+BD_DEP[[#This Row],[totalr]]/BD_DEP[[#This Row],[Mat Inicial]]","v":2.5000000000000001E-2},{"$f":"+BD_DEP[[#This Row],[repi]]/BD_DEP[[#This Row],[Mat Inicial]]","v":2.5000000000000001E-2},"51","Dpto. Derecho",72132411,"Uribe Largacha Rodrigo","CA","PR"]
[2535,"LEY4635","FUND DEL DERECHO COMERCIAL",1,202330,34,33,1,1,2,{"$f":"+BD_DEP[[#This Row],[totalp]]/BD_DEP[[#This Row],[Mat Inicial]]","v":2.9411764705882353E-2},{"$f":"+BD_DEP[[#This Row],[totalr]]/BD_DEP[[#This Row],[Mat Inicial]]","v":2.9411764705882353E-2},{"$f":"+BD_DEP[[#This Row],[repi]]/BD_DEP[[#This Row],[Mat Inicial]]","v":5.8823529411764705E-2},"51","Dpto. Derecho",22589055,"Ferrer Herrera Maria","CA","PR"]
[2536,"LEY4635","FUND DEL DERECHO COMERCIAL",2,202330,19,19,0,0,0,{"$f":"+BD_DEP[[#This Row],[totalp]]/BD_DEP[[#This Row],[Mat Inicial]]","v":0},{"$f":"+BD_DEP[[#This Row],[totalr]]/BD_DEP[[#This Row],[Mat Inicial]]","v":0},{"$f":"+BD_DEP[[#This Row],[repi]]/BD_DEP[[#This Row],[Mat Inicial]]","v":0},"51","Dpto. Derecho",22589055,"Ferrer Herrera Maria","CA","PR"]
[2509,"LEY4300","INTER TRADE AND MARIT LAW SEM",1,202330,36,36,0,0,0,{"$f":"+BD_DEP[[#This Row],[totalp]]/BD_DEP[[#This Row],[Mat Inicial]]","v":0},{"$f":"+BD_DEP[[#This Row],[totalr]]/BD_DEP[[#This Row],[Mat Inicial]]","v":0},{"$f":"+BD_DEP[[#This Row],[repi]]/BD_DEP[[#This Row],[Mat Inicial]]","v":0},"13",{"$f":"+VLOOKUP(BD_DEP[[#This Row],[CODASG]],[2]carga!$C$1:$N$13231,5,FALSE)","v":"Dpto. Derecho"},8691935,"Rodriguez Aguilar Ivan","CA","PR"]
[2498,"LEY3075","INTERNATIONAL LAW",1,202330,32,31,4,1,5,{"$f":"+BD_DEP[[#This Row],[totalp]]/BD_DEP[[#This Row],[Mat Inicial]]","v":0.125},{"$f":"+BD_DEP[[#This Row],[totalr]]/BD_DEP[[#This Row],[Mat Inicial]]","v":3.125E-2},{"$f":"+BD_DEP[[#This Row],[repi]]/BD_DEP[[#This Row],[Mat Inicial]]","v":0.15625},"51","Dpto. Derecho",735254,"Ruiz Ep Mahechabustos Laetitia","CA","PR"]
[2609,"LEY9679","LEGISLACION TRIBUTARIA",1,202330,40,39,4,1,5,{"$f":"+BD_DEP[[#This Row],[totalp]]/BD_DEP[[#This Row],[Mat Inicial]]","v":0.1},{"$f":"+BD_DEP[[#This Row],[totalr]]/BD_DEP[[#This Row],[Mat Inicial]]","v":2.5000000000000001E-2},{"$f":"+BD_DEP[[#This Row],[repi]]/BD_DEP[[#This Row],[Mat Inicial]]","v":0.125},"51","Dpto. Derecho",72288274,"BOLIVAR BARRIOS ALVARO","CA","PR"]
[2510,"LEY4320","MECANISMOS ALTERNOS",1,202330,40,40,0,0,0,{"$f":"+BD_DEP[[#This Row],[totalp]]/BD_DEP[[#This Row],[Mat Inicial]]","v":0},{"$f":"+BD_DEP[[#This Row],[totalr]]/BD_DEP[[#This Row],[Mat Inicial]]","v":0},{"$f":"+BD_DEP[[#This Row],[repi]]/BD_DEP[[#This Row],[Mat Inicial]]","v":0},"51","Dpto. Derecho",32687455,"Illera Santos Maria","CA","PR"]
[2511,"LEY4320","MECANISMOS ALTERNOS",2,202330,17,17,0,0,0,{"$f":"+BD_DEP[[#This Row],[totalp]]/BD_DEP[[#This Row],[Mat Inicial]]","v":0},{"$f":"+BD_DEP[[#This Row],[totalr]]/BD_DEP[[#This Row],[Mat Inicial]]","v":0},{"$f":"+BD_DEP[[#This Row],[repi]]/BD_DEP[[#This Row],[Mat Inicial]]","v":0},"51","Dpto. Derecho",32687455,"Illera Santos Maria","CA","PR"]
[2512,"LEY4320","MECANISMOS ALTERNOS",3,202330,33,31,0,2,2,{"$f":"+BD_DEP[[#This Row],[totalp]]/BD_DEP[[#This Row],[Mat Inicial]]","v":0},{"$f":"+BD_DEP[[#This Row],[totalr]]/BD_DEP[[#This Row],[Mat Inicial]]","v":6.0606060606060608E-2},{"$f":"+BD_DEP[[#This Row],[repi]]/BD_DEP[[#This Row],[Mat Inicial]]","v":6.0606060606060608E-2},"51","Dpto. Derecho",32687455,"Illera Santos Maria","CA","PR"]
[2513,"LEY4320","MECANISMOS ALTERNOS",4,202330,20,20,0,0,0,{"$f":"+BD_DEP[[#This Row],[totalp]]/BD_DEP[[#This Row],[Mat Inicial]]","v":0},{"$f":"+BD_DEP[[#This Row],[totalr]]/BD_DEP[[#This Row],[Mat Inicial]]","v":0},{"$f":"+BD_DEP[[#This Row],[repi]]/BD_DEP[[#This Row],[Mat Inicial]]","v":0},"51","Dpto. Derecho",52005106,"Patron Fuentes Maria","CA","PR"]
[2501,"LEY4011","OBLIGACIONES I",3,202330,40,37,2,3,5,{"$f":"+BD_DEP[[#This Row],[totalp]]/BD_DEP[[#This Row],[Mat Inicial]]","v":0.05},{"$f":"+BD_DEP[[#This Row],[totalr]]/BD_DEP[[#This Row],[Mat Inicial]]","v":7.4999999999999997E-2},{"$f":"+BD_DEP[[#This Row],[repi]]/BD_DEP[[#This Row],[Mat Inicial]]","v":0.125},"51","Dpto. Derecho",1140836364,"Lasprilla Barreto Leonardo","CA","PR"]
[2543,"LEY4645","ORALIDAD JURIDICA",4,202330,8,8,0,0,0,{"$f":"+BD_DEP[[#This Row],[totalp]]/BD_DEP[[#This Row],[Mat Inicial]]","v":0},{"$f":"+BD_DEP[[#This Row],[totalr]]/BD_DEP[[#This Row],[Mat Inicial]]","v":0},{"$f":"+BD_DEP[[#This Row],[repi]]/BD_DEP[[#This Row],[Mat Inicial]]","v":0},"51","Dpto. Derecho",1234091390,"Reyes Palmera Ingrid","CA","PR"]
[2592,"LEY7205","PENAL III",1,202330,41,41,3,0,3,{"$f":"+BD_DEP[[#This Row],[totalp]]/BD_DEP[[#This Row],[Mat Inicial]]","v":7.3170731707317069E-2},{"$f":"+BD_DEP[[#This Row],[totalr]]/BD_DEP[[#This Row],[Mat Inicial]]","v":0},{"$f":"+BD_DEP[[#This Row],[repi]]/BD_DEP[[#This Row],[Mat Inicial]]","v":7.3170731707317069E-2},"51","Dpto. Derecho",3837889,"Ortiz Angel Jorge","CA","PR"]
[2593,"LEY7205","PENAL III",2,202330,24,24,4,0,4,{"$f":"+BD_DEP[[#This Row],[totalp]]/BD_DEP[[#This Row],[Mat Inicial]]","v":0.16666666666666666},{"$f":"+BD_DEP[[#This Row],[totalr]]/BD_DEP[[#This Row],[Mat Inicial]]","v":0},{"$f":"+BD_DEP[[#This Row],[repi]]/BD_DEP[[#This Row],[Mat Inicial]]","v":0.16666666666666666},"51","Dpto. Derecho",17150873,"Velasquez Lyons Luis","CA","PR"]
[4366,"LEY1031","PERSONAS",2,202330,29,29,2,0,2,{"$f":"+BD_DEP[[#This Row],[totalp]]/BD_DEP[[#This Row],[Mat Inicial]]","v":6.8965517241379309E-2},{"$f":"+BD_DEP[[#This Row],[totalr]]/BD_DEP[[#This Row],[Mat Inicial]]","v":0},{"$f":"+BD_DEP[[#This Row],[repi]]/BD_DEP[[#This Row],[Mat Inicial]]","v":6.8965517241379309E-2},"51","Dpto. Derecho",32605267,"Beetar Valdivieso Luz","CA","PR"]
[1177,"LEY4660","PROCEDIMIENTO CIVIL  GRAL",3,202330,24,24,2,0,2,{"$f":"+BD_DEP[[#This Row],[totalp]]/BD_DEP[[#This Row],[Mat Inicial]]","v":8.3333333333333329E-2},{"$f":"+BD_DEP[[#This Row],[totalr]]/BD_DEP[[#This Row],[Mat Inicial]]","v":0},{"$f":"+BD_DEP[[#This Row],[repi]]/BD_DEP[[#This Row],[Mat Inicial]]","v":8.3333333333333329E-2},"51","Dpto. Derecho",72197791,"Quiñones Gomez Carlos","CA","PR"]
[2547,"LEY4655","PROCEDIMIENTO CIVIL ESPECIAL",1,202330,8,6,0,2,2,{"$f":"+BD_DEP[[#This Row],[totalp]]/BD_DEP[[#This Row],[Mat Inicial]]","v":0},{"$f":"+BD_DEP[[#This Row],[totalr]]/BD_DEP[[#This Row],[Mat Inicial]]","v":0.25},{"$f":"+BD_DEP[[#This Row],[repi]]/BD_DEP[[#This Row],[Mat Inicial]]","v":0.25},"51","Dpto. Derecho",8690010,"Montero Linares Pedro","CA","PR"]
[2549,"LEY4655","PROCEDIMIENTO CIVIL ESPECIAL",3,202330,24,21,1,3,4,{"$f":"+BD_DEP[[#This Row],[totalp]]/BD_DEP[[#This Row],[Mat Inicial]]","v":4.1666666666666664E-2},{"$f":"+BD_DEP[[#This Row],[totalr]]/BD_DEP[[#This Row],[Mat Inicial]]","v":0.125},{"$f":"+BD_DEP[[#This Row],[repi]]/BD_DEP[[#This Row],[Mat Inicial]]","v":0.16666666666666666},"51","Dpto. Derecho",1129564660,"GUETTE HERNANDEZ DAVID","CA","PR"]
[2550,"LEY4665","PROCEDIMIENTO PENAL",1,202330,45,41,5,4,9,{"$f":"+BD_DEP[[#This Row],[totalp]]/BD_DEP[[#This Row],[Mat Inicial]]","v":0.1111111111111111},{"$f":"+BD_DEP[[#This Row],[totalr]]/BD_DEP[[#This Row],[Mat Inicial]]","v":8.8888888888888892E-2},{"$f":"+BD_DEP[[#This Row],[repi]]/BD_DEP[[#This Row],[Mat Inicial]]","v":0.2},"51","Dpto. Derecho",72274735,"Cianci Florez Luigi","CA","PR"]
[2551,"LEY4665","PROCEDIMIENTO PENAL",2,202330,45,43,0,2,2,{"$f":"+BD_DEP[[#This Row],[totalp]]/BD_DEP[[#This Row],[Mat Inicial]]","v":0},{"$f":"+BD_DEP[[#This Row],[totalr]]/BD_DEP[[#This Row],[Mat Inicial]]","v":4.4444444444444446E-2},{"$f":"+BD_DEP[[#This Row],[repi]]/BD_DEP[[#This Row],[Mat Inicial]]","v":4.4444444444444446E-2},"51","Dpto. Derecho",92520969,"Vega Arrieta Harold","CA","PR"]
[2554,"LEY4670","PRUEBAS",3,202330,26,24,10,2,12,{"$f":"+BD_DEP[[#This Row],[totalp]]/BD_DEP[[#This Row],[Mat Inicial]]","v":0.38461538461538464},{"$f":"+BD_DEP[[#This Row],[totalr]]/BD_DEP[[#This Row],[Mat Inicial]]","v":7.6923076923076927E-2},{"$f":"+BD_DEP[[#This Row],[repi]]/BD_DEP[[#This Row],[Mat Inicial]]","v":0.46153846153846156},"51","Dpto. Derecho",8690010,"Montero Linares Pedro","CA","PR"]
[2552,"LEY4670","PRUEBAS",1,202330,41,41,6,0,6,{"$f":"+BD_DEP[[#This Row],[totalp]]/BD_DEP[[#This Row],[Mat Inicial]]","v":0.14634146341463414},{"$f":"+BD_DEP[[#This Row],[totalr]]/BD_DEP[[#This Row],[Mat Inicial]]","v":0},{"$f":"+BD_DEP[[#This Row],[repi]]/BD_DEP[[#This Row],[Mat Inicial]]","v":0.14634146341463414},"51","Dpto. Derecho",72288935,"Paez Bastidas Alberto","CA","PR"]
[2556,"LEY4675","REL DE TRAB Y SEG SOCIAL II",2,202330,17,17,2,0,2,{"$f":"+BD_DEP[[#This Row],[totalp]]/BD_DEP[[#This Row],[Mat Inicial]]","v":0.11764705882352941},{"$f":"+BD_DEP[[#This Row],[totalr]]/BD_DEP[[#This Row],[Mat Inicial]]","v":0},{"$f":"+BD_DEP[[#This Row],[repi]]/BD_DEP[[#This Row],[Mat Inicial]]","v":0.11764705882352941},"51","Dpto. Derecho",17844609,"Diaz Daza Victor","CA","PR"]
[2566,"LEY4690","RELACIONES DE FAMILIA I",3,202330,30,29,0,1,1,{"$f":"+BD_DEP[[#This Row],[totalp]]/BD_DEP[[#This Row],[Mat Inicial]]","v":0},{"$f":"+BD_DEP[[#This Row],[totalr]]/BD_DEP[[#This Row],[Mat Inicial]]","v":3.3333333333333333E-2},{"$f":"+BD_DEP[[#This Row],[repi]]/BD_DEP[[#This Row],[Mat Inicial]]","v":3.3333333333333333E-2},"51","Dpto. Derecho",32608485,"Molina Alvarado Martha","CA","PR"]
[2567,"LEY4695","RELACIONES DE FAMILIA II",1,202330,38,38,0,0,0,{"$f":"+BD_DEP[[#This Row],[totalp]]/BD_DEP[[#This Row],[Mat Inicial]]","v":0},{"$f":"+BD_DEP[[#This Row],[totalr]]/BD_DEP[[#This Row],[Mat Inicial]]","v":0},{"$f":"+BD_DEP[[#This Row],[repi]]/BD_DEP[[#This Row],[Mat Inicial]]","v":0},"51","Dpto. Derecho",1140885728,"Jaramillo Gomez Arturo","CA","PR"]
[2568,"LEY4695","RELACIONES DE FAMILIA II",2,202330,40,40,0,0,0,{"$f":"+BD_DEP[[#This Row],[totalp]]/BD_DEP[[#This Row],[Mat Inicial]]","v":0},{"$f":"+BD_DEP[[#This Row],[totalr]]/BD_DEP[[#This Row],[Mat Inicial]]","v":0},{"$f":"+BD_DEP[[#This Row],[repi]]/BD_DEP[[#This Row],[Mat Inicial]]","v":0},"51","Dpto. Derecho",1140885728,"Jaramillo Gomez Arturo","CA","PR"]
[2569,"LEY4695","RELACIONES DE FAMILIA II",3,202330,25,25,0,0,0,{"$f":"+BD_DEP[[#This Row],[totalp]]/BD_DEP[[#This Row],[Mat Inicial]]","v":0},{"$f":"+BD_DEP[[#This Row],[totalr]]/BD_DEP[[#This Row],[Mat Inicial]]","v":0},{"$f":"+BD_DEP[[#This Row],[repi]]/BD_DEP[[#This Row],[Mat Inicial]]","v":0},"51","Dpto. Derecho",1140885728,"Jaramillo Gomez Arturo","CA","PR"]
[2571,"LEY4700","RELACIONES DEL COMERCIO",2,202330,12,12,0,0,0,{"$f":"+BD_DEP[[#This Row],[totalp]]/BD_DEP[[#This Row],[Mat Inicial]]","v":0},{"$f":"+BD_DEP[[#This Row],[totalr]]/BD_DEP[[#This Row],[Mat Inicial]]","v":0},{"$f":"+BD_DEP[[#This Row],[repi]]/BD_DEP[[#This Row],[Mat Inicial]]","v":0},"51","Dpto. Derecho",8530349,"Vitola Tamara Orlando","CA","PR"]
[2570,"LEY4700","RELACIONES DEL COMERCIO",1,202330,13,13,0,0,0,{"$f":"+BD_DEP[[#This Row],[totalp]]/BD_DEP[[#This Row],[Mat Inicial]]","v":0},{"$f":"+BD_DEP[[#This Row],[totalr]]/BD_DEP[[#This Row],[Mat Inicial]]","v":0},{"$f":"+BD_DEP[[#This Row],[repi]]/BD_DEP[[#This Row],[Mat Inicial]]","v":0},"51","Dpto. Derecho",32608485,"Molina Alvarado Martha","CA","PR"]
[2515,"LEY4455","T.GRAL DEREC INT Y DER INT PUB",2,202330,22,22,0,0,0,{"$f":"+BD_DEP[[#This Row],[totalp]]/BD_DEP[[#This Row],[Mat Inicial]]","v":0},{"$f":"+BD_DEP[[#This Row],[totalr]]/BD_DEP[[#This Row],[Mat Inicial]]","v":0},{"$f":"+BD_DEP[[#This Row],[repi]]/BD_DEP[[#This Row],[Mat Inicial]]","v":0},"51","Dpto. Derecho",735254,"Ruiz Ep Mahechabustos Laetitia","CA","PR"]
[2516,"LEY4455","T.GRAL DEREC INT Y DER INT PUB",3,202330,30,29,0,1,1,{"$f":"+BD_DEP[[#This Row],[totalp]]/BD_DEP[[#This Row],[Mat Inicial]]","v":0},{"$f":"+BD_DEP[[#This Row],[totalr]]/BD_DEP[[#This Row],[Mat Inicial]]","v":3.3333333333333333E-2},{"$f":"+BD_DEP[[#This Row],[repi]]/BD_DEP[[#This Row],[Mat Inicial]]","v":3.3333333333333333E-2},"51","Dpto. Derecho",735254,"Ruiz Ep Mahechabustos Laetitia","CA","PR"]
[2481,"LEY0001","TECNOLOGIA LEGAL",1,202330,26,25,4,1,5,{"$f":"+BD_DEP[[#This Row],[totalp]]/BD_DEP[[#This Row],[Mat Inicial]]","v":0.15384615384615385},{"$f":"+BD_DEP[[#This Row],[totalr]]/BD_DEP[[#This Row],[Mat Inicial]]","v":3.8461538461538464E-2},{"$f":"+BD_DEP[[#This Row],[repi]]/BD_DEP[[#This Row],[Mat Inicial]]","v":0.19230769230769232},"51","Dpto. Derecho",1140824784,"Diaz Arana Andres","CA","PR"]
[4371,"LEY4715","TEORIA DEL DERECHO",2,202330,25,25,1,0,1,{"$f":"+BD_DEP[[#This Row],[totalp]]/BD_DEP[[#This Row],[Mat Inicial]]","v":0.04},{"$f":"+BD_DEP[[#This Row],[totalr]]/BD_DEP[[#This Row],[Mat Inicial]]","v":0},{"$f":"+BD_DEP[[#This Row],[repi]]/BD_DEP[[#This Row],[Mat Inicial]]","v":0.04},"51","Dpto. Derecho",72270885,"Hernandez Meza Nelson","CA","PR"]
[1624,"DIN4100","BIODISEÑO:NATURALEZAEINNOVACIO",1,202330,15,12,0,3,3,{"$f":"+BD_DEP[[#This Row],[totalp]]/BD_DEP[[#This Row],[Mat Inicial]]","v":0},{"$f":"+BD_DEP[[#This Row],[totalr]]/BD_DEP[[#This Row],[Mat Inicial]]","v":0.2},{"$f":"+BD_DEP[[#This Row],[repi]]/BD_DEP[[#This Row],[Mat Inicial]]","v":0.2},"49","Dpto. Diseño",1044421932,"Bula Oyola Ena","TC","PR"]
[1654,"DIS0028","CONTRUCCION DE MODELOS",2,202330,21,21,1,0,1,{"$f":"+BD_DEP[[#This Row],[totalp]]/BD_DEP[[#This Row],[Mat Inicial]]","v":4.7619047619047616E-2},{"$f":"+BD_DEP[[#This Row],[totalr]]/BD_DEP[[#This Row],[Mat Inicial]]","v":0},{"$f":"+BD_DEP[[#This Row],[repi]]/BD_DEP[[#This Row],[Mat Inicial]]","v":4.7619047619047616E-2},"49","Dpto. Diseño",79805137,"Ruiz Bacca Miguel","TC","PR"]
[1655,"DIS0028","CONTRUCCION DE MODELOS",3,202330,21,21,1,0,1,{"$f":"+BD_DEP[[#This Row],[totalp]]/BD_DEP[[#This Row],[Mat Inicial]]","v":4.7619047619047616E-2},{"$f":"+BD_DEP[[#This Row],[totalr]]/BD_DEP[[#This Row],[Mat Inicial]]","v":0},{"$f":"+BD_DEP[[#This Row],[repi]]/BD_DEP[[#This Row],[Mat Inicial]]","v":4.7619047619047616E-2},"49","Dpto. Diseño",79805137,"Ruiz Bacca Miguel","TC","PR"]
[1656,"DIS0028","CONTRUCCION DE MODELOS",4,202330,18,16,0,2,2,{"$f":"+BD_DEP[[#This Row],[totalp]]/BD_DEP[[#This Row],[Mat Inicial]]","v":0},{"$f":"+BD_DEP[[#This Row],[totalr]]/BD_DEP[[#This Row],[Mat Inicial]]","v":0.1111111111111111},{"$f":"+BD_DEP[[#This Row],[repi]]/BD_DEP[[#This Row],[Mat Inicial]]","v":0.1111111111111111},"49","Dpto. Diseño",79805137,"Ruiz Bacca Miguel","TC","PR"]
[1653,"DIS0028","CONTRUCCION DE MODELOS",1,202330,22,22,0,0,0,{"$f":"+BD_DEP[[#This Row],[totalp]]/BD_DEP[[#This Row],[Mat Inicial]]","v":0},{"$f":"+BD_DEP[[#This Row],[totalr]]/BD_DEP[[#This Row],[Mat Inicial]]","v":0},{"$f":"+BD_DEP[[#This Row],[repi]]/BD_DEP[[#This Row],[Mat Inicial]]","v":0},"49","Dpto. Diseño",91274119,"Reyes Alvarez Libardo","TC","PR"]
[1602,"DIG4022","DIAGRAMACION Y PRODUCCION",1,202330,22,22,0,0,0,{"$f":"+BD_DEP[[#This Row],[totalp]]/BD_DEP[[#This Row],[Mat Inicial]]","v":0},{"$f":"+BD_DEP[[#This Row],[totalr]]/BD_DEP[[#This Row],[Mat Inicial]]","v":0},{"$f":"+BD_DEP[[#This Row],[repi]]/BD_DEP[[#This Row],[Mat Inicial]]","v":0},"49","Dpto. Diseño",52765977,"Rodriguez Peña Martha","TC","PR"]
[1603,"DIG4022","DIAGRAMACION Y PRODUCCION",2,202330,22,22,0,0,0,{"$f":"+BD_DEP[[#This Row],[totalp]]/BD_DEP[[#This Row],[Mat Inicial]]","v":0},{"$f":"+BD_DEP[[#This Row],[totalr]]/BD_DEP[[#This Row],[Mat Inicial]]","v":0},{"$f":"+BD_DEP[[#This Row],[repi]]/BD_DEP[[#This Row],[Mat Inicial]]","v":0},"49","Dpto. Diseño",52765977,"Rodriguez Peña Martha","TC","PR"]
[1577,"DIG0031","DISEÑO AMBIENTAL",1,202330,16,15,1,1,2,{"$f":"+BD_DEP[[#This Row],[totalp]]/BD_DEP[[#This Row],[Mat Inicial]]","v":6.25E-2},{"$f":"+BD_DEP[[#This Row],[totalr]]/BD_DEP[[#This Row],[Mat Inicial]]","v":6.25E-2},{"$f":"+BD_DEP[[#This Row],[repi]]/BD_DEP[[#This Row],[Mat Inicial]]","v":0.125},"49","Dpto. Diseño",1143157052,"Muñoz Barrios Gabriela","TC","PR"]
[1578,"DIG0031","DISEÑO AMBIENTAL",2,202330,14,12,0,2,2,{"$f":"+BD_DEP[[#This Row],[totalp]]/BD_DEP[[#This Row],[Mat Inicial]]","v":0},{"$f":"+BD_DEP[[#This Row],[totalr]]/BD_DEP[[#This Row],[Mat Inicial]]","v":0.14285714285714285},{"$f":"+BD_DEP[[#This Row],[repi]]/BD_DEP[[#This Row],[Mat Inicial]]","v":0.14285714285714285},"49","Dpto. Diseño",1143157052,"Muñoz Barrios Gabriela","TC","PR"]
[1625,"DIN4104","DISEÑO DE EXP. DE USUARIO UX",1,202330,20,18,0,2,2,{"$f":"+BD_DEP[[#This Row],[totalp]]/BD_DEP[[#This Row],[Mat Inicial]]","v":0},{"$f":"+BD_DEP[[#This Row],[totalr]]/BD_DEP[[#This Row],[Mat Inicial]]","v":0.1},{"$f":"+BD_DEP[[#This Row],[repi]]/BD_DEP[[#This Row],[Mat Inicial]]","v":0.1},"49","Dpto. Diseño",1143157052,"Muñoz Barrios Gabriela","TC","PR"]
[1635,"DIN7155","DISEÑO Y MERCADEO",1,202330,18,18,2,0,2,{"$f":"+BD_DEP[[#This Row],[totalp]]/BD_DEP[[#This Row],[Mat Inicial]]","v":0.1111111111111111},{"$f":"+BD_DEP[[#This Row],[totalr]]/BD_DEP[[#This Row],[Mat Inicial]]","v":0},{"$f":"+BD_DEP[[#This Row],[repi]]/BD_DEP[[#This Row],[Mat Inicial]]","v":0.1111111111111111},"49","Dpto. Diseño",22735875,"DE CASTRO ABELLO MARISABELLA","TC","PR"]
[1622,"DIN0031","ERGONOMIA",1,202330,8,8,0,0,0,{"$f":"+BD_DEP[[#This Row],[totalp]]/BD_DEP[[#This Row],[Mat Inicial]]","v":0},{"$f":"+BD_DEP[[#This Row],[totalr]]/BD_DEP[[#This Row],[Mat Inicial]]","v":0},{"$f":"+BD_DEP[[#This Row],[repi]]/BD_DEP[[#This Row],[Mat Inicial]]","v":0},"49","Dpto. Diseño",1044421932,"Bula Oyola Ena","TC","PR"]
[1638,"DIN7236","ERGONOMIA",1,202330,10,10,0,0,0,{"$f":"+BD_DEP[[#This Row],[totalp]]/BD_DEP[[#This Row],[Mat Inicial]]","v":0},{"$f":"+BD_DEP[[#This Row],[totalr]]/BD_DEP[[#This Row],[Mat Inicial]]","v":0},{"$f":"+BD_DEP[[#This Row],[repi]]/BD_DEP[[#This Row],[Mat Inicial]]","v":0},"49","Dpto. Diseño",1044421932,"Bula Oyola Ena","TC","PR"]
[1657,"DIS0029","ESTETICA Y SEMIOTICA",1,202330,27,27,1,0,1,{"$f":"+BD_DEP[[#This Row],[totalp]]/BD_DEP[[#This Row],[Mat Inicial]]","v":3.7037037037037035E-2},{"$f":"+BD_DEP[[#This Row],[totalr]]/BD_DEP[[#This Row],[Mat Inicial]]","v":0},{"$f":"+BD_DEP[[#This Row],[repi]]/BD_DEP[[#This Row],[Mat Inicial]]","v":3.7037037037037035E-2},"49","Dpto. Diseño",73128939,"PLATA CHACON EDGAR","TC","PR"]
[1626,"DIN7010","ESTUDIO DE DISEÑO",1,202330,8,8,0,0,0,{"$f":"+BD_DEP[[#This Row],[totalp]]/BD_DEP[[#This Row],[Mat Inicial]]","v":0},{"$f":"+BD_DEP[[#This Row],[totalr]]/BD_DEP[[#This Row],[Mat Inicial]]","v":0},{"$f":"+BD_DEP[[#This Row],[repi]]/BD_DEP[[#This Row],[Mat Inicial]]","v":0},"49","Dpto. Diseño",80037273,"Rincon Quijano Edgar","TC","PR"]
[1621,"DIG4105","EXPERIENCIA DE MARCA",1,202330,19,19,0,0,0,{"$f":"+BD_DEP[[#This Row],[totalp]]/BD_DEP[[#This Row],[Mat Inicial]]","v":0},{"$f":"+BD_DEP[[#This Row],[totalr]]/BD_DEP[[#This Row],[Mat Inicial]]","v":0},{"$f":"+BD_DEP[[#This Row],[repi]]/BD_DEP[[#This Row],[Mat Inicial]]","v":0},"49","Dpto. Diseño",22735875,"DE CASTRO ABELLO MARISABELLA","TC","PR"]
[1628,"DIN7030","GESTION DEL DISEÑO",1,202330,11,11,0,0,0,{"$f":"+BD_DEP[[#This Row],[totalp]]/BD_DEP[[#This Row],[Mat Inicial]]","v":0},{"$f":"+BD_DEP[[#This Row],[totalr]]/BD_DEP[[#This Row],[Mat Inicial]]","v":0},{"$f":"+BD_DEP[[#This Row],[repi]]/BD_DEP[[#This Row],[Mat Inicial]]","v":0},"49","Dpto. Diseño",22735875,"DE CASTRO ABELLO MARISABELLA","TC","PR"]
[4297,"DIS0015","HISTORIA DEL DISEÑO",51,202330,37,36,2,1,3,{"$f":"+BD_DEP[[#This Row],[totalp]]/BD_DEP[[#This Row],[Mat Inicial]]","v":5.4054054054054057E-2},{"$f":"+BD_DEP[[#This Row],[totalr]]/BD_DEP[[#This Row],[Mat Inicial]]","v":2.7027027027027029E-2},{"$f":"+BD_DEP[[#This Row],[repi]]/BD_DEP[[#This Row],[Mat Inicial]]","v":8.1081081081081086E-2},"49","Dpto. Diseño",73128939,"PLATA CHACON EDGAR","TC","PR"]
[1639,"DIN7238","LAB DE SISTEMAS Y MECANISMOS",1,202330,8,8,0,0,0,{"$f":"+BD_DEP[[#This Row],[totalp]]/BD_DEP[[#This Row],[Mat Inicial]]","v":0},{"$f":"+BD_DEP[[#This Row],[totalr]]/BD_DEP[[#This Row],[Mat Inicial]]","v":0},{"$f":"+BD_DEP[[#This Row],[repi]]/BD_DEP[[#This Row],[Mat Inicial]]","v":0},"49","Dpto. Diseño",1084733011,"Sanjuan De Caro Javier","TC","PR"]
[1646,"DIS0024","METODOLOGIA DE DISEÑO",1,202330,32,32,0,0,0,{"$f":"+BD_DEP[[#This Row],[totalp]]/BD_DEP[[#This Row],[Mat Inicial]]","v":0},{"$f":"+BD_DEP[[#This Row],[totalr]]/BD_DEP[[#This Row],[Mat Inicial]]","v":0},{"$f":"+BD_DEP[[#This Row],[repi]]/BD_DEP[[#This Row],[Mat Inicial]]","v":0},"49","Dpto. Diseño",22735875,"DE CASTRO ABELLO MARISABELLA","TC","PR"]
[1647,"DIS0024","METODOLOGIA DE DISEÑO",2,202330,32,32,0,0,0,{"$f":"+BD_DEP[[#This Row],[totalp]]/BD_DEP[[#This Row],[Mat Inicial]]","v":0},{"$f":"+BD_DEP[[#This Row],[totalr]]/BD_DEP[[#This Row],[Mat Inicial]]","v":0},{"$f":"+BD_DEP[[#This Row],[repi]]/BD_DEP[[#This Row],[Mat Inicial]]","v":0},"49","Dpto. Diseño",32795147,"Serrano Gomez Maria","TC","PR"]
[1648,"DIS0024","METODOLOGIA DE DISEÑO",3,202330,18,17,0,1,1,{"$f":"+BD_DEP[[#This Row],[totalp]]/BD_DEP[[#This Row],[Mat Inicial]]","v":0},{"$f":"+BD_DEP[[#This Row],[totalr]]/BD_DEP[[#This Row],[Mat Inicial]]","v":5.5555555555555552E-2},{"$f":"+BD_DEP[[#This Row],[repi]]/BD_DEP[[#This Row],[Mat Inicial]]","v":5.5555555555555552E-2},"49","Dpto. Diseño",79693631,"Moreno Villamizar Edgar","TC","PR"]
[1662,"DIS0031","PORTAFOLIO",1,202330,25,23,0,2,2,{"$f":"+BD_DEP[[#This Row],[totalp]]/BD_DEP[[#This Row],[Mat Inicial]]","v":0},{"$f":"+BD_DEP[[#This Row],[totalr]]/BD_DEP[[#This Row],[Mat Inicial]]","v":0.08},{"$f":"+BD_DEP[[#This Row],[repi]]/BD_DEP[[#This Row],[Mat Inicial]]","v":0.08},"49","Dpto. Diseño",79805137,"Ruiz Bacca Miguel","TC","PR"]
[1663,"DIS0031","PORTAFOLIO",2,202330,25,25,0,0,0,{"$f":"+BD_DEP[[#This Row],[totalp]]/BD_DEP[[#This Row],[Mat Inicial]]","v":0},{"$f":"+BD_DEP[[#This Row],[totalr]]/BD_DEP[[#This Row],[Mat Inicial]]","v":0},{"$f":"+BD_DEP[[#This Row],[repi]]/BD_DEP[[#This Row],[Mat Inicial]]","v":0},"49","Dpto. Diseño",1143157052,"Muñoz Barrios Gabriela","TC","PR"]
[1786,"ELP7340","PROYECTO DE GRADO",1,202330,13,12,0,1,1,{"$f":"+BD_DEP[[#This Row],[totalp]]/BD_DEP[[#This Row],[Mat Inicial]]","v":0},{"$f":"+BD_DEP[[#This Row],[totalr]]/BD_DEP[[#This Row],[Mat Inicial]]","v":7.6923076923076927E-2},{"$f":"+BD_DEP[[#This Row],[repi]]/BD_DEP[[#This Row],[Mat Inicial]]","v":7.6923076923076927E-2},"49","Dpto. Diseño",52765977,"Rodriguez Peña Martha","TC","PR"]
[1796,"ELP8260","PROYECTO DE GRADO",1,202330,3,2,0,1,1,{"$f":"+BD_DEP[[#This Row],[totalp]]/BD_DEP[[#This Row],[Mat Inicial]]","v":0},{"$f":"+BD_DEP[[#This Row],[totalr]]/BD_DEP[[#This Row],[Mat Inicial]]","v":0.33333333333333331},{"$f":"+BD_DEP[[#This Row],[repi]]/BD_DEP[[#This Row],[Mat Inicial]]","v":0.33333333333333331},"49","Dpto. Diseño",1044421932,"Bula Oyola Ena","TC","PR"]
[1588,"DIG0039","REALIZACION AUDIVISUAL II",1,202330,21,21,0,0,0,{"$f":"+BD_DEP[[#This Row],[totalp]]/BD_DEP[[#This Row],[Mat Inicial]]","v":0},{"$f":"+BD_DEP[[#This Row],[totalr]]/BD_DEP[[#This Row],[Mat Inicial]]","v":0},{"$f":"+BD_DEP[[#This Row],[repi]]/BD_DEP[[#This Row],[Mat Inicial]]","v":0},"49","Dpto. Diseño",80063583,"VARGAS ROJAS JOSE","TC","PR"]
[1589,"DIG0039","REALIZACION AUDIVISUAL II",2,202330,16,16,1,0,1,{"$f":"+BD_DEP[[#This Row],[totalp]]/BD_DEP[[#This Row],[Mat Inicial]]","v":6.25E-2},{"$f":"+BD_DEP[[#This Row],[totalr]]/BD_DEP[[#This Row],[Mat Inicial]]","v":0},{"$f":"+BD_DEP[[#This Row],[repi]]/BD_DEP[[#This Row],[Mat Inicial]]","v":6.25E-2},"49","Dpto. Diseño",80063583,"VARGAS ROJAS JOSE","TC","PR"]
[1590,"DIG0039","REALIZACION AUDIVISUAL II",3,202330,20,20,0,0,0,{"$f":"+BD_DEP[[#This Row],[totalp]]/BD_DEP[[#This Row],[Mat Inicial]]","v":0},{"$f":"+BD_DEP[[#This Row],[totalr]]/BD_DEP[[#This Row],[Mat Inicial]]","v":0},{"$f":"+BD_DEP[[#This Row],[repi]]/BD_DEP[[#This Row],[Mat Inicial]]","v":0},"49","Dpto. Diseño",80063583,"VARGAS ROJAS JOSE","TC","PR"]
[4293,"DIS0010","TALLER BASICO I",51,202330,20,20,3,0,3,{"$f":"+BD_DEP[[#This Row],[totalp]]/BD_DEP[[#This Row],[Mat Inicial]]","v":0.15},{"$f":"+BD_DEP[[#This Row],[totalr]]/BD_DEP[[#This Row],[Mat Inicial]]","v":0},{"$f":"+BD_DEP[[#This Row],[repi]]/BD_DEP[[#This Row],[Mat Inicial]]","v":0.15},"49","Dpto. Diseño",32795147,"Serrano Gomez Maria","TC","PR"]
[4295,"DIS0010","TALLER BASICO I",53,202330,19,16,2,3,5,{"$f":"+BD_DEP[[#This Row],[totalp]]/BD_DEP[[#This Row],[Mat Inicial]]","v":0.10526315789473684},{"$f":"+BD_DEP[[#This Row],[totalr]]/BD_DEP[[#This Row],[Mat Inicial]]","v":0.15789473684210525},{"$f":"+BD_DEP[[#This Row],[repi]]/BD_DEP[[#This Row],[Mat Inicial]]","v":0.26315789473684209},"49","Dpto. Diseño",32795147,"Serrano Gomez Maria","TC","PR"]
[4294,"DIS0010","TALLER BASICO I",52,202330,19,18,2,1,3,{"$f":"+BD_DEP[[#This Row],[totalp]]/BD_DEP[[#This Row],[Mat Inicial]]","v":0.10526315789473684},{"$f":"+BD_DEP[[#This Row],[totalr]]/BD_DEP[[#This Row],[Mat Inicial]]","v":5.2631578947368418E-2},{"$f":"+BD_DEP[[#This Row],[repi]]/BD_DEP[[#This Row],[Mat Inicial]]","v":0.15789473684210525},"49","Dpto. Diseño",73128939,"PLATA CHACON EDGAR","TC","PR"]
[1644,"DIS0023","TALLER BASICO II",3,202330,22,20,1,2,3,{"$f":"+BD_DEP[[#This Row],[totalp]]/BD_DEP[[#This Row],[Mat Inicial]]","v":4.5454545454545456E-2},{"$f":"+BD_DEP[[#This Row],[totalr]]/BD_DEP[[#This Row],[Mat Inicial]]","v":9.0909090909090912E-2},{"$f":"+BD_DEP[[#This Row],[repi]]/BD_DEP[[#This Row],[Mat Inicial]]","v":0.13636363636363635},"49","Dpto. Diseño",79693631,"Moreno Villamizar Edgar","TC","PR"]
[1645,"DIS0023","TALLER BASICO II",4,202330,20,18,2,2,4,{"$f":"+BD_DEP[[#This Row],[totalp]]/BD_DEP[[#This Row],[Mat Inicial]]","v":0.1},{"$f":"+BD_DEP[[#This Row],[totalr]]/BD_DEP[[#This Row],[Mat Inicial]]","v":0.1},{"$f":"+BD_DEP[[#This Row],[repi]]/BD_DEP[[#This Row],[Mat Inicial]]","v":0.2},"49","Dpto. Diseño",91274119,"Reyes Alvarez Libardo","TC","PR"]
[1642,"DIS0023","TALLER BASICO II",1,202330,22,22,0,0,0,{"$f":"+BD_DEP[[#This Row],[totalp]]/BD_DEP[[#This Row],[Mat Inicial]]","v":0},{"$f":"+BD_DEP[[#This Row],[totalr]]/BD_DEP[[#This Row],[Mat Inicial]]","v":0},{"$f":"+BD_DEP[[#This Row],[repi]]/BD_DEP[[#This Row],[Mat Inicial]]","v":0},"49","Dpto. Diseño",1140822672,"Harris Bonet Paola","TC","PR"]
[1643,"DIS0023","TALLER BASICO II",2,202330,21,20,0,1,1,{"$f":"+BD_DEP[[#This Row],[totalp]]/BD_DEP[[#This Row],[Mat Inicial]]","v":0},{"$f":"+BD_DEP[[#This Row],[totalr]]/BD_DEP[[#This Row],[Mat Inicial]]","v":4.7619047619047616E-2},{"$f":"+BD_DEP[[#This Row],[repi]]/BD_DEP[[#This Row],[Mat Inicial]]","v":4.7619047619047616E-2},"49","Dpto. Diseño",1140822672,"Harris Bonet Paola","TC","PR"]
[4301,"DIS0020","TALLER DE EXPRESION I",53,202330,19,16,0,3,3,{"$f":"+BD_DEP[[#This Row],[totalp]]/BD_DEP[[#This Row],[Mat Inicial]]","v":0},{"$f":"+BD_DEP[[#This Row],[totalr]]/BD_DEP[[#This Row],[Mat Inicial]]","v":0.15789473684210525},{"$f":"+BD_DEP[[#This Row],[repi]]/BD_DEP[[#This Row],[Mat Inicial]]","v":0.15789473684210525},"49","Dpto. Diseño",73128939,"PLATA CHACON EDGAR","TC","PR"]
[1599,"DIG4021","TALLER DE TIPOGRAFIA",1,202330,15,15,0,0,0,{"$f":"+BD_DEP[[#This Row],[totalp]]/BD_DEP[[#This Row],[Mat Inicial]]","v":0},{"$f":"+BD_DEP[[#This Row],[totalr]]/BD_DEP[[#This Row],[Mat Inicial]]","v":0},{"$f":"+BD_DEP[[#This Row],[repi]]/BD_DEP[[#This Row],[Mat Inicial]]","v":0},"49","Dpto. Diseño",72209259,"Betts Alvear Mark","TC","PR"]
[1600,"DIG4021","TALLER DE TIPOGRAFIA",2,202330,20,20,0,0,0,{"$f":"+BD_DEP[[#This Row],[totalp]]/BD_DEP[[#This Row],[Mat Inicial]]","v":0},{"$f":"+BD_DEP[[#This Row],[totalr]]/BD_DEP[[#This Row],[Mat Inicial]]","v":0},{"$f":"+BD_DEP[[#This Row],[repi]]/BD_DEP[[#This Row],[Mat Inicial]]","v":0},"49","Dpto. Diseño",72209259,"Betts Alvear Mark","TC","PR"]
[1641,"DIN7240","TALLER DESARROLLO DE PRODUCTO",1,202330,9,9,0,0,0,{"$f":"+BD_DEP[[#This Row],[totalp]]/BD_DEP[[#This Row],[Mat Inicial]]","v":0},{"$f":"+BD_DEP[[#This Row],[totalr]]/BD_DEP[[#This Row],[Mat Inicial]]","v":0},{"$f":"+BD_DEP[[#This Row],[repi]]/BD_DEP[[#This Row],[Mat Inicial]]","v":0},"49","Dpto. Diseño",80037273,"Rincon Quijano Edgar","TC","PR"]
[1627,"DIN7020","TALLER DISEÑO TECNOLOGICO",1,202330,11,11,0,0,0,{"$f":"+BD_DEP[[#This Row],[totalp]]/BD_DEP[[#This Row],[Mat Inicial]]","v":0},{"$f":"+BD_DEP[[#This Row],[totalr]]/BD_DEP[[#This Row],[Mat Inicial]]","v":0},{"$f":"+BD_DEP[[#This Row],[repi]]/BD_DEP[[#This Row],[Mat Inicial]]","v":0},"49","Dpto. Diseño",79805137,"Ruiz Bacca Miguel","TC","PR"]
[1637,"DIN7235","TALLER FACTORES HUMANOS",1,202330,11,11,1,0,1,{"$f":"+BD_DEP[[#This Row],[totalp]]/BD_DEP[[#This Row],[Mat Inicial]]","v":9.0909090909090912E-2},{"$f":"+BD_DEP[[#This Row],[totalr]]/BD_DEP[[#This Row],[Mat Inicial]]","v":0},{"$f":"+BD_DEP[[#This Row],[repi]]/BD_DEP[[#This Row],[Mat Inicial]]","v":9.0909090909090912E-2},"49","Dpto. Diseño",91274119,"Reyes Alvarez Libardo","TC","PR"]
[1629,"DIN7060","TALLER PRODUCCION INDUSTRIAL",1,202330,10,10,0,0,0,{"$f":"+BD_DEP[[#This Row],[totalp]]/BD_DEP[[#This Row],[Mat Inicial]]","v":0},{"$f":"+BD_DEP[[#This Row],[totalr]]/BD_DEP[[#This Row],[Mat Inicial]]","v":0},{"$f":"+BD_DEP[[#This Row],[repi]]/BD_DEP[[#This Row],[Mat Inicial]]","v":0},"49","Dpto. Diseño",79693631,"Moreno Villamizar Edgar","TC","PR"]
[1604,"DIG4022","DIAGRAMACION Y PRODUCCION",3,202330,17,17,0,0,0,{"$f":"+BD_DEP[[#This Row],[totalp]]/BD_DEP[[#This Row],[Mat Inicial]]","v":0},{"$f":"+BD_DEP[[#This Row],[totalr]]/BD_DEP[[#This Row],[Mat Inicial]]","v":0},{"$f":"+BD_DEP[[#This Row],[repi]]/BD_DEP[[#This Row],[Mat Inicial]]","v":0},"49","Dpto. Diseño",72167566,"Rojas Barandica Miguel","CA","PR"]
[1633,"DIN7125","DISEÑO DE INTERIORES",1,202330,27,27,1,0,1,{"$f":"+BD_DEP[[#This Row],[totalp]]/BD_DEP[[#This Row],[Mat Inicial]]","v":3.7037037037037035E-2},{"$f":"+BD_DEP[[#This Row],[totalr]]/BD_DEP[[#This Row],[Mat Inicial]]","v":0},{"$f":"+BD_DEP[[#This Row],[repi]]/BD_DEP[[#This Row],[Mat Inicial]]","v":3.7037037037037035E-2},"49","Dpto. Diseño",1044424834,"Villarreal Cabarcas Alisson","CA","PR"]
[1668,"DIS0032","DISEÑO DIGITAL I",4,202330,20,20,0,0,0,{"$f":"+BD_DEP[[#This Row],[totalp]]/BD_DEP[[#This Row],[Mat Inicial]]","v":0},{"$f":"+BD_DEP[[#This Row],[totalr]]/BD_DEP[[#This Row],[Mat Inicial]]","v":0},{"$f":"+BD_DEP[[#This Row],[repi]]/BD_DEP[[#This Row],[Mat Inicial]]","v":0},"49","Dpto. Diseño",1140818248,"ALFARO DIAZ JESUS","CA","PR"]
[1665,"DIS0032","DISEÑO DIGITAL I",1,202330,20,20,1,0,1,{"$f":"+BD_DEP[[#This Row],[totalp]]/BD_DEP[[#This Row],[Mat Inicial]]","v":0.05},{"$f":"+BD_DEP[[#This Row],[totalr]]/BD_DEP[[#This Row],[Mat Inicial]]","v":0},{"$f":"+BD_DEP[[#This Row],[repi]]/BD_DEP[[#This Row],[Mat Inicial]]","v":0.05},"49","Dpto. Diseño",1140823131,"Mendoza Barrios Orlando","CA","PR"]
[1666,"DIS0032","DISEÑO DIGITAL I",2,202330,20,20,0,0,0,{"$f":"+BD_DEP[[#This Row],[totalp]]/BD_DEP[[#This Row],[Mat Inicial]]","v":0},{"$f":"+BD_DEP[[#This Row],[totalr]]/BD_DEP[[#This Row],[Mat Inicial]]","v":0},{"$f":"+BD_DEP[[#This Row],[repi]]/BD_DEP[[#This Row],[Mat Inicial]]","v":0},"49","Dpto. Diseño",1140823131,"Mendoza Barrios Orlando","CA","PR"]
[1667,"DIS0032","DISEÑO DIGITAL I",3,202330,15,15,0,0,0,{"$f":"+BD_DEP[[#This Row],[totalp]]/BD_DEP[[#This Row],[Mat Inicial]]","v":0},{"$f":"+BD_DEP[[#This Row],[totalr]]/BD_DEP[[#This Row],[Mat Inicial]]","v":0},{"$f":"+BD_DEP[[#This Row],[repi]]/BD_DEP[[#This Row],[Mat Inicial]]","v":0},"49","Dpto. Diseño",1140823131,"Mendoza Barrios Orlando","CA","PR"]
[1579,"DIG0032","DISEÑO DIGITAL I",1,202330,19,18,2,1,3,{"$f":"+BD_DEP[[#This Row],[totalp]]/BD_DEP[[#This Row],[Mat Inicial]]","v":0.10526315789473684},{"$f":"+BD_DEP[[#This Row],[totalr]]/BD_DEP[[#This Row],[Mat Inicial]]","v":5.2631578947368418E-2},{"$f":"+BD_DEP[[#This Row],[repi]]/BD_DEP[[#This Row],[Mat Inicial]]","v":0.15789473684210525},"49","Dpto. Diseño",1140843763,"Molinares Picon Juan","CA","PR"]
[1580,"DIG0032","DISEÑO DIGITAL I",2,202330,22,21,3,1,4,{"$f":"+BD_DEP[[#This Row],[totalp]]/BD_DEP[[#This Row],[Mat Inicial]]","v":0.13636363636363635},{"$f":"+BD_DEP[[#This Row],[totalr]]/BD_DEP[[#This Row],[Mat Inicial]]","v":4.5454545454545456E-2},{"$f":"+BD_DEP[[#This Row],[repi]]/BD_DEP[[#This Row],[Mat Inicial]]","v":0.18181818181818182},"49","Dpto. Diseño",1140843763,"Molinares Picon Juan","CA","PR"]
[1581,"DIG0033","DISEÑO DIGITAL II",1,202330,27,27,1,0,1,{"$f":"+BD_DEP[[#This Row],[totalp]]/BD_DEP[[#This Row],[Mat Inicial]]","v":3.7037037037037035E-2},{"$f":"+BD_DEP[[#This Row],[totalr]]/BD_DEP[[#This Row],[Mat Inicial]]","v":0},{"$f":"+BD_DEP[[#This Row],[repi]]/BD_DEP[[#This Row],[Mat Inicial]]","v":3.7037037037037035E-2},"49","Dpto. Diseño",1140818248,"ALFARO DIAZ JESUS","CA","PR"]
[1582,"DIG0033","DISEÑO DIGITAL II",2,202330,26,26,0,0,0,{"$f":"+BD_DEP[[#This Row],[totalp]]/BD_DEP[[#This Row],[Mat Inicial]]","v":0},{"$f":"+BD_DEP[[#This Row],[totalr]]/BD_DEP[[#This Row],[Mat Inicial]]","v":0},{"$f":"+BD_DEP[[#This Row],[repi]]/BD_DEP[[#This Row],[Mat Inicial]]","v":0},"49","Dpto. Diseño",1140818248,"ALFARO DIAZ JESUS","CA","PR"]
[1631,"DIN7090","DISEÑO DIGITAL II",1,202330,18,18,1,0,1,{"$f":"+BD_DEP[[#This Row],[totalp]]/BD_DEP[[#This Row],[Mat Inicial]]","v":5.5555555555555552E-2},{"$f":"+BD_DEP[[#This Row],[totalr]]/BD_DEP[[#This Row],[Mat Inicial]]","v":0},{"$f":"+BD_DEP[[#This Row],[repi]]/BD_DEP[[#This Row],[Mat Inicial]]","v":5.5555555555555552E-2},"49","Dpto. Diseño",1140823131,"Mendoza Barrios Orlando","CA","PR"]
[1605,"DIG4023","DISEÑO EN MOVIMIENTO",1,202330,22,21,0,1,1,{"$f":"+BD_DEP[[#This Row],[totalp]]/BD_DEP[[#This Row],[Mat Inicial]]","v":0},{"$f":"+BD_DEP[[#This Row],[totalr]]/BD_DEP[[#This Row],[Mat Inicial]]","v":4.5454545454545456E-2},{"$f":"+BD_DEP[[#This Row],[repi]]/BD_DEP[[#This Row],[Mat Inicial]]","v":4.5454545454545456E-2},"49","Dpto. Diseño",1140816375,"Henriquez Galeano Esteban","CA","PR"]
[1606,"DIG4023","DISEÑO EN MOVIMIENTO",2,202330,21,21,0,0,0,{"$f":"+BD_DEP[[#This Row],[totalp]]/BD_DEP[[#This Row],[Mat Inicial]]","v":0},{"$f":"+BD_DEP[[#This Row],[totalr]]/BD_DEP[[#This Row],[Mat Inicial]]","v":0},{"$f":"+BD_DEP[[#This Row],[repi]]/BD_DEP[[#This Row],[Mat Inicial]]","v":0},"49","Dpto. Diseño",1140816375,"Henriquez Galeano Esteban","CA","PR"]
[1607,"DIG4023","DISEÑO EN MOVIMIENTO",3,202330,19,19,0,0,0,{"$f":"+BD_DEP[[#This Row],[totalp]]/BD_DEP[[#This Row],[Mat Inicial]]","v":0},{"$f":"+BD_DEP[[#This Row],[totalr]]/BD_DEP[[#This Row],[Mat Inicial]]","v":0},{"$f":"+BD_DEP[[#This Row],[repi]]/BD_DEP[[#This Row],[Mat Inicial]]","v":0},"49","Dpto. Diseño",1140861616,"Torres Fraija Maria","CA","PR"]
[1636,"DIN7155","DISEÑO Y MERCADEO",2,202330,17,17,0,0,0,{"$f":"+BD_DEP[[#This Row],[totalp]]/BD_DEP[[#This Row],[Mat Inicial]]","v":0},{"$f":"+BD_DEP[[#This Row],[totalr]]/BD_DEP[[#This Row],[Mat Inicial]]","v":0},{"$f":"+BD_DEP[[#This Row],[repi]]/BD_DEP[[#This Row],[Mat Inicial]]","v":0},"49","Dpto. Diseño",1140855392,"Romero Romero Gladys","CA","PR"]
[1630,"DIN7070","DISEÑO Y PRODUCCION",1,202330,7,7,0,0,0,{"$f":"+BD_DEP[[#This Row],[totalp]]/BD_DEP[[#This Row],[Mat Inicial]]","v":0},{"$f":"+BD_DEP[[#This Row],[totalr]]/BD_DEP[[#This Row],[Mat Inicial]]","v":0},{"$f":"+BD_DEP[[#This Row],[repi]]/BD_DEP[[#This Row],[Mat Inicial]]","v":0},"49","Dpto. Diseño",79578070,"Gutierrez Galindo Carlos","CA","PR"]
[1658,"DIS0029","ESTETICA Y SEMIOTICA",2,202330,21,20,0,1,1,{"$f":"+BD_DEP[[#This Row],[totalp]]/BD_DEP[[#This Row],[Mat Inicial]]","v":0},{"$f":"+BD_DEP[[#This Row],[totalr]]/BD_DEP[[#This Row],[Mat Inicial]]","v":4.7619047619047616E-2},{"$f":"+BD_DEP[[#This Row],[repi]]/BD_DEP[[#This Row],[Mat Inicial]]","v":4.7619047619047616E-2},"49","Dpto. Diseño",32844995,"Serrano Rojas Elvia","CA","PR"]
[1608,"DIG4024","FOTOGRAFIA PUBLICITARIA",1,202330,21,21,0,0,0,{"$f":"+BD_DEP[[#This Row],[totalp]]/BD_DEP[[#This Row],[Mat Inicial]]","v":0},{"$f":"+BD_DEP[[#This Row],[totalr]]/BD_DEP[[#This Row],[Mat Inicial]]","v":0},{"$f":"+BD_DEP[[#This Row],[repi]]/BD_DEP[[#This Row],[Mat Inicial]]","v":0},"49","Dpto. Diseño",1045684896,"Gutierrez Ravelo Raquel","CA","PR"]
[1609,"DIG4024","FOTOGRAFIA PUBLICITARIA",2,202330,21,21,2,0,2,{"$f":"+BD_DEP[[#This Row],[totalp]]/BD_DEP[[#This Row],[Mat Inicial]]","v":9.5238095238095233E-2},{"$f":"+BD_DEP[[#This Row],[totalr]]/BD_DEP[[#This Row],[Mat Inicial]]","v":0},{"$f":"+BD_DEP[[#This Row],[repi]]/BD_DEP[[#This Row],[Mat Inicial]]","v":9.5238095238095233E-2},"49","Dpto. Diseño",1045684896,"Gutierrez Ravelo Raquel","CA","PR"]
[1610,"DIG4024","FOTOGRAFIA PUBLICITARIA",3,202330,22,22,0,0,0,{"$f":"+BD_DEP[[#This Row],[totalp]]/BD_DEP[[#This Row],[Mat Inicial]]","v":0},{"$f":"+BD_DEP[[#This Row],[totalr]]/BD_DEP[[#This Row],[Mat Inicial]]","v":0},{"$f":"+BD_DEP[[#This Row],[repi]]/BD_DEP[[#This Row],[Mat Inicial]]","v":0},"49","Dpto. Diseño",1045684896,"Gutierrez Ravelo Raquel","CA","PR"]
[1619,"DIG4081","FUNDAMENTOS DE PUBLICIDAD",1,202330,16,16,1,0,1,{"$f":"+BD_DEP[[#This Row],[totalp]]/BD_DEP[[#This Row],[Mat Inicial]]","v":6.25E-2},{"$f":"+BD_DEP[[#This Row],[totalr]]/BD_DEP[[#This Row],[Mat Inicial]]","v":0},{"$f":"+BD_DEP[[#This Row],[repi]]/BD_DEP[[#This Row],[Mat Inicial]]","v":6.25E-2},"49","Dpto. Diseño",8737132,"Guillen Monroy Gabriel","CA","PR"]
[1620,"DIG4081","FUNDAMENTOS DE PUBLICIDAD",2,202330,17,17,0,0,0,{"$f":"+BD_DEP[[#This Row],[totalp]]/BD_DEP[[#This Row],[Mat Inicial]]","v":0},{"$f":"+BD_DEP[[#This Row],[totalr]]/BD_DEP[[#This Row],[Mat Inicial]]","v":0},{"$f":"+BD_DEP[[#This Row],[repi]]/BD_DEP[[#This Row],[Mat Inicial]]","v":0},"49","Dpto. Diseño",8737132,"Guillen Monroy Gabriel","CA","PR"]
[4298,"DIS0015","HISTORIA DEL DISEÑO",52,202330,20,19,0,1,1,{"$f":"+BD_DEP[[#This Row],[totalp]]/BD_DEP[[#This Row],[Mat Inicial]]","v":0},{"$f":"+BD_DEP[[#This Row],[totalr]]/BD_DEP[[#This Row],[Mat Inicial]]","v":0.05},{"$f":"+BD_DEP[[#This Row],[repi]]/BD_DEP[[#This Row],[Mat Inicial]]","v":0.05},"49","Dpto. Diseño",32844995,"Serrano Rojas Elvia","CA","PR"]
[4306,"DIS0022","IDEACION Y CREATIVIDAD",51,202330,30,29,1,1,2,{"$f":"+BD_DEP[[#This Row],[totalp]]/BD_DEP[[#This Row],[Mat Inicial]]","v":3.3333333333333333E-2},{"$f":"+BD_DEP[[#This Row],[totalr]]/BD_DEP[[#This Row],[Mat Inicial]]","v":3.3333333333333333E-2},{"$f":"+BD_DEP[[#This Row],[repi]]/BD_DEP[[#This Row],[Mat Inicial]]","v":6.6666666666666666E-2},"49","Dpto. Diseño",8737132,"Guillen Monroy Gabriel","CA","PR"]
[4307,"DIS0022","IDEACION Y CREATIVIDAD",52,202330,30,28,1,2,3,{"$f":"+BD_DEP[[#This Row],[totalp]]/BD_DEP[[#This Row],[Mat Inicial]]","v":3.3333333333333333E-2},{"$f":"+BD_DEP[[#This Row],[totalr]]/BD_DEP[[#This Row],[Mat Inicial]]","v":6.6666666666666666E-2},{"$f":"+BD_DEP[[#This Row],[repi]]/BD_DEP[[#This Row],[Mat Inicial]]","v":0.1},"49","Dpto. Diseño",8737132,"Guillen Monroy Gabriel","CA","PR"]
[1659,"DIS0030","IDENTIDAD GLOBAL",1,202330,17,17,1,0,1,{"$f":"+BD_DEP[[#This Row],[totalp]]/BD_DEP[[#This Row],[Mat Inicial]]","v":5.8823529411764705E-2},{"$f":"+BD_DEP[[#This Row],[totalr]]/BD_DEP[[#This Row],[Mat Inicial]]","v":0},{"$f":"+BD_DEP[[#This Row],[repi]]/BD_DEP[[#This Row],[Mat Inicial]]","v":5.8823529411764705E-2},"49","Dpto. Diseño",32837718,"Miranda Orozco Ketty","CA","PR"]
[1660,"DIS0030","IDENTIDAD GLOBAL",2,202330,15,15,0,0,0,{"$f":"+BD_DEP[[#This Row],[totalp]]/BD_DEP[[#This Row],[Mat Inicial]]","v":0},{"$f":"+BD_DEP[[#This Row],[totalr]]/BD_DEP[[#This Row],[Mat Inicial]]","v":0},{"$f":"+BD_DEP[[#This Row],[repi]]/BD_DEP[[#This Row],[Mat Inicial]]","v":0},"49","Dpto. Diseño",32837718,"Miranda Orozco Ketty","CA","PR"]
[1661,"DIS0030","IDENTIDAD GLOBAL",3,202330,20,20,0,0,0,{"$f":"+BD_DEP[[#This Row],[totalp]]/BD_DEP[[#This Row],[Mat Inicial]]","v":0},{"$f":"+BD_DEP[[#This Row],[totalr]]/BD_DEP[[#This Row],[Mat Inicial]]","v":0},{"$f":"+BD_DEP[[#This Row],[repi]]/BD_DEP[[#This Row],[Mat Inicial]]","v":0},"49","Dpto. Diseño",45688773,"NIEBLES DE LA TORRE ANA","CA","PR"]
[1591,"DIG0080","ILUSTRACION",1,202330,13,11,0,2,2,{"$f":"+BD_DEP[[#This Row],[totalp]]/BD_DEP[[#This Row],[Mat Inicial]]","v":0},{"$f":"+BD_DEP[[#This Row],[totalr]]/BD_DEP[[#This Row],[Mat Inicial]]","v":0.15384615384615385},{"$f":"+BD_DEP[[#This Row],[repi]]/BD_DEP[[#This Row],[Mat Inicial]]","v":0.15384615384615385},"49",{"$f":"+VLOOKUP(BD_DEP[[#This Row],[CODASG]],[2]carga!$C$1:$N$13231,5,FALSE)","v":"Dpto. Diseño"},1045681588,"MANJARRES FELFLE ANDRES","CA","PR"]
[1592,"DIG0080","ILUSTRACION",2,202330,20,20,0,0,0,{"$f":"+BD_DEP[[#This Row],[totalp]]/BD_DEP[[#This Row],[Mat Inicial]]","v":0},{"$f":"+BD_DEP[[#This Row],[totalr]]/BD_DEP[[#This Row],[Mat Inicial]]","v":0},{"$f":"+BD_DEP[[#This Row],[repi]]/BD_DEP[[#This Row],[Mat Inicial]]","v":0},"49",{"$f":"+VLOOKUP(BD_DEP[[#This Row],[CODASG]],[2]carga!$C$1:$N$13231,5,FALSE)","v":"Dpto. Diseño"},1140836420,"Mannaa Mannah Ruaida","CA","PR"]
[1593,"DIG0080","ILUSTRACION",3,202330,20,20,0,0,0,{"$f":"+BD_DEP[[#This Row],[totalp]]/BD_DEP[[#This Row],[Mat Inicial]]","v":0},{"$f":"+BD_DEP[[#This Row],[totalr]]/BD_DEP[[#This Row],[Mat Inicial]]","v":0},{"$f":"+BD_DEP[[#This Row],[repi]]/BD_DEP[[#This Row],[Mat Inicial]]","v":0},"49",{"$f":"+VLOOKUP(BD_DEP[[#This Row],[CODASG]],[2]carga!$C$1:$N$13231,5,FALSE)","v":"Dpto. Diseño"},1140836420,"Mannaa Mannah Ruaida","CA","PR"]
[1611,"DIG4026","ILUSTRACION I",1,202330,15,15,0,0,0,{"$f":"+BD_DEP[[#This Row],[totalp]]/BD_DEP[[#This Row],[Mat Inicial]]","v":0},{"$f":"+BD_DEP[[#This Row],[totalr]]/BD_DEP[[#This Row],[Mat Inicial]]","v":0},{"$f":"+BD_DEP[[#This Row],[repi]]/BD_DEP[[#This Row],[Mat Inicial]]","v":0},"49","Dpto. Diseño",1045681588,"MANJARRES FELFLE ANDRES","CA","PR"]
[1612,"DIG4026","ILUSTRACION I",2,202330,24,24,0,0,0,{"$f":"+BD_DEP[[#This Row],[totalp]]/BD_DEP[[#This Row],[Mat Inicial]]","v":0},{"$f":"+BD_DEP[[#This Row],[totalr]]/BD_DEP[[#This Row],[Mat Inicial]]","v":0},{"$f":"+BD_DEP[[#This Row],[repi]]/BD_DEP[[#This Row],[Mat Inicial]]","v":0},"49","Dpto. Diseño",1045681588,"MANJARRES FELFLE ANDRES","CA","PR"]
[1613,"DIG4026","ILUSTRACION I",3,202330,24,24,1,0,1,{"$f":"+BD_DEP[[#This Row],[totalp]]/BD_DEP[[#This Row],[Mat Inicial]]","v":4.1666666666666664E-2},{"$f":"+BD_DEP[[#This Row],[totalr]]/BD_DEP[[#This Row],[Mat Inicial]]","v":0},{"$f":"+BD_DEP[[#This Row],[repi]]/BD_DEP[[#This Row],[Mat Inicial]]","v":4.1666666666666664E-2},"49","Dpto. Diseño",1140836420,"Mannaa Mannah Ruaida","CA","PR"]
[1623,"DIN0032","INVESTIGACION DE TENDENCIAS",1,202330,11,11,0,0,0,{"$f":"+BD_DEP[[#This Row],[totalp]]/BD_DEP[[#This Row],[Mat Inicial]]","v":0},{"$f":"+BD_DEP[[#This Row],[totalr]]/BD_DEP[[#This Row],[Mat Inicial]]","v":0},{"$f":"+BD_DEP[[#This Row],[repi]]/BD_DEP[[#This Row],[Mat Inicial]]","v":0},"49","Dpto. Diseño",1140814133,"Mugno Pinzon Maria","CA","PR"]
[1640,"DIN7239","MATERIALES Y PROCESOS",1,202330,8,8,0,0,0,{"$f":"+BD_DEP[[#This Row],[totalp]]/BD_DEP[[#This Row],[Mat Inicial]]","v":0},{"$f":"+BD_DEP[[#This Row],[totalr]]/BD_DEP[[#This Row],[Mat Inicial]]","v":0},{"$f":"+BD_DEP[[#This Row],[repi]]/BD_DEP[[#This Row],[Mat Inicial]]","v":0},"49","Dpto. Diseño",79578070,"Gutierrez Galindo Carlos","CA","PR"]
[1596,"DIG0082","METODOLOGIA PROYECTUAL",1,202330,16,16,0,0,0,{"$f":"+BD_DEP[[#This Row],[totalp]]/BD_DEP[[#This Row],[Mat Inicial]]","v":0},{"$f":"+BD_DEP[[#This Row],[totalr]]/BD_DEP[[#This Row],[Mat Inicial]]","v":0},{"$f":"+BD_DEP[[#This Row],[repi]]/BD_DEP[[#This Row],[Mat Inicial]]","v":0},"49","Dpto. Diseño",32844995,"Serrano Rojas Elvia","CA","PR"]
[1597,"DIG0082","METODOLOGIA PROYECTUAL",2,202330,15,14,1,1,2,{"$f":"+BD_DEP[[#This Row],[totalp]]/BD_DEP[[#This Row],[Mat Inicial]]","v":6.6666666666666666E-2},{"$f":"+BD_DEP[[#This Row],[totalr]]/BD_DEP[[#This Row],[Mat Inicial]]","v":6.6666666666666666E-2},{"$f":"+BD_DEP[[#This Row],[repi]]/BD_DEP[[#This Row],[Mat Inicial]]","v":0.13333333333333333},"49","Dpto. Diseño",32844995,"Serrano Rojas Elvia","CA","PR"]
[1632,"DIN7100","MOD.PARAMET.PROTOTIPADO RAPIDO",1,202330,13,13,0,0,0,{"$f":"+BD_DEP[[#This Row],[totalp]]/BD_DEP[[#This Row],[Mat Inicial]]","v":0},{"$f":"+BD_DEP[[#This Row],[totalr]]/BD_DEP[[#This Row],[Mat Inicial]]","v":0},{"$f":"+BD_DEP[[#This Row],[repi]]/BD_DEP[[#This Row],[Mat Inicial]]","v":0},"49","Dpto. Diseño",1140818248,"ALFARO DIAZ JESUS","CA","PR"]
[1586,"DIG0038","PRE-PRENSA E IMPRESIÓN",1,202330,17,17,0,0,0,{"$f":"+BD_DEP[[#This Row],[totalp]]/BD_DEP[[#This Row],[Mat Inicial]]","v":0},{"$f":"+BD_DEP[[#This Row],[totalr]]/BD_DEP[[#This Row],[Mat Inicial]]","v":0},{"$f":"+BD_DEP[[#This Row],[repi]]/BD_DEP[[#This Row],[Mat Inicial]]","v":0},"49","Dpto. Diseño",72167566,"Rojas Barandica Miguel","CA","PR"]
[1587,"DIG0038","PRE-PRENSA E IMPRESIÓN",2,202330,19,18,1,1,2,{"$f":"+BD_DEP[[#This Row],[totalp]]/BD_DEP[[#This Row],[Mat Inicial]]","v":5.2631578947368418E-2},{"$f":"+BD_DEP[[#This Row],[totalr]]/BD_DEP[[#This Row],[Mat Inicial]]","v":5.2631578947368418E-2},{"$f":"+BD_DEP[[#This Row],[repi]]/BD_DEP[[#This Row],[Mat Inicial]]","v":0.10526315789473684},"49","Dpto. Diseño",72167566,"Rojas Barandica Miguel","CA","PR"]
[1584,"DIG0037","REALIZACION AUDIVISUAL I",1,202330,16,15,4,1,5,{"$f":"+BD_DEP[[#This Row],[totalp]]/BD_DEP[[#This Row],[Mat Inicial]]","v":0.25},{"$f":"+BD_DEP[[#This Row],[totalr]]/BD_DEP[[#This Row],[Mat Inicial]]","v":6.25E-2},{"$f":"+BD_DEP[[#This Row],[repi]]/BD_DEP[[#This Row],[Mat Inicial]]","v":0.3125},"49","Dpto. Diseño",1140861616,"Torres Fraija Maria","CA","PR"]
[1585,"DIG0037","REALIZACION AUDIVISUAL I",2,202330,19,18,1,1,2,{"$f":"+BD_DEP[[#This Row],[totalp]]/BD_DEP[[#This Row],[Mat Inicial]]","v":5.2631578947368418E-2},{"$f":"+BD_DEP[[#This Row],[totalr]]/BD_DEP[[#This Row],[Mat Inicial]]","v":5.2631578947368418E-2},{"$f":"+BD_DEP[[#This Row],[repi]]/BD_DEP[[#This Row],[Mat Inicial]]","v":0.10526315789473684},"49","Dpto. Diseño",1140861616,"Torres Fraija Maria","CA","PR"]
[4304,"DIS0021","SEGURIDAD Y HERRAMIENTAS",53,202330,16,15,0,1,1,{"$f":"+BD_DEP[[#This Row],[totalp]]/BD_DEP[[#This Row],[Mat Inicial]]","v":0},{"$f":"+BD_DEP[[#This Row],[totalr]]/BD_DEP[[#This Row],[Mat Inicial]]","v":6.25E-2},{"$f":"+BD_DEP[[#This Row],[repi]]/BD_DEP[[#This Row],[Mat Inicial]]","v":6.25E-2},"49","Dpto. Diseño",72155767,"Stand Zambrano Cesar","CA","PR"]
[4305,"DIS0021","SEGURIDAD Y HERRAMIENTAS",54,202330,16,14,0,2,2,{"$f":"+BD_DEP[[#This Row],[totalp]]/BD_DEP[[#This Row],[Mat Inicial]]","v":0},{"$f":"+BD_DEP[[#This Row],[totalr]]/BD_DEP[[#This Row],[Mat Inicial]]","v":0.125},{"$f":"+BD_DEP[[#This Row],[repi]]/BD_DEP[[#This Row],[Mat Inicial]]","v":0.125},"49","Dpto. Diseño",72155767,"Stand Zambrano Cesar","CA","PR"]
[4302,"DIS0021","SEGURIDAD Y HERRAMIENTAS",51,202330,16,16,1,0,1,{"$f":"+BD_DEP[[#This Row],[totalp]]/BD_DEP[[#This Row],[Mat Inicial]]","v":6.25E-2},{"$f":"+BD_DEP[[#This Row],[totalr]]/BD_DEP[[#This Row],[Mat Inicial]]","v":0},{"$f":"+BD_DEP[[#This Row],[repi]]/BD_DEP[[#This Row],[Mat Inicial]]","v":6.25E-2},"49","Dpto. Diseño",72209016,"Berrio Oquendo Victor","CA","PR"]
[4303,"DIS0021","SEGURIDAD Y HERRAMIENTAS",52,202330,16,15,1,1,2,{"$f":"+BD_DEP[[#This Row],[totalp]]/BD_DEP[[#This Row],[Mat Inicial]]","v":6.25E-2},{"$f":"+BD_DEP[[#This Row],[totalr]]/BD_DEP[[#This Row],[Mat Inicial]]","v":6.25E-2},{"$f":"+BD_DEP[[#This Row],[repi]]/BD_DEP[[#This Row],[Mat Inicial]]","v":0.125},"49","Dpto. Diseño",72209016,"Berrio Oquendo Victor","CA","PR"]
[1615,"DIG4040","T DIS 5- IDENTIDAD VISUAL",2,202330,18,17,0,1,1,{"$f":"+BD_DEP[[#This Row],[totalp]]/BD_DEP[[#This Row],[Mat Inicial]]","v":0},{"$f":"+BD_DEP[[#This Row],[totalr]]/BD_DEP[[#This Row],[Mat Inicial]]","v":5.5555555555555552E-2},{"$f":"+BD_DEP[[#This Row],[repi]]/BD_DEP[[#This Row],[Mat Inicial]]","v":5.5555555555555552E-2},"49",{"$f":"+VLOOKUP(BD_DEP[[#This Row],[CODASG]],[2]carga!$C$1:$N$13231,5,FALSE)","v":"Dpto. Diseño"},32837718,"Miranda Orozco Ketty","CA","PR"]
[1614,"DIG4040","T DIS 5- IDENTIDAD VISUAL",1,202330,16,16,2,0,2,{"$f":"+BD_DEP[[#This Row],[totalp]]/BD_DEP[[#This Row],[Mat Inicial]]","v":0.125},{"$f":"+BD_DEP[[#This Row],[totalr]]/BD_DEP[[#This Row],[Mat Inicial]]","v":0},{"$f":"+BD_DEP[[#This Row],[repi]]/BD_DEP[[#This Row],[Mat Inicial]]","v":0.125},"49",{"$f":"+VLOOKUP(BD_DEP[[#This Row],[CODASG]],[2]carga!$C$1:$N$13231,5,FALSE)","v":"Dpto. Diseño"},45688773,"NIEBLES DE LA TORRE ANA","CA","PR"]
[1616,"DIG4050","T DIS 6- EMPAQUES/PIEZAS PROM",1,202330,21,21,0,0,0,{"$f":"+BD_DEP[[#This Row],[totalp]]/BD_DEP[[#This Row],[Mat Inicial]]","v":0},{"$f":"+BD_DEP[[#This Row],[totalr]]/BD_DEP[[#This Row],[Mat Inicial]]","v":0},{"$f":"+BD_DEP[[#This Row],[repi]]/BD_DEP[[#This Row],[Mat Inicial]]","v":0},"49",{"$f":"+VLOOKUP(BD_DEP[[#This Row],[CODASG]],[2]carga!$C$1:$N$13231,5,FALSE)","v":"Dpto. Diseño"},1129491321,"Mosquera Palacio Edgar","CA","PR"]
[1617,"DIG4050","T DIS 6- EMPAQUES/PIEZAS PROM",2,202330,18,18,0,0,0,{"$f":"+BD_DEP[[#This Row],[totalp]]/BD_DEP[[#This Row],[Mat Inicial]]","v":0},{"$f":"+BD_DEP[[#This Row],[totalr]]/BD_DEP[[#This Row],[Mat Inicial]]","v":0},{"$f":"+BD_DEP[[#This Row],[repi]]/BD_DEP[[#This Row],[Mat Inicial]]","v":0},"49",{"$f":"+VLOOKUP(BD_DEP[[#This Row],[CODASG]],[2]carga!$C$1:$N$13231,5,FALSE)","v":"Dpto. Diseño"},1129491321,"Mosquera Palacio Edgar","CA","PR"]
[1618,"DIG4050","T DIS 6- EMPAQUES/PIEZAS PROM",3,202330,16,16,0,0,0,{"$f":"+BD_DEP[[#This Row],[totalp]]/BD_DEP[[#This Row],[Mat Inicial]]","v":0},{"$f":"+BD_DEP[[#This Row],[totalr]]/BD_DEP[[#This Row],[Mat Inicial]]","v":0},{"$f":"+BD_DEP[[#This Row],[repi]]/BD_DEP[[#This Row],[Mat Inicial]]","v":0},"49",{"$f":"+VLOOKUP(BD_DEP[[#This Row],[CODASG]],[2]carga!$C$1:$N$13231,5,FALSE)","v":"Dpto. Diseño"},1129491321,"Mosquera Palacio Edgar","CA","PR"]
[1598,"DIG0083","TALLER DE CREATIVIDAD",1,202330,10,9,0,1,1,{"$f":"+BD_DEP[[#This Row],[totalp]]/BD_DEP[[#This Row],[Mat Inicial]]","v":0},{"$f":"+BD_DEP[[#This Row],[totalr]]/BD_DEP[[#This Row],[Mat Inicial]]","v":0.1},{"$f":"+BD_DEP[[#This Row],[repi]]/BD_DEP[[#This Row],[Mat Inicial]]","v":0.1},"49","Dpto. Diseño",8737132,"Guillen Monroy Gabriel","CA","PR"]
[4299,"DIS0020","TALLER DE EXPRESION I",51,202330,20,19,1,1,2,{"$f":"+BD_DEP[[#This Row],[totalp]]/BD_DEP[[#This Row],[Mat Inicial]]","v":0.05},{"$f":"+BD_DEP[[#This Row],[totalr]]/BD_DEP[[#This Row],[Mat Inicial]]","v":0.05},{"$f":"+BD_DEP[[#This Row],[repi]]/BD_DEP[[#This Row],[Mat Inicial]]","v":0.1},"49","Dpto. Diseño",1129491321,"Mosquera Palacio Edgar","CA","PR"]
[4300,"DIS0020","TALLER DE EXPRESION I",52,202330,17,17,1,0,1,{"$f":"+BD_DEP[[#This Row],[totalp]]/BD_DEP[[#This Row],[Mat Inicial]]","v":5.8823529411764705E-2},{"$f":"+BD_DEP[[#This Row],[totalr]]/BD_DEP[[#This Row],[Mat Inicial]]","v":0},{"$f":"+BD_DEP[[#This Row],[repi]]/BD_DEP[[#This Row],[Mat Inicial]]","v":5.8823529411764705E-2},"49","Dpto. Diseño",1129491321,"Mosquera Palacio Edgar","CA","PR"]
[1651,"DIS0026","TALLER DE EXPRESION II",3,202330,18,18,0,0,0,{"$f":"+BD_DEP[[#This Row],[totalp]]/BD_DEP[[#This Row],[Mat Inicial]]","v":0},{"$f":"+BD_DEP[[#This Row],[totalr]]/BD_DEP[[#This Row],[Mat Inicial]]","v":0},{"$f":"+BD_DEP[[#This Row],[repi]]/BD_DEP[[#This Row],[Mat Inicial]]","v":0},"49","Dpto. Diseño",1129491321,"Mosquera Palacio Edgar","CA","PR"]
[1649,"DIS0026","TALLER DE EXPRESION II",1,202330,21,21,1,0,1,{"$f":"+BD_DEP[[#This Row],[totalp]]/BD_DEP[[#This Row],[Mat Inicial]]","v":4.7619047619047616E-2},{"$f":"+BD_DEP[[#This Row],[totalr]]/BD_DEP[[#This Row],[Mat Inicial]]","v":0},{"$f":"+BD_DEP[[#This Row],[repi]]/BD_DEP[[#This Row],[Mat Inicial]]","v":4.7619047619047616E-2},"49","Dpto. Diseño",1140831707,"Garavito Garcia Karolay","CA","PR"]
[1650,"DIS0026","TALLER DE EXPRESION II",2,202330,22,21,0,1,1,{"$f":"+BD_DEP[[#This Row],[totalp]]/BD_DEP[[#This Row],[Mat Inicial]]","v":0},{"$f":"+BD_DEP[[#This Row],[totalr]]/BD_DEP[[#This Row],[Mat Inicial]]","v":4.5454545454545456E-2},{"$f":"+BD_DEP[[#This Row],[repi]]/BD_DEP[[#This Row],[Mat Inicial]]","v":4.5454545454545456E-2},"49","Dpto. Diseño",1140831707,"Garavito Garcia Karolay","CA","PR"]
[1652,"DIS0026","TALLER DE EXPRESION II",4,202330,21,21,0,0,0,{"$f":"+BD_DEP[[#This Row],[totalp]]/BD_DEP[[#This Row],[Mat Inicial]]","v":0},{"$f":"+BD_DEP[[#This Row],[totalr]]/BD_DEP[[#This Row],[Mat Inicial]]","v":0},{"$f":"+BD_DEP[[#This Row],[repi]]/BD_DEP[[#This Row],[Mat Inicial]]","v":0},"49","Dpto. Diseño",1140831707,"Garavito Garcia Karolay","CA","PR"]
[1594,"DIG0081","TALLER DE REALIZACION",1,202330,13,13,0,0,0,{"$f":"+BD_DEP[[#This Row],[totalp]]/BD_DEP[[#This Row],[Mat Inicial]]","v":0},{"$f":"+BD_DEP[[#This Row],[totalr]]/BD_DEP[[#This Row],[Mat Inicial]]","v":0},{"$f":"+BD_DEP[[#This Row],[repi]]/BD_DEP[[#This Row],[Mat Inicial]]","v":0},"49","Dpto. Diseño",1140861616,"Torres Fraija Maria","CA","PR"]
[1595,"DIG0081","TALLER DE REALIZACION",2,202330,16,14,0,2,2,{"$f":"+BD_DEP[[#This Row],[totalp]]/BD_DEP[[#This Row],[Mat Inicial]]","v":0},{"$f":"+BD_DEP[[#This Row],[totalr]]/BD_DEP[[#This Row],[Mat Inicial]]","v":0.125},{"$f":"+BD_DEP[[#This Row],[repi]]/BD_DEP[[#This Row],[Mat Inicial]]","v":0.125},"49","Dpto. Diseño",1140861616,"Torres Fraija Maria","CA","PR"]
[1840,"ETI1031","AUTOCONOCIMIENTO Y FELICIDAD",3,202330,39,38,0,1,1,{"$f":"+BD_DEP[[#This Row],[totalp]]/BD_DEP[[#This Row],[Mat Inicial]]","v":0},{"$f":"+BD_DEP[[#This Row],[totalr]]/BD_DEP[[#This Row],[Mat Inicial]]","v":2.564102564102564E-2},{"$f":"+BD_DEP[[#This Row],[repi]]/BD_DEP[[#This Row],[Mat Inicial]]","v":2.564102564102564E-2},"45","Dpto. Educación",71799645,"Herron Gloria Mauricio","TC","PR"]
[1841,"ETI1031","AUTOCONOCIMIENTO Y FELICIDAD",4,202330,39,39,1,0,1,{"$f":"+BD_DEP[[#This Row],[totalp]]/BD_DEP[[#This Row],[Mat Inicial]]","v":2.564102564102564E-2},{"$f":"+BD_DEP[[#This Row],[totalr]]/BD_DEP[[#This Row],[Mat Inicial]]","v":0},{"$f":"+BD_DEP[[#This Row],[repi]]/BD_DEP[[#This Row],[Mat Inicial]]","v":2.564102564102564E-2},"45","Dpto. Educación",71799645,"Herron Gloria Mauricio","TC","PR"]
[2144,"IDS0045","COMO LEER  MEDIOS MASIVOS?",1,202330,40,36,0,4,4,{"$f":"+BD_DEP[[#This Row],[totalp]]/BD_DEP[[#This Row],[Mat Inicial]]","v":0},{"$f":"+BD_DEP[[#This Row],[totalr]]/BD_DEP[[#This Row],[Mat Inicial]]","v":0.1},{"$f":"+BD_DEP[[#This Row],[repi]]/BD_DEP[[#This Row],[Mat Inicial]]","v":0.1},"45","Dpto. Educación",22520152,"Lafaurie Molina Andrea","TC","PR"]
[2145,"IDS0045","COMO LEER  MEDIOS MASIVOS?",2,202330,39,38,0,1,1,{"$f":"+BD_DEP[[#This Row],[totalp]]/BD_DEP[[#This Row],[Mat Inicial]]","v":0},{"$f":"+BD_DEP[[#This Row],[totalr]]/BD_DEP[[#This Row],[Mat Inicial]]","v":2.564102564102564E-2},{"$f":"+BD_DEP[[#This Row],[repi]]/BD_DEP[[#This Row],[Mat Inicial]]","v":2.564102564102564E-2},"45","Dpto. Educación",22520152,"Lafaurie Molina Andrea","TC","PR"]
[4319,"EDU4530","CUIDADO INFANTIL",1,202330,9,9,0,0,0,{"$f":"+BD_DEP[[#This Row],[totalp]]/BD_DEP[[#This Row],[Mat Inicial]]","v":0},{"$f":"+BD_DEP[[#This Row],[totalr]]/BD_DEP[[#This Row],[Mat Inicial]]","v":0},{"$f":"+BD_DEP[[#This Row],[repi]]/BD_DEP[[#This Row],[Mat Inicial]]","v":0},"45","Dpto. Educación",22549108,"Escalante Barrios Elsa","TC","PR"]
[1767,"EDU4543","DESARROLLO SOCIOAFECTIVO",1,202330,23,22,1,1,2,{"$f":"+BD_DEP[[#This Row],[totalp]]/BD_DEP[[#This Row],[Mat Inicial]]","v":4.3478260869565216E-2},{"$f":"+BD_DEP[[#This Row],[totalr]]/BD_DEP[[#This Row],[Mat Inicial]]","v":4.3478260869565216E-2},{"$f":"+BD_DEP[[#This Row],[repi]]/BD_DEP[[#This Row],[Mat Inicial]]","v":8.6956521739130432E-2},"45","Dpto. Educación",71799645,"Herron Gloria Mauricio","TC","PR"]
[6778,"EDU4145","DIDACTICA DEL PENSAMIENTO ALEA",1,202330,1,1,0,0,0,{"$f":"+BD_DEP[[#This Row],[totalp]]/BD_DEP[[#This Row],[Mat Inicial]]","v":0},{"$f":"+BD_DEP[[#This Row],[totalr]]/BD_DEP[[#This Row],[Mat Inicial]]","v":0},{"$f":"+BD_DEP[[#This Row],[repi]]/BD_DEP[[#This Row],[Mat Inicial]]","v":0},"45","Dpto. Educación",72166574,"Rojas Alvarez Carlos","TC","PR"]
[1764,"EDU4540","DIDACTICA EN EDUCACION INFANTI",1,202330,10,10,1,0,1,{"$f":"+BD_DEP[[#This Row],[totalp]]/BD_DEP[[#This Row],[Mat Inicial]]","v":0.1},{"$f":"+BD_DEP[[#This Row],[totalr]]/BD_DEP[[#This Row],[Mat Inicial]]","v":0},{"$f":"+BD_DEP[[#This Row],[repi]]/BD_DEP[[#This Row],[Mat Inicial]]","v":0.1},"45","Dpto. Educación",79663741,"Amador Rodriguez Rafael","TC","PR"]
[1744,"EDU0098","DIVERSIDAD E INCLUSION",1,202330,9,9,0,0,0,{"$f":"+BD_DEP[[#This Row],[totalp]]/BD_DEP[[#This Row],[Mat Inicial]]","v":0},{"$f":"+BD_DEP[[#This Row],[totalr]]/BD_DEP[[#This Row],[Mat Inicial]]","v":0},{"$f":"+BD_DEP[[#This Row],[repi]]/BD_DEP[[#This Row],[Mat Inicial]]","v":0},"45","Dpto. Educación",22449083,"Castro Alvarez Liliana","TC","PR"]
[1765,"EDU4541","DLLO DE LENGUAJE EXPRESIVOS I",1,202330,7,7,0,0,0,{"$f":"+BD_DEP[[#This Row],[totalp]]/BD_DEP[[#This Row],[Mat Inicial]]","v":0},{"$f":"+BD_DEP[[#This Row],[totalr]]/BD_DEP[[#This Row],[Mat Inicial]]","v":0},{"$f":"+BD_DEP[[#This Row],[repi]]/BD_DEP[[#This Row],[Mat Inicial]]","v":0},"45","Dpto. Educación",22549108,"Escalante Barrios Elsa","TC","PR"]
[1678,"ECA0060","EDUCACION EN EL CARIBE",2,202330,39,36,0,3,3,{"$f":"+BD_DEP[[#This Row],[totalp]]/BD_DEP[[#This Row],[Mat Inicial]]","v":0},{"$f":"+BD_DEP[[#This Row],[totalr]]/BD_DEP[[#This Row],[Mat Inicial]]","v":7.6923076923076927E-2},{"$f":"+BD_DEP[[#This Row],[repi]]/BD_DEP[[#This Row],[Mat Inicial]]","v":7.6923076923076927E-2},"45","Dpto. Educación",80198496,"PARRA HEREDIA JUAN","TC","PR"]
[1756,"EDU4505","EDUCACION INTERCULTURAL",1,202330,31,31,0,0,0,{"$f":"+BD_DEP[[#This Row],[totalp]]/BD_DEP[[#This Row],[Mat Inicial]]","v":0},{"$f":"+BD_DEP[[#This Row],[totalr]]/BD_DEP[[#This Row],[Mat Inicial]]","v":0},{"$f":"+BD_DEP[[#This Row],[repi]]/BD_DEP[[#This Row],[Mat Inicial]]","v":0},"45","Dpto. Educación",30568160,"Ricardo Barreto Carmen","TC","PR"]
[4318,"EDU4529","EDUCACION Y APRENDIZAJE",1,202330,9,9,0,0,0,{"$f":"+BD_DEP[[#This Row],[totalp]]/BD_DEP[[#This Row],[Mat Inicial]]","v":0},{"$f":"+BD_DEP[[#This Row],[totalr]]/BD_DEP[[#This Row],[Mat Inicial]]","v":0},{"$f":"+BD_DEP[[#This Row],[repi]]/BD_DEP[[#This Row],[Mat Inicial]]","v":0},"45","Dpto. Educación",91268295,"Aparicio Serrano Jose","TC","PR"]
[1747,"EDU0103","EPISTEMOLOGIA DE LA EDUCACION",1,202330,13,13,0,0,0,{"$f":"+BD_DEP[[#This Row],[totalp]]/BD_DEP[[#This Row],[Mat Inicial]]","v":0},{"$f":"+BD_DEP[[#This Row],[totalr]]/BD_DEP[[#This Row],[Mat Inicial]]","v":0},{"$f":"+BD_DEP[[#This Row],[repi]]/BD_DEP[[#This Row],[Mat Inicial]]","v":0},"45","Dpto. Educación",79663741,"Amador Rodriguez Rafael","TC","PR"]
[1748,"EDU2100","EVALUACION EDUCATIVA",1,202330,21,20,3,1,4,{"$f":"+BD_DEP[[#This Row],[totalp]]/BD_DEP[[#This Row],[Mat Inicial]]","v":0.14285714285714285},{"$f":"+BD_DEP[[#This Row],[totalr]]/BD_DEP[[#This Row],[Mat Inicial]]","v":4.7619047619047616E-2},{"$f":"+BD_DEP[[#This Row],[repi]]/BD_DEP[[#This Row],[Mat Inicial]]","v":0.19047619047619047},"45","Dpto. Educación",32698590,"Borjas Monica","TC","PR"]
[1768,"EDU4544","EXPERIENCIA  EN INFANCIA Y FAM",1,202330,9,9,1,0,1,{"$f":"+BD_DEP[[#This Row],[totalp]]/BD_DEP[[#This Row],[Mat Inicial]]","v":0.1111111111111111},{"$f":"+BD_DEP[[#This Row],[totalr]]/BD_DEP[[#This Row],[Mat Inicial]]","v":0},{"$f":"+BD_DEP[[#This Row],[repi]]/BD_DEP[[#This Row],[Mat Inicial]]","v":0.1111111111111111},"45","Dpto. Educación",22449083,"Castro Alvarez Liliana","TC","PR"]
[1771,"EDU4547","GERENCIA DE PROYECTOS EDUCATIV",1,202330,11,10,1,1,2,{"$f":"+BD_DEP[[#This Row],[totalp]]/BD_DEP[[#This Row],[Mat Inicial]]","v":9.0909090909090912E-2},{"$f":"+BD_DEP[[#This Row],[totalr]]/BD_DEP[[#This Row],[Mat Inicial]]","v":9.0909090909090912E-2},{"$f":"+BD_DEP[[#This Row],[repi]]/BD_DEP[[#This Row],[Mat Inicial]]","v":0.18181818181818182},"45","Dpto. Educación",30568160,"Ricardo Barreto Carmen","TC","PR"]
[2378,"INV0005","INV. EDUCATIV Y PEDAGOGICA",1,202330,9,8,0,1,1,{"$f":"+BD_DEP[[#This Row],[totalp]]/BD_DEP[[#This Row],[Mat Inicial]]","v":0},{"$f":"+BD_DEP[[#This Row],[totalr]]/BD_DEP[[#This Row],[Mat Inicial]]","v":0.1111111111111111},{"$f":"+BD_DEP[[#This Row],[repi]]/BD_DEP[[#This Row],[Mat Inicial]]","v":0.1111111111111111},"45","Dpto. Educación",8026054,"VIEIRA MEJIA CAMILO","TC","PR"]
[1762,"EDU4538","INVESTIGACION EDUCATIVA II",2,202330,10,10,0,0,0,{"$f":"+BD_DEP[[#This Row],[totalp]]/BD_DEP[[#This Row],[Mat Inicial]]","v":0},{"$f":"+BD_DEP[[#This Row],[totalr]]/BD_DEP[[#This Row],[Mat Inicial]]","v":0},{"$f":"+BD_DEP[[#This Row],[repi]]/BD_DEP[[#This Row],[Mat Inicial]]","v":0},"45","Dpto. Educación",80198496,"PARRA HEREDIA JUAN","TC","PR"]
[1760,"EDU4536","JUEGO, LUDICA Y EDUCACIÓN",1,202330,9,9,0,0,0,{"$f":"+BD_DEP[[#This Row],[totalp]]/BD_DEP[[#This Row],[Mat Inicial]]","v":0},{"$f":"+BD_DEP[[#This Row],[totalr]]/BD_DEP[[#This Row],[Mat Inicial]]","v":0},{"$f":"+BD_DEP[[#This Row],[repi]]/BD_DEP[[#This Row],[Mat Inicial]]","v":0},"45","Dpto. Educación",22549108,"Escalante Barrios Elsa","TC","PR"]
[1746,"EDU0102","LENGUAJES EXPRESIVOS I",1,202330,14,13,0,1,1,{"$f":"+BD_DEP[[#This Row],[totalp]]/BD_DEP[[#This Row],[Mat Inicial]]","v":0},{"$f":"+BD_DEP[[#This Row],[totalr]]/BD_DEP[[#This Row],[Mat Inicial]]","v":7.1428571428571425E-2},{"$f":"+BD_DEP[[#This Row],[repi]]/BD_DEP[[#This Row],[Mat Inicial]]","v":7.1428571428571425E-2},"45","Dpto. Educación",22549108,"Escalante Barrios Elsa","TC","PR"]
[1745,"EDU0101","PEDAGOGIA Y CONTEXTO SOCIOEDUC",1,202330,10,10,0,0,0,{"$f":"+BD_DEP[[#This Row],[totalp]]/BD_DEP[[#This Row],[Mat Inicial]]","v":0},{"$f":"+BD_DEP[[#This Row],[totalr]]/BD_DEP[[#This Row],[Mat Inicial]]","v":0},{"$f":"+BD_DEP[[#This Row],[repi]]/BD_DEP[[#This Row],[Mat Inicial]]","v":0},"45","Dpto. Educación",22520152,"Lafaurie Molina Andrea","TC","PR"]
[1775,"EDU7150","TEORIA Y DISEÑO CURRICULAR",1,202330,8,8,0,0,0,{"$f":"+BD_DEP[[#This Row],[totalp]]/BD_DEP[[#This Row],[Mat Inicial]]","v":0},{"$f":"+BD_DEP[[#This Row],[totalr]]/BD_DEP[[#This Row],[Mat Inicial]]","v":0},{"$f":"+BD_DEP[[#This Row],[repi]]/BD_DEP[[#This Row],[Mat Inicial]]","v":0},"45","Dpto. Educación",32698590,"Borjas Monica","TC","PR"]
[1152,"IDS0036","APRENDER INDAGAR ACT CONTEXTO.",1,202330,26,25,1,1,2,{"$f":"+BD_DEP[[#This Row],[totalp]]/BD_DEP[[#This Row],[Mat Inicial]]","v":3.8461538461538464E-2},{"$f":"+BD_DEP[[#This Row],[totalr]]/BD_DEP[[#This Row],[Mat Inicial]]","v":3.8461538461538464E-2},{"$f":"+BD_DEP[[#This Row],[repi]]/BD_DEP[[#This Row],[Mat Inicial]]","v":7.6923076923076927E-2},"45","Dpto. Educación",32871568,"Orozco Marbello Arlet","CA","PR"]
[1838,"ETI1031","AUTOCONOCIMIENTO Y FELICIDAD",1,202330,37,35,2,2,4,{"$f":"+BD_DEP[[#This Row],[totalp]]/BD_DEP[[#This Row],[Mat Inicial]]","v":5.4054054054054057E-2},{"$f":"+BD_DEP[[#This Row],[totalr]]/BD_DEP[[#This Row],[Mat Inicial]]","v":5.4054054054054057E-2},{"$f":"+BD_DEP[[#This Row],[repi]]/BD_DEP[[#This Row],[Mat Inicial]]","v":0.10810810810810811},"45","Dpto. Educación",7465804,"Acosta Barros Carlos","CA","PR"]
[1839,"ETI1031","AUTOCONOCIMIENTO Y FELICIDAD",2,202330,40,39,1,1,2,{"$f":"+BD_DEP[[#This Row],[totalp]]/BD_DEP[[#This Row],[Mat Inicial]]","v":2.5000000000000001E-2},{"$f":"+BD_DEP[[#This Row],[totalr]]/BD_DEP[[#This Row],[Mat Inicial]]","v":2.5000000000000001E-2},{"$f":"+BD_DEP[[#This Row],[repi]]/BD_DEP[[#This Row],[Mat Inicial]]","v":0.05},"45","Dpto. Educación",7465804,"Acosta Barros Carlos","CA","PR"]
[2146,"IDS0045","COMO LEER  MEDIOS MASIVOS?",3,202330,40,40,0,0,0,{"$f":"+BD_DEP[[#This Row],[totalp]]/BD_DEP[[#This Row],[Mat Inicial]]","v":0},{"$f":"+BD_DEP[[#This Row],[totalr]]/BD_DEP[[#This Row],[Mat Inicial]]","v":0},{"$f":"+BD_DEP[[#This Row],[repi]]/BD_DEP[[#This Row],[Mat Inicial]]","v":0},"45","Dpto. Educación",32843634,"Manotas Salcedo Edna","CA","PR"]
[4317,"EDU0105","CORRIENTES PEDAGOGICAS CONTEMP",1,202330,10,10,2,0,2,{"$f":"+BD_DEP[[#This Row],[totalp]]/BD_DEP[[#This Row],[Mat Inicial]]","v":0.2},{"$f":"+BD_DEP[[#This Row],[totalr]]/BD_DEP[[#This Row],[Mat Inicial]]","v":0},{"$f":"+BD_DEP[[#This Row],[repi]]/BD_DEP[[#This Row],[Mat Inicial]]","v":0.2},"45","Dpto. Educación",32453121,"Osorio Villegas Margarita","CA","PR"]
[1753,"EDU4360","DESARROLLO DEL LENGUAJE",1,202330,21,21,3,0,3,{"$f":"+BD_DEP[[#This Row],[totalp]]/BD_DEP[[#This Row],[Mat Inicial]]","v":0.14285714285714285},{"$f":"+BD_DEP[[#This Row],[totalr]]/BD_DEP[[#This Row],[Mat Inicial]]","v":0},{"$f":"+BD_DEP[[#This Row],[repi]]/BD_DEP[[#This Row],[Mat Inicial]]","v":0.14285714285714285},"45","Dpto. Educación",32797617,"Andrade Gonzalez Lina","CA","PR"]
[4320,"EDU4533","DESARROLLO DEL PENSAMIENTO",1,202330,9,9,2,0,2,{"$f":"+BD_DEP[[#This Row],[totalp]]/BD_DEP[[#This Row],[Mat Inicial]]","v":0.22222222222222221},{"$f":"+BD_DEP[[#This Row],[totalr]]/BD_DEP[[#This Row],[Mat Inicial]]","v":0},{"$f":"+BD_DEP[[#This Row],[repi]]/BD_DEP[[#This Row],[Mat Inicial]]","v":0.22222222222222221},"45","Dpto. Educación",8663747,"IRIARTE DIAZ GRANADOS FERNANDO","CA","PR"]
[1758,"EDU4531","DESARROLLO MOTRIZ",1,202330,14,14,1,0,1,{"$f":"+BD_DEP[[#This Row],[totalp]]/BD_DEP[[#This Row],[Mat Inicial]]","v":7.1428571428571425E-2},{"$f":"+BD_DEP[[#This Row],[totalr]]/BD_DEP[[#This Row],[Mat Inicial]]","v":0},{"$f":"+BD_DEP[[#This Row],[repi]]/BD_DEP[[#This Row],[Mat Inicial]]","v":7.1428571428571425E-2},"45","Dpto. Educación",52272494,"Peñaloza Suarez Eliana","CA","PR"]
[1750,"EDU4112","DIDAC DE LA LECTOESCRITURA",1,202330,8,8,1,0,1,{"$f":"+BD_DEP[[#This Row],[totalp]]/BD_DEP[[#This Row],[Mat Inicial]]","v":0.125},{"$f":"+BD_DEP[[#This Row],[totalr]]/BD_DEP[[#This Row],[Mat Inicial]]","v":0},{"$f":"+BD_DEP[[#This Row],[repi]]/BD_DEP[[#This Row],[Mat Inicial]]","v":0.125},"45","Dpto. Educación",32765772,"Mendoza Barraza Liliana","CA","PR"]
[1766,"EDU4542","DLLO DE LENGUAJE EXPRESIVOS II",1,202330,21,21,2,0,2,{"$f":"+BD_DEP[[#This Row],[totalp]]/BD_DEP[[#This Row],[Mat Inicial]]","v":9.5238095238095233E-2},{"$f":"+BD_DEP[[#This Row],[totalr]]/BD_DEP[[#This Row],[Mat Inicial]]","v":0},{"$f":"+BD_DEP[[#This Row],[repi]]/BD_DEP[[#This Row],[Mat Inicial]]","v":9.5238095238095233E-2},"45","Dpto. Educación",8647588,"Narvaez Goenaga Valmiro","CA","PR"]
[4316,"EDU0104","EDUC Y NEURODESARROLLO INFANT",1,202330,8,8,0,0,0,{"$f":"+BD_DEP[[#This Row],[totalp]]/BD_DEP[[#This Row],[Mat Inicial]]","v":0},{"$f":"+BD_DEP[[#This Row],[totalr]]/BD_DEP[[#This Row],[Mat Inicial]]","v":0},{"$f":"+BD_DEP[[#This Row],[repi]]/BD_DEP[[#This Row],[Mat Inicial]]","v":0},"45","Dpto. Educación",1143157920,"Quintero Manes Roxana","CA","PR"]
[1677,"ECA0060","EDUCACION EN EL CARIBE",1,202330,33,31,0,2,2,{"$f":"+BD_DEP[[#This Row],[totalp]]/BD_DEP[[#This Row],[Mat Inicial]]","v":0},{"$f":"+BD_DEP[[#This Row],[totalr]]/BD_DEP[[#This Row],[Mat Inicial]]","v":6.0606060606060608E-2},{"$f":"+BD_DEP[[#This Row],[repi]]/BD_DEP[[#This Row],[Mat Inicial]]","v":6.0606060606060608E-2},"45","Dpto. Educación",72253006,"Valencia Cobo Jorge","CA","PR"]
[1755,"EDU4460","E-LEARNING",2,202330,31,31,0,0,0,{"$f":"+BD_DEP[[#This Row],[totalp]]/BD_DEP[[#This Row],[Mat Inicial]]","v":0},{"$f":"+BD_DEP[[#This Row],[totalr]]/BD_DEP[[#This Row],[Mat Inicial]]","v":0},{"$f":"+BD_DEP[[#This Row],[repi]]/BD_DEP[[#This Row],[Mat Inicial]]","v":0},"45","Dpto. Educación",72256617,"Guzman Rivera Jorge","CA","PR"]
[2008,"HIS0020","ESTUDIOS SOBRE INFANCIA  MUNDO",1,202330,39,38,0,1,1,{"$f":"+BD_DEP[[#This Row],[totalp]]/BD_DEP[[#This Row],[Mat Inicial]]","v":0},{"$f":"+BD_DEP[[#This Row],[totalr]]/BD_DEP[[#This Row],[Mat Inicial]]","v":2.564102564102564E-2},{"$f":"+BD_DEP[[#This Row],[repi]]/BD_DEP[[#This Row],[Mat Inicial]]","v":2.564102564102564E-2},"45","Dpto. Educación",1129513063,"Gomez Sobrino Yinays","CA","PR"]
[2010,"HIS0020","ESTUDIOS SOBRE INFANCIA  MUNDO",3,202330,32,32,1,0,1,{"$f":"+BD_DEP[[#This Row],[totalp]]/BD_DEP[[#This Row],[Mat Inicial]]","v":3.125E-2},{"$f":"+BD_DEP[[#This Row],[totalr]]/BD_DEP[[#This Row],[Mat Inicial]]","v":0},{"$f":"+BD_DEP[[#This Row],[repi]]/BD_DEP[[#This Row],[Mat Inicial]]","v":3.125E-2},"45","Dpto. Educación",1140843994,"Navarro Angarita Vanessa","CA","PR"]
[1773,"EDU4550","EXPERIENCIA EN GESTION SOCIAL",1,202330,10,9,0,1,1,{"$f":"+BD_DEP[[#This Row],[totalp]]/BD_DEP[[#This Row],[Mat Inicial]]","v":0},{"$f":"+BD_DEP[[#This Row],[totalr]]/BD_DEP[[#This Row],[Mat Inicial]]","v":0.1},{"$f":"+BD_DEP[[#This Row],[repi]]/BD_DEP[[#This Row],[Mat Inicial]]","v":0.1},"45","Dpto. Educación",55306635,"Cifuentes Bernal Belkis","CA","PR"]
[1770,"EDU4546","EXPERIENCIA EN INFANCIA Y ESCU",1,202330,17,17,0,0,0,{"$f":"+BD_DEP[[#This Row],[totalp]]/BD_DEP[[#This Row],[Mat Inicial]]","v":0},{"$f":"+BD_DEP[[#This Row],[totalr]]/BD_DEP[[#This Row],[Mat Inicial]]","v":0},{"$f":"+BD_DEP[[#This Row],[repi]]/BD_DEP[[#This Row],[Mat Inicial]]","v":0},"45","Dpto. Educación",22668474,"Haddad Larios Isabel","CA","PR"]
[1761,"EDU4537","FAMILIA, ESCUELA Y SOCIEDAD",1,202330,11,10,0,1,1,{"$f":"+BD_DEP[[#This Row],[totalp]]/BD_DEP[[#This Row],[Mat Inicial]]","v":0},{"$f":"+BD_DEP[[#This Row],[totalr]]/BD_DEP[[#This Row],[Mat Inicial]]","v":9.0909090909090912E-2},{"$f":"+BD_DEP[[#This Row],[repi]]/BD_DEP[[#This Row],[Mat Inicial]]","v":9.0909090909090912E-2},"45","Dpto. Educación",55306635,"Cifuentes Bernal Belkis","CA","PR"]
[1769,"EDU4545","INCLUSION Y EDUCACION",1,202330,21,19,2,2,4,{"$f":"+BD_DEP[[#This Row],[totalp]]/BD_DEP[[#This Row],[Mat Inicial]]","v":9.5238095238095233E-2},{"$f":"+BD_DEP[[#This Row],[totalr]]/BD_DEP[[#This Row],[Mat Inicial]]","v":9.5238095238095233E-2},{"$f":"+BD_DEP[[#This Row],[repi]]/BD_DEP[[#This Row],[Mat Inicial]]","v":0.19047619047619047},"45","Dpto. Educación",1045731166,"Llanos Soto Rossana","CA","PR"]
[1743,"EDU0097","LENGUAJES EXPRESIVOS II",1,202330,10,10,1,0,1,{"$f":"+BD_DEP[[#This Row],[totalp]]/BD_DEP[[#This Row],[Mat Inicial]]","v":0.1},{"$f":"+BD_DEP[[#This Row],[totalr]]/BD_DEP[[#This Row],[Mat Inicial]]","v":0},{"$f":"+BD_DEP[[#This Row],[repi]]/BD_DEP[[#This Row],[Mat Inicial]]","v":0.1},"45","Dpto. Educación",8647588,"Narvaez Goenaga Valmiro","CA","PR"]
[1772,"EDU4548","MEDIACIONES EN EDUCACION Y TIC",1,202330,11,10,1,1,2,{"$f":"+BD_DEP[[#This Row],[totalp]]/BD_DEP[[#This Row],[Mat Inicial]]","v":9.0909090909090912E-2},{"$f":"+BD_DEP[[#This Row],[totalr]]/BD_DEP[[#This Row],[Mat Inicial]]","v":9.0909090909090912E-2},{"$f":"+BD_DEP[[#This Row],[repi]]/BD_DEP[[#This Row],[Mat Inicial]]","v":0.18181818181818182},"45","Dpto. Educación",1143459480,"Velasquez Montero Britny","CA","PR"]
[1759,"EDU4534","MODELOS PEDAGOGICOS",1,202330,13,13,0,0,0,{"$f":"+BD_DEP[[#This Row],[totalp]]/BD_DEP[[#This Row],[Mat Inicial]]","v":0},{"$f":"+BD_DEP[[#This Row],[totalr]]/BD_DEP[[#This Row],[Mat Inicial]]","v":0},{"$f":"+BD_DEP[[#This Row],[repi]]/BD_DEP[[#This Row],[Mat Inicial]]","v":0},"45","Dpto. Educación",32453121,"Osorio Villegas Margarita","CA","PR"]
[1749,"EDU2180","ORGANIZACION CENTRO ESCOLAR",1,202330,10,10,0,0,0,{"$f":"+BD_DEP[[#This Row],[totalp]]/BD_DEP[[#This Row],[Mat Inicial]]","v":0},{"$f":"+BD_DEP[[#This Row],[totalr]]/BD_DEP[[#This Row],[Mat Inicial]]","v":0},{"$f":"+BD_DEP[[#This Row],[repi]]/BD_DEP[[#This Row],[Mat Inicial]]","v":0},"45","Dpto. Educación",22668474,"Haddad Larios Isabel","CA","PR"]
[1153,"IDS0051","PEN. COMPUTACIONAL PARA TODOS",1,202330,31,31,1,0,1,{"$f":"+BD_DEP[[#This Row],[totalp]]/BD_DEP[[#This Row],[Mat Inicial]]","v":3.2258064516129031E-2},{"$f":"+BD_DEP[[#This Row],[totalr]]/BD_DEP[[#This Row],[Mat Inicial]]","v":0},{"$f":"+BD_DEP[[#This Row],[repi]]/BD_DEP[[#This Row],[Mat Inicial]]","v":3.2258064516129031E-2},"45","Dpto. Educación",98710156,"Espinal Duque Alejandro","CA","PR"]
[1794,"ELP8044","PLANEACION Y ORG E-LEARNING",1,202330,31,31,0,0,0,{"$f":"+BD_DEP[[#This Row],[totalp]]/BD_DEP[[#This Row],[Mat Inicial]]","v":0},{"$f":"+BD_DEP[[#This Row],[totalr]]/BD_DEP[[#This Row],[Mat Inicial]]","v":0},{"$f":"+BD_DEP[[#This Row],[repi]]/BD_DEP[[#This Row],[Mat Inicial]]","v":0},"45",{"$f":"+VLOOKUP(BD_DEP[[#This Row],[CODASG]],[2]carga!$C$1:$N$13231,5,FALSE)","v":"Dpto. Educación"},8701321,"Ballesteros Cantillo Blessed","CA","PR"]
[1250,"ADM4471","CREACION DE EMPRESAS",1,202330,21,21,0,0,0,{"$f":"+BD_DEP[[#This Row],[totalp]]/BD_DEP[[#This Row],[Mat Inicial]]","v":0},{"$f":"+BD_DEP[[#This Row],[totalr]]/BD_DEP[[#This Row],[Mat Inicial]]","v":0},{"$f":"+BD_DEP[[#This Row],[repi]]/BD_DEP[[#This Row],[Mat Inicial]]","v":0},16,"Dpto. Emprendim y Management",50907923,"Lopez Lambraño Mariangela","TC","PR"]
[1251,"ADM4471","CREACION DE EMPRESAS",2,202330,32,31,0,1,1,{"$f":"+BD_DEP[[#This Row],[totalp]]/BD_DEP[[#This Row],[Mat Inicial]]","v":0},{"$f":"+BD_DEP[[#This Row],[totalr]]/BD_DEP[[#This Row],[Mat Inicial]]","v":3.125E-2},{"$f":"+BD_DEP[[#This Row],[repi]]/BD_DEP[[#This Row],[Mat Inicial]]","v":3.125E-2},16,"Dpto. Emprendim y Management",50907923,"Lopez Lambraño Mariangela","TC","PR"]
[1252,"ADM4471","CREACION DE EMPRESAS",3,202330,30,30,0,0,0,{"$f":"+BD_DEP[[#This Row],[totalp]]/BD_DEP[[#This Row],[Mat Inicial]]","v":0},{"$f":"+BD_DEP[[#This Row],[totalr]]/BD_DEP[[#This Row],[Mat Inicial]]","v":0},{"$f":"+BD_DEP[[#This Row],[repi]]/BD_DEP[[#This Row],[Mat Inicial]]","v":0},16,"Dpto. Emprendim y Management",50907923,"Lopez Lambraño Mariangela","TC","PR"]
[1254,"ADM4471","CREACION DE EMPRESAS",5,202330,26,25,0,1,1,{"$f":"+BD_DEP[[#This Row],[totalp]]/BD_DEP[[#This Row],[Mat Inicial]]","v":0},{"$f":"+BD_DEP[[#This Row],[totalr]]/BD_DEP[[#This Row],[Mat Inicial]]","v":3.8461538461538464E-2},{"$f":"+BD_DEP[[#This Row],[repi]]/BD_DEP[[#This Row],[Mat Inicial]]","v":3.8461538461538464E-2},16,"Dpto. Emprendim y Management",72008292,"Juliao Esparragoza David","TC","PR"]
[1255,"ADM4471","CREACION DE EMPRESAS",6,202330,24,24,0,0,0,{"$f":"+BD_DEP[[#This Row],[totalp]]/BD_DEP[[#This Row],[Mat Inicial]]","v":0},{"$f":"+BD_DEP[[#This Row],[totalr]]/BD_DEP[[#This Row],[Mat Inicial]]","v":0},{"$f":"+BD_DEP[[#This Row],[repi]]/BD_DEP[[#This Row],[Mat Inicial]]","v":0},16,"Dpto. Emprendim y Management",72008292,"Juliao Esparragoza David","TC","PR"]
[1253,"ADM4471","CREACION DE EMPRESAS",4,202330,24,23,0,1,1,{"$f":"+BD_DEP[[#This Row],[totalp]]/BD_DEP[[#This Row],[Mat Inicial]]","v":0},{"$f":"+BD_DEP[[#This Row],[totalr]]/BD_DEP[[#This Row],[Mat Inicial]]","v":4.1666666666666664E-2},{"$f":"+BD_DEP[[#This Row],[repi]]/BD_DEP[[#This Row],[Mat Inicial]]","v":4.1666666666666664E-2},16,"Dpto. Emprendim y Management",1082839996,"Escorcia Caballero Juan","TC","PR"]
[1203,"ADM0022","DESARROLLO ORGANIZACIONAL",1,202330,20,20,1,0,1,{"$f":"+BD_DEP[[#This Row],[totalp]]/BD_DEP[[#This Row],[Mat Inicial]]","v":0.05},{"$f":"+BD_DEP[[#This Row],[totalr]]/BD_DEP[[#This Row],[Mat Inicial]]","v":0},{"$f":"+BD_DEP[[#This Row],[repi]]/BD_DEP[[#This Row],[Mat Inicial]]","v":0.05},16,"Dpto. Emprendim y Management",22581034,"Diaz Sarmiento Claudia","TC","PR"]
[1204,"ADM0022","DESARROLLO ORGANIZACIONAL",2,202330,27,27,0,0,0,{"$f":"+BD_DEP[[#This Row],[totalp]]/BD_DEP[[#This Row],[Mat Inicial]]","v":0},{"$f":"+BD_DEP[[#This Row],[totalr]]/BD_DEP[[#This Row],[Mat Inicial]]","v":0},{"$f":"+BD_DEP[[#This Row],[repi]]/BD_DEP[[#This Row],[Mat Inicial]]","v":0},16,"Dpto. Emprendim y Management",22581034,"Diaz Sarmiento Claudia","TC","PR"]
[1205,"ADM0022","DESARROLLO ORGANIZACIONAL",3,202330,29,29,1,0,1,{"$f":"+BD_DEP[[#This Row],[totalp]]/BD_DEP[[#This Row],[Mat Inicial]]","v":3.4482758620689655E-2},{"$f":"+BD_DEP[[#This Row],[totalr]]/BD_DEP[[#This Row],[Mat Inicial]]","v":0},{"$f":"+BD_DEP[[#This Row],[repi]]/BD_DEP[[#This Row],[Mat Inicial]]","v":3.4482758620689655E-2},16,"Dpto. Emprendim y Management",72218839,"Muñoz Robles Juan","TC","PR"]
[4338,"IDS0010","DLLO DEL ESPIRITU EMPRENDEDOR",2,202330,40,40,0,0,0,{"$f":"+BD_DEP[[#This Row],[totalp]]/BD_DEP[[#This Row],[Mat Inicial]]","v":0},{"$f":"+BD_DEP[[#This Row],[totalr]]/BD_DEP[[#This Row],[Mat Inicial]]","v":0},{"$f":"+BD_DEP[[#This Row],[repi]]/BD_DEP[[#This Row],[Mat Inicial]]","v":0},16,"Dpto. Emprendim y Management",8797965,"VEGA JURADO JAIDER","TC","PR"]
[4337,"IDS0010","DLLO DEL ESPIRITU EMPRENDEDOR",1,202330,39,38,0,1,1,{"$f":"+BD_DEP[[#This Row],[totalp]]/BD_DEP[[#This Row],[Mat Inicial]]","v":0},{"$f":"+BD_DEP[[#This Row],[totalr]]/BD_DEP[[#This Row],[Mat Inicial]]","v":2.564102564102564E-2},{"$f":"+BD_DEP[[#This Row],[repi]]/BD_DEP[[#This Row],[Mat Inicial]]","v":2.564102564102564E-2},16,"Dpto. Emprendim y Management",32774017,"Pua Del Villar Tatiana","TC","PR"]
[4343,"IDS0010","DLLO DEL ESPIRITU EMPRENDEDOR",7,202330,40,40,0,0,0,{"$f":"+BD_DEP[[#This Row],[totalp]]/BD_DEP[[#This Row],[Mat Inicial]]","v":0},{"$f":"+BD_DEP[[#This Row],[totalr]]/BD_DEP[[#This Row],[Mat Inicial]]","v":0},{"$f":"+BD_DEP[[#This Row],[repi]]/BD_DEP[[#This Row],[Mat Inicial]]","v":0},16,"Dpto. Emprendim y Management",32774017,"Pua Del Villar Tatiana","TC","PR"]
[4341,"IDS0010","DLLO DEL ESPIRITU EMPRENDEDOR",5,202330,40,40,0,0,0,{"$f":"+BD_DEP[[#This Row],[totalp]]/BD_DEP[[#This Row],[Mat Inicial]]","v":0},{"$f":"+BD_DEP[[#This Row],[totalr]]/BD_DEP[[#This Row],[Mat Inicial]]","v":0},{"$f":"+BD_DEP[[#This Row],[repi]]/BD_DEP[[#This Row],[Mat Inicial]]","v":0},16,"Dpto. Emprendim y Management",50907923,"Lopez Lambraño Mariangela","TC","PR"]
[4340,"IDS0010","DLLO DEL ESPIRITU EMPRENDEDOR",4,202330,40,38,2,2,4,{"$f":"+BD_DEP[[#This Row],[totalp]]/BD_DEP[[#This Row],[Mat Inicial]]","v":0.05},{"$f":"+BD_DEP[[#This Row],[totalr]]/BD_DEP[[#This Row],[Mat Inicial]]","v":0.05},{"$f":"+BD_DEP[[#This Row],[repi]]/BD_DEP[[#This Row],[Mat Inicial]]","v":0.1},16,"Dpto. Emprendim y Management",72008292,"Juliao Esparragoza David","TC","PR"]
[4344,"IDS0010","DLLO DEL ESPIRITU EMPRENDEDOR",8,202330,21,20,3,1,4,{"$f":"+BD_DEP[[#This Row],[totalp]]/BD_DEP[[#This Row],[Mat Inicial]]","v":0.14285714285714285},{"$f":"+BD_DEP[[#This Row],[totalr]]/BD_DEP[[#This Row],[Mat Inicial]]","v":4.7619047619047616E-2},{"$f":"+BD_DEP[[#This Row],[repi]]/BD_DEP[[#This Row],[Mat Inicial]]","v":0.19047619047619047},16,"Dpto. Emprendim y Management",72008292,"Juliao Esparragoza David","TC","PR"]
[2136,"IDS0010","DLLO DEL ESPIRITU EMPRENDEDOR",9,202330,29,29,0,0,0,{"$f":"+BD_DEP[[#This Row],[totalp]]/BD_DEP[[#This Row],[Mat Inicial]]","v":0},{"$f":"+BD_DEP[[#This Row],[totalr]]/BD_DEP[[#This Row],[Mat Inicial]]","v":0},{"$f":"+BD_DEP[[#This Row],[repi]]/BD_DEP[[#This Row],[Mat Inicial]]","v":0},16,"Dpto. Emprendim y Management",72218839,"Muñoz Robles Juan","TC","PR"]
[4339,"IDS0010","DLLO DEL ESPIRITU EMPRENDEDOR",3,202330,31,31,0,0,0,{"$f":"+BD_DEP[[#This Row],[totalp]]/BD_DEP[[#This Row],[Mat Inicial]]","v":0},{"$f":"+BD_DEP[[#This Row],[totalr]]/BD_DEP[[#This Row],[Mat Inicial]]","v":0},{"$f":"+BD_DEP[[#This Row],[repi]]/BD_DEP[[#This Row],[Mat Inicial]]","v":0},16,"Dpto. Emprendim y Management",72218839,"Muñoz Robles Juan","TC","PR"]
[4342,"IDS0010","DLLO DEL ESPIRITU EMPRENDEDOR",6,202330,39,37,0,2,2,{"$f":"+BD_DEP[[#This Row],[totalp]]/BD_DEP[[#This Row],[Mat Inicial]]","v":0},{"$f":"+BD_DEP[[#This Row],[totalr]]/BD_DEP[[#This Row],[Mat Inicial]]","v":5.128205128205128E-2},{"$f":"+BD_DEP[[#This Row],[repi]]/BD_DEP[[#This Row],[Mat Inicial]]","v":5.128205128205128E-2},16,"Dpto. Emprendim y Management",1082839996,"Escorcia Caballero Juan","TC","PR"]
[1261,"ADM5215","EMPRENDIMIENTO CORPORATIVO",1,202330,27,27,0,0,0,{"$f":"+BD_DEP[[#This Row],[totalp]]/BD_DEP[[#This Row],[Mat Inicial]]","v":0},{"$f":"+BD_DEP[[#This Row],[totalr]]/BD_DEP[[#This Row],[Mat Inicial]]","v":0},{"$f":"+BD_DEP[[#This Row],[repi]]/BD_DEP[[#This Row],[Mat Inicial]]","v":0},16,"Dpto. Emprendim y Management",329238,"Schmutzler De Uribe Jana","TC","PR"]
[1235,"ADM0189","EVOLUCION  PENSAMIENTO ADTIVO",1,202330,30,30,0,0,0,{"$f":"+BD_DEP[[#This Row],[totalp]]/BD_DEP[[#This Row],[Mat Inicial]]","v":0},{"$f":"+BD_DEP[[#This Row],[totalr]]/BD_DEP[[#This Row],[Mat Inicial]]","v":0},{"$f":"+BD_DEP[[#This Row],[repi]]/BD_DEP[[#This Row],[Mat Inicial]]","v":0},16,"Dpto. Emprendim y Management",8534042,"Gonzalez Barranco Saul","TC","PR"]
[1236,"ADM0189","EVOLUCION  PENSAMIENTO ADTIVO",2,202330,31,30,0,1,1,{"$f":"+BD_DEP[[#This Row],[totalp]]/BD_DEP[[#This Row],[Mat Inicial]]","v":0},{"$f":"+BD_DEP[[#This Row],[totalr]]/BD_DEP[[#This Row],[Mat Inicial]]","v":3.2258064516129031E-2},{"$f":"+BD_DEP[[#This Row],[repi]]/BD_DEP[[#This Row],[Mat Inicial]]","v":3.2258064516129031E-2},16,"Dpto. Emprendim y Management",8534042,"Gonzalez Barranco Saul","TC","PR"]
[1238,"ADM0189","EVOLUCION  PENSAMIENTO ADTIVO",4,202330,15,14,0,1,1,{"$f":"+BD_DEP[[#This Row],[totalp]]/BD_DEP[[#This Row],[Mat Inicial]]","v":0},{"$f":"+BD_DEP[[#This Row],[totalr]]/BD_DEP[[#This Row],[Mat Inicial]]","v":6.6666666666666666E-2},{"$f":"+BD_DEP[[#This Row],[repi]]/BD_DEP[[#This Row],[Mat Inicial]]","v":6.6666666666666666E-2},16,"Dpto. Emprendim y Management",16583292,"ZAPATA DOMINGUEZ ALVARO","TC","PR"]
[1239,"ADM0189","EVOLUCION  PENSAMIENTO ADTIVO",5,202330,30,27,3,3,6,{"$f":"+BD_DEP[[#This Row],[totalp]]/BD_DEP[[#This Row],[Mat Inicial]]","v":0.1},{"$f":"+BD_DEP[[#This Row],[totalr]]/BD_DEP[[#This Row],[Mat Inicial]]","v":0.1},{"$f":"+BD_DEP[[#This Row],[repi]]/BD_DEP[[#This Row],[Mat Inicial]]","v":0.2},16,"Dpto. Emprendim y Management",16583292,"ZAPATA DOMINGUEZ ALVARO","TC","PR"]
[1240,"ADM0189","EVOLUCION  PENSAMIENTO ADTIVO",6,202330,28,26,0,2,2,{"$f":"+BD_DEP[[#This Row],[totalp]]/BD_DEP[[#This Row],[Mat Inicial]]","v":0},{"$f":"+BD_DEP[[#This Row],[totalr]]/BD_DEP[[#This Row],[Mat Inicial]]","v":7.1428571428571425E-2},{"$f":"+BD_DEP[[#This Row],[repi]]/BD_DEP[[#This Row],[Mat Inicial]]","v":7.1428571428571425E-2},16,"Dpto. Emprendim y Management",16583292,"ZAPATA DOMINGUEZ ALVARO","TC","PR"]
[1241,"ADM0189","EVOLUCION  PENSAMIENTO ADTIVO",7,202330,23,22,2,1,3,{"$f":"+BD_DEP[[#This Row],[totalp]]/BD_DEP[[#This Row],[Mat Inicial]]","v":8.6956521739130432E-2},{"$f":"+BD_DEP[[#This Row],[totalr]]/BD_DEP[[#This Row],[Mat Inicial]]","v":4.3478260869565216E-2},{"$f":"+BD_DEP[[#This Row],[repi]]/BD_DEP[[#This Row],[Mat Inicial]]","v":0.13043478260869565},16,"Dpto. Emprendim y Management",16583292,"ZAPATA DOMINGUEZ ALVARO","TC","PR"]
[1237,"ADM0189","EVOLUCION  PENSAMIENTO ADTIVO",3,202330,25,24,0,1,1,{"$f":"+BD_DEP[[#This Row],[totalp]]/BD_DEP[[#This Row],[Mat Inicial]]","v":0},{"$f":"+BD_DEP[[#This Row],[totalr]]/BD_DEP[[#This Row],[Mat Inicial]]","v":0.04},{"$f":"+BD_DEP[[#This Row],[repi]]/BD_DEP[[#This Row],[Mat Inicial]]","v":0.04},16,"Dpto. Emprendim y Management",92515107,"Silva Guerra Harold","TC","PR"]
[1201,"ADM0020","FUNDAMENTOS DE ADMON.",1,202330,36,35,1,1,2,{"$f":"+BD_DEP[[#This Row],[totalp]]/BD_DEP[[#This Row],[Mat Inicial]]","v":2.7777777777777776E-2},{"$f":"+BD_DEP[[#This Row],[totalr]]/BD_DEP[[#This Row],[Mat Inicial]]","v":2.7777777777777776E-2},{"$f":"+BD_DEP[[#This Row],[repi]]/BD_DEP[[#This Row],[Mat Inicial]]","v":5.5555555555555552E-2},16,"Dpto. Emprendim y Management",8534042,"Gonzalez Barranco Saul","TC","PR"]
[1247,"ADM3011","GESTION DEL TALENTO HUMANO",1,202330,21,20,0,1,1,{"$f":"+BD_DEP[[#This Row],[totalp]]/BD_DEP[[#This Row],[Mat Inicial]]","v":0},{"$f":"+BD_DEP[[#This Row],[totalr]]/BD_DEP[[#This Row],[Mat Inicial]]","v":4.7619047619047616E-2},{"$f":"+BD_DEP[[#This Row],[repi]]/BD_DEP[[#This Row],[Mat Inicial]]","v":4.7619047619047616E-2},16,"Dpto. Emprendim y Management",32774017,"Pua Del Villar Tatiana","TC","PR"]
[1249,"ADM3011","GESTION DEL TALENTO HUMANO",3,202330,30,30,1,0,1,{"$f":"+BD_DEP[[#This Row],[totalp]]/BD_DEP[[#This Row],[Mat Inicial]]","v":3.3333333333333333E-2},{"$f":"+BD_DEP[[#This Row],[totalr]]/BD_DEP[[#This Row],[Mat Inicial]]","v":0},{"$f":"+BD_DEP[[#This Row],[repi]]/BD_DEP[[#This Row],[Mat Inicial]]","v":3.3333333333333333E-2},16,"Dpto. Emprendim y Management",32774017,"Pua Del Villar Tatiana","TC","PR"]
[2152,"IDS0070","INNOVACION Y DLLO SOCIOECO",1,202330,40,39,0,1,1,{"$f":"+BD_DEP[[#This Row],[totalp]]/BD_DEP[[#This Row],[Mat Inicial]]","v":0},{"$f":"+BD_DEP[[#This Row],[totalr]]/BD_DEP[[#This Row],[Mat Inicial]]","v":2.5000000000000001E-2},{"$f":"+BD_DEP[[#This Row],[repi]]/BD_DEP[[#This Row],[Mat Inicial]]","v":2.5000000000000001E-2},16,"Dpto. Emprendim y Management",8797965,"VEGA JURADO JAIDER","TC","PR"]
[1242,"ADM2011","PROCESO ADMINISTRATIVO",1,202330,29,29,1,0,1,{"$f":"+BD_DEP[[#This Row],[totalp]]/BD_DEP[[#This Row],[Mat Inicial]]","v":3.4482758620689655E-2},{"$f":"+BD_DEP[[#This Row],[totalr]]/BD_DEP[[#This Row],[Mat Inicial]]","v":0},{"$f":"+BD_DEP[[#This Row],[repi]]/BD_DEP[[#This Row],[Mat Inicial]]","v":3.4482758620689655E-2},16,"Dpto. Emprendim y Management",530652,"Ziritt Trejo Gertrudis","TC","PR"]
[1243,"ADM2011","PROCESO ADMINISTRATIVO",2,202330,30,30,0,0,0,{"$f":"+BD_DEP[[#This Row],[totalp]]/BD_DEP[[#This Row],[Mat Inicial]]","v":0},{"$f":"+BD_DEP[[#This Row],[totalr]]/BD_DEP[[#This Row],[Mat Inicial]]","v":0},{"$f":"+BD_DEP[[#This Row],[repi]]/BD_DEP[[#This Row],[Mat Inicial]]","v":0},16,"Dpto. Emprendim y Management",530652,"Ziritt Trejo Gertrudis","TC","PR"]
[1244,"ADM2011","PROCESO ADMINISTRATIVO",3,202330,30,30,0,0,0,{"$f":"+BD_DEP[[#This Row],[totalp]]/BD_DEP[[#This Row],[Mat Inicial]]","v":0},{"$f":"+BD_DEP[[#This Row],[totalr]]/BD_DEP[[#This Row],[Mat Inicial]]","v":0},{"$f":"+BD_DEP[[#This Row],[repi]]/BD_DEP[[#This Row],[Mat Inicial]]","v":0},16,"Dpto. Emprendim y Management",8534042,"Gonzalez Barranco Saul","TC","PR"]
[1245,"ADM2011","PROCESO ADMINISTRATIVO",5,202330,31,30,0,1,1,{"$f":"+BD_DEP[[#This Row],[totalp]]/BD_DEP[[#This Row],[Mat Inicial]]","v":0},{"$f":"+BD_DEP[[#This Row],[totalr]]/BD_DEP[[#This Row],[Mat Inicial]]","v":3.2258064516129031E-2},{"$f":"+BD_DEP[[#This Row],[repi]]/BD_DEP[[#This Row],[Mat Inicial]]","v":3.2258064516129031E-2},16,"Dpto. Emprendim y Management",72310291,"Mejia Reatiga Camilo","TC","PR"]
[1246,"ADM2011","PROCESO ADMINISTRATIVO",6,202330,26,26,0,0,0,{"$f":"+BD_DEP[[#This Row],[totalp]]/BD_DEP[[#This Row],[Mat Inicial]]","v":0},{"$f":"+BD_DEP[[#This Row],[totalr]]/BD_DEP[[#This Row],[Mat Inicial]]","v":0},{"$f":"+BD_DEP[[#This Row],[repi]]/BD_DEP[[#This Row],[Mat Inicial]]","v":0},16,"Dpto. Emprendim y Management",72310291,"Mejia Reatiga Camilo","TC","PR"]
[1211,"ADM0033","RESPON. SOCIAL EMPRESARIAL",1,202330,21,21,0,0,0,{"$f":"+BD_DEP[[#This Row],[totalp]]/BD_DEP[[#This Row],[Mat Inicial]]","v":0},{"$f":"+BD_DEP[[#This Row],[totalr]]/BD_DEP[[#This Row],[Mat Inicial]]","v":0},{"$f":"+BD_DEP[[#This Row],[repi]]/BD_DEP[[#This Row],[Mat Inicial]]","v":0},16,"Dpto. Emprendim y Management",72310291,"Mejia Reatiga Camilo","TC","PR"]
[1212,"ADM0033","RESPON. SOCIAL EMPRESARIAL",2,202330,16,16,0,0,0,{"$f":"+BD_DEP[[#This Row],[totalp]]/BD_DEP[[#This Row],[Mat Inicial]]","v":0},{"$f":"+BD_DEP[[#This Row],[totalr]]/BD_DEP[[#This Row],[Mat Inicial]]","v":0},{"$f":"+BD_DEP[[#This Row],[repi]]/BD_DEP[[#This Row],[Mat Inicial]]","v":0},16,"Dpto. Emprendim y Management",72310291,"Mejia Reatiga Camilo","TC","PR"]
[1213,"ADM0033","RESPON. SOCIAL EMPRESARIAL",3,202330,14,14,0,0,0,{"$f":"+BD_DEP[[#This Row],[totalp]]/BD_DEP[[#This Row],[Mat Inicial]]","v":0},{"$f":"+BD_DEP[[#This Row],[totalr]]/BD_DEP[[#This Row],[Mat Inicial]]","v":0},{"$f":"+BD_DEP[[#This Row],[repi]]/BD_DEP[[#This Row],[Mat Inicial]]","v":0},16,"Dpto. Emprendim y Management",1140905307,"MORENO FREITES ZAHIRA","TC","PR"]
[1214,"ADM0033","RESPON. SOCIAL EMPRESARIAL",4,202330,28,28,0,0,0,{"$f":"+BD_DEP[[#This Row],[totalp]]/BD_DEP[[#This Row],[Mat Inicial]]","v":0},{"$f":"+BD_DEP[[#This Row],[totalr]]/BD_DEP[[#This Row],[Mat Inicial]]","v":0},{"$f":"+BD_DEP[[#This Row],[repi]]/BD_DEP[[#This Row],[Mat Inicial]]","v":0},16,"Dpto. Emprendim y Management",1140905307,"MORENO FREITES ZAHIRA","TC","PR"]
[1200,"ADM0019","STRATEGIC MAGEMENT",3,202330,28,28,0,0,0,{"$f":"+BD_DEP[[#This Row],[totalp]]/BD_DEP[[#This Row],[Mat Inicial]]","v":0},{"$f":"+BD_DEP[[#This Row],[totalr]]/BD_DEP[[#This Row],[Mat Inicial]]","v":0},{"$f":"+BD_DEP[[#This Row],[repi]]/BD_DEP[[#This Row],[Mat Inicial]]","v":0},16,"Dpto. Emprendim y Management",22493620,"MARQUEZ RODRÍGUEZ PATRICIA","TC","PR"]
[1199,"ADM0019","STRATEGIC MAGEMENT",2,202330,29,27,0,2,2,{"$f":"+BD_DEP[[#This Row],[totalp]]/BD_DEP[[#This Row],[Mat Inicial]]","v":0},{"$f":"+BD_DEP[[#This Row],[totalr]]/BD_DEP[[#This Row],[Mat Inicial]]","v":6.8965517241379309E-2},{"$f":"+BD_DEP[[#This Row],[repi]]/BD_DEP[[#This Row],[Mat Inicial]]","v":6.8965517241379309E-2},16,"Dpto. Emprendim y Management",72164491,"Ibarra Consuegra Octavio","TC","PR"]
[1287,"ADM9774","CORPORATE GOVERNMENT",1,202330,8,8,0,0,0,{"$f":"+BD_DEP[[#This Row],[totalp]]/BD_DEP[[#This Row],[Mat Inicial]]","v":0},{"$f":"+BD_DEP[[#This Row],[totalr]]/BD_DEP[[#This Row],[Mat Inicial]]","v":0},{"$f":"+BD_DEP[[#This Row],[repi]]/BD_DEP[[#This Row],[Mat Inicial]]","v":0},16,"Dpto. Emprendim y Management",8487575,"Mendoza Puccini Carlos","CA","PR"]
[1207,"ADM0023","DEVELOP. AND ORG. CULTURE",1,202330,21,21,0,0,0,{"$f":"+BD_DEP[[#This Row],[totalp]]/BD_DEP[[#This Row],[Mat Inicial]]","v":0},{"$f":"+BD_DEP[[#This Row],[totalr]]/BD_DEP[[#This Row],[Mat Inicial]]","v":0},{"$f":"+BD_DEP[[#This Row],[repi]]/BD_DEP[[#This Row],[Mat Inicial]]","v":0},16,"Dpto. Emprendim y Management",79786689,"GARCIA CUELLO JAIME","CA","PR"]
[2137,"IDS0010","DLLO DEL ESPIRITU EMPRENDEDOR",10,202330,29,29,1,0,1,{"$f":"+BD_DEP[[#This Row],[totalp]]/BD_DEP[[#This Row],[Mat Inicial]]","v":3.4482758620689655E-2},{"$f":"+BD_DEP[[#This Row],[totalr]]/BD_DEP[[#This Row],[Mat Inicial]]","v":0},{"$f":"+BD_DEP[[#This Row],[repi]]/BD_DEP[[#This Row],[Mat Inicial]]","v":3.4482758620689655E-2},16,"Dpto. Emprendim y Management",72200396,"Matiz Bernal Harry","CA","PR"]
[1285,"ADM9772","E-MANAGEMENT",1,202330,7,7,0,0,0,{"$f":"+BD_DEP[[#This Row],[totalp]]/BD_DEP[[#This Row],[Mat Inicial]]","v":0},{"$f":"+BD_DEP[[#This Row],[totalr]]/BD_DEP[[#This Row],[Mat Inicial]]","v":0},{"$f":"+BD_DEP[[#This Row],[repi]]/BD_DEP[[#This Row],[Mat Inicial]]","v":0},16,"Dpto. Emprendim y Management",72184534,"Perez Bossio Jorge","CA","PR"]
[1262,"ADM5230","FINANZAS PARA NUEVAS EMPRESAS",1,202330,28,28,0,0,0,{"$f":"+BD_DEP[[#This Row],[totalp]]/BD_DEP[[#This Row],[Mat Inicial]]","v":0},{"$f":"+BD_DEP[[#This Row],[totalr]]/BD_DEP[[#This Row],[Mat Inicial]]","v":0},{"$f":"+BD_DEP[[#This Row],[repi]]/BD_DEP[[#This Row],[Mat Inicial]]","v":0},16,"Dpto. Emprendim y Management",18009859,"Ortega De La Rosa Jorge","CA","PR"]
[1263,"ADM5235","INTERNAC DE NUEVAS EMPRESAS",1,202330,29,29,0,0,0,{"$f":"+BD_DEP[[#This Row],[totalp]]/BD_DEP[[#This Row],[Mat Inicial]]","v":0},{"$f":"+BD_DEP[[#This Row],[totalr]]/BD_DEP[[#This Row],[Mat Inicial]]","v":0},{"$f":"+BD_DEP[[#This Row],[repi]]/BD_DEP[[#This Row],[Mat Inicial]]","v":0},16,"Dpto. Emprendim y Management",79786689,"GARCIA CUELLO JAIME","CA","PR"]
[1286,"ADM9773","MANAGEMENT AND CONTROL",1,202330,6,6,0,0,0,{"$f":"+BD_DEP[[#This Row],[totalp]]/BD_DEP[[#This Row],[Mat Inicial]]","v":0},{"$f":"+BD_DEP[[#This Row],[totalr]]/BD_DEP[[#This Row],[Mat Inicial]]","v":0},{"$f":"+BD_DEP[[#This Row],[repi]]/BD_DEP[[#This Row],[Mat Inicial]]","v":0},16,"Dpto. Emprendim y Management",1045720479,"Molinares Gomez Adriana","CA","PR"]
[1209,"ADM0031","ORG. AND THE SOCIAL SYSTEM",1,202330,21,21,0,0,0,{"$f":"+BD_DEP[[#This Row],[totalp]]/BD_DEP[[#This Row],[Mat Inicial]]","v":0},{"$f":"+BD_DEP[[#This Row],[totalr]]/BD_DEP[[#This Row],[Mat Inicial]]","v":0},{"$f":"+BD_DEP[[#This Row],[repi]]/BD_DEP[[#This Row],[Mat Inicial]]","v":0},16,"Dpto. Emprendim y Management",1045720479,"Molinares Gomez Adriana","CA","PR"]
[1210,"ADM0032","ORGANIZATIONAL DESIGN",1,202330,20,20,0,0,0,{"$f":"+BD_DEP[[#This Row],[totalp]]/BD_DEP[[#This Row],[Mat Inicial]]","v":0},{"$f":"+BD_DEP[[#This Row],[totalr]]/BD_DEP[[#This Row],[Mat Inicial]]","v":0},{"$f":"+BD_DEP[[#This Row],[repi]]/BD_DEP[[#This Row],[Mat Inicial]]","v":0},16,"Dpto. Emprendim y Management",79786689,"GARCIA CUELLO JAIME","CA","PR"]
[1196,"ADM0018","PROJECT MANAGEMENT",3,202330,22,21,0,1,1,{"$f":"+BD_DEP[[#This Row],[totalp]]/BD_DEP[[#This Row],[Mat Inicial]]","v":0},{"$f":"+BD_DEP[[#This Row],[totalr]]/BD_DEP[[#This Row],[Mat Inicial]]","v":4.5454545454545456E-2},{"$f":"+BD_DEP[[#This Row],[repi]]/BD_DEP[[#This Row],[Mat Inicial]]","v":4.5454545454545456E-2},16,"Dpto. Emprendim y Management",18009859,"Ortega De La Rosa Jorge","CA","PR"]
[1194,"ADM0018","PROJECT MANAGEMENT",1,202330,8,8,0,0,0,{"$f":"+BD_DEP[[#This Row],[totalp]]/BD_DEP[[#This Row],[Mat Inicial]]","v":0},{"$f":"+BD_DEP[[#This Row],[totalr]]/BD_DEP[[#This Row],[Mat Inicial]]","v":0},{"$f":"+BD_DEP[[#This Row],[repi]]/BD_DEP[[#This Row],[Mat Inicial]]","v":0},16,"Dpto. Emprendim y Management",72308519,"Saavedra Camerano Andres","CA","PR"]
[1195,"ADM0018","PROJECT MANAGEMENT",2,202330,17,14,0,3,3,{"$f":"+BD_DEP[[#This Row],[totalp]]/BD_DEP[[#This Row],[Mat Inicial]]","v":0},{"$f":"+BD_DEP[[#This Row],[totalr]]/BD_DEP[[#This Row],[Mat Inicial]]","v":0.17647058823529413},{"$f":"+BD_DEP[[#This Row],[repi]]/BD_DEP[[#This Row],[Mat Inicial]]","v":0.17647058823529413},16,"Dpto. Emprendim y Management",72308519,"Saavedra Camerano Andres","CA","PR"]
[1197,"ADM0018","PROJECT MANAGEMENT",4,202330,30,29,0,1,1,{"$f":"+BD_DEP[[#This Row],[totalp]]/BD_DEP[[#This Row],[Mat Inicial]]","v":0},{"$f":"+BD_DEP[[#This Row],[totalr]]/BD_DEP[[#This Row],[Mat Inicial]]","v":3.3333333333333333E-2},{"$f":"+BD_DEP[[#This Row],[repi]]/BD_DEP[[#This Row],[Mat Inicial]]","v":3.3333333333333333E-2},16,"Dpto. Emprendim y Management",72308519,"Saavedra Camerano Andres","CA","PR"]
[1198,"ADM0019","STRATEGIC MAGEMENT",1,202330,31,30,0,1,1,{"$f":"+BD_DEP[[#This Row],[totalp]]/BD_DEP[[#This Row],[Mat Inicial]]","v":0},{"$f":"+BD_DEP[[#This Row],[totalr]]/BD_DEP[[#This Row],[Mat Inicial]]","v":3.2258064516129031E-2},{"$f":"+BD_DEP[[#This Row],[repi]]/BD_DEP[[#This Row],[Mat Inicial]]","v":3.2258064516129031E-2},16,"Dpto. Emprendim y Management",1140836175,"Gil Daza Oscar","CA","PR"]
[3377,"ENF7882","CUIDADO ADULTO II",1,202330,4,4,0,0,0,{"$f":"+BD_DEP[[#This Row],[totalp]]/BD_DEP[[#This Row],[Mat Inicial]]","v":0},{"$f":"+BD_DEP[[#This Row],[totalr]]/BD_DEP[[#This Row],[Mat Inicial]]","v":0},{"$f":"+BD_DEP[[#This Row],[repi]]/BD_DEP[[#This Row],[Mat Inicial]]","v":0},"34","Dpto. Enfermería",506645,"EXPOSITO CONCEPCION MARIA","TC","PR"]
[3378,"ENF7882","CUIDADO ADULTO II",2,202330,5,5,0,0,0,{"$f":"+BD_DEP[[#This Row],[totalp]]/BD_DEP[[#This Row],[Mat Inicial]]","v":0},{"$f":"+BD_DEP[[#This Row],[totalr]]/BD_DEP[[#This Row],[Mat Inicial]]","v":0},{"$f":"+BD_DEP[[#This Row],[repi]]/BD_DEP[[#This Row],[Mat Inicial]]","v":0},"34","Dpto. Enfermería",506645,"EXPOSITO CONCEPCION MARIA","TC","PR"]
[3379,"ENF7882","CUIDADO ADULTO II",3,202330,5,5,0,0,0,{"$f":"+BD_DEP[[#This Row],[totalp]]/BD_DEP[[#This Row],[Mat Inicial]]","v":0},{"$f":"+BD_DEP[[#This Row],[totalr]]/BD_DEP[[#This Row],[Mat Inicial]]","v":0},{"$f":"+BD_DEP[[#This Row],[repi]]/BD_DEP[[#This Row],[Mat Inicial]]","v":0},"34","Dpto. Enfermería",506645,"EXPOSITO CONCEPCION MARIA","TC","PR"]
[3380,"ENF7882","CUIDADO ADULTO II",4,202330,4,4,0,0,0,{"$f":"+BD_DEP[[#This Row],[totalp]]/BD_DEP[[#This Row],[Mat Inicial]]","v":0},{"$f":"+BD_DEP[[#This Row],[totalr]]/BD_DEP[[#This Row],[Mat Inicial]]","v":0},{"$f":"+BD_DEP[[#This Row],[repi]]/BD_DEP[[#This Row],[Mat Inicial]]","v":0},"34","Dpto. Enfermería",506645,"EXPOSITO CONCEPCION MARIA","TC","PR"]
[3381,"ENF7883","CUIDADO DE LA MUJER Y DEL NIÑO",1,202330,6,5,0,1,1,{"$f":"+BD_DEP[[#This Row],[totalp]]/BD_DEP[[#This Row],[Mat Inicial]]","v":0},{"$f":"+BD_DEP[[#This Row],[totalr]]/BD_DEP[[#This Row],[Mat Inicial]]","v":0.16666666666666666},{"$f":"+BD_DEP[[#This Row],[repi]]/BD_DEP[[#This Row],[Mat Inicial]]","v":0.16666666666666666},"34","Dpto. Enfermería",8744892,"Baquero Latorre Hernando","TC","PR"]
[3366,"ENF7189","ENF. SALUD MENTAL Y PSIQ.",1,202330,6,5,0,1,1,{"$f":"+BD_DEP[[#This Row],[totalp]]/BD_DEP[[#This Row],[Mat Inicial]]","v":0},{"$f":"+BD_DEP[[#This Row],[totalr]]/BD_DEP[[#This Row],[Mat Inicial]]","v":0.16666666666666666},{"$f":"+BD_DEP[[#This Row],[repi]]/BD_DEP[[#This Row],[Mat Inicial]]","v":0.16666666666666666},"34","Dpto. Enfermería",1143131076,"Serrano Meriño Dolores","TC","PR"]
[3367,"ENF7189","ENF. SALUD MENTAL Y PSIQ.",2,202330,6,6,0,0,0,{"$f":"+BD_DEP[[#This Row],[totalp]]/BD_DEP[[#This Row],[Mat Inicial]]","v":0},{"$f":"+BD_DEP[[#This Row],[totalr]]/BD_DEP[[#This Row],[Mat Inicial]]","v":0},{"$f":"+BD_DEP[[#This Row],[repi]]/BD_DEP[[#This Row],[Mat Inicial]]","v":0},"34","Dpto. Enfermería",1143131076,"Serrano Meriño Dolores","TC","PR"]
[3368,"ENF7189","ENF. SALUD MENTAL Y PSIQ.",3,202330,5,5,0,0,0,{"$f":"+BD_DEP[[#This Row],[totalp]]/BD_DEP[[#This Row],[Mat Inicial]]","v":0},{"$f":"+BD_DEP[[#This Row],[totalr]]/BD_DEP[[#This Row],[Mat Inicial]]","v":0},{"$f":"+BD_DEP[[#This Row],[repi]]/BD_DEP[[#This Row],[Mat Inicial]]","v":0},"34","Dpto. Enfermería",1143131076,"Serrano Meriño Dolores","TC","PR"]
[3342,"ENF7173","ENFERMERIA  BASICO CLINICA",1,202330,7,7,0,0,0,{"$f":"+BD_DEP[[#This Row],[totalp]]/BD_DEP[[#This Row],[Mat Inicial]]","v":0},{"$f":"+BD_DEP[[#This Row],[totalr]]/BD_DEP[[#This Row],[Mat Inicial]]","v":0},{"$f":"+BD_DEP[[#This Row],[repi]]/BD_DEP[[#This Row],[Mat Inicial]]","v":0},"34","Dpto. Enfermería",55239511,"De Las Salas Martinez Roxana","TC","PR"]
[3343,"ENF7173","ENFERMERIA  BASICO CLINICA",2,202330,8,8,0,0,0,{"$f":"+BD_DEP[[#This Row],[totalp]]/BD_DEP[[#This Row],[Mat Inicial]]","v":0},{"$f":"+BD_DEP[[#This Row],[totalr]]/BD_DEP[[#This Row],[Mat Inicial]]","v":0},{"$f":"+BD_DEP[[#This Row],[repi]]/BD_DEP[[#This Row],[Mat Inicial]]","v":0},"34","Dpto. Enfermería",55239511,"De Las Salas Martinez Roxana","TC","PR"]
[3345,"ENF7173","ENFERMERIA  BASICO CLINICA",4,202330,7,7,0,0,0,{"$f":"+BD_DEP[[#This Row],[totalp]]/BD_DEP[[#This Row],[Mat Inicial]]","v":0},{"$f":"+BD_DEP[[#This Row],[totalr]]/BD_DEP[[#This Row],[Mat Inicial]]","v":0},{"$f":"+BD_DEP[[#This Row],[repi]]/BD_DEP[[#This Row],[Mat Inicial]]","v":0},"34","Dpto. Enfermería",55239511,"De Las Salas Martinez Roxana","TC","PR"]
[3344,"ENF7173","ENFERMERIA  BASICO CLINICA",3,202330,7,7,0,0,0,{"$f":"+BD_DEP[[#This Row],[totalp]]/BD_DEP[[#This Row],[Mat Inicial]]","v":0},{"$f":"+BD_DEP[[#This Row],[totalr]]/BD_DEP[[#This Row],[Mat Inicial]]","v":0},{"$f":"+BD_DEP[[#This Row],[repi]]/BD_DEP[[#This Row],[Mat Inicial]]","v":0},"34","Dpto. Enfermería",1129501885,"Diaz Mass Diana","TC","PR"]
[3384,"ENF7884","ENFERMERIA Y GESTION",1,202330,11,11,0,0,0,{"$f":"+BD_DEP[[#This Row],[totalp]]/BD_DEP[[#This Row],[Mat Inicial]]","v":0},{"$f":"+BD_DEP[[#This Row],[totalr]]/BD_DEP[[#This Row],[Mat Inicial]]","v":0},{"$f":"+BD_DEP[[#This Row],[repi]]/BD_DEP[[#This Row],[Mat Inicial]]","v":0},"34","Dpto. Enfermería",1129501885,"Diaz Mass Diana","TC","PR"]
[3352,"ENF7182","FAR APLICADA CUIDADO ADULTO II",1,202330,5,5,0,0,0,{"$f":"+BD_DEP[[#This Row],[totalp]]/BD_DEP[[#This Row],[Mat Inicial]]","v":0},{"$f":"+BD_DEP[[#This Row],[totalr]]/BD_DEP[[#This Row],[Mat Inicial]]","v":0},{"$f":"+BD_DEP[[#This Row],[repi]]/BD_DEP[[#This Row],[Mat Inicial]]","v":0},"34","Dpto. Enfermería",55239511,"De Las Salas Martinez Roxana","TC","PR"]
[3353,"ENF7182","FAR APLICADA CUIDADO ADULTO II",2,202330,5,5,0,0,0,{"$f":"+BD_DEP[[#This Row],[totalp]]/BD_DEP[[#This Row],[Mat Inicial]]","v":0},{"$f":"+BD_DEP[[#This Row],[totalr]]/BD_DEP[[#This Row],[Mat Inicial]]","v":0},{"$f":"+BD_DEP[[#This Row],[repi]]/BD_DEP[[#This Row],[Mat Inicial]]","v":0},"34","Dpto. Enfermería",55239511,"De Las Salas Martinez Roxana","TC","PR"]
[3354,"ENF7182","FAR APLICADA CUIDADO ADULTO II",3,202330,5,5,0,0,0,{"$f":"+BD_DEP[[#This Row],[totalp]]/BD_DEP[[#This Row],[Mat Inicial]]","v":0},{"$f":"+BD_DEP[[#This Row],[totalr]]/BD_DEP[[#This Row],[Mat Inicial]]","v":0},{"$f":"+BD_DEP[[#This Row],[repi]]/BD_DEP[[#This Row],[Mat Inicial]]","v":0},"34","Dpto. Enfermería",55239511,"De Las Salas Martinez Roxana","TC","PR"]
[3355,"ENF7182","FAR APLICADA CUIDADO ADULTO II",4,202330,3,3,0,0,0,{"$f":"+BD_DEP[[#This Row],[totalp]]/BD_DEP[[#This Row],[Mat Inicial]]","v":0},{"$f":"+BD_DEP[[#This Row],[totalr]]/BD_DEP[[#This Row],[Mat Inicial]]","v":0},{"$f":"+BD_DEP[[#This Row],[repi]]/BD_DEP[[#This Row],[Mat Inicial]]","v":0},"34","Dpto. Enfermería",55239511,"De Las Salas Martinez Roxana","TC","PR"]
[3348,"ENF7179","FAR. APLICADA CUIDADO ADULTO I",1,202330,6,6,0,0,0,{"$f":"+BD_DEP[[#This Row],[totalp]]/BD_DEP[[#This Row],[Mat Inicial]]","v":0},{"$f":"+BD_DEP[[#This Row],[totalr]]/BD_DEP[[#This Row],[Mat Inicial]]","v":0},{"$f":"+BD_DEP[[#This Row],[repi]]/BD_DEP[[#This Row],[Mat Inicial]]","v":0},"34","Dpto. Enfermería",55239511,"De Las Salas Martinez Roxana","TC","PR"]
[3349,"ENF7179","FAR. APLICADA CUIDADO ADULTO I",2,202330,9,9,0,0,0,{"$f":"+BD_DEP[[#This Row],[totalp]]/BD_DEP[[#This Row],[Mat Inicial]]","v":0},{"$f":"+BD_DEP[[#This Row],[totalr]]/BD_DEP[[#This Row],[Mat Inicial]]","v":0},{"$f":"+BD_DEP[[#This Row],[repi]]/BD_DEP[[#This Row],[Mat Inicial]]","v":0},"34","Dpto. Enfermería",55239511,"De Las Salas Martinez Roxana","TC","PR"]
[3350,"ENF7179","FAR. APLICADA CUIDADO ADULTO I",3,202330,9,9,0,0,0,{"$f":"+BD_DEP[[#This Row],[totalp]]/BD_DEP[[#This Row],[Mat Inicial]]","v":0},{"$f":"+BD_DEP[[#This Row],[totalr]]/BD_DEP[[#This Row],[Mat Inicial]]","v":0},{"$f":"+BD_DEP[[#This Row],[repi]]/BD_DEP[[#This Row],[Mat Inicial]]","v":0},"34","Dpto. Enfermería",55239511,"De Las Salas Martinez Roxana","TC","PR"]
[3351,"ENF7179","FAR. APLICADA CUIDADO ADULTO I",4,202330,8,8,0,0,0,{"$f":"+BD_DEP[[#This Row],[totalp]]/BD_DEP[[#This Row],[Mat Inicial]]","v":0},{"$f":"+BD_DEP[[#This Row],[totalr]]/BD_DEP[[#This Row],[Mat Inicial]]","v":0},{"$f":"+BD_DEP[[#This Row],[repi]]/BD_DEP[[#This Row],[Mat Inicial]]","v":0},"34","Dpto. Enfermería",55239511,"De Las Salas Martinez Roxana","TC","PR"]
[3341,"ENF7172","INTROD.  A LA ENFERMERIA",1,202330,28,28,0,0,0,{"$f":"+BD_DEP[[#This Row],[totalp]]/BD_DEP[[#This Row],[Mat Inicial]]","v":0},{"$f":"+BD_DEP[[#This Row],[totalr]]/BD_DEP[[#This Row],[Mat Inicial]]","v":0},{"$f":"+BD_DEP[[#This Row],[repi]]/BD_DEP[[#This Row],[Mat Inicial]]","v":0},"34","Dpto. Enfermería",1143131076,"Serrano Meriño Dolores","TC","PR"]
[6425,"ENF4110","PRACTICAS ENFERMERIA Y GESTION",1,202330,8,8,0,0,0,{"$f":"+BD_DEP[[#This Row],[totalp]]/BD_DEP[[#This Row],[Mat Inicial]]","v":0},{"$f":"+BD_DEP[[#This Row],[totalr]]/BD_DEP[[#This Row],[Mat Inicial]]","v":0},{"$f":"+BD_DEP[[#This Row],[repi]]/BD_DEP[[#This Row],[Mat Inicial]]","v":0},"34","Dpto. Enfermería",22647134,"Borja Gonzalez Juana","TC","PR"]
[6431,"ENF4110","PRACTICAS ENFERMERIA Y GESTION",2,202330,8,8,0,0,0,{"$f":"+BD_DEP[[#This Row],[totalp]]/BD_DEP[[#This Row],[Mat Inicial]]","v":0},{"$f":"+BD_DEP[[#This Row],[totalr]]/BD_DEP[[#This Row],[Mat Inicial]]","v":0},{"$f":"+BD_DEP[[#This Row],[repi]]/BD_DEP[[#This Row],[Mat Inicial]]","v":0},"34","Dpto. Enfermería",55239511,"De Las Salas Martinez Roxana","TC","PR"]
[3346,"ENF7174","PROCESO DE ATENCION EN ENF",1,202330,16,16,0,0,0,{"$f":"+BD_DEP[[#This Row],[totalp]]/BD_DEP[[#This Row],[Mat Inicial]]","v":0},{"$f":"+BD_DEP[[#This Row],[totalr]]/BD_DEP[[#This Row],[Mat Inicial]]","v":0},{"$f":"+BD_DEP[[#This Row],[repi]]/BD_DEP[[#This Row],[Mat Inicial]]","v":0},"34","Dpto. Enfermería",1129582504,"ORTEGA PEREZ STEFANY","TC","PR"]
[6073,"ENF7174","PROCESO DE ATENCION EN ENF",2,202330,16,16,1,0,1,{"$f":"+BD_DEP[[#This Row],[totalp]]/BD_DEP[[#This Row],[Mat Inicial]]","v":6.25E-2},{"$f":"+BD_DEP[[#This Row],[totalr]]/BD_DEP[[#This Row],[Mat Inicial]]","v":0},{"$f":"+BD_DEP[[#This Row],[repi]]/BD_DEP[[#This Row],[Mat Inicial]]","v":6.25E-2},"34","Dpto. Enfermería",1129582504,"ORTEGA PEREZ STEFANY","TC","PR"]
[3337,"ENF0033","PROFUNDIZACION ENFERMERIA",1,202330,4,4,1,0,1,{"$f":"+BD_DEP[[#This Row],[totalp]]/BD_DEP[[#This Row],[Mat Inicial]]","v":0.25},{"$f":"+BD_DEP[[#This Row],[totalr]]/BD_DEP[[#This Row],[Mat Inicial]]","v":0},{"$f":"+BD_DEP[[#This Row],[repi]]/BD_DEP[[#This Row],[Mat Inicial]]","v":0.25},"34","Dpto. Enfermería",22647134,"Borja Gonzalez Juana","TC","PR"]
[3338,"ENF0033","PROFUNDIZACION ENFERMERIA",2,202330,4,4,1,0,1,{"$f":"+BD_DEP[[#This Row],[totalp]]/BD_DEP[[#This Row],[Mat Inicial]]","v":0.25},{"$f":"+BD_DEP[[#This Row],[totalr]]/BD_DEP[[#This Row],[Mat Inicial]]","v":0},{"$f":"+BD_DEP[[#This Row],[repi]]/BD_DEP[[#This Row],[Mat Inicial]]","v":0.25},"34","Dpto. Enfermería",22647134,"Borja Gonzalez Juana","TC","PR"]
[3339,"ENF0033","PROFUNDIZACION ENFERMERIA",3,202330,3,3,0,0,0,{"$f":"+BD_DEP[[#This Row],[totalp]]/BD_DEP[[#This Row],[Mat Inicial]]","v":0},{"$f":"+BD_DEP[[#This Row],[totalr]]/BD_DEP[[#This Row],[Mat Inicial]]","v":0},{"$f":"+BD_DEP[[#This Row],[repi]]/BD_DEP[[#This Row],[Mat Inicial]]","v":0},"34","Dpto. Enfermería",22647134,"Borja Gonzalez Juana","TC","PR"]
[3369,"ENF7880","SEMIOLOGIA CLINICA",1,202330,8,8,0,0,0,{"$f":"+BD_DEP[[#This Row],[totalp]]/BD_DEP[[#This Row],[Mat Inicial]]","v":0},{"$f":"+BD_DEP[[#This Row],[totalr]]/BD_DEP[[#This Row],[Mat Inicial]]","v":0},{"$f":"+BD_DEP[[#This Row],[repi]]/BD_DEP[[#This Row],[Mat Inicial]]","v":0},"34","Dpto. Enfermería",1140845129,"Diaz Agudelo Daniela","TC","PR"]
[3371,"ENF7880","SEMIOLOGIA CLINICA",3,202330,8,8,0,0,0,{"$f":"+BD_DEP[[#This Row],[totalp]]/BD_DEP[[#This Row],[Mat Inicial]]","v":0},{"$f":"+BD_DEP[[#This Row],[totalr]]/BD_DEP[[#This Row],[Mat Inicial]]","v":0},{"$f":"+BD_DEP[[#This Row],[repi]]/BD_DEP[[#This Row],[Mat Inicial]]","v":0},"34","Dpto. Enfermería",1140845129,"Diaz Agudelo Daniela","TC","PR"]
[3372,"ENF7880","SEMIOLOGIA CLINICA",4,202330,7,7,0,0,0,{"$f":"+BD_DEP[[#This Row],[totalp]]/BD_DEP[[#This Row],[Mat Inicial]]","v":0},{"$f":"+BD_DEP[[#This Row],[totalr]]/BD_DEP[[#This Row],[Mat Inicial]]","v":0},{"$f":"+BD_DEP[[#This Row],[repi]]/BD_DEP[[#This Row],[Mat Inicial]]","v":0},"34","Dpto. Enfermería",1140845129,"Diaz Agudelo Daniela","TC","PR"]
[1799,"ENF4065","VIVE Y DEJA VIVIR:EL ESTIG VHI",1,202330,13,13,0,0,0,{"$f":"+BD_DEP[[#This Row],[totalp]]/BD_DEP[[#This Row],[Mat Inicial]]","v":0},{"$f":"+BD_DEP[[#This Row],[totalr]]/BD_DEP[[#This Row],[Mat Inicial]]","v":0},{"$f":"+BD_DEP[[#This Row],[repi]]/BD_DEP[[#This Row],[Mat Inicial]]","v":0},"34","Dpto. Enfermería",506645,"EXPOSITO CONCEPCION MARIA","TC","PR"]
[3382,"ENF7883","CUIDADO DE LA MUJER Y DEL NIÑO",2,202330,6,6,0,0,0,{"$f":"+BD_DEP[[#This Row],[totalp]]/BD_DEP[[#This Row],[Mat Inicial]]","v":0},{"$f":"+BD_DEP[[#This Row],[totalr]]/BD_DEP[[#This Row],[Mat Inicial]]","v":0},{"$f":"+BD_DEP[[#This Row],[repi]]/BD_DEP[[#This Row],[Mat Inicial]]","v":0},"34","Dpto. Enfermería",32796408,"Vasquez Soto Claudia","MT","PR"]
[3383,"ENF7883","CUIDADO DE LA MUJER Y DEL NIÑO",3,202330,5,5,0,0,0,{"$f":"+BD_DEP[[#This Row],[totalp]]/BD_DEP[[#This Row],[Mat Inicial]]","v":0},{"$f":"+BD_DEP[[#This Row],[totalr]]/BD_DEP[[#This Row],[Mat Inicial]]","v":0},{"$f":"+BD_DEP[[#This Row],[repi]]/BD_DEP[[#This Row],[Mat Inicial]]","v":0},"34","Dpto. Enfermería",32796408,"Vasquez Soto Claudia","MT","PR"]
[3373,"ENF7881","CUIDADO DEL ADULTO I",1,202330,8,8,0,0,0,{"$f":"+BD_DEP[[#This Row],[totalp]]/BD_DEP[[#This Row],[Mat Inicial]]","v":0},{"$f":"+BD_DEP[[#This Row],[totalr]]/BD_DEP[[#This Row],[Mat Inicial]]","v":0},{"$f":"+BD_DEP[[#This Row],[repi]]/BD_DEP[[#This Row],[Mat Inicial]]","v":0},"34","Dpto. Enfermería",1042432807,"Castañeda Jinete Milagros","MT","PR"]
[3374,"ENF7881","CUIDADO DEL ADULTO I",2,202330,8,8,0,0,0,{"$f":"+BD_DEP[[#This Row],[totalp]]/BD_DEP[[#This Row],[Mat Inicial]]","v":0},{"$f":"+BD_DEP[[#This Row],[totalr]]/BD_DEP[[#This Row],[Mat Inicial]]","v":0},{"$f":"+BD_DEP[[#This Row],[repi]]/BD_DEP[[#This Row],[Mat Inicial]]","v":0},"34","Dpto. Enfermería",1042432807,"Castañeda Jinete Milagros","MT","PR"]
[3375,"ENF7881","CUIDADO DEL ADULTO I",3,202330,9,9,0,0,0,{"$f":"+BD_DEP[[#This Row],[totalp]]/BD_DEP[[#This Row],[Mat Inicial]]","v":0},{"$f":"+BD_DEP[[#This Row],[totalr]]/BD_DEP[[#This Row],[Mat Inicial]]","v":0},{"$f":"+BD_DEP[[#This Row],[repi]]/BD_DEP[[#This Row],[Mat Inicial]]","v":0},"34","Dpto. Enfermería",1042432807,"Castañeda Jinete Milagros","MT","PR"]
[3376,"ENF7881","CUIDADO DEL ADULTO I",4,202330,7,7,0,0,0,{"$f":"+BD_DEP[[#This Row],[totalp]]/BD_DEP[[#This Row],[Mat Inicial]]","v":0},{"$f":"+BD_DEP[[#This Row],[totalr]]/BD_DEP[[#This Row],[Mat Inicial]]","v":0},{"$f":"+BD_DEP[[#This Row],[repi]]/BD_DEP[[#This Row],[Mat Inicial]]","v":0},"34","Dpto. Enfermería",1042432807,"Castañeda Jinete Milagros","MT","PR"]
[3363,"ENF7188","FAR. APLIC. CUID. MUJER Y NIÑO",1,202330,6,5,0,1,1,{"$f":"+BD_DEP[[#This Row],[totalp]]/BD_DEP[[#This Row],[Mat Inicial]]","v":0},{"$f":"+BD_DEP[[#This Row],[totalr]]/BD_DEP[[#This Row],[Mat Inicial]]","v":0.16666666666666666},{"$f":"+BD_DEP[[#This Row],[repi]]/BD_DEP[[#This Row],[Mat Inicial]]","v":0.16666666666666666},"34","Dpto. Enfermería",1042432807,"Castañeda Jinete Milagros","MT","PR"]
[3364,"ENF7188","FAR. APLIC. CUID. MUJER Y NIÑO",2,202330,6,6,0,0,0,{"$f":"+BD_DEP[[#This Row],[totalp]]/BD_DEP[[#This Row],[Mat Inicial]]","v":0},{"$f":"+BD_DEP[[#This Row],[totalr]]/BD_DEP[[#This Row],[Mat Inicial]]","v":0},{"$f":"+BD_DEP[[#This Row],[repi]]/BD_DEP[[#This Row],[Mat Inicial]]","v":0},"34","Dpto. Enfermería",1042432807,"Castañeda Jinete Milagros","MT","PR"]
[3365,"ENF7188","FAR. APLIC. CUID. MUJER Y NIÑO",3,202330,5,5,0,0,0,{"$f":"+BD_DEP[[#This Row],[totalp]]/BD_DEP[[#This Row],[Mat Inicial]]","v":0},{"$f":"+BD_DEP[[#This Row],[totalr]]/BD_DEP[[#This Row],[Mat Inicial]]","v":0},{"$f":"+BD_DEP[[#This Row],[repi]]/BD_DEP[[#This Row],[Mat Inicial]]","v":0},"34","Dpto. Enfermería",1042432807,"Castañeda Jinete Milagros","MT","PR"]
[3360,"ENF7187","SALUD A COLECTIVOS II",1,202330,6,5,0,1,1,{"$f":"+BD_DEP[[#This Row],[totalp]]/BD_DEP[[#This Row],[Mat Inicial]]","v":0},{"$f":"+BD_DEP[[#This Row],[totalr]]/BD_DEP[[#This Row],[Mat Inicial]]","v":0.16666666666666666},{"$f":"+BD_DEP[[#This Row],[repi]]/BD_DEP[[#This Row],[Mat Inicial]]","v":0.16666666666666666},"34","Dpto. Enfermería",1042432807,"Castañeda Jinete Milagros","MT","PR"]
[3361,"ENF7187","SALUD A COLECTIVOS II",2,202330,6,6,0,0,0,{"$f":"+BD_DEP[[#This Row],[totalp]]/BD_DEP[[#This Row],[Mat Inicial]]","v":0},{"$f":"+BD_DEP[[#This Row],[totalr]]/BD_DEP[[#This Row],[Mat Inicial]]","v":0},{"$f":"+BD_DEP[[#This Row],[repi]]/BD_DEP[[#This Row],[Mat Inicial]]","v":0},"34","Dpto. Enfermería",1042432807,"Castañeda Jinete Milagros","MT","PR"]
[3362,"ENF7187","SALUD A COLECTIVOS II",3,202330,5,5,0,0,0,{"$f":"+BD_DEP[[#This Row],[totalp]]/BD_DEP[[#This Row],[Mat Inicial]]","v":0},{"$f":"+BD_DEP[[#This Row],[totalr]]/BD_DEP[[#This Row],[Mat Inicial]]","v":0},{"$f":"+BD_DEP[[#This Row],[repi]]/BD_DEP[[#This Row],[Mat Inicial]]","v":0},"34","Dpto. Enfermería",1042432807,"Castañeda Jinete Milagros","MT","PR"]
[3347,"ENF7177","ENFERMERIA EN LA EDUCACION",1,202330,25,25,0,0,0,{"$f":"+BD_DEP[[#This Row],[totalp]]/BD_DEP[[#This Row],[Mat Inicial]]","v":0},{"$f":"+BD_DEP[[#This Row],[totalr]]/BD_DEP[[#This Row],[Mat Inicial]]","v":0},{"$f":"+BD_DEP[[#This Row],[repi]]/BD_DEP[[#This Row],[Mat Inicial]]","v":0},"34","Dpto. Enfermería",32706463,"Rojas Gomez Laura","CA","PR"]
[3356,"ENF7183","SALUD A COLECTIVOS I",1,202330,4,4,0,0,0,{"$f":"+BD_DEP[[#This Row],[totalp]]/BD_DEP[[#This Row],[Mat Inicial]]","v":0},{"$f":"+BD_DEP[[#This Row],[totalr]]/BD_DEP[[#This Row],[Mat Inicial]]","v":0},{"$f":"+BD_DEP[[#This Row],[repi]]/BD_DEP[[#This Row],[Mat Inicial]]","v":0},"34","Dpto. Enfermería",22667671,"Fabregas Galan Mabel","CA","PR"]
[3357,"ENF7183","SALUD A COLECTIVOS I",2,202330,5,5,0,0,0,{"$f":"+BD_DEP[[#This Row],[totalp]]/BD_DEP[[#This Row],[Mat Inicial]]","v":0},{"$f":"+BD_DEP[[#This Row],[totalr]]/BD_DEP[[#This Row],[Mat Inicial]]","v":0},{"$f":"+BD_DEP[[#This Row],[repi]]/BD_DEP[[#This Row],[Mat Inicial]]","v":0},"34","Dpto. Enfermería",22667671,"Fabregas Galan Mabel","CA","PR"]
[3358,"ENF7183","SALUD A COLECTIVOS I",3,202330,4,4,0,0,0,{"$f":"+BD_DEP[[#This Row],[totalp]]/BD_DEP[[#This Row],[Mat Inicial]]","v":0},{"$f":"+BD_DEP[[#This Row],[totalr]]/BD_DEP[[#This Row],[Mat Inicial]]","v":0},{"$f":"+BD_DEP[[#This Row],[repi]]/BD_DEP[[#This Row],[Mat Inicial]]","v":0},"34","Dpto. Enfermería",22667671,"Fabregas Galan Mabel","CA","PR"]
[3359,"ENF7183","SALUD A COLECTIVOS I",4,202330,5,5,0,0,0,{"$f":"+BD_DEP[[#This Row],[totalp]]/BD_DEP[[#This Row],[Mat Inicial]]","v":0},{"$f":"+BD_DEP[[#This Row],[totalr]]/BD_DEP[[#This Row],[Mat Inicial]]","v":0},{"$f":"+BD_DEP[[#This Row],[repi]]/BD_DEP[[#This Row],[Mat Inicial]]","v":0},"34","Dpto. Enfermería",22667671,"Fabregas Galan Mabel","CA","PR"]
[3340,"ENF4100","SEGURIDAD Y SALUD EN EL TRABAJ",1,202330,18,18,0,0,0,{"$f":"+BD_DEP[[#This Row],[totalp]]/BD_DEP[[#This Row],[Mat Inicial]]","v":0},{"$f":"+BD_DEP[[#This Row],[totalr]]/BD_DEP[[#This Row],[Mat Inicial]]","v":0},{"$f":"+BD_DEP[[#This Row],[repi]]/BD_DEP[[#This Row],[Mat Inicial]]","v":0},"34","Dpto. Enfermería",22487579,"Hemer Narvaez Maria","CA","PR"]
[4221,"CAS3020","COMPETENCIA COMUNICATIVA I",1,202330,31,31,0,0,0,{"$f":"+BD_DEP[[#This Row],[totalp]]/BD_DEP[[#This Row],[Mat Inicial]]","v":0},{"$f":"+BD_DEP[[#This Row],[totalr]]/BD_DEP[[#This Row],[Mat Inicial]]","v":0},{"$f":"+BD_DEP[[#This Row],[repi]]/BD_DEP[[#This Row],[Mat Inicial]]","v":0},"44","Dpto. Español",22478150,"Rojas Chavez Angelica","TC","PR"]
[4222,"CAS3020","COMPETENCIA COMUNICATIVA I",2,202330,28,28,4,0,4,{"$f":"+BD_DEP[[#This Row],[totalp]]/BD_DEP[[#This Row],[Mat Inicial]]","v":0.14285714285714285},{"$f":"+BD_DEP[[#This Row],[totalr]]/BD_DEP[[#This Row],[Mat Inicial]]","v":0},{"$f":"+BD_DEP[[#This Row],[repi]]/BD_DEP[[#This Row],[Mat Inicial]]","v":0.14285714285714285},"44","Dpto. Español",22478150,"Rojas Chavez Angelica","TC","PR"]
[4223,"CAS3020","COMPETENCIA COMUNICATIVA I",3,202330,30,30,0,0,0,{"$f":"+BD_DEP[[#This Row],[totalp]]/BD_DEP[[#This Row],[Mat Inicial]]","v":0},{"$f":"+BD_DEP[[#This Row],[totalr]]/BD_DEP[[#This Row],[Mat Inicial]]","v":0},{"$f":"+BD_DEP[[#This Row],[repi]]/BD_DEP[[#This Row],[Mat Inicial]]","v":0},"44","Dpto. Español",22478150,"Rojas Chavez Angelica","TC","PR"]
[4226,"CAS3020","COMPETENCIA COMUNICATIVA I",6,202330,30,29,0,1,1,{"$f":"+BD_DEP[[#This Row],[totalp]]/BD_DEP[[#This Row],[Mat Inicial]]","v":0},{"$f":"+BD_DEP[[#This Row],[totalr]]/BD_DEP[[#This Row],[Mat Inicial]]","v":3.3333333333333333E-2},{"$f":"+BD_DEP[[#This Row],[repi]]/BD_DEP[[#This Row],[Mat Inicial]]","v":3.3333333333333333E-2},"44","Dpto. Español",22478150,"Rojas Chavez Angelica","TC","PR"]
[4240,"CAS3020","COMPETENCIA COMUNICATIVA I",20,202330,22,20,1,2,3,{"$f":"+BD_DEP[[#This Row],[totalp]]/BD_DEP[[#This Row],[Mat Inicial]]","v":4.5454545454545456E-2},{"$f":"+BD_DEP[[#This Row],[totalr]]/BD_DEP[[#This Row],[Mat Inicial]]","v":9.0909090909090912E-2},{"$f":"+BD_DEP[[#This Row],[repi]]/BD_DEP[[#This Row],[Mat Inicial]]","v":0.13636363636363635},"44","Dpto. Español",22491825,"Roa Narvaez Alana","TC","PR"]
[4239,"CAS3020","COMPETENCIA COMUNICATIVA I",19,202330,30,29,2,1,3,{"$f":"+BD_DEP[[#This Row],[totalp]]/BD_DEP[[#This Row],[Mat Inicial]]","v":6.6666666666666666E-2},{"$f":"+BD_DEP[[#This Row],[totalr]]/BD_DEP[[#This Row],[Mat Inicial]]","v":3.3333333333333333E-2},{"$f":"+BD_DEP[[#This Row],[repi]]/BD_DEP[[#This Row],[Mat Inicial]]","v":0.1},"44","Dpto. Español",52619141,"Arias Murillo Maria","TC","PR"]
[1381,"CAS3030","COMPETENCIA COMUNICATIVA II",7,202330,30,27,3,3,6,{"$f":"+BD_DEP[[#This Row],[totalp]]/BD_DEP[[#This Row],[Mat Inicial]]","v":0.1},{"$f":"+BD_DEP[[#This Row],[totalr]]/BD_DEP[[#This Row],[Mat Inicial]]","v":0.1},{"$f":"+BD_DEP[[#This Row],[repi]]/BD_DEP[[#This Row],[Mat Inicial]]","v":0.2},"44","Dpto. Español",575645,"Holgueras Galan Artevic","TC","PR"]
[1382,"CAS3030","COMPETENCIA COMUNICATIVA II",8,202330,30,28,10,2,12,{"$f":"+BD_DEP[[#This Row],[totalp]]/BD_DEP[[#This Row],[Mat Inicial]]","v":0.33333333333333331},{"$f":"+BD_DEP[[#This Row],[totalr]]/BD_DEP[[#This Row],[Mat Inicial]]","v":6.6666666666666666E-2},{"$f":"+BD_DEP[[#This Row],[repi]]/BD_DEP[[#This Row],[Mat Inicial]]","v":0.4},"44","Dpto. Español",575645,"Holgueras Galan Artevic","TC","PR"]
[1383,"CAS3030","COMPETENCIA COMUNICATIVA II",9,202330,30,29,8,1,9,{"$f":"+BD_DEP[[#This Row],[totalp]]/BD_DEP[[#This Row],[Mat Inicial]]","v":0.26666666666666666},{"$f":"+BD_DEP[[#This Row],[totalr]]/BD_DEP[[#This Row],[Mat Inicial]]","v":3.3333333333333333E-2},{"$f":"+BD_DEP[[#This Row],[repi]]/BD_DEP[[#This Row],[Mat Inicial]]","v":0.3},"44","Dpto. Español",575645,"Holgueras Galan Artevic","TC","PR"]
[1385,"CAS3030","COMPETENCIA COMUNICATIVA II",11,202330,30,26,12,4,16,{"$f":"+BD_DEP[[#This Row],[totalp]]/BD_DEP[[#This Row],[Mat Inicial]]","v":0.4},{"$f":"+BD_DEP[[#This Row],[totalr]]/BD_DEP[[#This Row],[Mat Inicial]]","v":0.13333333333333333},{"$f":"+BD_DEP[[#This Row],[repi]]/BD_DEP[[#This Row],[Mat Inicial]]","v":0.53333333333333333},"44","Dpto. Español",575645,"Holgueras Galan Artevic","TC","PR"]
[1388,"CAS3030","COMPETENCIA COMUNICATIVA II",14,202330,31,28,7,3,10,{"$f":"+BD_DEP[[#This Row],[totalp]]/BD_DEP[[#This Row],[Mat Inicial]]","v":0.22580645161290322},{"$f":"+BD_DEP[[#This Row],[totalr]]/BD_DEP[[#This Row],[Mat Inicial]]","v":9.6774193548387094E-2},{"$f":"+BD_DEP[[#This Row],[repi]]/BD_DEP[[#This Row],[Mat Inicial]]","v":0.32258064516129031},"44","Dpto. Español",575645,"Holgueras Galan Artevic","TC","PR"]
[1117,"CAS3030","COMPETENCIA COMUNICATIVA II",27,202330,30,30,2,0,2,{"$f":"+BD_DEP[[#This Row],[totalp]]/BD_DEP[[#This Row],[Mat Inicial]]","v":6.6666666666666666E-2},{"$f":"+BD_DEP[[#This Row],[totalr]]/BD_DEP[[#This Row],[Mat Inicial]]","v":0},{"$f":"+BD_DEP[[#This Row],[repi]]/BD_DEP[[#This Row],[Mat Inicial]]","v":6.6666666666666666E-2},"44","Dpto. Español",14274902,"Martinez Houghton David","TC","PR"]
[1396,"CAS3030","COMPETENCIA COMUNICATIVA II",23,202330,31,30,0,1,1,{"$f":"+BD_DEP[[#This Row],[totalp]]/BD_DEP[[#This Row],[Mat Inicial]]","v":0},{"$f":"+BD_DEP[[#This Row],[totalr]]/BD_DEP[[#This Row],[Mat Inicial]]","v":3.2258064516129031E-2},{"$f":"+BD_DEP[[#This Row],[repi]]/BD_DEP[[#This Row],[Mat Inicial]]","v":3.2258064516129031E-2},"44","Dpto. Español",14274902,"Martinez Houghton David","TC","PR"]
[1387,"CAS3030","COMPETENCIA COMUNICATIVA II",13,202330,31,31,1,0,1,{"$f":"+BD_DEP[[#This Row],[totalp]]/BD_DEP[[#This Row],[Mat Inicial]]","v":3.2258064516129031E-2},{"$f":"+BD_DEP[[#This Row],[totalr]]/BD_DEP[[#This Row],[Mat Inicial]]","v":0},{"$f":"+BD_DEP[[#This Row],[repi]]/BD_DEP[[#This Row],[Mat Inicial]]","v":3.2258064516129031E-2},"44","Dpto. Español",52435734,"Trigos Carrillo Lina","TC","PR"]
[1389,"CAS3030","COMPETENCIA COMUNICATIVA II",15,202330,31,31,2,0,2,{"$f":"+BD_DEP[[#This Row],[totalp]]/BD_DEP[[#This Row],[Mat Inicial]]","v":6.4516129032258063E-2},{"$f":"+BD_DEP[[#This Row],[totalr]]/BD_DEP[[#This Row],[Mat Inicial]]","v":0},{"$f":"+BD_DEP[[#This Row],[repi]]/BD_DEP[[#This Row],[Mat Inicial]]","v":6.4516129032258063E-2},"44","Dpto. Español",52435734,"Trigos Carrillo Lina","TC","PR"]
[1390,"CAS3030","COMPETENCIA COMUNICATIVA II",16,202330,31,30,1,1,2,{"$f":"+BD_DEP[[#This Row],[totalp]]/BD_DEP[[#This Row],[Mat Inicial]]","v":3.2258064516129031E-2},{"$f":"+BD_DEP[[#This Row],[totalr]]/BD_DEP[[#This Row],[Mat Inicial]]","v":3.2258064516129031E-2},{"$f":"+BD_DEP[[#This Row],[repi]]/BD_DEP[[#This Row],[Mat Inicial]]","v":6.4516129032258063E-2},"44","Dpto. Español",55221544,"Valdez Jimenez Wendy","TC","PR"]
[1391,"CAS3030","COMPETENCIA COMUNICATIVA II",17,202330,30,29,2,1,3,{"$f":"+BD_DEP[[#This Row],[totalp]]/BD_DEP[[#This Row],[Mat Inicial]]","v":6.6666666666666666E-2},{"$f":"+BD_DEP[[#This Row],[totalr]]/BD_DEP[[#This Row],[Mat Inicial]]","v":3.3333333333333333E-2},{"$f":"+BD_DEP[[#This Row],[repi]]/BD_DEP[[#This Row],[Mat Inicial]]","v":0.1},"44","Dpto. Español",55221544,"Valdez Jimenez Wendy","TC","PR"]
[1392,"CAS3030","COMPETENCIA COMUNICATIVA II",18,202330,30,28,2,2,4,{"$f":"+BD_DEP[[#This Row],[totalp]]/BD_DEP[[#This Row],[Mat Inicial]]","v":6.6666666666666666E-2},{"$f":"+BD_DEP[[#This Row],[totalr]]/BD_DEP[[#This Row],[Mat Inicial]]","v":6.6666666666666666E-2},{"$f":"+BD_DEP[[#This Row],[repi]]/BD_DEP[[#This Row],[Mat Inicial]]","v":0.13333333333333333},"44","Dpto. Español",55221544,"Valdez Jimenez Wendy","TC","PR"]
[1376,"CAS3030","COMPETENCIA COMUNICATIVA II",1,202330,31,31,1,0,1,{"$f":"+BD_DEP[[#This Row],[totalp]]/BD_DEP[[#This Row],[Mat Inicial]]","v":3.2258064516129031E-2},{"$f":"+BD_DEP[[#This Row],[totalr]]/BD_DEP[[#This Row],[Mat Inicial]]","v":0},{"$f":"+BD_DEP[[#This Row],[repi]]/BD_DEP[[#This Row],[Mat Inicial]]","v":3.2258064516129031E-2},"44","Dpto. Español",71769877,"Alvarez Uribe Sergio","TC","PR"]
[1377,"CAS3030","COMPETENCIA COMUNICATIVA II",2,202330,31,31,1,0,1,{"$f":"+BD_DEP[[#This Row],[totalp]]/BD_DEP[[#This Row],[Mat Inicial]]","v":3.2258064516129031E-2},{"$f":"+BD_DEP[[#This Row],[totalr]]/BD_DEP[[#This Row],[Mat Inicial]]","v":0},{"$f":"+BD_DEP[[#This Row],[repi]]/BD_DEP[[#This Row],[Mat Inicial]]","v":3.2258064516129031E-2},"44","Dpto. Español",71769877,"Alvarez Uribe Sergio","TC","PR"]
[1378,"CAS3030","COMPETENCIA COMUNICATIVA II",3,202330,30,28,0,2,2,{"$f":"+BD_DEP[[#This Row],[totalp]]/BD_DEP[[#This Row],[Mat Inicial]]","v":0},{"$f":"+BD_DEP[[#This Row],[totalr]]/BD_DEP[[#This Row],[Mat Inicial]]","v":6.6666666666666666E-2},{"$f":"+BD_DEP[[#This Row],[repi]]/BD_DEP[[#This Row],[Mat Inicial]]","v":6.6666666666666666E-2},"44","Dpto. Español",71769877,"Alvarez Uribe Sergio","TC","PR"]
[1379,"CAS3030","COMPETENCIA COMUNICATIVA II",4,202330,31,31,1,0,1,{"$f":"+BD_DEP[[#This Row],[totalp]]/BD_DEP[[#This Row],[Mat Inicial]]","v":3.2258064516129031E-2},{"$f":"+BD_DEP[[#This Row],[totalr]]/BD_DEP[[#This Row],[Mat Inicial]]","v":0},{"$f":"+BD_DEP[[#This Row],[repi]]/BD_DEP[[#This Row],[Mat Inicial]]","v":3.2258064516129031E-2},"44","Dpto. Español",71769877,"Alvarez Uribe Sergio","TC","PR"]
[1411,"CAS3030","COMPETENCIA COMUNICATIVA II",41,202330,31,29,0,2,2,{"$f":"+BD_DEP[[#This Row],[totalp]]/BD_DEP[[#This Row],[Mat Inicial]]","v":0},{"$f":"+BD_DEP[[#This Row],[totalr]]/BD_DEP[[#This Row],[Mat Inicial]]","v":6.4516129032258063E-2},{"$f":"+BD_DEP[[#This Row],[repi]]/BD_DEP[[#This Row],[Mat Inicial]]","v":6.4516129032258063E-2},"44","Dpto. Español",79938146,"FORERO GOMEZ ANDRES","TC","PR"]
[1412,"CAS3030","COMPETENCIA COMUNICATIVA II",42,202330,30,29,2,1,3,{"$f":"+BD_DEP[[#This Row],[totalp]]/BD_DEP[[#This Row],[Mat Inicial]]","v":6.6666666666666666E-2},{"$f":"+BD_DEP[[#This Row],[totalr]]/BD_DEP[[#This Row],[Mat Inicial]]","v":3.3333333333333333E-2},{"$f":"+BD_DEP[[#This Row],[repi]]/BD_DEP[[#This Row],[Mat Inicial]]","v":0.1},"44","Dpto. Español",79938146,"FORERO GOMEZ ANDRES","TC","PR"]
[1115,"CAS3030","COMPETENCIA COMUNICATIVA II",6,202330,30,30,2,0,2,{"$f":"+BD_DEP[[#This Row],[totalp]]/BD_DEP[[#This Row],[Mat Inicial]]","v":6.6666666666666666E-2},{"$f":"+BD_DEP[[#This Row],[totalr]]/BD_DEP[[#This Row],[Mat Inicial]]","v":0},{"$f":"+BD_DEP[[#This Row],[repi]]/BD_DEP[[#This Row],[Mat Inicial]]","v":6.6666666666666666E-2},"44","Dpto. Español",1020729661,"Amon Mitrani Josef","TC","PR"]
[1397,"CAS3030","COMPETENCIA COMUNICATIVA II",24,202330,30,29,1,1,2,{"$f":"+BD_DEP[[#This Row],[totalp]]/BD_DEP[[#This Row],[Mat Inicial]]","v":3.3333333333333333E-2},{"$f":"+BD_DEP[[#This Row],[totalr]]/BD_DEP[[#This Row],[Mat Inicial]]","v":3.3333333333333333E-2},{"$f":"+BD_DEP[[#This Row],[repi]]/BD_DEP[[#This Row],[Mat Inicial]]","v":6.6666666666666666E-2},"44","Dpto. Español",1020729661,"Amon Mitrani Josef","TC","PR"]
[1407,"CAS3030","COMPETENCIA COMUNICATIVA II",36,202330,30,29,2,1,3,{"$f":"+BD_DEP[[#This Row],[totalp]]/BD_DEP[[#This Row],[Mat Inicial]]","v":6.6666666666666666E-2},{"$f":"+BD_DEP[[#This Row],[totalr]]/BD_DEP[[#This Row],[Mat Inicial]]","v":3.3333333333333333E-2},{"$f":"+BD_DEP[[#This Row],[repi]]/BD_DEP[[#This Row],[Mat Inicial]]","v":0.1},"44","Dpto. Español",1069480322,"Guerra Lyons Jesus","TC","PR"]
[1119,"CAS3030","COMPETENCIA COMUNICATIVA II",40,202330,31,27,0,4,4,{"$f":"+BD_DEP[[#This Row],[totalp]]/BD_DEP[[#This Row],[Mat Inicial]]","v":0},{"$f":"+BD_DEP[[#This Row],[totalr]]/BD_DEP[[#This Row],[Mat Inicial]]","v":0.12903225806451613},{"$f":"+BD_DEP[[#This Row],[repi]]/BD_DEP[[#This Row],[Mat Inicial]]","v":0.12903225806451613},"44","Dpto. Español",1129568243,"RUEDA CHAVES JOHN","TC","PR"]
[1120,"CAS3030","COMPETENCIA COMUNICATIVA II",43,202330,30,30,4,0,4,{"$f":"+BD_DEP[[#This Row],[totalp]]/BD_DEP[[#This Row],[Mat Inicial]]","v":0.13333333333333333},{"$f":"+BD_DEP[[#This Row],[totalr]]/BD_DEP[[#This Row],[Mat Inicial]]","v":0},{"$f":"+BD_DEP[[#This Row],[repi]]/BD_DEP[[#This Row],[Mat Inicial]]","v":0.13333333333333333},"44","Dpto. Español",1129568243,"RUEDA CHAVES JOHN","TC","PR"]
[1413,"CAS3030","COMPETENCIA COMUNICATIVA II",44,202330,31,31,1,0,1,{"$f":"+BD_DEP[[#This Row],[totalp]]/BD_DEP[[#This Row],[Mat Inicial]]","v":3.2258064516129031E-2},{"$f":"+BD_DEP[[#This Row],[totalr]]/BD_DEP[[#This Row],[Mat Inicial]]","v":0},{"$f":"+BD_DEP[[#This Row],[repi]]/BD_DEP[[#This Row],[Mat Inicial]]","v":3.2258064516129031E-2},"44","Dpto. Español",1129568243,"RUEDA CHAVES JOHN","TC","PR"]
[1116,"CAS3030","COMPETENCIA COMUNICATIVA II",22,202330,30,28,1,2,3,{"$f":"+BD_DEP[[#This Row],[totalp]]/BD_DEP[[#This Row],[Mat Inicial]]","v":3.3333333333333333E-2},{"$f":"+BD_DEP[[#This Row],[totalr]]/BD_DEP[[#This Row],[Mat Inicial]]","v":6.6666666666666666E-2},{"$f":"+BD_DEP[[#This Row],[repi]]/BD_DEP[[#This Row],[Mat Inicial]]","v":0.1},"44","Dpto. Español",1129577940,"Santodomingo Orozco Luz","TC","PR"]
[1386,"CAS3030","COMPETENCIA COMUNICATIVA II",12,202330,30,30,1,0,1,{"$f":"+BD_DEP[[#This Row],[totalp]]/BD_DEP[[#This Row],[Mat Inicial]]","v":3.3333333333333333E-2},{"$f":"+BD_DEP[[#This Row],[totalr]]/BD_DEP[[#This Row],[Mat Inicial]]","v":0},{"$f":"+BD_DEP[[#This Row],[repi]]/BD_DEP[[#This Row],[Mat Inicial]]","v":3.3333333333333333E-2},"44","Dpto. Español",1132259141,"PEREZ CEDEÑO ADRIANA","TC","PR"]
[4244,"CMN0009","COMUNICACION Y ESCRITURA",1,202330,26,25,1,1,2,{"$f":"+BD_DEP[[#This Row],[totalp]]/BD_DEP[[#This Row],[Mat Inicial]]","v":3.8461538461538464E-2},{"$f":"+BD_DEP[[#This Row],[totalr]]/BD_DEP[[#This Row],[Mat Inicial]]","v":3.8461538461538464E-2},{"$f":"+BD_DEP[[#This Row],[repi]]/BD_DEP[[#This Row],[Mat Inicial]]","v":7.6923076923076927E-2},"44","Dpto. Español",22491825,"Roa Narvaez Alana","TC","PR"]
[4245,"CMN0009","COMUNICACION Y ESCRITURA",2,202330,17,15,0,2,2,{"$f":"+BD_DEP[[#This Row],[totalp]]/BD_DEP[[#This Row],[Mat Inicial]]","v":0},{"$f":"+BD_DEP[[#This Row],[totalr]]/BD_DEP[[#This Row],[Mat Inicial]]","v":0.11764705882352941},{"$f":"+BD_DEP[[#This Row],[repi]]/BD_DEP[[#This Row],[Mat Inicial]]","v":0.11764705882352941},"44","Dpto. Español",22491825,"Roa Narvaez Alana","TC","PR"]
[2626,"LIN4009","CONTEXTO EDUCATIVO",2,202330,12,12,0,0,0,{"$f":"+BD_DEP[[#This Row],[totalp]]/BD_DEP[[#This Row],[Mat Inicial]]","v":0},{"$f":"+BD_DEP[[#This Row],[totalr]]/BD_DEP[[#This Row],[Mat Inicial]]","v":0},{"$f":"+BD_DEP[[#This Row],[repi]]/BD_DEP[[#This Row],[Mat Inicial]]","v":0},"44","Dpto. Español",49741647,"Rosado Mendinueta Nayibe","TC","PR"]
[2625,"LIN4009","CONTEXTO EDUCATIVO",1,202330,19,19,0,0,0,{"$f":"+BD_DEP[[#This Row],[totalp]]/BD_DEP[[#This Row],[Mat Inicial]]","v":0},{"$f":"+BD_DEP[[#This Row],[totalr]]/BD_DEP[[#This Row],[Mat Inicial]]","v":0},{"$f":"+BD_DEP[[#This Row],[repi]]/BD_DEP[[#This Row],[Mat Inicial]]","v":0},"44","Dpto. Español",1132259141,"PEREZ CEDEÑO ADRIANA","TC","PR"]
[2623,"LIN4008","DIDACTICA Y LIT CONTEMP",1,202330,15,14,0,1,1,{"$f":"+BD_DEP[[#This Row],[totalp]]/BD_DEP[[#This Row],[Mat Inicial]]","v":0},{"$f":"+BD_DEP[[#This Row],[totalr]]/BD_DEP[[#This Row],[Mat Inicial]]","v":6.6666666666666666E-2},{"$f":"+BD_DEP[[#This Row],[repi]]/BD_DEP[[#This Row],[Mat Inicial]]","v":6.6666666666666666E-2},"44","Dpto. Español",1129577940,"Santodomingo Orozco Luz","TC","PR"]
[2624,"LIN4008","DIDACTICA Y LIT CONTEMP",2,202330,19,19,1,0,1,{"$f":"+BD_DEP[[#This Row],[totalp]]/BD_DEP[[#This Row],[Mat Inicial]]","v":5.2631578947368418E-2},{"$f":"+BD_DEP[[#This Row],[totalr]]/BD_DEP[[#This Row],[Mat Inicial]]","v":0},{"$f":"+BD_DEP[[#This Row],[repi]]/BD_DEP[[#This Row],[Mat Inicial]]","v":5.2631578947368418E-2},"44","Dpto. Español",1129577940,"Santodomingo Orozco Luz","TC","PR"]
[2615,"LIN4003","DISCURSO ORAL",2,202330,24,24,0,0,0,{"$f":"+BD_DEP[[#This Row],[totalp]]/BD_DEP[[#This Row],[Mat Inicial]]","v":0},{"$f":"+BD_DEP[[#This Row],[totalr]]/BD_DEP[[#This Row],[Mat Inicial]]","v":0},{"$f":"+BD_DEP[[#This Row],[repi]]/BD_DEP[[#This Row],[Mat Inicial]]","v":0},"44","Dpto. Español",55221544,"Valdez Jimenez Wendy","TC","PR"]
[2627,"LIN4050","EDICION DE TEXTOS",1,202330,12,12,0,0,0,{"$f":"+BD_DEP[[#This Row],[totalp]]/BD_DEP[[#This Row],[Mat Inicial]]","v":0},{"$f":"+BD_DEP[[#This Row],[totalr]]/BD_DEP[[#This Row],[Mat Inicial]]","v":0},{"$f":"+BD_DEP[[#This Row],[repi]]/BD_DEP[[#This Row],[Mat Inicial]]","v":0},"44","Dpto. Español",13569625,"CAMPO BECERRA OSCAR","TC","PR"]
[4372,"LIN4000","ESTUDIOS DEL LENGUAJE I",1,202330,33,32,1,1,2,{"$f":"+BD_DEP[[#This Row],[totalp]]/BD_DEP[[#This Row],[Mat Inicial]]","v":3.0303030303030304E-2},{"$f":"+BD_DEP[[#This Row],[totalr]]/BD_DEP[[#This Row],[Mat Inicial]]","v":3.0303030303030304E-2},{"$f":"+BD_DEP[[#This Row],[repi]]/BD_DEP[[#This Row],[Mat Inicial]]","v":6.0606060606060608E-2},"44","Dpto. Español",1129568243,"RUEDA CHAVES JOHN","TC","PR"]
[2610,"LIN4001","ESTUDIOS DEL LENGUAJE II",1,202330,11,11,0,0,0,{"$f":"+BD_DEP[[#This Row],[totalp]]/BD_DEP[[#This Row],[Mat Inicial]]","v":0},{"$f":"+BD_DEP[[#This Row],[totalr]]/BD_DEP[[#This Row],[Mat Inicial]]","v":0},{"$f":"+BD_DEP[[#This Row],[repi]]/BD_DEP[[#This Row],[Mat Inicial]]","v":0},"44","Dpto. Español",1069480322,"Guerra Lyons Jesus","TC","PR"]
[2611,"LIN4001","ESTUDIOS DEL LENGUAJE II",2,202330,23,23,0,0,0,{"$f":"+BD_DEP[[#This Row],[totalp]]/BD_DEP[[#This Row],[Mat Inicial]]","v":0},{"$f":"+BD_DEP[[#This Row],[totalr]]/BD_DEP[[#This Row],[Mat Inicial]]","v":0},{"$f":"+BD_DEP[[#This Row],[repi]]/BD_DEP[[#This Row],[Mat Inicial]]","v":0},"44","Dpto. Español",1069480322,"Guerra Lyons Jesus","TC","PR"]
[1372,"CAS0051","EXPRESION ORAL",2,202330,22,21,0,1,1,{"$f":"+BD_DEP[[#This Row],[totalp]]/BD_DEP[[#This Row],[Mat Inicial]]","v":0},{"$f":"+BD_DEP[[#This Row],[totalr]]/BD_DEP[[#This Row],[Mat Inicial]]","v":4.5454545454545456E-2},{"$f":"+BD_DEP[[#This Row],[repi]]/BD_DEP[[#This Row],[Mat Inicial]]","v":4.5454545454545456E-2},"44","Dpto. Español",52619141,"Arias Murillo Maria","TC","PR"]
[1373,"CAS0051","EXPRESION ORAL",3,202330,14,14,0,0,0,{"$f":"+BD_DEP[[#This Row],[totalp]]/BD_DEP[[#This Row],[Mat Inicial]]","v":0},{"$f":"+BD_DEP[[#This Row],[totalr]]/BD_DEP[[#This Row],[Mat Inicial]]","v":0},{"$f":"+BD_DEP[[#This Row],[repi]]/BD_DEP[[#This Row],[Mat Inicial]]","v":0},"44","Dpto. Español",52619141,"Arias Murillo Maria","TC","PR"]
[1375,"CAS0051","EXPRESION ORAL",5,202330,17,17,0,0,0,{"$f":"+BD_DEP[[#This Row],[totalp]]/BD_DEP[[#This Row],[Mat Inicial]]","v":0},{"$f":"+BD_DEP[[#This Row],[totalr]]/BD_DEP[[#This Row],[Mat Inicial]]","v":0},{"$f":"+BD_DEP[[#This Row],[repi]]/BD_DEP[[#This Row],[Mat Inicial]]","v":0},"44","Dpto. Español",52619141,"Arias Murillo Maria","TC","PR"]
[2071,"HUM4204","FICCION Y GENEROS POPULARES",1,202330,25,25,0,0,0,{"$f":"+BD_DEP[[#This Row],[totalp]]/BD_DEP[[#This Row],[Mat Inicial]]","v":0},{"$f":"+BD_DEP[[#This Row],[totalr]]/BD_DEP[[#This Row],[Mat Inicial]]","v":0},{"$f":"+BD_DEP[[#This Row],[repi]]/BD_DEP[[#This Row],[Mat Inicial]]","v":0},"44","Dpto. Español",52619141,"Arias Murillo Maria","TC","PR"]
[2612,"LIN4002","GENEROS DISCURSIVOS Y LENGUAJE",1,202330,12,11,0,1,1,{"$f":"+BD_DEP[[#This Row],[totalp]]/BD_DEP[[#This Row],[Mat Inicial]]","v":0},{"$f":"+BD_DEP[[#This Row],[totalr]]/BD_DEP[[#This Row],[Mat Inicial]]","v":8.3333333333333329E-2},{"$f":"+BD_DEP[[#This Row],[repi]]/BD_DEP[[#This Row],[Mat Inicial]]","v":8.3333333333333329E-2},"44","Dpto. Español",32720326,"Benitez Velasquez Teresa","TC","PR"]
[2613,"LIN4002","GENEROS DISCURSIVOS Y LENGUAJE",2,202330,14,14,0,0,0,{"$f":"+BD_DEP[[#This Row],[totalp]]/BD_DEP[[#This Row],[Mat Inicial]]","v":0},{"$f":"+BD_DEP[[#This Row],[totalr]]/BD_DEP[[#This Row],[Mat Inicial]]","v":0},{"$f":"+BD_DEP[[#This Row],[repi]]/BD_DEP[[#This Row],[Mat Inicial]]","v":0},"44","Dpto. Español",32720326,"Benitez Velasquez Teresa","TC","PR"]
[2070,"HUM4203","LECTURA IMPRESCINDIBLES",1,202330,20,20,0,0,0,{"$f":"+BD_DEP[[#This Row],[totalp]]/BD_DEP[[#This Row],[Mat Inicial]]","v":0},{"$f":"+BD_DEP[[#This Row],[totalr]]/BD_DEP[[#This Row],[Mat Inicial]]","v":0},{"$f":"+BD_DEP[[#This Row],[repi]]/BD_DEP[[#This Row],[Mat Inicial]]","v":0},"44","Dpto. Español",1020729661,"Amon Mitrani Josef","TC","PR"]
[2617,"LIN4004","LITERATURA Y CULT LATINOAM",3,202330,20,20,0,0,0,{"$f":"+BD_DEP[[#This Row],[totalp]]/BD_DEP[[#This Row],[Mat Inicial]]","v":0},{"$f":"+BD_DEP[[#This Row],[totalr]]/BD_DEP[[#This Row],[Mat Inicial]]","v":0},{"$f":"+BD_DEP[[#This Row],[repi]]/BD_DEP[[#This Row],[Mat Inicial]]","v":0},"44","Dpto. Español",14274902,"Martinez Houghton David","TC","PR"]
[2616,"LIN4004","LITERATURA Y CULT LATINOAM",2,202330,19,18,0,1,1,{"$f":"+BD_DEP[[#This Row],[totalp]]/BD_DEP[[#This Row],[Mat Inicial]]","v":0},{"$f":"+BD_DEP[[#This Row],[totalr]]/BD_DEP[[#This Row],[Mat Inicial]]","v":5.2631578947368418E-2},{"$f":"+BD_DEP[[#This Row],[repi]]/BD_DEP[[#This Row],[Mat Inicial]]","v":5.2631578947368418E-2},"44","Dpto. Español",79938146,"FORERO GOMEZ ANDRES","TC","PR"]
[2618,"LIN4006","METOD ENSEÑANZA LENGUA MAT I",1,202330,15,14,3,1,4,{"$f":"+BD_DEP[[#This Row],[totalp]]/BD_DEP[[#This Row],[Mat Inicial]]","v":0.2},{"$f":"+BD_DEP[[#This Row],[totalr]]/BD_DEP[[#This Row],[Mat Inicial]]","v":6.6666666666666666E-2},{"$f":"+BD_DEP[[#This Row],[repi]]/BD_DEP[[#This Row],[Mat Inicial]]","v":0.26666666666666666},"44","Dpto. Español",32820720,"Chamorro Miranda Diana","TC","PR"]
[2619,"LIN4006","METOD ENSEÑANZA LENGUA MAT I",2,202330,13,13,0,0,0,{"$f":"+BD_DEP[[#This Row],[totalp]]/BD_DEP[[#This Row],[Mat Inicial]]","v":0},{"$f":"+BD_DEP[[#This Row],[totalr]]/BD_DEP[[#This Row],[Mat Inicial]]","v":0},{"$f":"+BD_DEP[[#This Row],[repi]]/BD_DEP[[#This Row],[Mat Inicial]]","v":0},"44","Dpto. Español",32820720,"Chamorro Miranda Diana","TC","PR"]
[2620,"LIN4007","METOD ENSEÑANZA LENGUA MAT II",1,202330,20,20,1,0,1,{"$f":"+BD_DEP[[#This Row],[totalp]]/BD_DEP[[#This Row],[Mat Inicial]]","v":0.05},{"$f":"+BD_DEP[[#This Row],[totalr]]/BD_DEP[[#This Row],[Mat Inicial]]","v":0},{"$f":"+BD_DEP[[#This Row],[repi]]/BD_DEP[[#This Row],[Mat Inicial]]","v":0.05},"44","Dpto. Español",32720326,"Benitez Velasquez Teresa","TC","PR"]
[2621,"LIN4007","METOD ENSEÑANZA LENGUA MAT II",2,202330,23,22,0,1,1,{"$f":"+BD_DEP[[#This Row],[totalp]]/BD_DEP[[#This Row],[Mat Inicial]]","v":0},{"$f":"+BD_DEP[[#This Row],[totalr]]/BD_DEP[[#This Row],[Mat Inicial]]","v":4.3478260869565216E-2},{"$f":"+BD_DEP[[#This Row],[repi]]/BD_DEP[[#This Row],[Mat Inicial]]","v":4.3478260869565216E-2},"44","Dpto. Español",32720326,"Benitez Velasquez Teresa","TC","PR"]
[1537,"CSO4206","MUSICA Y CULT MASAS ROCK ELECT",1,202330,29,28,2,1,3,{"$f":"+BD_DEP[[#This Row],[totalp]]/BD_DEP[[#This Row],[Mat Inicial]]","v":6.8965517241379309E-2},{"$f":"+BD_DEP[[#This Row],[totalr]]/BD_DEP[[#This Row],[Mat Inicial]]","v":3.4482758620689655E-2},{"$f":"+BD_DEP[[#This Row],[repi]]/BD_DEP[[#This Row],[Mat Inicial]]","v":0.10344827586206896},"44","Dpto. Español",14274902,"Martinez Houghton David","TC","PR"]
[4234,"CAS3020","COMPETENCIA COMUNICATIVA I",14,202330,30,29,0,1,1,{"$f":"+BD_DEP[[#This Row],[totalp]]/BD_DEP[[#This Row],[Mat Inicial]]","v":0},{"$f":"+BD_DEP[[#This Row],[totalr]]/BD_DEP[[#This Row],[Mat Inicial]]","v":3.3333333333333333E-2},{"$f":"+BD_DEP[[#This Row],[repi]]/BD_DEP[[#This Row],[Mat Inicial]]","v":3.3333333333333333E-2},"44","Dpto. Español",22461211,"ORTEGA GONZALEZ- RUBIO MAR","CA","PR"]
[4225,"CAS3020","COMPETENCIA COMUNICATIVA I",5,202330,30,30,0,0,0,{"$f":"+BD_DEP[[#This Row],[totalp]]/BD_DEP[[#This Row],[Mat Inicial]]","v":0},{"$f":"+BD_DEP[[#This Row],[totalr]]/BD_DEP[[#This Row],[Mat Inicial]]","v":0},{"$f":"+BD_DEP[[#This Row],[repi]]/BD_DEP[[#This Row],[Mat Inicial]]","v":0},"44","Dpto. Español",32688137,"Cantillo Oliveros Milene","CA","PR"]
[4227,"CAS3020","COMPETENCIA COMUNICATIVA I",7,202330,30,28,1,2,3,{"$f":"+BD_DEP[[#This Row],[totalp]]/BD_DEP[[#This Row],[Mat Inicial]]","v":3.3333333333333333E-2},{"$f":"+BD_DEP[[#This Row],[totalr]]/BD_DEP[[#This Row],[Mat Inicial]]","v":6.6666666666666666E-2},{"$f":"+BD_DEP[[#This Row],[repi]]/BD_DEP[[#This Row],[Mat Inicial]]","v":0.1},"44","Dpto. Español",32688137,"Cantillo Oliveros Milene","CA","PR"]
[4241,"CAS3020","COMPETENCIA COMUNICATIVA I",21,202330,30,28,0,2,2,{"$f":"+BD_DEP[[#This Row],[totalp]]/BD_DEP[[#This Row],[Mat Inicial]]","v":0},{"$f":"+BD_DEP[[#This Row],[totalr]]/BD_DEP[[#This Row],[Mat Inicial]]","v":6.6666666666666666E-2},{"$f":"+BD_DEP[[#This Row],[repi]]/BD_DEP[[#This Row],[Mat Inicial]]","v":6.6666666666666666E-2},"44","Dpto. Español",32694798,"Diaz Perez Mirian","CA","PR"]
[4242,"CAS3020","COMPETENCIA COMUNICATIVA I",22,202330,30,30,0,0,0,{"$f":"+BD_DEP[[#This Row],[totalp]]/BD_DEP[[#This Row],[Mat Inicial]]","v":0},{"$f":"+BD_DEP[[#This Row],[totalr]]/BD_DEP[[#This Row],[Mat Inicial]]","v":0},{"$f":"+BD_DEP[[#This Row],[repi]]/BD_DEP[[#This Row],[Mat Inicial]]","v":0},"44","Dpto. Español",32694798,"Diaz Perez Mirian","CA","PR"]
[4230,"CAS3020","COMPETENCIA COMUNICATIVA I",10,202330,29,29,1,0,1,{"$f":"+BD_DEP[[#This Row],[totalp]]/BD_DEP[[#This Row],[Mat Inicial]]","v":3.4482758620689655E-2},{"$f":"+BD_DEP[[#This Row],[totalr]]/BD_DEP[[#This Row],[Mat Inicial]]","v":0},{"$f":"+BD_DEP[[#This Row],[repi]]/BD_DEP[[#This Row],[Mat Inicial]]","v":3.4482758620689655E-2},"44","Dpto. Español",32760656,"Molina Siado Yeisy","CA","PR"]
[4236,"CAS3020","COMPETENCIA COMUNICATIVA I",16,202330,30,28,0,2,2,{"$f":"+BD_DEP[[#This Row],[totalp]]/BD_DEP[[#This Row],[Mat Inicial]]","v":0},{"$f":"+BD_DEP[[#This Row],[totalr]]/BD_DEP[[#This Row],[Mat Inicial]]","v":6.6666666666666666E-2},{"$f":"+BD_DEP[[#This Row],[repi]]/BD_DEP[[#This Row],[Mat Inicial]]","v":6.6666666666666666E-2},"44","Dpto. Español",32863653,"Diaz Plaza Damaris","CA","PR"]
[4237,"CAS3020","COMPETENCIA COMUNICATIVA I",17,202330,31,30,2,1,3,{"$f":"+BD_DEP[[#This Row],[totalp]]/BD_DEP[[#This Row],[Mat Inicial]]","v":6.4516129032258063E-2},{"$f":"+BD_DEP[[#This Row],[totalr]]/BD_DEP[[#This Row],[Mat Inicial]]","v":3.2258064516129031E-2},{"$f":"+BD_DEP[[#This Row],[repi]]/BD_DEP[[#This Row],[Mat Inicial]]","v":9.6774193548387094E-2},"44","Dpto. Español",32863653,"Diaz Plaza Damaris","CA","PR"]
[4228,"CAS3020","COMPETENCIA COMUNICATIVA I",8,202330,31,31,1,0,1,{"$f":"+BD_DEP[[#This Row],[totalp]]/BD_DEP[[#This Row],[Mat Inicial]]","v":3.2258064516129031E-2},{"$f":"+BD_DEP[[#This Row],[totalr]]/BD_DEP[[#This Row],[Mat Inicial]]","v":0},{"$f":"+BD_DEP[[#This Row],[repi]]/BD_DEP[[#This Row],[Mat Inicial]]","v":3.2258064516129031E-2},"44","Dpto. Español",32895317,"Castrillo Gamez Juana","CA","PR"]
[4229,"CAS3020","COMPETENCIA COMUNICATIVA I",9,202330,30,28,4,2,6,{"$f":"+BD_DEP[[#This Row],[totalp]]/BD_DEP[[#This Row],[Mat Inicial]]","v":0.13333333333333333},{"$f":"+BD_DEP[[#This Row],[totalr]]/BD_DEP[[#This Row],[Mat Inicial]]","v":6.6666666666666666E-2},{"$f":"+BD_DEP[[#This Row],[repi]]/BD_DEP[[#This Row],[Mat Inicial]]","v":0.2},"44","Dpto. Español",32895317,"Castrillo Gamez Juana","CA","PR"]
[4233,"CAS3020","COMPETENCIA COMUNICATIVA I",13,202330,31,31,3,0,3,{"$f":"+BD_DEP[[#This Row],[totalp]]/BD_DEP[[#This Row],[Mat Inicial]]","v":9.6774193548387094E-2},{"$f":"+BD_DEP[[#This Row],[totalr]]/BD_DEP[[#This Row],[Mat Inicial]]","v":0},{"$f":"+BD_DEP[[#This Row],[repi]]/BD_DEP[[#This Row],[Mat Inicial]]","v":9.6774193548387094E-2},"44","Dpto. Español",72017422,"Rivera Parras Rodrigo","CA","PR"]
[4235,"CAS3020","COMPETENCIA COMUNICATIVA I",15,202330,30,27,0,3,3,{"$f":"+BD_DEP[[#This Row],[totalp]]/BD_DEP[[#This Row],[Mat Inicial]]","v":0},{"$f":"+BD_DEP[[#This Row],[totalr]]/BD_DEP[[#This Row],[Mat Inicial]]","v":0.1},{"$f":"+BD_DEP[[#This Row],[repi]]/BD_DEP[[#This Row],[Mat Inicial]]","v":0.1},"44","Dpto. Español",72017422,"Rivera Parras Rodrigo","CA","PR"]
[4224,"CAS3020","COMPETENCIA COMUNICATIVA I",4,202330,28,28,0,0,0,{"$f":"+BD_DEP[[#This Row],[totalp]]/BD_DEP[[#This Row],[Mat Inicial]]","v":0},{"$f":"+BD_DEP[[#This Row],[totalr]]/BD_DEP[[#This Row],[Mat Inicial]]","v":0},{"$f":"+BD_DEP[[#This Row],[repi]]/BD_DEP[[#This Row],[Mat Inicial]]","v":0},"44","Dpto. Español",1047339318,"DE LA HOZ VALLEJO MARIDYS","CA","PR"]
[4231,"CAS3020","COMPETENCIA COMUNICATIVA I",11,202330,30,30,0,0,0,{"$f":"+BD_DEP[[#This Row],[totalp]]/BD_DEP[[#This Row],[Mat Inicial]]","v":0},{"$f":"+BD_DEP[[#This Row],[totalr]]/BD_DEP[[#This Row],[Mat Inicial]]","v":0},{"$f":"+BD_DEP[[#This Row],[repi]]/BD_DEP[[#This Row],[Mat Inicial]]","v":0},"44","Dpto. Español",1143119763,"CHARRIS PINO ALDO","CA","PR"]
[4232,"CAS3020","COMPETENCIA COMUNICATIVA I",12,202330,30,29,0,1,1,{"$f":"+BD_DEP[[#This Row],[totalp]]/BD_DEP[[#This Row],[Mat Inicial]]","v":0},{"$f":"+BD_DEP[[#This Row],[totalr]]/BD_DEP[[#This Row],[Mat Inicial]]","v":3.3333333333333333E-2},{"$f":"+BD_DEP[[#This Row],[repi]]/BD_DEP[[#This Row],[Mat Inicial]]","v":3.3333333333333333E-2},"44","Dpto. Español",1143119763,"CHARRIS PINO ALDO","CA","PR"]
[4243,"CAS3020","COMPETENCIA COMUNICATIVA I",23,202330,31,30,0,1,1,{"$f":"+BD_DEP[[#This Row],[totalp]]/BD_DEP[[#This Row],[Mat Inicial]]","v":0},{"$f":"+BD_DEP[[#This Row],[totalr]]/BD_DEP[[#This Row],[Mat Inicial]]","v":3.2258064516129031E-2},{"$f":"+BD_DEP[[#This Row],[repi]]/BD_DEP[[#This Row],[Mat Inicial]]","v":3.2258064516129031E-2},"44","Dpto. Español",1143242770,"Franco Bracamonte Jaime","CA","PR"]
[4238,"CAS3020","COMPETENCIA COMUNICATIVA I",18,202330,31,30,0,1,1,{"$f":"+BD_DEP[[#This Row],[totalp]]/BD_DEP[[#This Row],[Mat Inicial]]","v":0},{"$f":"+BD_DEP[[#This Row],[totalr]]/BD_DEP[[#This Row],[Mat Inicial]]","v":3.2258064516129031E-2},{"$f":"+BD_DEP[[#This Row],[repi]]/BD_DEP[[#This Row],[Mat Inicial]]","v":3.2258064516129031E-2},"44","Dpto. Español",1143243946,"De la Hoz Marquez Cristina","CA","PR"]
[1400,"CAS3030","COMPETENCIA COMUNICATIVA II",28,202330,30,29,1,1,2,{"$f":"+BD_DEP[[#This Row],[totalp]]/BD_DEP[[#This Row],[Mat Inicial]]","v":3.3333333333333333E-2},{"$f":"+BD_DEP[[#This Row],[totalr]]/BD_DEP[[#This Row],[Mat Inicial]]","v":3.3333333333333333E-2},{"$f":"+BD_DEP[[#This Row],[repi]]/BD_DEP[[#This Row],[Mat Inicial]]","v":6.6666666666666666E-2},"44","Dpto. Español",8780106,"Saleth Torres Breiner","CA","PR"]
[1408,"CAS3030","COMPETENCIA COMUNICATIVA II",37,202330,30,30,0,0,0,{"$f":"+BD_DEP[[#This Row],[totalp]]/BD_DEP[[#This Row],[Mat Inicial]]","v":0},{"$f":"+BD_DEP[[#This Row],[totalr]]/BD_DEP[[#This Row],[Mat Inicial]]","v":0},{"$f":"+BD_DEP[[#This Row],[repi]]/BD_DEP[[#This Row],[Mat Inicial]]","v":0},"44","Dpto. Español",22622635,"Moreno Fontalvo Vera","CA","PR"]
[1409,"CAS3030","COMPETENCIA COMUNICATIVA II",38,202330,31,31,0,0,0,{"$f":"+BD_DEP[[#This Row],[totalp]]/BD_DEP[[#This Row],[Mat Inicial]]","v":0},{"$f":"+BD_DEP[[#This Row],[totalr]]/BD_DEP[[#This Row],[Mat Inicial]]","v":0},{"$f":"+BD_DEP[[#This Row],[repi]]/BD_DEP[[#This Row],[Mat Inicial]]","v":0},"44","Dpto. Español",22622635,"Moreno Fontalvo Vera","CA","PR"]
[1402,"CAS3030","COMPETENCIA COMUNICATIVA II",30,202330,30,24,2,6,8,{"$f":"+BD_DEP[[#This Row],[totalp]]/BD_DEP[[#This Row],[Mat Inicial]]","v":6.6666666666666666E-2},{"$f":"+BD_DEP[[#This Row],[totalr]]/BD_DEP[[#This Row],[Mat Inicial]]","v":0.2},{"$f":"+BD_DEP[[#This Row],[repi]]/BD_DEP[[#This Row],[Mat Inicial]]","v":0.26666666666666666},"44","Dpto. Español",32707801,"Toloza Pimentel Helda","CA","PR"]
[1403,"CAS3030","COMPETENCIA COMUNICATIVA II",31,202330,32,30,1,2,3,{"$f":"+BD_DEP[[#This Row],[totalp]]/BD_DEP[[#This Row],[Mat Inicial]]","v":3.125E-2},{"$f":"+BD_DEP[[#This Row],[totalr]]/BD_DEP[[#This Row],[Mat Inicial]]","v":6.25E-2},{"$f":"+BD_DEP[[#This Row],[repi]]/BD_DEP[[#This Row],[Mat Inicial]]","v":9.375E-2},"44","Dpto. Español",32707801,"Toloza Pimentel Helda","CA","PR"]
[1398,"CAS3030","COMPETENCIA COMUNICATIVA II",25,202330,30,29,1,1,2,{"$f":"+BD_DEP[[#This Row],[totalp]]/BD_DEP[[#This Row],[Mat Inicial]]","v":3.3333333333333333E-2},{"$f":"+BD_DEP[[#This Row],[totalr]]/BD_DEP[[#This Row],[Mat Inicial]]","v":3.3333333333333333E-2},{"$f":"+BD_DEP[[#This Row],[repi]]/BD_DEP[[#This Row],[Mat Inicial]]","v":6.6666666666666666E-2},"44","Dpto. Español",32717235,"Jaraba Ospino Emiluz","CA","PR"]
[1399,"CAS3030","COMPETENCIA COMUNICATIVA II",26,202330,30,30,0,0,0,{"$f":"+BD_DEP[[#This Row],[totalp]]/BD_DEP[[#This Row],[Mat Inicial]]","v":0},{"$f":"+BD_DEP[[#This Row],[totalr]]/BD_DEP[[#This Row],[Mat Inicial]]","v":0},{"$f":"+BD_DEP[[#This Row],[repi]]/BD_DEP[[#This Row],[Mat Inicial]]","v":0},"44","Dpto. Español",32765772,"Mendoza Barraza Liliana","CA","PR"]
[1380,"CAS3030","COMPETENCIA COMUNICATIVA II",5,202330,29,28,1,1,2,{"$f":"+BD_DEP[[#This Row],[totalp]]/BD_DEP[[#This Row],[Mat Inicial]]","v":3.4482758620689655E-2},{"$f":"+BD_DEP[[#This Row],[totalr]]/BD_DEP[[#This Row],[Mat Inicial]]","v":3.4482758620689655E-2},{"$f":"+BD_DEP[[#This Row],[repi]]/BD_DEP[[#This Row],[Mat Inicial]]","v":6.8965517241379309E-2},"44","Dpto. Español",72145318,"Restrepo Hamburger Rodrigo","CA","PR"]
[1394,"CAS3030","COMPETENCIA COMUNICATIVA II",20,202330,32,30,2,2,4,{"$f":"+BD_DEP[[#This Row],[totalp]]/BD_DEP[[#This Row],[Mat Inicial]]","v":6.25E-2},{"$f":"+BD_DEP[[#This Row],[totalr]]/BD_DEP[[#This Row],[Mat Inicial]]","v":6.25E-2},{"$f":"+BD_DEP[[#This Row],[repi]]/BD_DEP[[#This Row],[Mat Inicial]]","v":0.125},"44","Dpto. Español",80076522,"GONZALEZ RODRIGUEZ MAURICIO","CA","PR"]
[1395,"CAS3030","COMPETENCIA COMUNICATIVA II",21,202330,30,28,1,2,3,{"$f":"+BD_DEP[[#This Row],[totalp]]/BD_DEP[[#This Row],[Mat Inicial]]","v":3.3333333333333333E-2},{"$f":"+BD_DEP[[#This Row],[totalr]]/BD_DEP[[#This Row],[Mat Inicial]]","v":6.6666666666666666E-2},{"$f":"+BD_DEP[[#This Row],[repi]]/BD_DEP[[#This Row],[Mat Inicial]]","v":0.1},"44","Dpto. Español",80076522,"GONZALEZ RODRIGUEZ MAURICIO","CA","PR"]
[1393,"CAS3030","COMPETENCIA COMUNICATIVA II",19,202330,30,29,0,1,1,{"$f":"+BD_DEP[[#This Row],[totalp]]/BD_DEP[[#This Row],[Mat Inicial]]","v":0},{"$f":"+BD_DEP[[#This Row],[totalr]]/BD_DEP[[#This Row],[Mat Inicial]]","v":3.3333333333333333E-2},{"$f":"+BD_DEP[[#This Row],[repi]]/BD_DEP[[#This Row],[Mat Inicial]]","v":3.3333333333333333E-2},"44","Dpto. Español",1132259122,"Guariguata Birriel Yanuacelly","CA","PR"]
[2614,"LIN4003","DISCURSO ORAL",1,202330,20,18,1,2,3,{"$f":"+BD_DEP[[#This Row],[totalp]]/BD_DEP[[#This Row],[Mat Inicial]]","v":0.05},{"$f":"+BD_DEP[[#This Row],[totalr]]/BD_DEP[[#This Row],[Mat Inicial]]","v":0.1},{"$f":"+BD_DEP[[#This Row],[repi]]/BD_DEP[[#This Row],[Mat Inicial]]","v":0.15},"44","Dpto. Español",1047361368,"Pastran Chirinos Maria","CA","PR"]
[1374,"CAS0051","EXPRESION ORAL",4,202330,29,29,0,0,0,{"$f":"+BD_DEP[[#This Row],[totalp]]/BD_DEP[[#This Row],[Mat Inicial]]","v":0},{"$f":"+BD_DEP[[#This Row],[totalr]]/BD_DEP[[#This Row],[Mat Inicial]]","v":0},{"$f":"+BD_DEP[[#This Row],[repi]]/BD_DEP[[#This Row],[Mat Inicial]]","v":0},"44","Dpto. Español",72049446,"CARDENAS CABALLERO FERNANDO","CA","PR"]
[2622,"LIN4007","METOD ENSEÑANZA LENGUA MAT II",3,202330,17,17,0,0,0,{"$f":"+BD_DEP[[#This Row],[totalp]]/BD_DEP[[#This Row],[Mat Inicial]]","v":0},{"$f":"+BD_DEP[[#This Row],[totalr]]/BD_DEP[[#This Row],[Mat Inicial]]","v":0},{"$f":"+BD_DEP[[#This Row],[repi]]/BD_DEP[[#This Row],[Mat Inicial]]","v":0},"44","Dpto. Español",22622635,"Moreno Fontalvo Vera","CA","PR"]
[1186,"ADM0011","CAPITAL MARKETS",1,202330,14,14,0,0,0,{"$f":"+BD_DEP[[#This Row],[totalp]]/BD_DEP[[#This Row],[Mat Inicial]]","v":0},{"$f":"+BD_DEP[[#This Row],[totalr]]/BD_DEP[[#This Row],[Mat Inicial]]","v":0},{"$f":"+BD_DEP[[#This Row],[repi]]/BD_DEP[[#This Row],[Mat Inicial]]","v":0},"14","Dpto. Finanzas y Contaduría",401776,"Lukanima Benedicto","TC","PR"]
[1187,"ADM0016","COMPANY  VALUATION",1,202330,19,19,1,0,1,{"$f":"+BD_DEP[[#This Row],[totalp]]/BD_DEP[[#This Row],[Mat Inicial]]","v":5.2631578947368418E-2},{"$f":"+BD_DEP[[#This Row],[totalr]]/BD_DEP[[#This Row],[Mat Inicial]]","v":0},{"$f":"+BD_DEP[[#This Row],[repi]]/BD_DEP[[#This Row],[Mat Inicial]]","v":5.2631578947368418E-2},"14","Dpto. Finanzas y Contaduría",401776,"Lukanima Benedicto","TC","PR"]
[1188,"ADM0016","COMPANY  VALUATION",2,202330,15,11,0,4,4,{"$f":"+BD_DEP[[#This Row],[totalp]]/BD_DEP[[#This Row],[Mat Inicial]]","v":0},{"$f":"+BD_DEP[[#This Row],[totalr]]/BD_DEP[[#This Row],[Mat Inicial]]","v":0.26666666666666666},{"$f":"+BD_DEP[[#This Row],[repi]]/BD_DEP[[#This Row],[Mat Inicial]]","v":0.26666666666666666},"14","Dpto. Finanzas y Contaduría",1129566001,"Gomez Bravo Yuli","TC","PR"]
[1189,"ADM0016","COMPANY  VALUATION",3,202330,40,39,1,1,2,{"$f":"+BD_DEP[[#This Row],[totalp]]/BD_DEP[[#This Row],[Mat Inicial]]","v":2.5000000000000001E-2},{"$f":"+BD_DEP[[#This Row],[totalr]]/BD_DEP[[#This Row],[Mat Inicial]]","v":2.5000000000000001E-2},{"$f":"+BD_DEP[[#This Row],[repi]]/BD_DEP[[#This Row],[Mat Inicial]]","v":0.05},"14","Dpto. Finanzas y Contaduría",1129566001,"Gomez Bravo Yuli","TC","PR"]
[1515,"CON2016","COSTOS Y PRESUPUESTOS",4,202330,18,16,1,2,3,{"$f":"+BD_DEP[[#This Row],[totalp]]/BD_DEP[[#This Row],[Mat Inicial]]","v":5.5555555555555552E-2},{"$f":"+BD_DEP[[#This Row],[totalr]]/BD_DEP[[#This Row],[Mat Inicial]]","v":0.1111111111111111},{"$f":"+BD_DEP[[#This Row],[repi]]/BD_DEP[[#This Row],[Mat Inicial]]","v":0.16666666666666666},"14","Dpto. Finanzas y Contaduría",8745071,"Muñoz Santiago Alberto","TC","PR"]
[1202,"ADM0021","DERIVATIVE INSTRUMENTS",1,202330,13,13,0,0,0,{"$f":"+BD_DEP[[#This Row],[totalp]]/BD_DEP[[#This Row],[Mat Inicial]]","v":0},{"$f":"+BD_DEP[[#This Row],[totalr]]/BD_DEP[[#This Row],[Mat Inicial]]","v":0},{"$f":"+BD_DEP[[#This Row],[repi]]/BD_DEP[[#This Row],[Mat Inicial]]","v":0},"14","Dpto. Finanzas y Contaduría",401776,"Lukanima Benedicto","TC","PR"]
[1900,"FIN4228","GESTION FINANCIERA",1,202330,39,38,0,1,1,{"$f":"+BD_DEP[[#This Row],[totalp]]/BD_DEP[[#This Row],[Mat Inicial]]","v":0},{"$f":"+BD_DEP[[#This Row],[totalr]]/BD_DEP[[#This Row],[Mat Inicial]]","v":2.564102564102564E-2},{"$f":"+BD_DEP[[#This Row],[repi]]/BD_DEP[[#This Row],[Mat Inicial]]","v":2.564102564102564E-2},"14","Dpto. Finanzas y Contaduría",8745071,"Muñoz Santiago Alberto","TC","PR"]
[1901,"FIN4228","GESTION FINANCIERA",2,202330,40,40,0,0,0,{"$f":"+BD_DEP[[#This Row],[totalp]]/BD_DEP[[#This Row],[Mat Inicial]]","v":0},{"$f":"+BD_DEP[[#This Row],[totalr]]/BD_DEP[[#This Row],[Mat Inicial]]","v":0},{"$f":"+BD_DEP[[#This Row],[repi]]/BD_DEP[[#This Row],[Mat Inicial]]","v":0},"14","Dpto. Finanzas y Contaduría",8745071,"Muñoz Santiago Alberto","TC","PR"]
[1902,"FIN4228","GESTION FINANCIERA",3,202330,40,40,0,0,0,{"$f":"+BD_DEP[[#This Row],[totalp]]/BD_DEP[[#This Row],[Mat Inicial]]","v":0},{"$f":"+BD_DEP[[#This Row],[totalr]]/BD_DEP[[#This Row],[Mat Inicial]]","v":0},{"$f":"+BD_DEP[[#This Row],[repi]]/BD_DEP[[#This Row],[Mat Inicial]]","v":0},"14","Dpto. Finanzas y Contaduría",8745071,"Muñoz Santiago Alberto","TC","PR"]
[1903,"FIN4228","GESTION FINANCIERA",4,202330,36,35,0,1,1,{"$f":"+BD_DEP[[#This Row],[totalp]]/BD_DEP[[#This Row],[Mat Inicial]]","v":0},{"$f":"+BD_DEP[[#This Row],[totalr]]/BD_DEP[[#This Row],[Mat Inicial]]","v":2.7777777777777776E-2},{"$f":"+BD_DEP[[#This Row],[repi]]/BD_DEP[[#This Row],[Mat Inicial]]","v":2.7777777777777776E-2},"14","Dpto. Finanzas y Contaduría",8745071,"Muñoz Santiago Alberto","TC","PR"]
[1208,"ADM0026","INTERNAC FINANCE MANAGEMENT",1,202330,13,13,0,0,0,{"$f":"+BD_DEP[[#This Row],[totalp]]/BD_DEP[[#This Row],[Mat Inicial]]","v":0},{"$f":"+BD_DEP[[#This Row],[totalr]]/BD_DEP[[#This Row],[Mat Inicial]]","v":0},{"$f":"+BD_DEP[[#This Row],[repi]]/BD_DEP[[#This Row],[Mat Inicial]]","v":0},"14","Dpto. Finanzas y Contaduría",1129566001,"Gomez Bravo Yuli","TC","PR"]
[1524,"CON8073","INTERNATIONAL ACCOUNTING I",2,202330,21,17,1,4,5,{"$f":"+BD_DEP[[#This Row],[totalp]]/BD_DEP[[#This Row],[Mat Inicial]]","v":4.7619047619047616E-2},{"$f":"+BD_DEP[[#This Row],[totalr]]/BD_DEP[[#This Row],[Mat Inicial]]","v":0.19047619047619047},{"$f":"+BD_DEP[[#This Row],[repi]]/BD_DEP[[#This Row],[Mat Inicial]]","v":0.23809523809523808},"14","Dpto. Finanzas y Contaduría",32852443,"Contreras Cuentas Margarita","TC","PR"]
[1526,"CON8075","INTERNATIONAL ACCOUNTING II",2,202330,17,17,0,0,0,{"$f":"+BD_DEP[[#This Row],[totalp]]/BD_DEP[[#This Row],[Mat Inicial]]","v":0},{"$f":"+BD_DEP[[#This Row],[totalr]]/BD_DEP[[#This Row],[Mat Inicial]]","v":0},{"$f":"+BD_DEP[[#This Row],[repi]]/BD_DEP[[#This Row],[Mat Inicial]]","v":0},"14","Dpto. Finanzas y Contaduría",32852443,"Contreras Cuentas Margarita","TC","PR"]
[1907,"FIN9240","PLANEACION FINANCIERA",1,202330,39,35,3,4,7,{"$f":"+BD_DEP[[#This Row],[totalp]]/BD_DEP[[#This Row],[Mat Inicial]]","v":7.6923076923076927E-2},{"$f":"+BD_DEP[[#This Row],[totalr]]/BD_DEP[[#This Row],[Mat Inicial]]","v":0.10256410256410256},{"$f":"+BD_DEP[[#This Row],[repi]]/BD_DEP[[#This Row],[Mat Inicial]]","v":0.17948717948717949},"14","Dpto. Finanzas y Contaduría",72210723,"Sanchez Barrios Luis","TC","PR"]
[1908,"FIN9240","PLANEACION FINANCIERA",2,202330,40,38,1,2,3,{"$f":"+BD_DEP[[#This Row],[totalp]]/BD_DEP[[#This Row],[Mat Inicial]]","v":2.5000000000000001E-2},{"$f":"+BD_DEP[[#This Row],[totalr]]/BD_DEP[[#This Row],[Mat Inicial]]","v":0.05},{"$f":"+BD_DEP[[#This Row],[repi]]/BD_DEP[[#This Row],[Mat Inicial]]","v":7.4999999999999997E-2},"14","Dpto. Finanzas y Contaduría",72210723,"Sanchez Barrios Luis","TC","PR"]
[4253,"CON2014","CONTABILIDAD FINANCIERA",1,202330,38,30,5,8,13,{"$f":"+BD_DEP[[#This Row],[totalp]]/BD_DEP[[#This Row],[Mat Inicial]]","v":0.13157894736842105},{"$f":"+BD_DEP[[#This Row],[totalr]]/BD_DEP[[#This Row],[Mat Inicial]]","v":0.21052631578947367},{"$f":"+BD_DEP[[#This Row],[repi]]/BD_DEP[[#This Row],[Mat Inicial]]","v":0.34210526315789475},"14","Dpto. Finanzas y Contaduría",37241841,"Cabeza De Vergara Leonor","MT","PR"]
[4254,"CON2014","CONTABILIDAD FINANCIERA",2,202330,39,31,6,8,14,{"$f":"+BD_DEP[[#This Row],[totalp]]/BD_DEP[[#This Row],[Mat Inicial]]","v":0.15384615384615385},{"$f":"+BD_DEP[[#This Row],[totalr]]/BD_DEP[[#This Row],[Mat Inicial]]","v":0.20512820512820512},{"$f":"+BD_DEP[[#This Row],[repi]]/BD_DEP[[#This Row],[Mat Inicial]]","v":0.35897435897435898},"14","Dpto. Finanzas y Contaduría",37241841,"Cabeza De Vergara Leonor","MT","PR"]
[4255,"CON2014","CONTABILIDAD FINANCIERA",3,202330,40,35,6,5,11,{"$f":"+BD_DEP[[#This Row],[totalp]]/BD_DEP[[#This Row],[Mat Inicial]]","v":0.15},{"$f":"+BD_DEP[[#This Row],[totalr]]/BD_DEP[[#This Row],[Mat Inicial]]","v":0.125},{"$f":"+BD_DEP[[#This Row],[repi]]/BD_DEP[[#This Row],[Mat Inicial]]","v":0.27500000000000002},"14","Dpto. Finanzas y Contaduría",37241841,"Cabeza De Vergara Leonor","MT","PR"]
[4256,"CON2014","CONTABILIDAD FINANCIERA",4,202330,40,32,3,8,11,{"$f":"+BD_DEP[[#This Row],[totalp]]/BD_DEP[[#This Row],[Mat Inicial]]","v":7.4999999999999997E-2},{"$f":"+BD_DEP[[#This Row],[totalr]]/BD_DEP[[#This Row],[Mat Inicial]]","v":0.2},{"$f":"+BD_DEP[[#This Row],[repi]]/BD_DEP[[#This Row],[Mat Inicial]]","v":0.27500000000000002},"14","Dpto. Finanzas y Contaduría",37241841,"Cabeza De Vergara Leonor","MT","PR"]
[1522,"CON8072","AUDITORIA INTERNATIONAL I",1,202330,18,18,1,0,1,{"$f":"+BD_DEP[[#This Row],[totalp]]/BD_DEP[[#This Row],[Mat Inicial]]","v":5.5555555555555552E-2},{"$f":"+BD_DEP[[#This Row],[totalr]]/BD_DEP[[#This Row],[Mat Inicial]]","v":0},{"$f":"+BD_DEP[[#This Row],[repi]]/BD_DEP[[#This Row],[Mat Inicial]]","v":5.5555555555555552E-2},"14","Dpto. Finanzas y Contaduría",32790593,"Correa Gutierrez Monica","CA","PR"]
[1282,"ADM9737","COLOMBIAN TARIFFS AND TAXES",1,202330,15,15,0,0,0,{"$f":"+BD_DEP[[#This Row],[totalp]]/BD_DEP[[#This Row],[Mat Inicial]]","v":0},{"$f":"+BD_DEP[[#This Row],[totalr]]/BD_DEP[[#This Row],[Mat Inicial]]","v":0},{"$f":"+BD_DEP[[#This Row],[repi]]/BD_DEP[[#This Row],[Mat Inicial]]","v":0},"14","Dpto. Finanzas y Contaduría",8717894,"Lopez Pizarro Guillermo","CA","PR"]
[4257,"CON2014","CONTABILIDAD FINANCIERA",5,202330,40,40,2,0,2,{"$f":"+BD_DEP[[#This Row],[totalp]]/BD_DEP[[#This Row],[Mat Inicial]]","v":0.05},{"$f":"+BD_DEP[[#This Row],[totalr]]/BD_DEP[[#This Row],[Mat Inicial]]","v":0},{"$f":"+BD_DEP[[#This Row],[repi]]/BD_DEP[[#This Row],[Mat Inicial]]","v":0.05},"14","Dpto. Finanzas y Contaduría",72136441,"Vitola Tamara Carlos","CA","PR"]
[6911,"CON2014","CONTABILIDAD FINANCIERA",10,202330,12,11,0,1,1,{"$f":"+BD_DEP[[#This Row],[totalp]]/BD_DEP[[#This Row],[Mat Inicial]]","v":0},{"$f":"+BD_DEP[[#This Row],[totalr]]/BD_DEP[[#This Row],[Mat Inicial]]","v":8.3333333333333329E-2},{"$f":"+BD_DEP[[#This Row],[repi]]/BD_DEP[[#This Row],[Mat Inicial]]","v":8.3333333333333329E-2},"14","Dpto. Finanzas y Contaduría",72179819,"De Moya More Luis","CA","PR"]
[1284,"ADM9739","CORPORATE HOLDINGS FISCALITY",1,202330,16,16,1,0,1,{"$f":"+BD_DEP[[#This Row],[totalp]]/BD_DEP[[#This Row],[Mat Inicial]]","v":6.25E-2},{"$f":"+BD_DEP[[#This Row],[totalr]]/BD_DEP[[#This Row],[Mat Inicial]]","v":0},{"$f":"+BD_DEP[[#This Row],[repi]]/BD_DEP[[#This Row],[Mat Inicial]]","v":6.25E-2},"14","Dpto. Finanzas y Contaduría",1143241995,"MOJICA JIMENEZ ANDRES","CA","PR"]
[1514,"CON2016","COSTOS Y PRESUPUESTOS",3,202330,21,20,0,1,1,{"$f":"+BD_DEP[[#This Row],[totalp]]/BD_DEP[[#This Row],[Mat Inicial]]","v":0},{"$f":"+BD_DEP[[#This Row],[totalr]]/BD_DEP[[#This Row],[Mat Inicial]]","v":4.7619047619047616E-2},{"$f":"+BD_DEP[[#This Row],[repi]]/BD_DEP[[#This Row],[Mat Inicial]]","v":4.7619047619047616E-2},"14","Dpto. Finanzas y Contaduría",8682911,"Guevara Solis Julio","CA","PR"]
[1516,"CON2016","COSTOS Y PRESUPUESTOS",5,202330,21,19,1,2,3,{"$f":"+BD_DEP[[#This Row],[totalp]]/BD_DEP[[#This Row],[Mat Inicial]]","v":4.7619047619047616E-2},{"$f":"+BD_DEP[[#This Row],[totalr]]/BD_DEP[[#This Row],[Mat Inicial]]","v":9.5238095238095233E-2},{"$f":"+BD_DEP[[#This Row],[repi]]/BD_DEP[[#This Row],[Mat Inicial]]","v":0.14285714285714285},"14","Dpto. Finanzas y Contaduría",8682911,"Guevara Solis Julio","CA","PR"]
[1517,"CON2016","COSTOS Y PRESUPUESTOS",6,202330,32,30,1,2,3,{"$f":"+BD_DEP[[#This Row],[totalp]]/BD_DEP[[#This Row],[Mat Inicial]]","v":3.125E-2},{"$f":"+BD_DEP[[#This Row],[totalr]]/BD_DEP[[#This Row],[Mat Inicial]]","v":6.25E-2},{"$f":"+BD_DEP[[#This Row],[repi]]/BD_DEP[[#This Row],[Mat Inicial]]","v":9.375E-2},"14","Dpto. Finanzas y Contaduría",8682911,"Guevara Solis Julio","CA","PR"]
[1512,"CON2016","COSTOS Y PRESUPUESTOS",1,202330,31,31,0,0,0,{"$f":"+BD_DEP[[#This Row],[totalp]]/BD_DEP[[#This Row],[Mat Inicial]]","v":0},{"$f":"+BD_DEP[[#This Row],[totalr]]/BD_DEP[[#This Row],[Mat Inicial]]","v":0},{"$f":"+BD_DEP[[#This Row],[repi]]/BD_DEP[[#This Row],[Mat Inicial]]","v":0},"14","Dpto. Finanzas y Contaduría",32877206,"Fuentes Torres Hilda","CA","PR"]
[1513,"CON2016","COSTOS Y PRESUPUESTOS",2,202330,40,40,0,0,0,{"$f":"+BD_DEP[[#This Row],[totalp]]/BD_DEP[[#This Row],[Mat Inicial]]","v":0},{"$f":"+BD_DEP[[#This Row],[totalr]]/BD_DEP[[#This Row],[Mat Inicial]]","v":0},{"$f":"+BD_DEP[[#This Row],[repi]]/BD_DEP[[#This Row],[Mat Inicial]]","v":0},"14","Dpto. Finanzas y Contaduría",32877206,"Fuentes Torres Hilda","CA","PR"]
[1521,"CON8070","FUNDAMENTOS DE CONTROL INTERNO",2,202330,39,37,1,2,3,{"$f":"+BD_DEP[[#This Row],[totalp]]/BD_DEP[[#This Row],[Mat Inicial]]","v":2.564102564102564E-2},{"$f":"+BD_DEP[[#This Row],[totalr]]/BD_DEP[[#This Row],[Mat Inicial]]","v":5.128205128205128E-2},{"$f":"+BD_DEP[[#This Row],[repi]]/BD_DEP[[#This Row],[Mat Inicial]]","v":7.6923076923076927E-2},"14","Dpto. Finanzas y Contaduría",32877206,"Fuentes Torres Hilda","CA","PR"]
[1905,"FIN4228","GESTION FINANCIERA",6,202330,35,33,0,2,2,{"$f":"+BD_DEP[[#This Row],[totalp]]/BD_DEP[[#This Row],[Mat Inicial]]","v":0},{"$f":"+BD_DEP[[#This Row],[totalr]]/BD_DEP[[#This Row],[Mat Inicial]]","v":5.7142857142857141E-2},{"$f":"+BD_DEP[[#This Row],[repi]]/BD_DEP[[#This Row],[Mat Inicial]]","v":5.7142857142857141E-2},"14","Dpto. Finanzas y Contaduría",55302462,"Bendek Mendiwelso Vanessa","CA","PR"]
[1283,"ADM9738","INTERN TAXES AND INTERN PROCED",1,202330,15,15,0,0,0,{"$f":"+BD_DEP[[#This Row],[totalp]]/BD_DEP[[#This Row],[Mat Inicial]]","v":0},{"$f":"+BD_DEP[[#This Row],[totalr]]/BD_DEP[[#This Row],[Mat Inicial]]","v":0},{"$f":"+BD_DEP[[#This Row],[repi]]/BD_DEP[[#This Row],[Mat Inicial]]","v":0},"14","Dpto. Finanzas y Contaduría",72204998,"LAMADRID NIETO JOSE","CA","PR"]
[1525,"CON8075","INTERNATIONAL ACCOUNTING II",1,202330,22,22,0,0,0,{"$f":"+BD_DEP[[#This Row],[totalp]]/BD_DEP[[#This Row],[Mat Inicial]]","v":0},{"$f":"+BD_DEP[[#This Row],[totalr]]/BD_DEP[[#This Row],[Mat Inicial]]","v":0},{"$f":"+BD_DEP[[#This Row],[repi]]/BD_DEP[[#This Row],[Mat Inicial]]","v":0},"14","Dpto. Finanzas y Contaduría",1143241995,"MOJICA JIMENEZ ANDRES","CA","PR"]
[1527,"CON8077","INTERNATIONAL ACCOUNTING III",1,202330,29,29,0,0,0,{"$f":"+BD_DEP[[#This Row],[totalp]]/BD_DEP[[#This Row],[Mat Inicial]]","v":0},{"$f":"+BD_DEP[[#This Row],[totalr]]/BD_DEP[[#This Row],[Mat Inicial]]","v":0},{"$f":"+BD_DEP[[#This Row],[repi]]/BD_DEP[[#This Row],[Mat Inicial]]","v":0},"14","Dpto. Finanzas y Contaduría",72179819,"De Moya More Luis","CA","PR"]
[1528,"CON8079","INTERNATIONAL AUDIT II",1,202330,24,24,0,0,0,{"$f":"+BD_DEP[[#This Row],[totalp]]/BD_DEP[[#This Row],[Mat Inicial]]","v":0},{"$f":"+BD_DEP[[#This Row],[totalr]]/BD_DEP[[#This Row],[Mat Inicial]]","v":0},{"$f":"+BD_DEP[[#This Row],[repi]]/BD_DEP[[#This Row],[Mat Inicial]]","v":0},"14","Dpto. Finanzas y Contaduría",72204998,"LAMADRID NIETO JOSE","CA","PR"]
[1529,"CON8079","INTERNATIONAL AUDIT II",2,202330,22,22,0,0,0,{"$f":"+BD_DEP[[#This Row],[totalp]]/BD_DEP[[#This Row],[Mat Inicial]]","v":0},{"$f":"+BD_DEP[[#This Row],[totalr]]/BD_DEP[[#This Row],[Mat Inicial]]","v":0},{"$f":"+BD_DEP[[#This Row],[repi]]/BD_DEP[[#This Row],[Mat Inicial]]","v":0},"14","Dpto. Finanzas y Contaduría",72204998,"LAMADRID NIETO JOSE","CA","PR"]
[1906,"FIN9236","INTERNATIONAL FINANCE",1,202330,17,15,0,2,2,{"$f":"+BD_DEP[[#This Row],[totalp]]/BD_DEP[[#This Row],[Mat Inicial]]","v":0},{"$f":"+BD_DEP[[#This Row],[totalr]]/BD_DEP[[#This Row],[Mat Inicial]]","v":0.11764705882352941},{"$f":"+BD_DEP[[#This Row],[repi]]/BD_DEP[[#This Row],[Mat Inicial]]","v":0.11764705882352941},"14","Dpto. Finanzas y Contaduría",72308519,"Saavedra Camerano Andres","CA","PR"]
[1281,"ADM9115","INTERNATIONAL INFORMATION SYST",1,202330,11,11,0,0,0,{"$f":"+BD_DEP[[#This Row],[totalp]]/BD_DEP[[#This Row],[Mat Inicial]]","v":0},{"$f":"+BD_DEP[[#This Row],[totalr]]/BD_DEP[[#This Row],[Mat Inicial]]","v":0},{"$f":"+BD_DEP[[#This Row],[repi]]/BD_DEP[[#This Row],[Mat Inicial]]","v":0},"14","Dpto. Finanzas y Contaduría",18009859,"Ortega De La Rosa Jorge","CA","PR"]
[1909,"FIN9240","PLANEACION FINANCIERA",3,202330,40,37,5,3,8,{"$f":"+BD_DEP[[#This Row],[totalp]]/BD_DEP[[#This Row],[Mat Inicial]]","v":0.125},{"$f":"+BD_DEP[[#This Row],[totalr]]/BD_DEP[[#This Row],[Mat Inicial]]","v":7.4999999999999997E-2},{"$f":"+BD_DEP[[#This Row],[repi]]/BD_DEP[[#This Row],[Mat Inicial]]","v":0.2},"14","Dpto. Finanzas y Contaduría",77094854,"Gutierrez Perez Felix","CA","PR"]
[1910,"FIN9240","PLANEACION FINANCIERA",4,202330,36,31,0,5,5,{"$f":"+BD_DEP[[#This Row],[totalp]]/BD_DEP[[#This Row],[Mat Inicial]]","v":0},{"$f":"+BD_DEP[[#This Row],[totalr]]/BD_DEP[[#This Row],[Mat Inicial]]","v":0.1388888888888889},{"$f":"+BD_DEP[[#This Row],[repi]]/BD_DEP[[#This Row],[Mat Inicial]]","v":0.1388888888888889},"14","Dpto. Finanzas y Contaduría",77094854,"Gutierrez Perez Felix","CA","PR"]
[1911,"FIN9240","PLANEACION FINANCIERA",5,202330,40,37,3,3,6,{"$f":"+BD_DEP[[#This Row],[totalp]]/BD_DEP[[#This Row],[Mat Inicial]]","v":7.4999999999999997E-2},{"$f":"+BD_DEP[[#This Row],[totalr]]/BD_DEP[[#This Row],[Mat Inicial]]","v":7.4999999999999997E-2},{"$f":"+BD_DEP[[#This Row],[repi]]/BD_DEP[[#This Row],[Mat Inicial]]","v":0.15},"14","Dpto. Finanzas y Contaduría",77094854,"Gutierrez Perez Felix","CA","PR"]
[1519,"CON8067","REVISORIA FISCAL",1,202330,22,22,0,0,0,{"$f":"+BD_DEP[[#This Row],[totalp]]/BD_DEP[[#This Row],[Mat Inicial]]","v":0},{"$f":"+BD_DEP[[#This Row],[totalr]]/BD_DEP[[#This Row],[Mat Inicial]]","v":0},{"$f":"+BD_DEP[[#This Row],[repi]]/BD_DEP[[#This Row],[Mat Inicial]]","v":0},"14","Dpto. Finanzas y Contaduría",72204998,"LAMADRID NIETO JOSE","CA","PR"]
[1563,"CSV0052","AGUA Y SOCIEDAD",1,202330,30,27,0,3,3,{"$f":"+BD_DEP[[#This Row],[totalp]]/BD_DEP[[#This Row],[Mat Inicial]]","v":0},{"$f":"+BD_DEP[[#This Row],[totalr]]/BD_DEP[[#This Row],[Mat Inicial]]","v":0.1},{"$f":"+BD_DEP[[#This Row],[repi]]/BD_DEP[[#This Row],[Mat Inicial]]","v":0.1},"60","Dpto. Física",98667830,"RESTREPO LOPEZ JUAN","TC","PR"]
[2002,"GEO4040","AMBIENT Y PROC SUBMARINOS PROF",1,202330,22,21,1,1,2,{"$f":"+BD_DEP[[#This Row],[totalp]]/BD_DEP[[#This Row],[Mat Inicial]]","v":4.5454545454545456E-2},{"$f":"+BD_DEP[[#This Row],[totalr]]/BD_DEP[[#This Row],[Mat Inicial]]","v":4.5454545454545456E-2},{"$f":"+BD_DEP[[#This Row],[repi]]/BD_DEP[[#This Row],[Mat Inicial]]","v":9.0909090909090912E-2},"60","Dpto. Física",75089246,"IDARRAGA GARCIA JAVIER","TC","PR"]
[1969,"GEO4001","ANALISIS DE SERIES DE TIEMPO",1,202330,21,21,0,0,0,{"$f":"+BD_DEP[[#This Row],[totalp]]/BD_DEP[[#This Row],[Mat Inicial]]","v":0},{"$f":"+BD_DEP[[#This Row],[totalr]]/BD_DEP[[#This Row],[Mat Inicial]]","v":0},{"$f":"+BD_DEP[[#This Row],[repi]]/BD_DEP[[#This Row],[Mat Inicial]]","v":0},"60","Dpto. Física",73134542,"OTERO DIAZ LUIS","TC","PR"]
[1966,"GEO0007","ESTRATIGRAFIA",1,202330,16,16,0,0,0,{"$f":"+BD_DEP[[#This Row],[totalp]]/BD_DEP[[#This Row],[Mat Inicial]]","v":0},{"$f":"+BD_DEP[[#This Row],[totalr]]/BD_DEP[[#This Row],[Mat Inicial]]","v":0},{"$f":"+BD_DEP[[#This Row],[repi]]/BD_DEP[[#This Row],[Mat Inicial]]","v":0},"60","Dpto. Física",79723179,"RINCON BURBANO ALDO","TC","PR"]
[1971,"GEO4006","ESTRATIGRAFIA",1,202330,6,6,0,0,0,{"$f":"+BD_DEP[[#This Row],[totalp]]/BD_DEP[[#This Row],[Mat Inicial]]","v":0},{"$f":"+BD_DEP[[#This Row],[totalr]]/BD_DEP[[#This Row],[Mat Inicial]]","v":0},{"$f":"+BD_DEP[[#This Row],[repi]]/BD_DEP[[#This Row],[Mat Inicial]]","v":0},"60","Dpto. Física",79723179,"RINCON BURBANO ALDO","TC","PR"]
[1955,"FIS1043","FISICA CALOR ONDAS",7,202330,20,15,2,5,7,{"$f":"+BD_DEP[[#This Row],[totalp]]/BD_DEP[[#This Row],[Mat Inicial]]","v":0.1},{"$f":"+BD_DEP[[#This Row],[totalr]]/BD_DEP[[#This Row],[Mat Inicial]]","v":0.25},{"$f":"+BD_DEP[[#This Row],[repi]]/BD_DEP[[#This Row],[Mat Inicial]]","v":0.35},"60","Dpto. Física",72137353,"Gonzalez Garcia Alvaro","TC","PR"]
[1956,"FIS1043","FISICA CALOR ONDAS",8,202330,20,18,1,2,3,{"$f":"+BD_DEP[[#This Row],[totalp]]/BD_DEP[[#This Row],[Mat Inicial]]","v":0.05},{"$f":"+BD_DEP[[#This Row],[totalr]]/BD_DEP[[#This Row],[Mat Inicial]]","v":0.1},{"$f":"+BD_DEP[[#This Row],[repi]]/BD_DEP[[#This Row],[Mat Inicial]]","v":0.15},"60","Dpto. Física",72137353,"Gonzalez Garcia Alvaro","TC","PR"]
[1953,"FIS1043","FISICA CALOR ONDAS",5,202330,20,18,5,2,7,{"$f":"+BD_DEP[[#This Row],[totalp]]/BD_DEP[[#This Row],[Mat Inicial]]","v":0.25},{"$f":"+BD_DEP[[#This Row],[totalr]]/BD_DEP[[#This Row],[Mat Inicial]]","v":0.1},{"$f":"+BD_DEP[[#This Row],[repi]]/BD_DEP[[#This Row],[Mat Inicial]]","v":0.35},"60","Dpto. Física",72144623,"Lora Melendez Alfredo","TC","PR"]
[1954,"FIS1043","FISICA CALOR ONDAS",6,202330,20,20,1,0,1,{"$f":"+BD_DEP[[#This Row],[totalp]]/BD_DEP[[#This Row],[Mat Inicial]]","v":0.05},{"$f":"+BD_DEP[[#This Row],[totalr]]/BD_DEP[[#This Row],[Mat Inicial]]","v":0},{"$f":"+BD_DEP[[#This Row],[repi]]/BD_DEP[[#This Row],[Mat Inicial]]","v":0.05},"60","Dpto. Física",72144623,"Lora Melendez Alfredo","TC","PR"]
[1958,"FIS1043","FISICA CALOR ONDAS",10,202330,20,19,3,1,4,{"$f":"+BD_DEP[[#This Row],[totalp]]/BD_DEP[[#This Row],[Mat Inicial]]","v":0.15},{"$f":"+BD_DEP[[#This Row],[totalr]]/BD_DEP[[#This Row],[Mat Inicial]]","v":0.05},{"$f":"+BD_DEP[[#This Row],[repi]]/BD_DEP[[#This Row],[Mat Inicial]]","v":0.2},"60","Dpto. Física",72144623,"Lora Melendez Alfredo","TC","PR"]
[1949,"FIS1043","FISICA CALOR ONDAS",1,202330,20,14,5,6,11,{"$f":"+BD_DEP[[#This Row],[totalp]]/BD_DEP[[#This Row],[Mat Inicial]]","v":0.25},{"$f":"+BD_DEP[[#This Row],[totalr]]/BD_DEP[[#This Row],[Mat Inicial]]","v":0.3},{"$f":"+BD_DEP[[#This Row],[repi]]/BD_DEP[[#This Row],[Mat Inicial]]","v":0.55000000000000004},"60","Dpto. Física",72150232,"Rada Crespo Tomas","TC","PR"]
[1950,"FIS1043","FISICA CALOR ONDAS",2,202330,20,17,1,3,4,{"$f":"+BD_DEP[[#This Row],[totalp]]/BD_DEP[[#This Row],[Mat Inicial]]","v":0.05},{"$f":"+BD_DEP[[#This Row],[totalr]]/BD_DEP[[#This Row],[Mat Inicial]]","v":0.15},{"$f":"+BD_DEP[[#This Row],[repi]]/BD_DEP[[#This Row],[Mat Inicial]]","v":0.2},"60","Dpto. Física",72150232,"Rada Crespo Tomas","TC","PR"]
[1951,"FIS1043","FISICA CALOR ONDAS",3,202330,20,20,0,0,0,{"$f":"+BD_DEP[[#This Row],[totalp]]/BD_DEP[[#This Row],[Mat Inicial]]","v":0},{"$f":"+BD_DEP[[#This Row],[totalr]]/BD_DEP[[#This Row],[Mat Inicial]]","v":0},{"$f":"+BD_DEP[[#This Row],[repi]]/BD_DEP[[#This Row],[Mat Inicial]]","v":0},"60","Dpto. Física",72150232,"Rada Crespo Tomas","TC","PR"]
[1952,"FIS1043","FISICA CALOR ONDAS",4,202330,20,19,1,1,2,{"$f":"+BD_DEP[[#This Row],[totalp]]/BD_DEP[[#This Row],[Mat Inicial]]","v":0.05},{"$f":"+BD_DEP[[#This Row],[totalr]]/BD_DEP[[#This Row],[Mat Inicial]]","v":0.05},{"$f":"+BD_DEP[[#This Row],[repi]]/BD_DEP[[#This Row],[Mat Inicial]]","v":0.1},"60","Dpto. Física",72150232,"Rada Crespo Tomas","TC","PR"]
[1943,"FIS1033","FÍSICA ELECTRICIDAD",13,202330,20,19,2,1,3,{"$f":"+BD_DEP[[#This Row],[totalp]]/BD_DEP[[#This Row],[Mat Inicial]]","v":0.1},{"$f":"+BD_DEP[[#This Row],[totalr]]/BD_DEP[[#This Row],[Mat Inicial]]","v":0.05},{"$f":"+BD_DEP[[#This Row],[repi]]/BD_DEP[[#This Row],[Mat Inicial]]","v":0.15},"60","Dpto. Física",8746579,"Lopez Perez William","TC","PR"]
[1944,"FIS1033","FÍSICA ELECTRICIDAD",14,202330,20,20,1,0,1,{"$f":"+BD_DEP[[#This Row],[totalp]]/BD_DEP[[#This Row],[Mat Inicial]]","v":0.05},{"$f":"+BD_DEP[[#This Row],[totalr]]/BD_DEP[[#This Row],[Mat Inicial]]","v":0},{"$f":"+BD_DEP[[#This Row],[repi]]/BD_DEP[[#This Row],[Mat Inicial]]","v":0.05},"60","Dpto. Física",8746579,"Lopez Perez William","TC","PR"]
[1935,"FIS1033","FÍSICA ELECTRICIDAD",5,202330,20,20,0,0,0,{"$f":"+BD_DEP[[#This Row],[totalp]]/BD_DEP[[#This Row],[Mat Inicial]]","v":0},{"$f":"+BD_DEP[[#This Row],[totalr]]/BD_DEP[[#This Row],[Mat Inicial]]","v":0},{"$f":"+BD_DEP[[#This Row],[repi]]/BD_DEP[[#This Row],[Mat Inicial]]","v":0},"60","Dpto. Física",8682057,"Mass Varela Julio","TC","PR"]
[1936,"FIS1033","FÍSICA ELECTRICIDAD",6,202330,19,19,3,0,3,{"$f":"+BD_DEP[[#This Row],[totalp]]/BD_DEP[[#This Row],[Mat Inicial]]","v":0.15789473684210525},{"$f":"+BD_DEP[[#This Row],[totalr]]/BD_DEP[[#This Row],[Mat Inicial]]","v":0},{"$f":"+BD_DEP[[#This Row],[repi]]/BD_DEP[[#This Row],[Mat Inicial]]","v":0.15789473684210525},"60","Dpto. Física",8682057,"Mass Varela Julio","TC","PR"]
[1937,"FIS1033","FÍSICA ELECTRICIDAD",7,202330,21,20,4,1,5,{"$f":"+BD_DEP[[#This Row],[totalp]]/BD_DEP[[#This Row],[Mat Inicial]]","v":0.19047619047619047},{"$f":"+BD_DEP[[#This Row],[totalr]]/BD_DEP[[#This Row],[Mat Inicial]]","v":4.7619047619047616E-2},{"$f":"+BD_DEP[[#This Row],[repi]]/BD_DEP[[#This Row],[Mat Inicial]]","v":0.23809523809523808},"60","Dpto. Física",8682057,"Mass Varela Julio","TC","PR"]
[1938,"FIS1033","FÍSICA ELECTRICIDAD",8,202330,19,18,2,1,3,{"$f":"+BD_DEP[[#This Row],[totalp]]/BD_DEP[[#This Row],[Mat Inicial]]","v":0.10526315789473684},{"$f":"+BD_DEP[[#This Row],[totalr]]/BD_DEP[[#This Row],[Mat Inicial]]","v":5.2631578947368418E-2},{"$f":"+BD_DEP[[#This Row],[repi]]/BD_DEP[[#This Row],[Mat Inicial]]","v":0.15789473684210525},"60","Dpto. Física",8682057,"Mass Varela Julio","TC","PR"]
[1931,"FIS1033","FÍSICA ELECTRICIDAD",1,202330,20,17,1,3,4,{"$f":"+BD_DEP[[#This Row],[totalp]]/BD_DEP[[#This Row],[Mat Inicial]]","v":0.05},{"$f":"+BD_DEP[[#This Row],[totalr]]/BD_DEP[[#This Row],[Mat Inicial]]","v":0.15},{"$f":"+BD_DEP[[#This Row],[repi]]/BD_DEP[[#This Row],[Mat Inicial]]","v":0.2},"60","Dpto. Física",72172084,"Castro Castro Dario","TC","PR"]
[1932,"FIS1033","FÍSICA ELECTRICIDAD",2,202330,15,13,0,2,2,{"$f":"+BD_DEP[[#This Row],[totalp]]/BD_DEP[[#This Row],[Mat Inicial]]","v":0},{"$f":"+BD_DEP[[#This Row],[totalr]]/BD_DEP[[#This Row],[Mat Inicial]]","v":0.13333333333333333},{"$f":"+BD_DEP[[#This Row],[repi]]/BD_DEP[[#This Row],[Mat Inicial]]","v":0.13333333333333333},"60","Dpto. Física",72172084,"Castro Castro Dario","TC","PR"]
[1939,"FIS1033","FÍSICA ELECTRICIDAD",9,202330,20,19,1,1,2,{"$f":"+BD_DEP[[#This Row],[totalp]]/BD_DEP[[#This Row],[Mat Inicial]]","v":0.05},{"$f":"+BD_DEP[[#This Row],[totalr]]/BD_DEP[[#This Row],[Mat Inicial]]","v":0.05},{"$f":"+BD_DEP[[#This Row],[repi]]/BD_DEP[[#This Row],[Mat Inicial]]","v":0.1},"60","Dpto. Física",80023064,"Espejo Pabon Camilo","TC","PR"]
[1940,"FIS1033","FÍSICA ELECTRICIDAD",10,202330,20,17,1,3,4,{"$f":"+BD_DEP[[#This Row],[totalp]]/BD_DEP[[#This Row],[Mat Inicial]]","v":0.05},{"$f":"+BD_DEP[[#This Row],[totalr]]/BD_DEP[[#This Row],[Mat Inicial]]","v":0.15},{"$f":"+BD_DEP[[#This Row],[repi]]/BD_DEP[[#This Row],[Mat Inicial]]","v":0.2},"60","Dpto. Física",80023064,"Espejo Pabon Camilo","TC","PR"]
[1941,"FIS1033","FÍSICA ELECTRICIDAD",11,202330,20,18,1,2,3,{"$f":"+BD_DEP[[#This Row],[totalp]]/BD_DEP[[#This Row],[Mat Inicial]]","v":0.05},{"$f":"+BD_DEP[[#This Row],[totalr]]/BD_DEP[[#This Row],[Mat Inicial]]","v":0.1},{"$f":"+BD_DEP[[#This Row],[repi]]/BD_DEP[[#This Row],[Mat Inicial]]","v":0.15},"60","Dpto. Física",80023064,"Espejo Pabon Camilo","TC","PR"]
[1942,"FIS1033","FÍSICA ELECTRICIDAD",12,202330,20,20,0,0,0,{"$f":"+BD_DEP[[#This Row],[totalp]]/BD_DEP[[#This Row],[Mat Inicial]]","v":0},{"$f":"+BD_DEP[[#This Row],[totalr]]/BD_DEP[[#This Row],[Mat Inicial]]","v":0},{"$f":"+BD_DEP[[#This Row],[repi]]/BD_DEP[[#This Row],[Mat Inicial]]","v":0},"60","Dpto. Física",80023064,"Espejo Pabon Camilo","TC","PR"]
[1138,"FIS1023","FÍSICA MECANICA",12,202330,20,16,1,4,5,{"$f":"+BD_DEP[[#This Row],[totalp]]/BD_DEP[[#This Row],[Mat Inicial]]","v":0.05},{"$f":"+BD_DEP[[#This Row],[totalr]]/BD_DEP[[#This Row],[Mat Inicial]]","v":0.2},{"$f":"+BD_DEP[[#This Row],[repi]]/BD_DEP[[#This Row],[Mat Inicial]]","v":0.25},"60","Dpto. Física",72132643,"Lobo Torres Roque","TC","PR"]
[1914,"FIS1023","FÍSICA MECANICA",1,202330,20,20,6,0,6,{"$f":"+BD_DEP[[#This Row],[totalp]]/BD_DEP[[#This Row],[Mat Inicial]]","v":0.3},{"$f":"+BD_DEP[[#This Row],[totalr]]/BD_DEP[[#This Row],[Mat Inicial]]","v":0},{"$f":"+BD_DEP[[#This Row],[repi]]/BD_DEP[[#This Row],[Mat Inicial]]","v":0.3},"60","Dpto. Física",72132643,"Lobo Torres Roque","TC","PR"]
[1915,"FIS1023","FÍSICA MECANICA",2,202330,20,19,3,1,4,{"$f":"+BD_DEP[[#This Row],[totalp]]/BD_DEP[[#This Row],[Mat Inicial]]","v":0.15},{"$f":"+BD_DEP[[#This Row],[totalr]]/BD_DEP[[#This Row],[Mat Inicial]]","v":0.05},{"$f":"+BD_DEP[[#This Row],[repi]]/BD_DEP[[#This Row],[Mat Inicial]]","v":0.2},"60","Dpto. Física",72132643,"Lobo Torres Roque","TC","PR"]
[1920,"FIS1023","FÍSICA MECANICA",7,202330,20,19,3,1,4,{"$f":"+BD_DEP[[#This Row],[totalp]]/BD_DEP[[#This Row],[Mat Inicial]]","v":0.15},{"$f":"+BD_DEP[[#This Row],[totalr]]/BD_DEP[[#This Row],[Mat Inicial]]","v":0.05},{"$f":"+BD_DEP[[#This Row],[repi]]/BD_DEP[[#This Row],[Mat Inicial]]","v":0.2},"60","Dpto. Física",72183880,"Ortiz Royero Juan","TC","PR"]
[1921,"FIS1023","FÍSICA MECANICA",8,202330,20,17,0,3,3,{"$f":"+BD_DEP[[#This Row],[totalp]]/BD_DEP[[#This Row],[Mat Inicial]]","v":0},{"$f":"+BD_DEP[[#This Row],[totalr]]/BD_DEP[[#This Row],[Mat Inicial]]","v":0.15},{"$f":"+BD_DEP[[#This Row],[repi]]/BD_DEP[[#This Row],[Mat Inicial]]","v":0.15},"60","Dpto. Física",72183880,"Ortiz Royero Juan","TC","PR"]
[1137,"FIS1023","FÍSICA MECANICA",11,202330,20,16,3,4,7,{"$f":"+BD_DEP[[#This Row],[totalp]]/BD_DEP[[#This Row],[Mat Inicial]]","v":0.15},{"$f":"+BD_DEP[[#This Row],[totalr]]/BD_DEP[[#This Row],[Mat Inicial]]","v":0.2},{"$f":"+BD_DEP[[#This Row],[repi]]/BD_DEP[[#This Row],[Mat Inicial]]","v":0.35},"60","Dpto. Física",77174919,"Manotas Albor Milton","TC","PR"]
[1916,"FIS1023","FÍSICA MECANICA",3,202330,20,19,2,1,3,{"$f":"+BD_DEP[[#This Row],[totalp]]/BD_DEP[[#This Row],[Mat Inicial]]","v":0.1},{"$f":"+BD_DEP[[#This Row],[totalr]]/BD_DEP[[#This Row],[Mat Inicial]]","v":0.05},{"$f":"+BD_DEP[[#This Row],[repi]]/BD_DEP[[#This Row],[Mat Inicial]]","v":0.15},"60","Dpto. Física",77174919,"Manotas Albor Milton","TC","PR"]
[1917,"FIS1023","FÍSICA MECANICA",4,202330,20,17,3,3,6,{"$f":"+BD_DEP[[#This Row],[totalp]]/BD_DEP[[#This Row],[Mat Inicial]]","v":0.15},{"$f":"+BD_DEP[[#This Row],[totalr]]/BD_DEP[[#This Row],[Mat Inicial]]","v":0.15},{"$f":"+BD_DEP[[#This Row],[repi]]/BD_DEP[[#This Row],[Mat Inicial]]","v":0.3},"60","Dpto. Física",77174919,"Manotas Albor Milton","TC","PR"]
[1918,"FIS1023","FÍSICA MECANICA",5,202330,20,18,2,2,4,{"$f":"+BD_DEP[[#This Row],[totalp]]/BD_DEP[[#This Row],[Mat Inicial]]","v":0.1},{"$f":"+BD_DEP[[#This Row],[totalr]]/BD_DEP[[#This Row],[Mat Inicial]]","v":0.1},{"$f":"+BD_DEP[[#This Row],[repi]]/BD_DEP[[#This Row],[Mat Inicial]]","v":0.2},"60","Dpto. Física",77174919,"Manotas Albor Milton","TC","PR"]
[1919,"FIS1023","FÍSICA MECANICA",6,202330,20,13,2,7,9,{"$f":"+BD_DEP[[#This Row],[totalp]]/BD_DEP[[#This Row],[Mat Inicial]]","v":0.1},{"$f":"+BD_DEP[[#This Row],[totalr]]/BD_DEP[[#This Row],[Mat Inicial]]","v":0.35},{"$f":"+BD_DEP[[#This Row],[repi]]/BD_DEP[[#This Row],[Mat Inicial]]","v":0.45},"60","Dpto. Física",77174919,"Manotas Albor Milton","TC","PR"]
[1922,"FIS1023","FÍSICA MECANICA",9,202330,20,18,2,2,4,{"$f":"+BD_DEP[[#This Row],[totalp]]/BD_DEP[[#This Row],[Mat Inicial]]","v":0.1},{"$f":"+BD_DEP[[#This Row],[totalr]]/BD_DEP[[#This Row],[Mat Inicial]]","v":0.1},{"$f":"+BD_DEP[[#This Row],[repi]]/BD_DEP[[#This Row],[Mat Inicial]]","v":0.2},"60","Dpto. Física",1067846442,"Ruiz Chima Octavio","TC","PR"]
[1923,"FIS1023","FÍSICA MECANICA",10,202330,20,18,3,2,5,{"$f":"+BD_DEP[[#This Row],[totalp]]/BD_DEP[[#This Row],[Mat Inicial]]","v":0.15},{"$f":"+BD_DEP[[#This Row],[totalr]]/BD_DEP[[#This Row],[Mat Inicial]]","v":0.1},{"$f":"+BD_DEP[[#This Row],[repi]]/BD_DEP[[#This Row],[Mat Inicial]]","v":0.25},"60","Dpto. Física",1067846442,"Ruiz Chima Octavio","TC","PR"]
[1924,"FIS1023","FÍSICA MECANICA",13,202330,20,20,2,0,2,{"$f":"+BD_DEP[[#This Row],[totalp]]/BD_DEP[[#This Row],[Mat Inicial]]","v":0.1},{"$f":"+BD_DEP[[#This Row],[totalr]]/BD_DEP[[#This Row],[Mat Inicial]]","v":0},{"$f":"+BD_DEP[[#This Row],[repi]]/BD_DEP[[#This Row],[Mat Inicial]]","v":0.1},"60","Dpto. Física",1067846442,"Ruiz Chima Octavio","TC","PR"]
[1925,"FIS1023","FÍSICA MECANICA",14,202330,20,18,0,2,2,{"$f":"+BD_DEP[[#This Row],[totalp]]/BD_DEP[[#This Row],[Mat Inicial]]","v":0},{"$f":"+BD_DEP[[#This Row],[totalr]]/BD_DEP[[#This Row],[Mat Inicial]]","v":0.1},{"$f":"+BD_DEP[[#This Row],[repi]]/BD_DEP[[#This Row],[Mat Inicial]]","v":0.1},"60","Dpto. Física",1067846442,"Ruiz Chima Octavio","TC","PR"]
[1961,"FIS4011","FISICA MODERNA DEL ESTADO",2,202330,11,10,1,1,2,{"$f":"+BD_DEP[[#This Row],[totalp]]/BD_DEP[[#This Row],[Mat Inicial]]","v":9.0909090909090912E-2},{"$f":"+BD_DEP[[#This Row],[totalr]]/BD_DEP[[#This Row],[Mat Inicial]]","v":9.0909090909090912E-2},{"$f":"+BD_DEP[[#This Row],[repi]]/BD_DEP[[#This Row],[Mat Inicial]]","v":0.18181818181818182},"60","Dpto. Física",7178063,"Gonzalez Hernandez Rafael","TC","PR"]
[1972,"GEO4008","GEODESIA Y SISMOLOGIA",1,202330,26,24,1,2,3,{"$f":"+BD_DEP[[#This Row],[totalp]]/BD_DEP[[#This Row],[Mat Inicial]]","v":3.8461538461538464E-2},{"$f":"+BD_DEP[[#This Row],[totalr]]/BD_DEP[[#This Row],[Mat Inicial]]","v":7.6923076923076927E-2},{"$f":"+BD_DEP[[#This Row],[repi]]/BD_DEP[[#This Row],[Mat Inicial]]","v":0.11538461538461539},"60","Dpto. Física",73153010,"Tuiran Otero Erick","TC","PR"]
[1973,"GEO4009","GEOLOGIA AMBIENTAL",1,202330,15,14,0,1,1,{"$f":"+BD_DEP[[#This Row],[totalp]]/BD_DEP[[#This Row],[Mat Inicial]]","v":0},{"$f":"+BD_DEP[[#This Row],[totalr]]/BD_DEP[[#This Row],[Mat Inicial]]","v":6.6666666666666666E-2},{"$f":"+BD_DEP[[#This Row],[repi]]/BD_DEP[[#This Row],[Mat Inicial]]","v":6.6666666666666666E-2},"60","Dpto. Física",98667830,"RESTREPO LOPEZ JUAN","TC","PR"]
[1974,"GEO4010","GEOLOGIA COLOMBIANA",1,202330,34,33,2,1,3,{"$f":"+BD_DEP[[#This Row],[totalp]]/BD_DEP[[#This Row],[Mat Inicial]]","v":5.8823529411764705E-2},{"$f":"+BD_DEP[[#This Row],[totalr]]/BD_DEP[[#This Row],[Mat Inicial]]","v":2.9411764705882353E-2},{"$f":"+BD_DEP[[#This Row],[repi]]/BD_DEP[[#This Row],[Mat Inicial]]","v":8.8235294117647065E-2},"60","Dpto. Física",79411909,"MONTES RODRIGUEZ CAMILO","TC","PR"]
[1975,"GEO4011","GEOLOGIA ESTRUCTURAL",1,202330,15,13,1,2,3,{"$f":"+BD_DEP[[#This Row],[totalp]]/BD_DEP[[#This Row],[Mat Inicial]]","v":6.6666666666666666E-2},{"$f":"+BD_DEP[[#This Row],[totalr]]/BD_DEP[[#This Row],[Mat Inicial]]","v":0.13333333333333333},{"$f":"+BD_DEP[[#This Row],[repi]]/BD_DEP[[#This Row],[Mat Inicial]]","v":0.2},"60","Dpto. Física",75089246,"IDARRAGA GARCIA JAVIER","TC","PR"]
[1976,"GEO4011","GEOLOGIA ESTRUCTURAL",2,202330,12,12,1,0,1,{"$f":"+BD_DEP[[#This Row],[totalp]]/BD_DEP[[#This Row],[Mat Inicial]]","v":8.3333333333333329E-2},{"$f":"+BD_DEP[[#This Row],[totalr]]/BD_DEP[[#This Row],[Mat Inicial]]","v":0},{"$f":"+BD_DEP[[#This Row],[repi]]/BD_DEP[[#This Row],[Mat Inicial]]","v":8.3333333333333329E-2},"60","Dpto. Física",75089246,"IDARRAGA GARCIA JAVIER","TC","PR"]
[1967,"GEO0009","GEOLOGIA ESTRUCTURAL",1,202330,19,18,1,1,2,{"$f":"+BD_DEP[[#This Row],[totalp]]/BD_DEP[[#This Row],[Mat Inicial]]","v":5.2631578947368418E-2},{"$f":"+BD_DEP[[#This Row],[totalr]]/BD_DEP[[#This Row],[Mat Inicial]]","v":5.2631578947368418E-2},{"$f":"+BD_DEP[[#This Row],[repi]]/BD_DEP[[#This Row],[Mat Inicial]]","v":0.10526315789473684},"60","Dpto. Física",79411909,"MONTES RODRIGUEZ CAMILO","TC","PR"]
[1968,"GEO0009","GEOLOGIA ESTRUCTURAL",2,202330,15,11,0,4,4,{"$f":"+BD_DEP[[#This Row],[totalp]]/BD_DEP[[#This Row],[Mat Inicial]]","v":0},{"$f":"+BD_DEP[[#This Row],[totalr]]/BD_DEP[[#This Row],[Mat Inicial]]","v":0.26666666666666666},{"$f":"+BD_DEP[[#This Row],[repi]]/BD_DEP[[#This Row],[Mat Inicial]]","v":0.26666666666666666},"60","Dpto. Física",79411909,"MONTES RODRIGUEZ CAMILO","TC","PR"]
[1977,"GEO4012","GEOLOGIA FISICA",1,202330,17,17,4,0,4,{"$f":"+BD_DEP[[#This Row],[totalp]]/BD_DEP[[#This Row],[Mat Inicial]]","v":0.23529411764705882},{"$f":"+BD_DEP[[#This Row],[totalr]]/BD_DEP[[#This Row],[Mat Inicial]]","v":0},{"$f":"+BD_DEP[[#This Row],[repi]]/BD_DEP[[#This Row],[Mat Inicial]]","v":0.23529411764705882},"60","Dpto. Física",80037247,"Lamus Ochoa Felipe","TC","PR"]
[1978,"GEO4012","GEOLOGIA FISICA",2,202330,12,12,3,0,3,{"$f":"+BD_DEP[[#This Row],[totalp]]/BD_DEP[[#This Row],[Mat Inicial]]","v":0.25},{"$f":"+BD_DEP[[#This Row],[totalr]]/BD_DEP[[#This Row],[Mat Inicial]]","v":0},{"$f":"+BD_DEP[[#This Row],[repi]]/BD_DEP[[#This Row],[Mat Inicial]]","v":0.25},"60","Dpto. Física",80037247,"Lamus Ochoa Felipe","TC","PR"]
[1979,"GEO4013","GEOMORFOLOGIA",1,202330,13,12,1,1,2,{"$f":"+BD_DEP[[#This Row],[totalp]]/BD_DEP[[#This Row],[Mat Inicial]]","v":7.6923076923076927E-2},{"$f":"+BD_DEP[[#This Row],[totalr]]/BD_DEP[[#This Row],[Mat Inicial]]","v":7.6923076923076927E-2},{"$f":"+BD_DEP[[#This Row],[repi]]/BD_DEP[[#This Row],[Mat Inicial]]","v":0.15384615384615385},"60","Dpto. Física",1017134023,"Alvarez Silva Oscar","TC","PR"]
[1980,"GEO4013","GEOMORFOLOGIA",2,202330,11,11,2,0,2,{"$f":"+BD_DEP[[#This Row],[totalp]]/BD_DEP[[#This Row],[Mat Inicial]]","v":0.18181818181818182},{"$f":"+BD_DEP[[#This Row],[totalr]]/BD_DEP[[#This Row],[Mat Inicial]]","v":0},{"$f":"+BD_DEP[[#This Row],[repi]]/BD_DEP[[#This Row],[Mat Inicial]]","v":0.18181818181818182},"60","Dpto. Física",1017134023,"Alvarez Silva Oscar","TC","PR"]
[1981,"GEO4014","GEOQUIMICA",1,202330,8,6,0,2,2,{"$f":"+BD_DEP[[#This Row],[totalp]]/BD_DEP[[#This Row],[Mat Inicial]]","v":0},{"$f":"+BD_DEP[[#This Row],[totalr]]/BD_DEP[[#This Row],[Mat Inicial]]","v":0.25},{"$f":"+BD_DEP[[#This Row],[repi]]/BD_DEP[[#This Row],[Mat Inicial]]","v":0.25},"60","Dpto. Física",7176326,"Pinilla Castellanos Carlos","TC","PR"]
[1982,"GEO4014","GEOQUIMICA",2,202330,12,9,2,3,5,{"$f":"+BD_DEP[[#This Row],[totalp]]/BD_DEP[[#This Row],[Mat Inicial]]","v":0.16666666666666666},{"$f":"+BD_DEP[[#This Row],[totalr]]/BD_DEP[[#This Row],[Mat Inicial]]","v":0.25},{"$f":"+BD_DEP[[#This Row],[repi]]/BD_DEP[[#This Row],[Mat Inicial]]","v":0.41666666666666669},"60","Dpto. Física",7176326,"Pinilla Castellanos Carlos","TC","PR"]
[1984,"GEO4016","INSTRUMENTACION GEOFISICA",1,202330,20,17,0,3,3,{"$f":"+BD_DEP[[#This Row],[totalp]]/BD_DEP[[#This Row],[Mat Inicial]]","v":0},{"$f":"+BD_DEP[[#This Row],[totalr]]/BD_DEP[[#This Row],[Mat Inicial]]","v":0.15},{"$f":"+BD_DEP[[#This Row],[repi]]/BD_DEP[[#This Row],[Mat Inicial]]","v":0.15},"60","Dpto. Física",1032439318,"Conde Frias Mario","TC","PR"]
[1985,"GEO4016","INSTRUMENTACION GEOFISICA",2,202330,20,18,0,2,2,{"$f":"+BD_DEP[[#This Row],[totalp]]/BD_DEP[[#This Row],[Mat Inicial]]","v":0},{"$f":"+BD_DEP[[#This Row],[totalr]]/BD_DEP[[#This Row],[Mat Inicial]]","v":0.1},{"$f":"+BD_DEP[[#This Row],[repi]]/BD_DEP[[#This Row],[Mat Inicial]]","v":0.1},"60","Dpto. Física",1032439318,"Conde Frias Mario","TC","PR"]
[1570,"CSV0071","INTRODUCCION A LA ASTROFISICA",1,202330,18,16,1,2,3,{"$f":"+BD_DEP[[#This Row],[totalp]]/BD_DEP[[#This Row],[Mat Inicial]]","v":5.5555555555555552E-2},{"$f":"+BD_DEP[[#This Row],[totalr]]/BD_DEP[[#This Row],[Mat Inicial]]","v":0.1111111111111111},{"$f":"+BD_DEP[[#This Row],[repi]]/BD_DEP[[#This Row],[Mat Inicial]]","v":0.16666666666666666},"60","Dpto. Física",73153010,"Tuiran Otero Erick","TC","PR"]
[4322,"GEO4017","INTRODUCCION A LA GEOCIENCIAS",51,202330,10,9,0,1,1,{"$f":"+BD_DEP[[#This Row],[totalp]]/BD_DEP[[#This Row],[Mat Inicial]]","v":0},{"$f":"+BD_DEP[[#This Row],[totalr]]/BD_DEP[[#This Row],[Mat Inicial]]","v":0.1},{"$f":"+BD_DEP[[#This Row],[repi]]/BD_DEP[[#This Row],[Mat Inicial]]","v":0.1},"60","Dpto. Física",72183880,"Ortiz Royero Juan","TC","PR"]
[1986,"GEO4018","MINERALOGIA",1,202330,7,6,1,1,2,{"$f":"+BD_DEP[[#This Row],[totalp]]/BD_DEP[[#This Row],[Mat Inicial]]","v":0.14285714285714285},{"$f":"+BD_DEP[[#This Row],[totalr]]/BD_DEP[[#This Row],[Mat Inicial]]","v":0.14285714285714285},{"$f":"+BD_DEP[[#This Row],[repi]]/BD_DEP[[#This Row],[Mat Inicial]]","v":0.2857142857142857},"60","Dpto. Física",43151754,"MONTOYA LOPERA PAULA","TC","PR"]
[1987,"GEO4018","MINERALOGIA",2,202330,15,15,0,0,0,{"$f":"+BD_DEP[[#This Row],[totalp]]/BD_DEP[[#This Row],[Mat Inicial]]","v":0},{"$f":"+BD_DEP[[#This Row],[totalr]]/BD_DEP[[#This Row],[Mat Inicial]]","v":0},{"$f":"+BD_DEP[[#This Row],[repi]]/BD_DEP[[#This Row],[Mat Inicial]]","v":0},"60","Dpto. Física",80037247,"Lamus Ochoa Felipe","TC","PR"]
[1988,"GEO4019","OCEANOGRAFIA DESCRIPTIVA",1,202330,18,18,0,0,0,{"$f":"+BD_DEP[[#This Row],[totalp]]/BD_DEP[[#This Row],[Mat Inicial]]","v":0},{"$f":"+BD_DEP[[#This Row],[totalr]]/BD_DEP[[#This Row],[Mat Inicial]]","v":0},{"$f":"+BD_DEP[[#This Row],[repi]]/BD_DEP[[#This Row],[Mat Inicial]]","v":0},"60","Dpto. Física",79592381,"Torres Parra Rafael","TC","PR"]
[1989,"GEO4020","OCEANOGRAFIA DINAMICA",1,202330,25,24,0,1,1,{"$f":"+BD_DEP[[#This Row],[totalp]]/BD_DEP[[#This Row],[Mat Inicial]]","v":0},{"$f":"+BD_DEP[[#This Row],[totalr]]/BD_DEP[[#This Row],[Mat Inicial]]","v":0.04},{"$f":"+BD_DEP[[#This Row],[repi]]/BD_DEP[[#This Row],[Mat Inicial]]","v":0.04},"60","Dpto. Física",72183880,"Ortiz Royero Juan","TC","PR"]
[1990,"GEO4021","PALEONTOLOGIA",1,202330,19,19,1,0,1,{"$f":"+BD_DEP[[#This Row],[totalp]]/BD_DEP[[#This Row],[Mat Inicial]]","v":5.2631578947368418E-2},{"$f":"+BD_DEP[[#This Row],[totalr]]/BD_DEP[[#This Row],[Mat Inicial]]","v":0},{"$f":"+BD_DEP[[#This Row],[repi]]/BD_DEP[[#This Row],[Mat Inicial]]","v":5.2631578947368418E-2},"60","Dpto. Física",79723179,"RINCON BURBANO ALDO","TC","PR"]
[1992,"GEO4022","PROCESOS COSTEROS",1,202330,23,23,0,0,0,{"$f":"+BD_DEP[[#This Row],[totalp]]/BD_DEP[[#This Row],[Mat Inicial]]","v":0},{"$f":"+BD_DEP[[#This Row],[totalr]]/BD_DEP[[#This Row],[Mat Inicial]]","v":0},{"$f":"+BD_DEP[[#This Row],[repi]]/BD_DEP[[#This Row],[Mat Inicial]]","v":0},"60","Dpto. Física",73134542,"OTERO DIAZ LUIS","TC","PR"]
[1965,"GEO0006","PROGRAMACION EN CIENCIAS",1,202330,32,29,2,3,5,{"$f":"+BD_DEP[[#This Row],[totalp]]/BD_DEP[[#This Row],[Mat Inicial]]","v":6.25E-2},{"$f":"+BD_DEP[[#This Row],[totalr]]/BD_DEP[[#This Row],[Mat Inicial]]","v":9.375E-2},{"$f":"+BD_DEP[[#This Row],[repi]]/BD_DEP[[#This Row],[Mat Inicial]]","v":0.15625},"60","Dpto. Física",79592381,"Torres Parra Rafael","TC","PR"]
[2395,"INV4276","PROYECTO DE GRADO",1,202330,18,16,0,2,2,{"$f":"+BD_DEP[[#This Row],[totalp]]/BD_DEP[[#This Row],[Mat Inicial]]","v":0},{"$f":"+BD_DEP[[#This Row],[totalr]]/BD_DEP[[#This Row],[Mat Inicial]]","v":0.1111111111111111},{"$f":"+BD_DEP[[#This Row],[repi]]/BD_DEP[[#This Row],[Mat Inicial]]","v":0.1111111111111111},"60","Dpto. Física",7176326,"Pinilla Castellanos Carlos","TC","PR"]
[2396,"INV4276","PROYECTO DE GRADO",2,202330,18,16,0,2,2,{"$f":"+BD_DEP[[#This Row],[totalp]]/BD_DEP[[#This Row],[Mat Inicial]]","v":0},{"$f":"+BD_DEP[[#This Row],[totalr]]/BD_DEP[[#This Row],[Mat Inicial]]","v":0.1111111111111111},{"$f":"+BD_DEP[[#This Row],[repi]]/BD_DEP[[#This Row],[Mat Inicial]]","v":0.1111111111111111},"60","Dpto. Física",1017134023,"Alvarez Silva Oscar","TC","PR"]
[1993,"GEO4023","RECURSOS MINERALES",1,202330,15,14,0,1,1,{"$f":"+BD_DEP[[#This Row],[totalp]]/BD_DEP[[#This Row],[Mat Inicial]]","v":0},{"$f":"+BD_DEP[[#This Row],[totalr]]/BD_DEP[[#This Row],[Mat Inicial]]","v":6.6666666666666666E-2},{"$f":"+BD_DEP[[#This Row],[repi]]/BD_DEP[[#This Row],[Mat Inicial]]","v":6.6666666666666666E-2},"60","Dpto. Física",49716305,"Martinez Mendoza Carolina","TC","PR"]
[1994,"GEO4023","RECURSOS MINERALES",2,202330,10,10,0,0,0,{"$f":"+BD_DEP[[#This Row],[totalp]]/BD_DEP[[#This Row],[Mat Inicial]]","v":0},{"$f":"+BD_DEP[[#This Row],[totalr]]/BD_DEP[[#This Row],[Mat Inicial]]","v":0},{"$f":"+BD_DEP[[#This Row],[repi]]/BD_DEP[[#This Row],[Mat Inicial]]","v":0},"60","Dpto. Física",49716305,"Martinez Mendoza Carolina","TC","PR"]
[1995,"GEO4024","ROCAS IGNEAS",1,202330,15,14,0,1,1,{"$f":"+BD_DEP[[#This Row],[totalp]]/BD_DEP[[#This Row],[Mat Inicial]]","v":0},{"$f":"+BD_DEP[[#This Row],[totalr]]/BD_DEP[[#This Row],[Mat Inicial]]","v":6.6666666666666666E-2},{"$f":"+BD_DEP[[#This Row],[repi]]/BD_DEP[[#This Row],[Mat Inicial]]","v":6.6666666666666666E-2},"60","Dpto. Física",7176326,"Pinilla Castellanos Carlos","TC","PR"]
[1963,"GEO0005","ROCAS METAMORFICAS",1,202330,9,9,0,0,0,{"$f":"+BD_DEP[[#This Row],[totalp]]/BD_DEP[[#This Row],[Mat Inicial]]","v":0},{"$f":"+BD_DEP[[#This Row],[totalr]]/BD_DEP[[#This Row],[Mat Inicial]]","v":0},{"$f":"+BD_DEP[[#This Row],[repi]]/BD_DEP[[#This Row],[Mat Inicial]]","v":0},"60","Dpto. Física",43151754,"MONTOYA LOPERA PAULA","TC","PR"]
[1964,"GEO0005","ROCAS METAMORFICAS",2,202330,7,7,0,0,0,{"$f":"+BD_DEP[[#This Row],[totalp]]/BD_DEP[[#This Row],[Mat Inicial]]","v":0},{"$f":"+BD_DEP[[#This Row],[totalr]]/BD_DEP[[#This Row],[Mat Inicial]]","v":0},{"$f":"+BD_DEP[[#This Row],[repi]]/BD_DEP[[#This Row],[Mat Inicial]]","v":0},"60","Dpto. Física",43151754,"MONTOYA LOPERA PAULA","TC","PR"]
[1970,"GEO4003","ROCAS METAMORFICAS",1,202330,2,2,0,0,0,{"$f":"+BD_DEP[[#This Row],[totalp]]/BD_DEP[[#This Row],[Mat Inicial]]","v":0},{"$f":"+BD_DEP[[#This Row],[totalr]]/BD_DEP[[#This Row],[Mat Inicial]]","v":0},{"$f":"+BD_DEP[[#This Row],[repi]]/BD_DEP[[#This Row],[Mat Inicial]]","v":0},"60","Dpto. Física",43151754,"MONTOYA LOPERA PAULA","TC","PR"]
[6305,"GEO4003","ROCAS METAMORFICAS",2,202330,5,5,1,0,1,{"$f":"+BD_DEP[[#This Row],[totalp]]/BD_DEP[[#This Row],[Mat Inicial]]","v":0.2},{"$f":"+BD_DEP[[#This Row],[totalr]]/BD_DEP[[#This Row],[Mat Inicial]]","v":0},{"$f":"+BD_DEP[[#This Row],[repi]]/BD_DEP[[#This Row],[Mat Inicial]]","v":0.2},"60","Dpto. Física",43151754,"MONTOYA LOPERA PAULA","TC","PR"]
[2000,"GEO4029","SEDIMENTOLOGIA Y ROCA SEDIMENT",2,202330,14,13,0,1,1,{"$f":"+BD_DEP[[#This Row],[totalp]]/BD_DEP[[#This Row],[Mat Inicial]]","v":0},{"$f":"+BD_DEP[[#This Row],[totalr]]/BD_DEP[[#This Row],[Mat Inicial]]","v":7.1428571428571425E-2},{"$f":"+BD_DEP[[#This Row],[repi]]/BD_DEP[[#This Row],[Mat Inicial]]","v":7.1428571428571425E-2},"60","Dpto. Física",79723179,"RINCON BURBANO ALDO","TC","PR"]
[1997,"GEO4025","SENSORES REMOTOS Y SIG",1,202330,17,16,0,1,1,{"$f":"+BD_DEP[[#This Row],[totalp]]/BD_DEP[[#This Row],[Mat Inicial]]","v":0},{"$f":"+BD_DEP[[#This Row],[totalr]]/BD_DEP[[#This Row],[Mat Inicial]]","v":5.8823529411764705E-2},{"$f":"+BD_DEP[[#This Row],[repi]]/BD_DEP[[#This Row],[Mat Inicial]]","v":5.8823529411764705E-2},"60","Dpto. Física",43733304,"Hoyos Botero Natalia","TC","PR"]
[1998,"GEO4025","SENSORES REMOTOS Y SIG",2,202330,16,15,0,1,1,{"$f":"+BD_DEP[[#This Row],[totalp]]/BD_DEP[[#This Row],[Mat Inicial]]","v":0},{"$f":"+BD_DEP[[#This Row],[totalr]]/BD_DEP[[#This Row],[Mat Inicial]]","v":6.25E-2},{"$f":"+BD_DEP[[#This Row],[repi]]/BD_DEP[[#This Row],[Mat Inicial]]","v":6.25E-2},"60","Dpto. Física",43733304,"Hoyos Botero Natalia","TC","PR"]
[2001,"GEO4031","SISMOLOGÍA AVANZADA",2,202330,26,25,0,1,1,{"$f":"+BD_DEP[[#This Row],[totalp]]/BD_DEP[[#This Row],[Mat Inicial]]","v":0},{"$f":"+BD_DEP[[#This Row],[totalr]]/BD_DEP[[#This Row],[Mat Inicial]]","v":3.8461538461538464E-2},{"$f":"+BD_DEP[[#This Row],[repi]]/BD_DEP[[#This Row],[Mat Inicial]]","v":3.8461538461538464E-2},"60","Dpto. Física",73153010,"Tuiran Otero Erick","TC","PR"]
[1912,"FIS1010","TEORIA ELECTROMAGNETICA",1,202330,18,15,1,3,4,{"$f":"+BD_DEP[[#This Row],[totalp]]/BD_DEP[[#This Row],[Mat Inicial]]","v":5.5555555555555552E-2},{"$f":"+BD_DEP[[#This Row],[totalr]]/BD_DEP[[#This Row],[Mat Inicial]]","v":0.16666666666666666},{"$f":"+BD_DEP[[#This Row],[repi]]/BD_DEP[[#This Row],[Mat Inicial]]","v":0.22222222222222221},"60","Dpto. Física",72172084,"Castro Castro Dario","TC","PR"]
[1913,"FIS1010","TEORIA ELECTROMAGNETICA",2,202330,40,37,0,3,3,{"$f":"+BD_DEP[[#This Row],[totalp]]/BD_DEP[[#This Row],[Mat Inicial]]","v":0},{"$f":"+BD_DEP[[#This Row],[totalr]]/BD_DEP[[#This Row],[Mat Inicial]]","v":7.4999999999999997E-2},{"$f":"+BD_DEP[[#This Row],[repi]]/BD_DEP[[#This Row],[Mat Inicial]]","v":7.4999999999999997E-2},"60","Dpto. Física",72172084,"Castro Castro Dario","TC","PR"]
[1933,"FIS1033","FÍSICA ELECTRICIDAD",3,202330,20,20,1,0,1,{"$f":"+BD_DEP[[#This Row],[totalp]]/BD_DEP[[#This Row],[Mat Inicial]]","v":0.05},{"$f":"+BD_DEP[[#This Row],[totalr]]/BD_DEP[[#This Row],[Mat Inicial]]","v":0},{"$f":"+BD_DEP[[#This Row],[repi]]/BD_DEP[[#This Row],[Mat Inicial]]","v":0.05},"60","Dpto. Física",72125558,"Miranda Crespo Juan","MT","PR"]
[1934,"FIS1033","FÍSICA ELECTRICIDAD",4,202330,20,20,0,0,0,{"$f":"+BD_DEP[[#This Row],[totalp]]/BD_DEP[[#This Row],[Mat Inicial]]","v":0},{"$f":"+BD_DEP[[#This Row],[totalr]]/BD_DEP[[#This Row],[Mat Inicial]]","v":0},{"$f":"+BD_DEP[[#This Row],[repi]]/BD_DEP[[#This Row],[Mat Inicial]]","v":0},"60","Dpto. Física",72125558,"Miranda Crespo Juan","MT","PR"]
[1560,"CSV0040","FUNDAMENTO DE FISICA",2,202330,23,23,0,0,0,{"$f":"+BD_DEP[[#This Row],[totalp]]/BD_DEP[[#This Row],[Mat Inicial]]","v":0},{"$f":"+BD_DEP[[#This Row],[totalr]]/BD_DEP[[#This Row],[Mat Inicial]]","v":0},{"$f":"+BD_DEP[[#This Row],[repi]]/BD_DEP[[#This Row],[Mat Inicial]]","v":0},"60","Dpto. Física",72125558,"Miranda Crespo Juan","MT","PR"]
[4290,"CSV0040","FUNDAMENTO DE FISICA",1,202330,25,25,0,0,0,{"$f":"+BD_DEP[[#This Row],[totalp]]/BD_DEP[[#This Row],[Mat Inicial]]","v":0},{"$f":"+BD_DEP[[#This Row],[totalr]]/BD_DEP[[#This Row],[Mat Inicial]]","v":0},{"$f":"+BD_DEP[[#This Row],[repi]]/BD_DEP[[#This Row],[Mat Inicial]]","v":0},"60","Dpto. Física",72125558,"Miranda Crespo Juan","MT","PR"]
[1144,"FIS1043","FISICA CALOR ONDAS",13,202330,20,19,1,1,2,{"$f":"+BD_DEP[[#This Row],[totalp]]/BD_DEP[[#This Row],[Mat Inicial]]","v":0.05},{"$f":"+BD_DEP[[#This Row],[totalr]]/BD_DEP[[#This Row],[Mat Inicial]]","v":0.05},{"$f":"+BD_DEP[[#This Row],[repi]]/BD_DEP[[#This Row],[Mat Inicial]]","v":0.1},"60","Dpto. Física",8566583,"Gonzalez Ariza Roberto","CA","PR"]
[1959,"FIS1043","FISICA CALOR ONDAS",12,202330,20,19,1,1,2,{"$f":"+BD_DEP[[#This Row],[totalp]]/BD_DEP[[#This Row],[Mat Inicial]]","v":0.05},{"$f":"+BD_DEP[[#This Row],[totalr]]/BD_DEP[[#This Row],[Mat Inicial]]","v":0.05},{"$f":"+BD_DEP[[#This Row],[repi]]/BD_DEP[[#This Row],[Mat Inicial]]","v":0.1},"60","Dpto. Física",8566583,"Gonzalez Ariza Roberto","CA","PR"]
[1145,"FIS1043","FISICA CALOR ONDAS",14,202330,24,22,4,2,6,{"$f":"+BD_DEP[[#This Row],[totalp]]/BD_DEP[[#This Row],[Mat Inicial]]","v":0.16666666666666666},{"$f":"+BD_DEP[[#This Row],[totalr]]/BD_DEP[[#This Row],[Mat Inicial]]","v":8.3333333333333329E-2},{"$f":"+BD_DEP[[#This Row],[repi]]/BD_DEP[[#This Row],[Mat Inicial]]","v":0.25},"60","Dpto. Física",72288575,"Gomez Gomez Ivan","CA","PR"]
[1957,"FIS1043","FISICA CALOR ONDAS",9,202330,20,20,2,0,2,{"$f":"+BD_DEP[[#This Row],[totalp]]/BD_DEP[[#This Row],[Mat Inicial]]","v":0.1},{"$f":"+BD_DEP[[#This Row],[totalr]]/BD_DEP[[#This Row],[Mat Inicial]]","v":0},{"$f":"+BD_DEP[[#This Row],[repi]]/BD_DEP[[#This Row],[Mat Inicial]]","v":0.1},"60","Dpto. Física",72288575,"Gomez Gomez Ivan","CA","PR"]
[6555,"FIS1043","FISICA CALOR ONDAS",16,202330,20,17,5,3,8,{"$f":"+BD_DEP[[#This Row],[totalp]]/BD_DEP[[#This Row],[Mat Inicial]]","v":0.25},{"$f":"+BD_DEP[[#This Row],[totalr]]/BD_DEP[[#This Row],[Mat Inicial]]","v":0.15},{"$f":"+BD_DEP[[#This Row],[repi]]/BD_DEP[[#This Row],[Mat Inicial]]","v":0.4},"60","Dpto. Física",1098702253,"Escandon Garzon Diego","CA","PR"]
[6558,"FIS1043","FISICA CALOR ONDAS",17,202330,20,15,7,5,12,{"$f":"+BD_DEP[[#This Row],[totalp]]/BD_DEP[[#This Row],[Mat Inicial]]","v":0.35},{"$f":"+BD_DEP[[#This Row],[totalr]]/BD_DEP[[#This Row],[Mat Inicial]]","v":0.25},{"$f":"+BD_DEP[[#This Row],[repi]]/BD_DEP[[#This Row],[Mat Inicial]]","v":0.6},"60","Dpto. Física",1098702253,"Escandon Garzon Diego","CA","PR"]
[1945,"FIS1033","FÍSICA ELECTRICIDAD",15,202330,20,19,0,1,1,{"$f":"+BD_DEP[[#This Row],[totalp]]/BD_DEP[[#This Row],[Mat Inicial]]","v":0},{"$f":"+BD_DEP[[#This Row],[totalr]]/BD_DEP[[#This Row],[Mat Inicial]]","v":0.05},{"$f":"+BD_DEP[[#This Row],[repi]]/BD_DEP[[#This Row],[Mat Inicial]]","v":0.05},"60","Dpto. Física",3757048,"Castro Diago Pedro","CA","PR"]
[1946,"FIS1033","FÍSICA ELECTRICIDAD",16,202330,20,19,0,1,1,{"$f":"+BD_DEP[[#This Row],[totalp]]/BD_DEP[[#This Row],[Mat Inicial]]","v":0},{"$f":"+BD_DEP[[#This Row],[totalr]]/BD_DEP[[#This Row],[Mat Inicial]]","v":0.05},{"$f":"+BD_DEP[[#This Row],[repi]]/BD_DEP[[#This Row],[Mat Inicial]]","v":0.05},"60","Dpto. Física",3757048,"Castro Diago Pedro","CA","PR"]
[1141,"FIS1033","FÍSICA ELECTRICIDAD",19,202330,20,18,2,2,4,{"$f":"+BD_DEP[[#This Row],[totalp]]/BD_DEP[[#This Row],[Mat Inicial]]","v":0.1},{"$f":"+BD_DEP[[#This Row],[totalr]]/BD_DEP[[#This Row],[Mat Inicial]]","v":0.1},{"$f":"+BD_DEP[[#This Row],[repi]]/BD_DEP[[#This Row],[Mat Inicial]]","v":0.2},"60","Dpto. Física",72273803,"Perez Rolong Ascario","CA","PR"]
[1139,"FIS1023","FÍSICA MECANICA",20,202330,22,21,3,1,4,{"$f":"+BD_DEP[[#This Row],[totalp]]/BD_DEP[[#This Row],[Mat Inicial]]","v":0.13636363636363635},{"$f":"+BD_DEP[[#This Row],[totalr]]/BD_DEP[[#This Row],[Mat Inicial]]","v":4.5454545454545456E-2},{"$f":"+BD_DEP[[#This Row],[repi]]/BD_DEP[[#This Row],[Mat Inicial]]","v":0.18181818181818182},"60","Dpto. Física",72263658,"Arevalo Medrano Eduardo","CA","PR"]
[1930,"FIS1023","FÍSICA MECANICA",19,202330,21,19,5,2,7,{"$f":"+BD_DEP[[#This Row],[totalp]]/BD_DEP[[#This Row],[Mat Inicial]]","v":0.23809523809523808},{"$f":"+BD_DEP[[#This Row],[totalr]]/BD_DEP[[#This Row],[Mat Inicial]]","v":9.5238095238095233E-2},{"$f":"+BD_DEP[[#This Row],[repi]]/BD_DEP[[#This Row],[Mat Inicial]]","v":0.33333333333333331},"60","Dpto. Física",72263658,"Arevalo Medrano Eduardo","CA","PR"]
[1926,"FIS1023","FÍSICA MECANICA",15,202330,20,16,6,4,10,{"$f":"+BD_DEP[[#This Row],[totalp]]/BD_DEP[[#This Row],[Mat Inicial]]","v":0.3},{"$f":"+BD_DEP[[#This Row],[totalr]]/BD_DEP[[#This Row],[Mat Inicial]]","v":0.2},{"$f":"+BD_DEP[[#This Row],[repi]]/BD_DEP[[#This Row],[Mat Inicial]]","v":0.5},"60","Dpto. Física",1118847984,"Vega Fuentes Marco","CA","PR"]
[1927,"FIS1023","FÍSICA MECANICA",16,202330,20,17,4,3,7,{"$f":"+BD_DEP[[#This Row],[totalp]]/BD_DEP[[#This Row],[Mat Inicial]]","v":0.2},{"$f":"+BD_DEP[[#This Row],[totalr]]/BD_DEP[[#This Row],[Mat Inicial]]","v":0.15},{"$f":"+BD_DEP[[#This Row],[repi]]/BD_DEP[[#This Row],[Mat Inicial]]","v":0.35},"60","Dpto. Física",1118847984,"Vega Fuentes Marco","CA","PR"]
[1928,"FIS1023","FÍSICA MECANICA",17,202330,20,17,1,3,4,{"$f":"+BD_DEP[[#This Row],[totalp]]/BD_DEP[[#This Row],[Mat Inicial]]","v":0.05},{"$f":"+BD_DEP[[#This Row],[totalr]]/BD_DEP[[#This Row],[Mat Inicial]]","v":0.15},{"$f":"+BD_DEP[[#This Row],[repi]]/BD_DEP[[#This Row],[Mat Inicial]]","v":0.2},"60","Dpto. Física",1118847984,"Vega Fuentes Marco","CA","PR"]
[1929,"FIS1023","FÍSICA MECANICA",18,202330,20,15,1,5,6,{"$f":"+BD_DEP[[#This Row],[totalp]]/BD_DEP[[#This Row],[Mat Inicial]]","v":0.05},{"$f":"+BD_DEP[[#This Row],[totalr]]/BD_DEP[[#This Row],[Mat Inicial]]","v":0.25},{"$f":"+BD_DEP[[#This Row],[repi]]/BD_DEP[[#This Row],[Mat Inicial]]","v":0.3},"60","Dpto. Física",1118847984,"Vega Fuentes Marco","CA","PR"]
[1561,"CSV0040","FUNDAMENTO DE FISICA",3,202330,20,17,0,3,3,{"$f":"+BD_DEP[[#This Row],[totalp]]/BD_DEP[[#This Row],[Mat Inicial]]","v":0},{"$f":"+BD_DEP[[#This Row],[totalr]]/BD_DEP[[#This Row],[Mat Inicial]]","v":0.15},{"$f":"+BD_DEP[[#This Row],[repi]]/BD_DEP[[#This Row],[Mat Inicial]]","v":0.15},"60","Dpto. Física",72273803,"Perez Rolong Ascario","CA","PR"]
[1962,"GEO0003","GEOLOGIA PLANETARIA",1,202330,15,15,0,0,0,{"$f":"+BD_DEP[[#This Row],[totalp]]/BD_DEP[[#This Row],[Mat Inicial]]","v":0},{"$f":"+BD_DEP[[#This Row],[totalr]]/BD_DEP[[#This Row],[Mat Inicial]]","v":0},{"$f":"+BD_DEP[[#This Row],[repi]]/BD_DEP[[#This Row],[Mat Inicial]]","v":0},"60","Dpto. Física",1335280808,"PADILLA MONTOYA KELLY","CA","PR"]
[1983,"GEO4015","HIDROGEOLOGIA",1,202330,29,28,1,1,2,{"$f":"+BD_DEP[[#This Row],[totalp]]/BD_DEP[[#This Row],[Mat Inicial]]","v":3.4482758620689655E-2},{"$f":"+BD_DEP[[#This Row],[totalr]]/BD_DEP[[#This Row],[Mat Inicial]]","v":3.4482758620689655E-2},{"$f":"+BD_DEP[[#This Row],[repi]]/BD_DEP[[#This Row],[Mat Inicial]]","v":6.8965517241379309E-2},"60","Dpto. Física",1118847984,"Vega Fuentes Marco","CA","PR"]
[2024,"HIS7130","AMERICA  PREHISPANICA",1,202330,36,24,5,12,17,{"$f":"+BD_DEP[[#This Row],[totalp]]/BD_DEP[[#This Row],[Mat Inicial]]","v":0.1388888888888889},{"$f":"+BD_DEP[[#This Row],[totalr]]/BD_DEP[[#This Row],[Mat Inicial]]","v":0.33333333333333331},{"$f":"+BD_DEP[[#This Row],[repi]]/BD_DEP[[#This Row],[Mat Inicial]]","v":0.47222222222222221},"48","Dpto. Historia y Cs. Sociales",79522131,"MARTIN RINCON JUAN","TC","PR"]
[2025,"HIS7130","AMERICA  PREHISPANICA",2,202330,39,26,2,13,15,{"$f":"+BD_DEP[[#This Row],[totalp]]/BD_DEP[[#This Row],[Mat Inicial]]","v":5.128205128205128E-2},{"$f":"+BD_DEP[[#This Row],[totalr]]/BD_DEP[[#This Row],[Mat Inicial]]","v":0.33333333333333331},{"$f":"+BD_DEP[[#This Row],[repi]]/BD_DEP[[#This Row],[Mat Inicial]]","v":0.38461538461538464},"48","Dpto. Historia y Cs. Sociales",79522131,"MARTIN RINCON JUAN","TC","PR"]
[2040,"HIS7240","AMERICA LATINA CONTEMPORANEA",1,202330,40,37,5,3,8,{"$f":"+BD_DEP[[#This Row],[totalp]]/BD_DEP[[#This Row],[Mat Inicial]]","v":0.125},{"$f":"+BD_DEP[[#This Row],[totalr]]/BD_DEP[[#This Row],[Mat Inicial]]","v":7.4999999999999997E-2},{"$f":"+BD_DEP[[#This Row],[repi]]/BD_DEP[[#This Row],[Mat Inicial]]","v":0.2},"48","Dpto. Historia y Cs. Sociales",91538865,"SAMACA ALONSO GABRIEL","TC","PR"]
[1671,"ECA0020","CARIBE PREHISPANICO",3,202330,32,18,2,14,16,{"$f":"+BD_DEP[[#This Row],[totalp]]/BD_DEP[[#This Row],[Mat Inicial]]","v":6.25E-2},{"$f":"+BD_DEP[[#This Row],[totalr]]/BD_DEP[[#This Row],[Mat Inicial]]","v":0.4375},{"$f":"+BD_DEP[[#This Row],[repi]]/BD_DEP[[#This Row],[Mat Inicial]]","v":0.5},"48","Dpto. Historia y Cs. Sociales",79522131,"MARTIN RINCON JUAN","TC","PR"]
[1669,"ECA0020","CARIBE PREHISPANICO",1,202330,27,21,5,6,11,{"$f":"+BD_DEP[[#This Row],[totalp]]/BD_DEP[[#This Row],[Mat Inicial]]","v":0.18518518518518517},{"$f":"+BD_DEP[[#This Row],[totalr]]/BD_DEP[[#This Row],[Mat Inicial]]","v":0.22222222222222221},{"$f":"+BD_DEP[[#This Row],[repi]]/BD_DEP[[#This Row],[Mat Inicial]]","v":0.40740740740740738},"48","Dpto. Historia y Cs. Sociales",80154882,"RIVERA SANDOVAL WILSON","TC","PR"]
[1670,"ECA0020","CARIBE PREHISPANICO",2,202330,40,40,2,0,2,{"$f":"+BD_DEP[[#This Row],[totalp]]/BD_DEP[[#This Row],[Mat Inicial]]","v":0.05},{"$f":"+BD_DEP[[#This Row],[totalr]]/BD_DEP[[#This Row],[Mat Inicial]]","v":0},{"$f":"+BD_DEP[[#This Row],[repi]]/BD_DEP[[#This Row],[Mat Inicial]]","v":0.05},"48","Dpto. Historia y Cs. Sociales",80154882,"RIVERA SANDOVAL WILSON","TC","PR"]
[1541,"CSO7030","CIENCIAS,TECNOLOGIA-SOCIEDAD",1,202330,14,11,1,3,4,{"$f":"+BD_DEP[[#This Row],[totalp]]/BD_DEP[[#This Row],[Mat Inicial]]","v":7.1428571428571425E-2},{"$f":"+BD_DEP[[#This Row],[totalr]]/BD_DEP[[#This Row],[Mat Inicial]]","v":0.21428571428571427},{"$f":"+BD_DEP[[#This Row],[repi]]/BD_DEP[[#This Row],[Mat Inicial]]","v":0.2857142857142857},"48","Dpto. Historia y Cs. Sociales",22443688,"Molinares Guerrero Ivonne","TC","PR"]
[1542,"CSO7030","CIENCIAS,TECNOLOGIA-SOCIEDAD",2,202330,19,18,0,1,1,{"$f":"+BD_DEP[[#This Row],[totalp]]/BD_DEP[[#This Row],[Mat Inicial]]","v":0},{"$f":"+BD_DEP[[#This Row],[totalr]]/BD_DEP[[#This Row],[Mat Inicial]]","v":5.2631578947368418E-2},{"$f":"+BD_DEP[[#This Row],[repi]]/BD_DEP[[#This Row],[Mat Inicial]]","v":5.2631578947368418E-2},"48","Dpto. Historia y Cs. Sociales",22443688,"Molinares Guerrero Ivonne","TC","PR"]
[1543,"CSO7030","CIENCIAS,TECNOLOGIA-SOCIEDAD",3,202330,40,38,2,2,4,{"$f":"+BD_DEP[[#This Row],[totalp]]/BD_DEP[[#This Row],[Mat Inicial]]","v":0.05},{"$f":"+BD_DEP[[#This Row],[totalr]]/BD_DEP[[#This Row],[Mat Inicial]]","v":0.05},{"$f":"+BD_DEP[[#This Row],[repi]]/BD_DEP[[#This Row],[Mat Inicial]]","v":0.1},"48","Dpto. Historia y Cs. Sociales",22443688,"Molinares Guerrero Ivonne","TC","PR"]
[2026,"HIS7160","COLOMBIA PREHISPANICA",1,202330,40,37,3,3,6,{"$f":"+BD_DEP[[#This Row],[totalp]]/BD_DEP[[#This Row],[Mat Inicial]]","v":7.4999999999999997E-2},{"$f":"+BD_DEP[[#This Row],[totalr]]/BD_DEP[[#This Row],[Mat Inicial]]","v":7.4999999999999997E-2},{"$f":"+BD_DEP[[#This Row],[repi]]/BD_DEP[[#This Row],[Mat Inicial]]","v":0.15},"48","Dpto. Historia y Cs. Sociales",1018416740,"JARAMILLO ARANGO ANTONIO","TC","PR"]
[1703,"ECA7010","CULTURA E IDENTIDAD CARIBE",1,202330,38,37,1,1,2,{"$f":"+BD_DEP[[#This Row],[totalp]]/BD_DEP[[#This Row],[Mat Inicial]]","v":2.6315789473684209E-2},{"$f":"+BD_DEP[[#This Row],[totalr]]/BD_DEP[[#This Row],[Mat Inicial]]","v":2.6315789473684209E-2},{"$f":"+BD_DEP[[#This Row],[repi]]/BD_DEP[[#This Row],[Mat Inicial]]","v":5.2631578947368418E-2},"48","Dpto. Historia y Cs. Sociales",622492,"GASSON PACHECO RAFAEL","TC","PR"]
[1704,"ECA7010","CULTURA E IDENTIDAD CARIBE",2,202330,36,35,2,1,3,{"$f":"+BD_DEP[[#This Row],[totalp]]/BD_DEP[[#This Row],[Mat Inicial]]","v":5.5555555555555552E-2},{"$f":"+BD_DEP[[#This Row],[totalr]]/BD_DEP[[#This Row],[Mat Inicial]]","v":2.7777777777777776E-2},{"$f":"+BD_DEP[[#This Row],[repi]]/BD_DEP[[#This Row],[Mat Inicial]]","v":8.3333333333333329E-2},"48","Dpto. Historia y Cs. Sociales",622492,"GASSON PACHECO RAFAEL","TC","PR"]
[1705,"ECA7010","CULTURA E IDENTIDAD CARIBE",3,202330,36,32,2,4,6,{"$f":"+BD_DEP[[#This Row],[totalp]]/BD_DEP[[#This Row],[Mat Inicial]]","v":5.5555555555555552E-2},{"$f":"+BD_DEP[[#This Row],[totalr]]/BD_DEP[[#This Row],[Mat Inicial]]","v":0.1111111111111111},{"$f":"+BD_DEP[[#This Row],[repi]]/BD_DEP[[#This Row],[Mat Inicial]]","v":0.16666666666666666},"48","Dpto. Historia y Cs. Sociales",622492,"GASSON PACHECO RAFAEL","TC","PR"]
[1673,"ECA0030","DIVERSIDAD CULTURAL CARIBE COL",2,202330,34,32,0,2,2,{"$f":"+BD_DEP[[#This Row],[totalp]]/BD_DEP[[#This Row],[Mat Inicial]]","v":0},{"$f":"+BD_DEP[[#This Row],[totalr]]/BD_DEP[[#This Row],[Mat Inicial]]","v":5.8823529411764705E-2},{"$f":"+BD_DEP[[#This Row],[repi]]/BD_DEP[[#This Row],[Mat Inicial]]","v":5.8823529411764705E-2},"48","Dpto. Historia y Cs. Sociales",79150050,"Guerra Curvelo Weildler","TC","PR"]
[1674,"ECA0030","DIVERSIDAD CULTURAL CARIBE COL",3,202330,36,35,1,1,2,{"$f":"+BD_DEP[[#This Row],[totalp]]/BD_DEP[[#This Row],[Mat Inicial]]","v":2.7777777777777776E-2},{"$f":"+BD_DEP[[#This Row],[totalr]]/BD_DEP[[#This Row],[Mat Inicial]]","v":2.7777777777777776E-2},{"$f":"+BD_DEP[[#This Row],[repi]]/BD_DEP[[#This Row],[Mat Inicial]]","v":5.5555555555555552E-2},"48","Dpto. Historia y Cs. Sociales",79150050,"Guerra Curvelo Weildler","TC","PR"]
[2014,"HIS2550","ENFERMEDADES EN EL PASADO",1,202330,30,29,1,1,2,{"$f":"+BD_DEP[[#This Row],[totalp]]/BD_DEP[[#This Row],[Mat Inicial]]","v":3.3333333333333333E-2},{"$f":"+BD_DEP[[#This Row],[totalr]]/BD_DEP[[#This Row],[Mat Inicial]]","v":3.3333333333333333E-2},{"$f":"+BD_DEP[[#This Row],[repi]]/BD_DEP[[#This Row],[Mat Inicial]]","v":6.6666666666666666E-2},"48","Dpto. Historia y Cs. Sociales",80154882,"RIVERA SANDOVAL WILSON","TC","PR"]
[2015,"HIS2550","ENFERMEDADES EN EL PASADO",2,202330,29,29,2,0,2,{"$f":"+BD_DEP[[#This Row],[totalp]]/BD_DEP[[#This Row],[Mat Inicial]]","v":6.8965517241379309E-2},{"$f":"+BD_DEP[[#This Row],[totalr]]/BD_DEP[[#This Row],[Mat Inicial]]","v":0},{"$f":"+BD_DEP[[#This Row],[repi]]/BD_DEP[[#This Row],[Mat Inicial]]","v":6.8965517241379309E-2},"48","Dpto. Historia y Cs. Sociales",80154882,"RIVERA SANDOVAL WILSON","TC","PR"]
[1545,"CSO7045","ENVIRONMENT AND SOCIETY",1,202330,8,8,0,0,0,{"$f":"+BD_DEP[[#This Row],[totalp]]/BD_DEP[[#This Row],[Mat Inicial]]","v":0},{"$f":"+BD_DEP[[#This Row],[totalr]]/BD_DEP[[#This Row],[Mat Inicial]]","v":0},{"$f":"+BD_DEP[[#This Row],[repi]]/BD_DEP[[#This Row],[Mat Inicial]]","v":0},"48","Dpto. Historia y Cs. Sociales",79956272,"CAMARGO ALVARADO FABIO","TC","PR"]
[1530,"CSO0006","FUNDAMENTOS DE ANTROPOLOGIA",3,202330,36,36,4,0,4,{"$f":"+BD_DEP[[#This Row],[totalp]]/BD_DEP[[#This Row],[Mat Inicial]]","v":0.1111111111111111},{"$f":"+BD_DEP[[#This Row],[totalr]]/BD_DEP[[#This Row],[Mat Inicial]]","v":0},{"$f":"+BD_DEP[[#This Row],[repi]]/BD_DEP[[#This Row],[Mat Inicial]]","v":0.1111111111111111},"48","Dpto. Historia y Cs. Sociales",622492,"GASSON PACHECO RAFAEL","TC","PR"]
[4258,"CSO0006","FUNDAMENTOS DE ANTROPOLOGIA",1,202330,40,38,0,2,2,{"$f":"+BD_DEP[[#This Row],[totalp]]/BD_DEP[[#This Row],[Mat Inicial]]","v":0},{"$f":"+BD_DEP[[#This Row],[totalr]]/BD_DEP[[#This Row],[Mat Inicial]]","v":0.05},{"$f":"+BD_DEP[[#This Row],[repi]]/BD_DEP[[#This Row],[Mat Inicial]]","v":0.05},"48","Dpto. Historia y Cs. Sociales",79956272,"CAMARGO ALVARADO FABIO","TC","PR"]
[4259,"CSO0006","FUNDAMENTOS DE ANTROPOLOGIA",2,202330,38,33,3,5,8,{"$f":"+BD_DEP[[#This Row],[totalp]]/BD_DEP[[#This Row],[Mat Inicial]]","v":7.8947368421052627E-2},{"$f":"+BD_DEP[[#This Row],[totalr]]/BD_DEP[[#This Row],[Mat Inicial]]","v":0.13157894736842105},{"$f":"+BD_DEP[[#This Row],[repi]]/BD_DEP[[#This Row],[Mat Inicial]]","v":0.21052631578947367},"48","Dpto. Historia y Cs. Sociales",79956272,"CAMARGO ALVARADO FABIO","TC","PR"]
[4325,"HIS2041","FUNDAMENTOS DEL MUNDO CONTEM",1,202330,22,22,0,0,0,{"$f":"+BD_DEP[[#This Row],[totalp]]/BD_DEP[[#This Row],[Mat Inicial]]","v":0},{"$f":"+BD_DEP[[#This Row],[totalr]]/BD_DEP[[#This Row],[Mat Inicial]]","v":0},{"$f":"+BD_DEP[[#This Row],[repi]]/BD_DEP[[#This Row],[Mat Inicial]]","v":0},"48","Dpto. Historia y Cs. Sociales",1073503048,"GONZALEZ MARTINEZ NELSON","TC","PR"]
[4326,"HIS2041","FUNDAMENTOS DEL MUNDO CONTEM",2,202330,30,16,2,14,16,{"$f":"+BD_DEP[[#This Row],[totalp]]/BD_DEP[[#This Row],[Mat Inicial]]","v":6.6666666666666666E-2},{"$f":"+BD_DEP[[#This Row],[totalr]]/BD_DEP[[#This Row],[Mat Inicial]]","v":0.46666666666666667},{"$f":"+BD_DEP[[#This Row],[repi]]/BD_DEP[[#This Row],[Mat Inicial]]","v":0.53333333333333333},"48","Dpto. Historia y Cs. Sociales",1073503048,"GONZALEZ MARTINEZ NELSON","TC","PR"]
[4262,"CSO0040","GEOGRAFIA UNIVERSAL",1,202330,36,33,1,3,4,{"$f":"+BD_DEP[[#This Row],[totalp]]/BD_DEP[[#This Row],[Mat Inicial]]","v":2.7777777777777776E-2},{"$f":"+BD_DEP[[#This Row],[totalr]]/BD_DEP[[#This Row],[Mat Inicial]]","v":8.3333333333333329E-2},{"$f":"+BD_DEP[[#This Row],[repi]]/BD_DEP[[#This Row],[Mat Inicial]]","v":0.1111111111111111},"48","Dpto. Historia y Cs. Sociales",43733304,"Hoyos Botero Natalia","TC","PR"]
[2012,"HIS2100","HISTORIA DE LAS IDEAS POLITICA",1,202330,24,23,0,1,1,{"$f":"+BD_DEP[[#This Row],[totalp]]/BD_DEP[[#This Row],[Mat Inicial]]","v":0},{"$f":"+BD_DEP[[#This Row],[totalr]]/BD_DEP[[#This Row],[Mat Inicial]]","v":4.1666666666666664E-2},{"$f":"+BD_DEP[[#This Row],[repi]]/BD_DEP[[#This Row],[Mat Inicial]]","v":4.1666666666666664E-2},"48","Dpto. Historia y Cs. Sociales",609608,"BALDERACCHI CLAUDIO","TC","PR"]
[2036,"HIS7200","HRIA. DE BARRANQUILLA",1,202330,40,40,0,0,0,{"$f":"+BD_DEP[[#This Row],[totalp]]/BD_DEP[[#This Row],[Mat Inicial]]","v":0},{"$f":"+BD_DEP[[#This Row],[totalr]]/BD_DEP[[#This Row],[Mat Inicial]]","v":0},{"$f":"+BD_DEP[[#This Row],[repi]]/BD_DEP[[#This Row],[Mat Inicial]]","v":0},"48","Dpto. Historia y Cs. Sociales",225709,"Villalon Donoso Jorge","TC","PR"]
[2037,"HIS7200","HRIA. DE BARRANQUILLA",2,202330,40,39,0,1,1,{"$f":"+BD_DEP[[#This Row],[totalp]]/BD_DEP[[#This Row],[Mat Inicial]]","v":0},{"$f":"+BD_DEP[[#This Row],[totalr]]/BD_DEP[[#This Row],[Mat Inicial]]","v":2.5000000000000001E-2},{"$f":"+BD_DEP[[#This Row],[repi]]/BD_DEP[[#This Row],[Mat Inicial]]","v":2.5000000000000001E-2},"48","Dpto. Historia y Cs. Sociales",225709,"Villalon Donoso Jorge","TC","PR"]
[2038,"HIS7200","HRIA. DE BARRANQUILLA",3,202330,40,38,0,2,2,{"$f":"+BD_DEP[[#This Row],[totalp]]/BD_DEP[[#This Row],[Mat Inicial]]","v":0},{"$f":"+BD_DEP[[#This Row],[totalr]]/BD_DEP[[#This Row],[Mat Inicial]]","v":0.05},{"$f":"+BD_DEP[[#This Row],[repi]]/BD_DEP[[#This Row],[Mat Inicial]]","v":0.05},"48","Dpto. Historia y Cs. Sociales",225709,"Villalon Donoso Jorge","TC","PR"]
[2033,"HIS7190","HRIA. DE COL. SIGLO XX",7,202330,36,36,0,0,0,{"$f":"+BD_DEP[[#This Row],[totalp]]/BD_DEP[[#This Row],[Mat Inicial]]","v":0},{"$f":"+BD_DEP[[#This Row],[totalr]]/BD_DEP[[#This Row],[Mat Inicial]]","v":0},{"$f":"+BD_DEP[[#This Row],[repi]]/BD_DEP[[#This Row],[Mat Inicial]]","v":0},"48","Dpto. Historia y Cs. Sociales",225709,"Villalon Donoso Jorge","TC","PR"]
[2034,"HIS7190","HRIA. DE COL. SIGLO XX",8,202330,40,40,0,0,0,{"$f":"+BD_DEP[[#This Row],[totalp]]/BD_DEP[[#This Row],[Mat Inicial]]","v":0},{"$f":"+BD_DEP[[#This Row],[totalr]]/BD_DEP[[#This Row],[Mat Inicial]]","v":0},{"$f":"+BD_DEP[[#This Row],[repi]]/BD_DEP[[#This Row],[Mat Inicial]]","v":0},"48","Dpto. Historia y Cs. Sociales",225709,"Villalon Donoso Jorge","TC","PR"]
[2030,"HIS7190","HRIA. DE COL. SIGLO XX",4,202330,40,39,0,1,1,{"$f":"+BD_DEP[[#This Row],[totalp]]/BD_DEP[[#This Row],[Mat Inicial]]","v":0},{"$f":"+BD_DEP[[#This Row],[totalr]]/BD_DEP[[#This Row],[Mat Inicial]]","v":2.5000000000000001E-2},{"$f":"+BD_DEP[[#This Row],[repi]]/BD_DEP[[#This Row],[Mat Inicial]]","v":2.5000000000000001E-2},"48","Dpto. Historia y Cs. Sociales",8715329,"Gonzalez Arana Roberto","TC","PR"]
[2031,"HIS7190","HRIA. DE COL. SIGLO XX",5,202330,39,38,0,1,1,{"$f":"+BD_DEP[[#This Row],[totalp]]/BD_DEP[[#This Row],[Mat Inicial]]","v":0},{"$f":"+BD_DEP[[#This Row],[totalr]]/BD_DEP[[#This Row],[Mat Inicial]]","v":2.564102564102564E-2},{"$f":"+BD_DEP[[#This Row],[repi]]/BD_DEP[[#This Row],[Mat Inicial]]","v":2.564102564102564E-2},"48","Dpto. Historia y Cs. Sociales",8715329,"Gonzalez Arana Roberto","TC","PR"]
[2032,"HIS7190","HRIA. DE COL. SIGLO XX",6,202330,40,39,1,1,2,{"$f":"+BD_DEP[[#This Row],[totalp]]/BD_DEP[[#This Row],[Mat Inicial]]","v":2.5000000000000001E-2},{"$f":"+BD_DEP[[#This Row],[totalr]]/BD_DEP[[#This Row],[Mat Inicial]]","v":2.5000000000000001E-2},{"$f":"+BD_DEP[[#This Row],[repi]]/BD_DEP[[#This Row],[Mat Inicial]]","v":0.05},"48","Dpto. Historia y Cs. Sociales",8715329,"Gonzalez Arana Roberto","TC","PR"]
[2027,"HIS7190","HRIA. DE COL. SIGLO XX",1,202330,39,35,5,4,9,{"$f":"+BD_DEP[[#This Row],[totalp]]/BD_DEP[[#This Row],[Mat Inicial]]","v":0.12820512820512819},{"$f":"+BD_DEP[[#This Row],[totalr]]/BD_DEP[[#This Row],[Mat Inicial]]","v":0.10256410256410256},{"$f":"+BD_DEP[[#This Row],[repi]]/BD_DEP[[#This Row],[Mat Inicial]]","v":0.23076923076923078},"48","Dpto. Historia y Cs. Sociales",91538865,"SAMACA ALONSO GABRIEL","TC","PR"]
[2028,"HIS7190","HRIA. DE COL. SIGLO XX",2,202330,40,35,2,5,7,{"$f":"+BD_DEP[[#This Row],[totalp]]/BD_DEP[[#This Row],[Mat Inicial]]","v":0.05},{"$f":"+BD_DEP[[#This Row],[totalr]]/BD_DEP[[#This Row],[Mat Inicial]]","v":0.125},{"$f":"+BD_DEP[[#This Row],[repi]]/BD_DEP[[#This Row],[Mat Inicial]]","v":0.17499999999999999},"48","Dpto. Historia y Cs. Sociales",91538865,"SAMACA ALONSO GABRIEL","TC","PR"]
[2029,"HIS7190","HRIA. DE COL. SIGLO XX",3,202330,40,35,4,5,9,{"$f":"+BD_DEP[[#This Row],[totalp]]/BD_DEP[[#This Row],[Mat Inicial]]","v":0.1},{"$f":"+BD_DEP[[#This Row],[totalr]]/BD_DEP[[#This Row],[Mat Inicial]]","v":0.125},{"$f":"+BD_DEP[[#This Row],[repi]]/BD_DEP[[#This Row],[Mat Inicial]]","v":0.22500000000000001},"48","Dpto. Historia y Cs. Sociales",91538865,"SAMACA ALONSO GABRIEL","TC","PR"]
[1697,"ECA7000","HRIA. Y CULTURA DEL CARIBE",1,202330,24,18,4,6,10,{"$f":"+BD_DEP[[#This Row],[totalp]]/BD_DEP[[#This Row],[Mat Inicial]]","v":0.16666666666666666},{"$f":"+BD_DEP[[#This Row],[totalr]]/BD_DEP[[#This Row],[Mat Inicial]]","v":0.25},{"$f":"+BD_DEP[[#This Row],[repi]]/BD_DEP[[#This Row],[Mat Inicial]]","v":0.41666666666666669},"48","Dpto. Historia y Cs. Sociales",80091473,"COLMENARES GUERRA LUIS","TC","PR"]
[1698,"ECA7000","HRIA. Y CULTURA DEL CARIBE",2,202330,30,19,2,11,13,{"$f":"+BD_DEP[[#This Row],[totalp]]/BD_DEP[[#This Row],[Mat Inicial]]","v":6.6666666666666666E-2},{"$f":"+BD_DEP[[#This Row],[totalr]]/BD_DEP[[#This Row],[Mat Inicial]]","v":0.36666666666666664},{"$f":"+BD_DEP[[#This Row],[repi]]/BD_DEP[[#This Row],[Mat Inicial]]","v":0.43333333333333335},"48","Dpto. Historia y Cs. Sociales",80091473,"COLMENARES GUERRA LUIS","TC","PR"]
[1699,"ECA7000","HRIA. Y CULTURA DEL CARIBE",3,202330,23,17,5,6,11,{"$f":"+BD_DEP[[#This Row],[totalp]]/BD_DEP[[#This Row],[Mat Inicial]]","v":0.21739130434782608},{"$f":"+BD_DEP[[#This Row],[totalr]]/BD_DEP[[#This Row],[Mat Inicial]]","v":0.2608695652173913},{"$f":"+BD_DEP[[#This Row],[repi]]/BD_DEP[[#This Row],[Mat Inicial]]","v":0.47826086956521741},"48","Dpto. Historia y Cs. Sociales",80091473,"COLMENARES GUERRA LUIS","TC","PR"]
[1700,"ECA7000","HRIA. Y CULTURA DEL CARIBE",4,202330,40,36,4,4,8,{"$f":"+BD_DEP[[#This Row],[totalp]]/BD_DEP[[#This Row],[Mat Inicial]]","v":0.1},{"$f":"+BD_DEP[[#This Row],[totalr]]/BD_DEP[[#This Row],[Mat Inicial]]","v":0.1},{"$f":"+BD_DEP[[#This Row],[repi]]/BD_DEP[[#This Row],[Mat Inicial]]","v":0.2},"48","Dpto. Historia y Cs. Sociales",1018416740,"JARAMILLO ARANGO ANTONIO","TC","PR"]
[1701,"ECA7000","HRIA. Y CULTURA DEL CARIBE",5,202330,39,38,2,1,3,{"$f":"+BD_DEP[[#This Row],[totalp]]/BD_DEP[[#This Row],[Mat Inicial]]","v":5.128205128205128E-2},{"$f":"+BD_DEP[[#This Row],[totalr]]/BD_DEP[[#This Row],[Mat Inicial]]","v":2.564102564102564E-2},{"$f":"+BD_DEP[[#This Row],[repi]]/BD_DEP[[#This Row],[Mat Inicial]]","v":7.6923076923076927E-2},"48","Dpto. Historia y Cs. Sociales",1018416740,"JARAMILLO ARANGO ANTONIO","TC","PR"]
[1702,"ECA7000","HRIA. Y CULTURA DEL CARIBE",6,202330,40,36,2,4,6,{"$f":"+BD_DEP[[#This Row],[totalp]]/BD_DEP[[#This Row],[Mat Inicial]]","v":0.05},{"$f":"+BD_DEP[[#This Row],[totalr]]/BD_DEP[[#This Row],[Mat Inicial]]","v":0.1},{"$f":"+BD_DEP[[#This Row],[repi]]/BD_DEP[[#This Row],[Mat Inicial]]","v":0.15},"48","Dpto. Historia y Cs. Sociales",1018416740,"JARAMILLO ARANGO ANTONIO","TC","PR"]
[1538,"CSO7020","PROB.SOCIEDAD CONTEMPORANEA",1,202330,24,23,0,1,1,{"$f":"+BD_DEP[[#This Row],[totalp]]/BD_DEP[[#This Row],[Mat Inicial]]","v":0},{"$f":"+BD_DEP[[#This Row],[totalr]]/BD_DEP[[#This Row],[Mat Inicial]]","v":4.1666666666666664E-2},{"$f":"+BD_DEP[[#This Row],[repi]]/BD_DEP[[#This Row],[Mat Inicial]]","v":4.1666666666666664E-2},"48","Dpto. Historia y Cs. Sociales",1045670997,"Sanandres Campis Eliana","TC","PR"]
[1539,"CSO7020","PROB.SOCIEDAD CONTEMPORANEA",2,202330,35,35,0,0,0,{"$f":"+BD_DEP[[#This Row],[totalp]]/BD_DEP[[#This Row],[Mat Inicial]]","v":0},{"$f":"+BD_DEP[[#This Row],[totalr]]/BD_DEP[[#This Row],[Mat Inicial]]","v":0},{"$f":"+BD_DEP[[#This Row],[repi]]/BD_DEP[[#This Row],[Mat Inicial]]","v":0},"48","Dpto. Historia y Cs. Sociales",1045670997,"Sanandres Campis Eliana","TC","PR"]
[1540,"CSO7020","PROB.SOCIEDAD CONTEMPORANEA",3,202330,27,25,1,2,3,{"$f":"+BD_DEP[[#This Row],[totalp]]/BD_DEP[[#This Row],[Mat Inicial]]","v":3.7037037037037035E-2},{"$f":"+BD_DEP[[#This Row],[totalr]]/BD_DEP[[#This Row],[Mat Inicial]]","v":7.407407407407407E-2},{"$f":"+BD_DEP[[#This Row],[repi]]/BD_DEP[[#This Row],[Mat Inicial]]","v":0.1111111111111111},"48","Dpto. Historia y Cs. Sociales",1045670997,"Sanandres Campis Eliana","TC","PR"]
[1535,"CSO0150","VIDA EN RED Y CAMBIO SOCIAL",1,202330,21,20,2,1,3,{"$f":"+BD_DEP[[#This Row],[totalp]]/BD_DEP[[#This Row],[Mat Inicial]]","v":9.5238095238095233E-2},{"$f":"+BD_DEP[[#This Row],[totalr]]/BD_DEP[[#This Row],[Mat Inicial]]","v":4.7619047619047616E-2},{"$f":"+BD_DEP[[#This Row],[repi]]/BD_DEP[[#This Row],[Mat Inicial]]","v":0.14285714285714285},"48","Dpto. Historia y Cs. Sociales",22443688,"Molinares Guerrero Ivonne","TC","PR"]
[1536,"CSO0150","VIDA EN RED Y CAMBIO SOCIAL",2,202330,20,19,0,1,1,{"$f":"+BD_DEP[[#This Row],[totalp]]/BD_DEP[[#This Row],[Mat Inicial]]","v":0},{"$f":"+BD_DEP[[#This Row],[totalr]]/BD_DEP[[#This Row],[Mat Inicial]]","v":0.05},{"$f":"+BD_DEP[[#This Row],[repi]]/BD_DEP[[#This Row],[Mat Inicial]]","v":0.05},"48","Dpto. Historia y Cs. Sociales",22443688,"Molinares Guerrero Ivonne","TC","PR"]
[2041,"HIS7240","AMERICA LATINA CONTEMPORANEA",2,202330,40,34,1,6,7,{"$f":"+BD_DEP[[#This Row],[totalp]]/BD_DEP[[#This Row],[Mat Inicial]]","v":2.5000000000000001E-2},{"$f":"+BD_DEP[[#This Row],[totalr]]/BD_DEP[[#This Row],[Mat Inicial]]","v":0.15},{"$f":"+BD_DEP[[#This Row],[repi]]/BD_DEP[[#This Row],[Mat Inicial]]","v":0.17499999999999999},"48","Dpto. Historia y Cs. Sociales",1143224284,"LOPEZ GARCIA JESSILLE","CA","PR"]
[4260,"CSO0006","FUNDAMENTOS DE ANTROPOLOGIA",4,202330,39,39,1,0,1,{"$f":"+BD_DEP[[#This Row],[totalp]]/BD_DEP[[#This Row],[Mat Inicial]]","v":2.564102564102564E-2},{"$f":"+BD_DEP[[#This Row],[totalr]]/BD_DEP[[#This Row],[Mat Inicial]]","v":0},{"$f":"+BD_DEP[[#This Row],[repi]]/BD_DEP[[#This Row],[Mat Inicial]]","v":2.564102564102564E-2},"48","Dpto. Historia y Cs. Sociales",1235242951,"ALARCON PUENTES JOHNNY","CA","PR"]
[4261,"CSO0006","FUNDAMENTOS DE ANTROPOLOGIA",5,202330,20,20,0,0,0,{"$f":"+BD_DEP[[#This Row],[totalp]]/BD_DEP[[#This Row],[Mat Inicial]]","v":0},{"$f":"+BD_DEP[[#This Row],[totalr]]/BD_DEP[[#This Row],[Mat Inicial]]","v":0},{"$f":"+BD_DEP[[#This Row],[repi]]/BD_DEP[[#This Row],[Mat Inicial]]","v":0},"48","Dpto. Historia y Cs. Sociales",1235242951,"ALARCON PUENTES JOHNNY","CA","PR"]
[4263,"CSO0040","GEOGRAFIA UNIVERSAL",2,202330,14,11,3,3,6,{"$f":"+BD_DEP[[#This Row],[totalp]]/BD_DEP[[#This Row],[Mat Inicial]]","v":0.21428571428571427},{"$f":"+BD_DEP[[#This Row],[totalr]]/BD_DEP[[#This Row],[Mat Inicial]]","v":0.21428571428571427},{"$f":"+BD_DEP[[#This Row],[repi]]/BD_DEP[[#This Row],[Mat Inicial]]","v":0.42857142857142855},"48","Dpto. Historia y Cs. Sociales",1143224284,"LOPEZ GARCIA JESSILLE","CA","PR"]
[2011,"HIS2070","HRIA POLITICA ECON- COLOMBIA",1,202330,32,31,0,1,1,{"$f":"+BD_DEP[[#This Row],[totalp]]/BD_DEP[[#This Row],[Mat Inicial]]","v":0},{"$f":"+BD_DEP[[#This Row],[totalr]]/BD_DEP[[#This Row],[Mat Inicial]]","v":3.125E-2},{"$f":"+BD_DEP[[#This Row],[repi]]/BD_DEP[[#This Row],[Mat Inicial]]","v":3.125E-2},"48","Dpto. Historia y Cs. Sociales",19472285,"Gomez Mendoza Arnold","CA","PR"]
[2016,"HIS3005","HRIA POLITICA-AMERICA LATINA",1,202330,11,11,1,0,1,{"$f":"+BD_DEP[[#This Row],[totalp]]/BD_DEP[[#This Row],[Mat Inicial]]","v":9.0909090909090912E-2},{"$f":"+BD_DEP[[#This Row],[totalr]]/BD_DEP[[#This Row],[Mat Inicial]]","v":0},{"$f":"+BD_DEP[[#This Row],[repi]]/BD_DEP[[#This Row],[Mat Inicial]]","v":9.0909090909090912E-2},"48","Dpto. Historia y Cs. Sociales",1129579179,"Ruiz Aycardi Paola","CA","PR"]
[2013,"HIS2110","REVOLUCIONES EN LA HISTORIA",1,202330,23,22,0,1,1,{"$f":"+BD_DEP[[#This Row],[totalp]]/BD_DEP[[#This Row],[Mat Inicial]]","v":0},{"$f":"+BD_DEP[[#This Row],[totalr]]/BD_DEP[[#This Row],[Mat Inicial]]","v":4.3478260869565216E-2},{"$f":"+BD_DEP[[#This Row],[repi]]/BD_DEP[[#This Row],[Mat Inicial]]","v":4.3478260869565216E-2},"48","Dpto. Historia y Cs. Sociales",79407658,"GALEANO DAVID HECTOR","CA","PR"]
[2056,"HUM0120","ARTE Y TERAPIA",1,202330,133,129,1,4,5,{"$f":"+BD_DEP[[#This Row],[totalp]]/BD_DEP[[#This Row],[Mat Inicial]]","v":7.5187969924812026E-3},{"$f":"+BD_DEP[[#This Row],[totalr]]/BD_DEP[[#This Row],[Mat Inicial]]","v":3.007518796992481E-2},{"$f":"+BD_DEP[[#This Row],[repi]]/BD_DEP[[#This Row],[Mat Inicial]]","v":3.7593984962406013E-2},"46","Dpto. Humanidades y Filosofía",22416015,"Gontovnik Hobrecht Monica","TC","PR"]
[2055,"HUM0110","CINE Y LITERATURA CONTEMPORA",1,202330,131,125,0,6,6,{"$f":"+BD_DEP[[#This Row],[totalp]]/BD_DEP[[#This Row],[Mat Inicial]]","v":0},{"$f":"+BD_DEP[[#This Row],[totalr]]/BD_DEP[[#This Row],[Mat Inicial]]","v":4.5801526717557252E-2},{"$f":"+BD_DEP[[#This Row],[repi]]/BD_DEP[[#This Row],[Mat Inicial]]","v":4.5801526717557252E-2},"46","Dpto. Humanidades y Filosofía",32734871,"Rosas Consuegra Adriana","TC","PR"]
[4346,"IDS0060","CONOCIMIENTO E INVESTIGACION",52,202330,24,24,1,0,1,{"$f":"+BD_DEP[[#This Row],[totalp]]/BD_DEP[[#This Row],[Mat Inicial]]","v":4.1666666666666664E-2},{"$f":"+BD_DEP[[#This Row],[totalr]]/BD_DEP[[#This Row],[Mat Inicial]]","v":0},{"$f":"+BD_DEP[[#This Row],[repi]]/BD_DEP[[#This Row],[Mat Inicial]]","v":4.1666666666666664E-2},"46","Dpto. Humanidades y Filosofía",32681741,"Alonso Palacio Luz","TC","PR"]
[2061,"HUM4005","CULTURA CONTEMPORANEA Y GENERO",2,202330,25,25,0,0,0,{"$f":"+BD_DEP[[#This Row],[totalp]]/BD_DEP[[#This Row],[Mat Inicial]]","v":0},{"$f":"+BD_DEP[[#This Row],[totalr]]/BD_DEP[[#This Row],[Mat Inicial]]","v":0},{"$f":"+BD_DEP[[#This Row],[repi]]/BD_DEP[[#This Row],[Mat Inicial]]","v":0},"46","Dpto. Humanidades y Filosofía",14274902,"Martinez Houghton David","TC","PR"]
[2060,"HUM4005","CULTURA CONTEMPORANEA Y GENERO",1,202330,28,28,3,0,3,{"$f":"+BD_DEP[[#This Row],[totalp]]/BD_DEP[[#This Row],[Mat Inicial]]","v":0.10714285714285714},{"$f":"+BD_DEP[[#This Row],[totalr]]/BD_DEP[[#This Row],[Mat Inicial]]","v":0},{"$f":"+BD_DEP[[#This Row],[repi]]/BD_DEP[[#This Row],[Mat Inicial]]","v":0.10714285714285714},"46","Dpto. Humanidades y Filosofía",1129577940,"Santodomingo Orozco Luz","TC","PR"]
[2053,"HUM0090","ESCRITURA CREATIVA",2,202330,30,30,0,0,0,{"$f":"+BD_DEP[[#This Row],[totalp]]/BD_DEP[[#This Row],[Mat Inicial]]","v":0},{"$f":"+BD_DEP[[#This Row],[totalr]]/BD_DEP[[#This Row],[Mat Inicial]]","v":0},{"$f":"+BD_DEP[[#This Row],[repi]]/BD_DEP[[#This Row],[Mat Inicial]]","v":0},"46","Dpto. Humanidades y Filosofía",22416015,"Gontovnik Hobrecht Monica","TC","PR"]
[2052,"HUM0090","ESCRITURA CREATIVA",1,202330,30,29,1,1,2,{"$f":"+BD_DEP[[#This Row],[totalp]]/BD_DEP[[#This Row],[Mat Inicial]]","v":3.3333333333333333E-2},{"$f":"+BD_DEP[[#This Row],[totalr]]/BD_DEP[[#This Row],[Mat Inicial]]","v":3.3333333333333333E-2},{"$f":"+BD_DEP[[#This Row],[repi]]/BD_DEP[[#This Row],[Mat Inicial]]","v":6.6666666666666666E-2},"46","Dpto. Humanidades y Filosofía",32734871,"Rosas Consuegra Adriana","TC","PR"]
[1849,"ETI8070","ETICA",7,202330,40,40,3,0,3,{"$f":"+BD_DEP[[#This Row],[totalp]]/BD_DEP[[#This Row],[Mat Inicial]]","v":7.4999999999999997E-2},{"$f":"+BD_DEP[[#This Row],[totalr]]/BD_DEP[[#This Row],[Mat Inicial]]","v":0},{"$f":"+BD_DEP[[#This Row],[repi]]/BD_DEP[[#This Row],[Mat Inicial]]","v":7.4999999999999997E-2},"46","Dpto. Humanidades y Filosofía",71681536,"Serna Serna Pedro","TC","PR"]
[1850,"ETI8070","ETICA",8,202330,38,37,2,1,3,{"$f":"+BD_DEP[[#This Row],[totalp]]/BD_DEP[[#This Row],[Mat Inicial]]","v":5.2631578947368418E-2},{"$f":"+BD_DEP[[#This Row],[totalr]]/BD_DEP[[#This Row],[Mat Inicial]]","v":2.6315789473684209E-2},{"$f":"+BD_DEP[[#This Row],[repi]]/BD_DEP[[#This Row],[Mat Inicial]]","v":7.8947368421052627E-2},"46","Dpto. Humanidades y Filosofía",71681536,"Serna Serna Pedro","TC","PR"]
[1851,"ETI8070","ETICA",9,202330,50,49,3,1,4,{"$f":"+BD_DEP[[#This Row],[totalp]]/BD_DEP[[#This Row],[Mat Inicial]]","v":0.06},{"$f":"+BD_DEP[[#This Row],[totalr]]/BD_DEP[[#This Row],[Mat Inicial]]","v":0.02},{"$f":"+BD_DEP[[#This Row],[repi]]/BD_DEP[[#This Row],[Mat Inicial]]","v":0.08},"46","Dpto. Humanidades y Filosofía",71681536,"Serna Serna Pedro","TC","PR"]
[1852,"ETI8070","ETICA",10,202330,40,39,0,1,1,{"$f":"+BD_DEP[[#This Row],[totalp]]/BD_DEP[[#This Row],[Mat Inicial]]","v":0},{"$f":"+BD_DEP[[#This Row],[totalr]]/BD_DEP[[#This Row],[Mat Inicial]]","v":2.5000000000000001E-2},{"$f":"+BD_DEP[[#This Row],[repi]]/BD_DEP[[#This Row],[Mat Inicial]]","v":2.5000000000000001E-2},"46","Dpto. Humanidades y Filosofía",71681536,"Serna Serna Pedro","TC","PR"]
[1856,"ETI8070","ETICA",15,202330,40,40,0,0,0,{"$f":"+BD_DEP[[#This Row],[totalp]]/BD_DEP[[#This Row],[Mat Inicial]]","v":0},{"$f":"+BD_DEP[[#This Row],[totalr]]/BD_DEP[[#This Row],[Mat Inicial]]","v":0},{"$f":"+BD_DEP[[#This Row],[repi]]/BD_DEP[[#This Row],[Mat Inicial]]","v":0},"46","Dpto. Humanidades y Filosofía",79602396,"SUAREZ GONZALEZ JAVIER","TC","PR"]
[1864,"ETI8070","ETICA",23,202330,40,39,0,1,1,{"$f":"+BD_DEP[[#This Row],[totalp]]/BD_DEP[[#This Row],[Mat Inicial]]","v":0},{"$f":"+BD_DEP[[#This Row],[totalr]]/BD_DEP[[#This Row],[Mat Inicial]]","v":2.5000000000000001E-2},{"$f":"+BD_DEP[[#This Row],[repi]]/BD_DEP[[#This Row],[Mat Inicial]]","v":2.5000000000000001E-2},"46","Dpto. Humanidades y Filosofía",1129573440,"Martinez Vega Sara","TC","PR"]
[1877,"FIL4050","FILOSOFIA MODERNA II (KANT)",1,202330,18,17,0,1,1,{"$f":"+BD_DEP[[#This Row],[totalp]]/BD_DEP[[#This Row],[Mat Inicial]]","v":0},{"$f":"+BD_DEP[[#This Row],[totalr]]/BD_DEP[[#This Row],[Mat Inicial]]","v":5.5555555555555552E-2},{"$f":"+BD_DEP[[#This Row],[repi]]/BD_DEP[[#This Row],[Mat Inicial]]","v":5.5555555555555552E-2},"46","Dpto. Humanidades y Filosofía",71681536,"Serna Serna Pedro","TC","PR"]
[1842,"ETI4040","FILOSOFIA MORAL",1,202330,39,38,1,1,2,{"$f":"+BD_DEP[[#This Row],[totalp]]/BD_DEP[[#This Row],[Mat Inicial]]","v":2.564102564102564E-2},{"$f":"+BD_DEP[[#This Row],[totalr]]/BD_DEP[[#This Row],[Mat Inicial]]","v":2.564102564102564E-2},{"$f":"+BD_DEP[[#This Row],[repi]]/BD_DEP[[#This Row],[Mat Inicial]]","v":5.128205128205128E-2},"46","Dpto. Humanidades y Filosofía",80054549,"Mahecha Bustos Ivan","TC","PR"]
[1869,"FIL4020","INTRODUCCION A LA FILOSOFIA",9,202330,39,36,4,3,7,{"$f":"+BD_DEP[[#This Row],[totalp]]/BD_DEP[[#This Row],[Mat Inicial]]","v":0.10256410256410256},{"$f":"+BD_DEP[[#This Row],[totalr]]/BD_DEP[[#This Row],[Mat Inicial]]","v":7.6923076923076927E-2},{"$f":"+BD_DEP[[#This Row],[repi]]/BD_DEP[[#This Row],[Mat Inicial]]","v":0.17948717948717949},"46","Dpto. Humanidades y Filosofía",80422710,"Serrano Lopez Federico","TC","PR"]
[1870,"FIL4020","INTRODUCCION A LA FILOSOFIA",10,202330,30,29,0,1,1,{"$f":"+BD_DEP[[#This Row],[totalp]]/BD_DEP[[#This Row],[Mat Inicial]]","v":0},{"$f":"+BD_DEP[[#This Row],[totalr]]/BD_DEP[[#This Row],[Mat Inicial]]","v":3.3333333333333333E-2},{"$f":"+BD_DEP[[#This Row],[repi]]/BD_DEP[[#This Row],[Mat Inicial]]","v":3.3333333333333333E-2},"46","Dpto. Humanidades y Filosofía",80422710,"Serrano Lopez Federico","TC","PR"]
[1871,"FIL4020","INTRODUCCION A LA FILOSOFIA",11,202330,40,39,1,1,2,{"$f":"+BD_DEP[[#This Row],[totalp]]/BD_DEP[[#This Row],[Mat Inicial]]","v":2.5000000000000001E-2},{"$f":"+BD_DEP[[#This Row],[totalr]]/BD_DEP[[#This Row],[Mat Inicial]]","v":2.5000000000000001E-2},{"$f":"+BD_DEP[[#This Row],[repi]]/BD_DEP[[#This Row],[Mat Inicial]]","v":0.05},"46","Dpto. Humanidades y Filosofía",80422710,"Serrano Lopez Federico","TC","PR"]
[1872,"FIL4020","INTRODUCCION A LA FILOSOFIA",12,202330,40,39,0,1,1,{"$f":"+BD_DEP[[#This Row],[totalp]]/BD_DEP[[#This Row],[Mat Inicial]]","v":0},{"$f":"+BD_DEP[[#This Row],[totalr]]/BD_DEP[[#This Row],[Mat Inicial]]","v":2.5000000000000001E-2},{"$f":"+BD_DEP[[#This Row],[repi]]/BD_DEP[[#This Row],[Mat Inicial]]","v":2.5000000000000001E-2},"46","Dpto. Humanidades y Filosofía",1045674765,"Pabon Llinas Daniela","TC","PR"]
[1873,"FIL4020","INTRODUCCION A LA FILOSOFIA",13,202330,39,39,0,0,0,{"$f":"+BD_DEP[[#This Row],[totalp]]/BD_DEP[[#This Row],[Mat Inicial]]","v":0},{"$f":"+BD_DEP[[#This Row],[totalr]]/BD_DEP[[#This Row],[Mat Inicial]]","v":0},{"$f":"+BD_DEP[[#This Row],[repi]]/BD_DEP[[#This Row],[Mat Inicial]]","v":0},"46","Dpto. Humanidades y Filosofía",1129573440,"Martinez Vega Sara","TC","PR"]
[1874,"FIL4020","INTRODUCCION A LA FILOSOFIA",14,202330,40,38,1,2,3,{"$f":"+BD_DEP[[#This Row],[totalp]]/BD_DEP[[#This Row],[Mat Inicial]]","v":2.5000000000000001E-2},{"$f":"+BD_DEP[[#This Row],[totalr]]/BD_DEP[[#This Row],[Mat Inicial]]","v":0.05},{"$f":"+BD_DEP[[#This Row],[repi]]/BD_DEP[[#This Row],[Mat Inicial]]","v":7.4999999999999997E-2},"46","Dpto. Humanidades y Filosofía",1129573440,"Martinez Vega Sara","TC","PR"]
[1875,"FIL4020","INTRODUCCION A LA FILOSOFIA",15,202330,40,40,2,0,2,{"$f":"+BD_DEP[[#This Row],[totalp]]/BD_DEP[[#This Row],[Mat Inicial]]","v":0.05},{"$f":"+BD_DEP[[#This Row],[totalr]]/BD_DEP[[#This Row],[Mat Inicial]]","v":0},{"$f":"+BD_DEP[[#This Row],[repi]]/BD_DEP[[#This Row],[Mat Inicial]]","v":0.05},"46","Dpto. Humanidades y Filosofía",1129573440,"Martinez Vega Sara","TC","PR"]
[1146,"HUM7020","LITERATURA COLOMBIANA",21,202330,37,36,3,1,4,{"$f":"+BD_DEP[[#This Row],[totalp]]/BD_DEP[[#This Row],[Mat Inicial]]","v":8.1081081081081086E-2},{"$f":"+BD_DEP[[#This Row],[totalr]]/BD_DEP[[#This Row],[Mat Inicial]]","v":2.7027027027027029E-2},{"$f":"+BD_DEP[[#This Row],[repi]]/BD_DEP[[#This Row],[Mat Inicial]]","v":0.10810810810810811},"46","Dpto. Humanidades y Filosofía",52765309,"Ortega Gonzalez Rubio Mercedes","TC","PR"]
[1147,"HUM7020","LITERATURA COLOMBIANA",22,202330,30,27,1,3,4,{"$f":"+BD_DEP[[#This Row],[totalp]]/BD_DEP[[#This Row],[Mat Inicial]]","v":3.3333333333333333E-2},{"$f":"+BD_DEP[[#This Row],[totalr]]/BD_DEP[[#This Row],[Mat Inicial]]","v":0.1},{"$f":"+BD_DEP[[#This Row],[repi]]/BD_DEP[[#This Row],[Mat Inicial]]","v":0.13333333333333333},"46","Dpto. Humanidades y Filosofía",52765309,"Ortega Gonzalez Rubio Mercedes","TC","PR"]
[1148,"HUM7020","LITERATURA COLOMBIANA",23,202330,40,40,0,0,0,{"$f":"+BD_DEP[[#This Row],[totalp]]/BD_DEP[[#This Row],[Mat Inicial]]","v":0},{"$f":"+BD_DEP[[#This Row],[totalr]]/BD_DEP[[#This Row],[Mat Inicial]]","v":0},{"$f":"+BD_DEP[[#This Row],[repi]]/BD_DEP[[#This Row],[Mat Inicial]]","v":0},"46","Dpto. Humanidades y Filosofía",52765309,"Ortega Gonzalez Rubio Mercedes","TC","PR"]
[2059,"HUM0285","LITERATURA LATINOAMERICANA",23,202330,36,36,3,0,3,{"$f":"+BD_DEP[[#This Row],[totalp]]/BD_DEP[[#This Row],[Mat Inicial]]","v":8.3333333333333329E-2},{"$f":"+BD_DEP[[#This Row],[totalr]]/BD_DEP[[#This Row],[Mat Inicial]]","v":0},{"$f":"+BD_DEP[[#This Row],[repi]]/BD_DEP[[#This Row],[Mat Inicial]]","v":8.3333333333333329E-2},"46","Dpto. Humanidades y Filosofía",72016484,"Araujo Fontalvo Orlando","TC","PR"]
[4327,"HUM0285","LITERATURA LATINOAMERICANA",1,202330,40,40,2,0,2,{"$f":"+BD_DEP[[#This Row],[totalp]]/BD_DEP[[#This Row],[Mat Inicial]]","v":0.05},{"$f":"+BD_DEP[[#This Row],[totalr]]/BD_DEP[[#This Row],[Mat Inicial]]","v":0},{"$f":"+BD_DEP[[#This Row],[repi]]/BD_DEP[[#This Row],[Mat Inicial]]","v":0.05},"46","Dpto. Humanidades y Filosofía",72016484,"Araujo Fontalvo Orlando","TC","PR"]
[4328,"HUM0285","LITERATURA LATINOAMERICANA",21,202330,37,35,2,2,4,{"$f":"+BD_DEP[[#This Row],[totalp]]/BD_DEP[[#This Row],[Mat Inicial]]","v":5.4054054054054057E-2},{"$f":"+BD_DEP[[#This Row],[totalr]]/BD_DEP[[#This Row],[Mat Inicial]]","v":5.4054054054054057E-2},{"$f":"+BD_DEP[[#This Row],[repi]]/BD_DEP[[#This Row],[Mat Inicial]]","v":0.10810810810810811},"46","Dpto. Humanidades y Filosofía",72016484,"Araujo Fontalvo Orlando","TC","PR"]
[4329,"HUM0285","LITERATURA LATINOAMERICANA",22,202330,40,40,1,0,1,{"$f":"+BD_DEP[[#This Row],[totalp]]/BD_DEP[[#This Row],[Mat Inicial]]","v":2.5000000000000001E-2},{"$f":"+BD_DEP[[#This Row],[totalr]]/BD_DEP[[#This Row],[Mat Inicial]]","v":0},{"$f":"+BD_DEP[[#This Row],[repi]]/BD_DEP[[#This Row],[Mat Inicial]]","v":2.5000000000000001E-2},"46","Dpto. Humanidades y Filosofía",72016484,"Araujo Fontalvo Orlando","TC","PR"]
[2073,"HUM7040","LITERATURA NO HISPANICA",1,202330,38,38,0,0,0,{"$f":"+BD_DEP[[#This Row],[totalp]]/BD_DEP[[#This Row],[Mat Inicial]]","v":0},{"$f":"+BD_DEP[[#This Row],[totalr]]/BD_DEP[[#This Row],[Mat Inicial]]","v":0},{"$f":"+BD_DEP[[#This Row],[repi]]/BD_DEP[[#This Row],[Mat Inicial]]","v":0},"46","Dpto. Humanidades y Filosofía",764666,"BOLTE RIKE","TC","PR"]
[2074,"HUM7040","LITERATURA NO HISPANICA",2,202330,115,113,1,2,3,{"$f":"+BD_DEP[[#This Row],[totalp]]/BD_DEP[[#This Row],[Mat Inicial]]","v":8.6956521739130436E-3},{"$f":"+BD_DEP[[#This Row],[totalr]]/BD_DEP[[#This Row],[Mat Inicial]]","v":1.7391304347826087E-2},{"$f":"+BD_DEP[[#This Row],[repi]]/BD_DEP[[#This Row],[Mat Inicial]]","v":2.6086956521739129E-2},"46","Dpto. Humanidades y Filosofía",79797256,"Ruiz Jimenez Juan","TC","PR"]
[2075,"HUM7040","LITERATURA NO HISPANICA",3,202330,19,19,1,0,1,{"$f":"+BD_DEP[[#This Row],[totalp]]/BD_DEP[[#This Row],[Mat Inicial]]","v":5.2631578947368418E-2},{"$f":"+BD_DEP[[#This Row],[totalr]]/BD_DEP[[#This Row],[Mat Inicial]]","v":0},{"$f":"+BD_DEP[[#This Row],[repi]]/BD_DEP[[#This Row],[Mat Inicial]]","v":5.2631578947368418E-2},"46","Dpto. Humanidades y Filosofía",79797256,"Ruiz Jimenez Juan","TC","PR"]
[2076,"HUM7040","LITERATURA NO HISPANICA",4,202330,39,38,0,1,1,{"$f":"+BD_DEP[[#This Row],[totalp]]/BD_DEP[[#This Row],[Mat Inicial]]","v":0},{"$f":"+BD_DEP[[#This Row],[totalr]]/BD_DEP[[#This Row],[Mat Inicial]]","v":2.564102564102564E-2},{"$f":"+BD_DEP[[#This Row],[repi]]/BD_DEP[[#This Row],[Mat Inicial]]","v":2.564102564102564E-2},"46","Dpto. Humanidades y Filosofía",79797256,"Ruiz Jimenez Juan","TC","PR"]
[2046,"HUM0050","LITERATURA Y CIUDAD",1,202330,40,38,0,2,2,{"$f":"+BD_DEP[[#This Row],[totalp]]/BD_DEP[[#This Row],[Mat Inicial]]","v":0},{"$f":"+BD_DEP[[#This Row],[totalr]]/BD_DEP[[#This Row],[Mat Inicial]]","v":0.05},{"$f":"+BD_DEP[[#This Row],[repi]]/BD_DEP[[#This Row],[Mat Inicial]]","v":0.05},"46","Dpto. Humanidades y Filosofía",764666,"BOLTE RIKE","TC","PR"]
[2047,"HUM0050","LITERATURA Y CIUDAD",2,202330,33,28,4,5,9,{"$f":"+BD_DEP[[#This Row],[totalp]]/BD_DEP[[#This Row],[Mat Inicial]]","v":0.12121212121212122},{"$f":"+BD_DEP[[#This Row],[totalr]]/BD_DEP[[#This Row],[Mat Inicial]]","v":0.15151515151515152},{"$f":"+BD_DEP[[#This Row],[repi]]/BD_DEP[[#This Row],[Mat Inicial]]","v":0.27272727272727271},"46","Dpto. Humanidades y Filosofía",764666,"BOLTE RIKE","TC","PR"]
[2048,"HUM0050","LITERATURA Y CIUDAD",3,202330,14,14,1,0,1,{"$f":"+BD_DEP[[#This Row],[totalp]]/BD_DEP[[#This Row],[Mat Inicial]]","v":7.1428571428571425E-2},{"$f":"+BD_DEP[[#This Row],[totalr]]/BD_DEP[[#This Row],[Mat Inicial]]","v":0},{"$f":"+BD_DEP[[#This Row],[repi]]/BD_DEP[[#This Row],[Mat Inicial]]","v":7.1428571428571425E-2},"46","Dpto. Humanidades y Filosofía",764666,"BOLTE RIKE","TC","PR"]
[2049,"HUM0060","LOGICAS  DE LA VIDA AMOROSA",21,202330,39,30,0,9,9,{"$f":"+BD_DEP[[#This Row],[totalp]]/BD_DEP[[#This Row],[Mat Inicial]]","v":0},{"$f":"+BD_DEP[[#This Row],[totalr]]/BD_DEP[[#This Row],[Mat Inicial]]","v":0.23076923076923078},{"$f":"+BD_DEP[[#This Row],[repi]]/BD_DEP[[#This Row],[Mat Inicial]]","v":0.23076923076923078},"46","Dpto. Humanidades y Filosofía",32673753,"Escobar Maria Carmen","TC","PR"]
[2050,"HUM0060","LOGICAS  DE LA VIDA AMOROSA",22,202330,48,43,4,5,9,{"$f":"+BD_DEP[[#This Row],[totalp]]/BD_DEP[[#This Row],[Mat Inicial]]","v":8.3333333333333329E-2},{"$f":"+BD_DEP[[#This Row],[totalr]]/BD_DEP[[#This Row],[Mat Inicial]]","v":0.10416666666666667},{"$f":"+BD_DEP[[#This Row],[repi]]/BD_DEP[[#This Row],[Mat Inicial]]","v":0.1875},"46","Dpto. Humanidades y Filosofía",32673753,"Escobar Maria Carmen","TC","PR"]
[2051,"HUM0060","LOGICAS  DE LA VIDA AMOROSA",23,202330,39,33,4,6,10,{"$f":"+BD_DEP[[#This Row],[totalp]]/BD_DEP[[#This Row],[Mat Inicial]]","v":0.10256410256410256},{"$f":"+BD_DEP[[#This Row],[totalr]]/BD_DEP[[#This Row],[Mat Inicial]]","v":0.15384615384615385},{"$f":"+BD_DEP[[#This Row],[repi]]/BD_DEP[[#This Row],[Mat Inicial]]","v":0.25641025641025639},"46","Dpto. Humanidades y Filosofía",32673753,"Escobar Maria Carmen","TC","PR"]
[1882,"FIL4120","PENS MEDIEVAL Y RENACENTISTA",1,202330,21,20,2,1,3,{"$f":"+BD_DEP[[#This Row],[totalp]]/BD_DEP[[#This Row],[Mat Inicial]]","v":9.5238095238095233E-2},{"$f":"+BD_DEP[[#This Row],[totalr]]/BD_DEP[[#This Row],[Mat Inicial]]","v":4.7619047619047616E-2},{"$f":"+BD_DEP[[#This Row],[repi]]/BD_DEP[[#This Row],[Mat Inicial]]","v":0.14285714285714285},"46","Dpto. Humanidades y Filosofía",1129573440,"Martinez Vega Sara","TC","PR"]
[1893,"FIL7040","PROB. FIL. CONTEMPORANEA I",30,202330,40,40,1,0,1,{"$f":"+BD_DEP[[#This Row],[totalp]]/BD_DEP[[#This Row],[Mat Inicial]]","v":2.5000000000000001E-2},{"$f":"+BD_DEP[[#This Row],[totalr]]/BD_DEP[[#This Row],[Mat Inicial]]","v":0},{"$f":"+BD_DEP[[#This Row],[repi]]/BD_DEP[[#This Row],[Mat Inicial]]","v":2.5000000000000001E-2},"46","Dpto. Humanidades y Filosofía",417365,"LANZA GONZALEZ MARIA","TC","PR"]
[1894,"FIL7040","PROB. FIL. CONTEMPORANEA I",31,202330,40,40,0,0,0,{"$f":"+BD_DEP[[#This Row],[totalp]]/BD_DEP[[#This Row],[Mat Inicial]]","v":0},{"$f":"+BD_DEP[[#This Row],[totalr]]/BD_DEP[[#This Row],[Mat Inicial]]","v":0},{"$f":"+BD_DEP[[#This Row],[repi]]/BD_DEP[[#This Row],[Mat Inicial]]","v":0},"46","Dpto. Humanidades y Filosofía",417365,"LANZA GONZALEZ MARIA","TC","PR"]
[1895,"FIL7040","PROB. FIL. CONTEMPORANEA I",32,202330,40,39,3,1,4,{"$f":"+BD_DEP[[#This Row],[totalp]]/BD_DEP[[#This Row],[Mat Inicial]]","v":7.4999999999999997E-2},{"$f":"+BD_DEP[[#This Row],[totalr]]/BD_DEP[[#This Row],[Mat Inicial]]","v":2.5000000000000001E-2},{"$f":"+BD_DEP[[#This Row],[repi]]/BD_DEP[[#This Row],[Mat Inicial]]","v":0.1},"46","Dpto. Humanidades y Filosofía",417365,"LANZA GONZALEZ MARIA","TC","PR"]
[1896,"FIL7040","PROB. FIL. CONTEMPORANEA I",33,202330,40,38,1,2,3,{"$f":"+BD_DEP[[#This Row],[totalp]]/BD_DEP[[#This Row],[Mat Inicial]]","v":2.5000000000000001E-2},{"$f":"+BD_DEP[[#This Row],[totalr]]/BD_DEP[[#This Row],[Mat Inicial]]","v":0.05},{"$f":"+BD_DEP[[#This Row],[repi]]/BD_DEP[[#This Row],[Mat Inicial]]","v":7.4999999999999997E-2},"46","Dpto. Humanidades y Filosofía",417365,"LANZA GONZALEZ MARIA","TC","PR"]
[1889,"FIL7040","PROB. FIL. CONTEMPORANEA I",24,202330,120,119,0,1,1,{"$f":"+BD_DEP[[#This Row],[totalp]]/BD_DEP[[#This Row],[Mat Inicial]]","v":0},{"$f":"+BD_DEP[[#This Row],[totalr]]/BD_DEP[[#This Row],[Mat Inicial]]","v":8.3333333333333332E-3},{"$f":"+BD_DEP[[#This Row],[repi]]/BD_DEP[[#This Row],[Mat Inicial]]","v":8.3333333333333332E-3},"46","Dpto. Humanidades y Filosofía",758732,"BUTTNER KAI","TC","PR"]
[1885,"FIL7040","PROB. FIL. CONTEMPORANEA I",1,202330,40,40,0,0,0,{"$f":"+BD_DEP[[#This Row],[totalp]]/BD_DEP[[#This Row],[Mat Inicial]]","v":0},{"$f":"+BD_DEP[[#This Row],[totalr]]/BD_DEP[[#This Row],[Mat Inicial]]","v":0},{"$f":"+BD_DEP[[#This Row],[repi]]/BD_DEP[[#This Row],[Mat Inicial]]","v":0},"46","Dpto. Humanidades y Filosofía",79368987,"Verano Gamboa Leonardo","TC","PR"]
[1886,"FIL7040","PROB. FIL. CONTEMPORANEA I",21,202330,39,34,1,5,6,{"$f":"+BD_DEP[[#This Row],[totalp]]/BD_DEP[[#This Row],[Mat Inicial]]","v":2.564102564102564E-2},{"$f":"+BD_DEP[[#This Row],[totalr]]/BD_DEP[[#This Row],[Mat Inicial]]","v":0.12820512820512819},{"$f":"+BD_DEP[[#This Row],[repi]]/BD_DEP[[#This Row],[Mat Inicial]]","v":0.15384615384615385},"46","Dpto. Humanidades y Filosofía",79368987,"Verano Gamboa Leonardo","TC","PR"]
[1887,"FIL7040","PROB. FIL. CONTEMPORANEA I",22,202330,39,39,0,0,0,{"$f":"+BD_DEP[[#This Row],[totalp]]/BD_DEP[[#This Row],[Mat Inicial]]","v":0},{"$f":"+BD_DEP[[#This Row],[totalr]]/BD_DEP[[#This Row],[Mat Inicial]]","v":0},{"$f":"+BD_DEP[[#This Row],[repi]]/BD_DEP[[#This Row],[Mat Inicial]]","v":0},"46","Dpto. Humanidades y Filosofía",79368987,"Verano Gamboa Leonardo","TC","PR"]
[1888,"FIL7040","PROB. FIL. CONTEMPORANEA I",23,202330,40,37,0,3,3,{"$f":"+BD_DEP[[#This Row],[totalp]]/BD_DEP[[#This Row],[Mat Inicial]]","v":0},{"$f":"+BD_DEP[[#This Row],[totalr]]/BD_DEP[[#This Row],[Mat Inicial]]","v":7.4999999999999997E-2},{"$f":"+BD_DEP[[#This Row],[repi]]/BD_DEP[[#This Row],[Mat Inicial]]","v":7.4999999999999997E-2},"46","Dpto. Humanidades y Filosofía",79368987,"Verano Gamboa Leonardo","TC","PR"]
[1890,"FIL7040","PROB. FIL. CONTEMPORANEA I",27,202330,40,39,0,1,1,{"$f":"+BD_DEP[[#This Row],[totalp]]/BD_DEP[[#This Row],[Mat Inicial]]","v":0},{"$f":"+BD_DEP[[#This Row],[totalr]]/BD_DEP[[#This Row],[Mat Inicial]]","v":2.5000000000000001E-2},{"$f":"+BD_DEP[[#This Row],[repi]]/BD_DEP[[#This Row],[Mat Inicial]]","v":2.5000000000000001E-2},"46","Dpto. Humanidades y Filosofía",1045674765,"Pabon Llinas Daniela","TC","PR"]
[1891,"FIL7040","PROB. FIL. CONTEMPORANEA I",28,202330,40,39,0,1,1,{"$f":"+BD_DEP[[#This Row],[totalp]]/BD_DEP[[#This Row],[Mat Inicial]]","v":0},{"$f":"+BD_DEP[[#This Row],[totalr]]/BD_DEP[[#This Row],[Mat Inicial]]","v":2.5000000000000001E-2},{"$f":"+BD_DEP[[#This Row],[repi]]/BD_DEP[[#This Row],[Mat Inicial]]","v":2.5000000000000001E-2},"46","Dpto. Humanidades y Filosofía",1045674765,"Pabon Llinas Daniela","TC","PR"]
[1892,"FIL7040","PROB. FIL. CONTEMPORANEA I",29,202330,40,40,1,0,1,{"$f":"+BD_DEP[[#This Row],[totalp]]/BD_DEP[[#This Row],[Mat Inicial]]","v":2.5000000000000001E-2},{"$f":"+BD_DEP[[#This Row],[totalr]]/BD_DEP[[#This Row],[Mat Inicial]]","v":0},{"$f":"+BD_DEP[[#This Row],[repi]]/BD_DEP[[#This Row],[Mat Inicial]]","v":2.5000000000000001E-2},"46","Dpto. Humanidades y Filosofía",1045674765,"Pabon Llinas Daniela","TC","PR"]
[6059,"FIL7040","PROB. FIL. CONTEMPORANEA I",35,202330,10,10,0,0,0,{"$f":"+BD_DEP[[#This Row],[totalp]]/BD_DEP[[#This Row],[Mat Inicial]]","v":0},{"$f":"+BD_DEP[[#This Row],[totalr]]/BD_DEP[[#This Row],[Mat Inicial]]","v":0},{"$f":"+BD_DEP[[#This Row],[repi]]/BD_DEP[[#This Row],[Mat Inicial]]","v":0},"46","Dpto. Humanidades y Filosofía",1045674765,"Pabon Llinas Daniela","TC","PR"]
[2394,"INV4270","PROYECTO DE GRADO II FILOSOFIA",1,202330,7,6,2,1,3,{"$f":"+BD_DEP[[#This Row],[totalp]]/BD_DEP[[#This Row],[Mat Inicial]]","v":0.2857142857142857},{"$f":"+BD_DEP[[#This Row],[totalr]]/BD_DEP[[#This Row],[Mat Inicial]]","v":0.14285714285714285},{"$f":"+BD_DEP[[#This Row],[repi]]/BD_DEP[[#This Row],[Mat Inicial]]","v":0.42857142857142855},"46","Dpto. Humanidades y Filosofía",79602396,"SUAREZ GONZALEZ JAVIER","TC","PR"]
[1866,"FIL1080","SEM DE AUTOR I: CULT Y PSICOAN",1,202330,8,8,0,0,0,{"$f":"+BD_DEP[[#This Row],[totalp]]/BD_DEP[[#This Row],[Mat Inicial]]","v":0},{"$f":"+BD_DEP[[#This Row],[totalr]]/BD_DEP[[#This Row],[Mat Inicial]]","v":0},{"$f":"+BD_DEP[[#This Row],[repi]]/BD_DEP[[#This Row],[Mat Inicial]]","v":0},"46","Dpto. Humanidades y Filosofía",32673753,"Escobar Maria Carmen","TC","PR"]
[1867,"FIL2040","SEM DE FILOSOFIA Y ESTUD LITER",1,202330,4,4,0,0,0,{"$f":"+BD_DEP[[#This Row],[totalp]]/BD_DEP[[#This Row],[Mat Inicial]]","v":0},{"$f":"+BD_DEP[[#This Row],[totalr]]/BD_DEP[[#This Row],[Mat Inicial]]","v":0},{"$f":"+BD_DEP[[#This Row],[repi]]/BD_DEP[[#This Row],[Mat Inicial]]","v":0},"46","Dpto. Humanidades y Filosofía",764666,"BOLTE RIKE","TC","PR"]
[2068,"HUM4170","SEM EST CONTEMPORANEOS Y CULTU",1,202330,7,7,0,0,0,{"$f":"+BD_DEP[[#This Row],[totalp]]/BD_DEP[[#This Row],[Mat Inicial]]","v":0},{"$f":"+BD_DEP[[#This Row],[totalr]]/BD_DEP[[#This Row],[Mat Inicial]]","v":0},{"$f":"+BD_DEP[[#This Row],[repi]]/BD_DEP[[#This Row],[Mat Inicial]]","v":0},"46","Dpto. Humanidades y Filosofía",32673753,"Escobar Maria Carmen","TC","PR"]
[1878,"FIL4090","SEM FIL DEL ACONTECIMIENTO",1,202330,5,5,0,0,0,{"$f":"+BD_DEP[[#This Row],[totalp]]/BD_DEP[[#This Row],[Mat Inicial]]","v":0},{"$f":"+BD_DEP[[#This Row],[totalr]]/BD_DEP[[#This Row],[Mat Inicial]]","v":0},{"$f":"+BD_DEP[[#This Row],[repi]]/BD_DEP[[#This Row],[Mat Inicial]]","v":0},"46","Dpto. Humanidades y Filosofía",79368987,"Verano Gamboa Leonardo","TC","PR"]
[2066,"HUM4150","SEM LITERATURA I (LIT COLOMB)",1,202330,7,7,0,0,0,{"$f":"+BD_DEP[[#This Row],[totalp]]/BD_DEP[[#This Row],[Mat Inicial]]","v":0},{"$f":"+BD_DEP[[#This Row],[totalr]]/BD_DEP[[#This Row],[Mat Inicial]]","v":0},{"$f":"+BD_DEP[[#This Row],[repi]]/BD_DEP[[#This Row],[Mat Inicial]]","v":0},"46","Dpto. Humanidades y Filosofía",72016484,"Araujo Fontalvo Orlando","TC","PR"]
[2069,"HUM4190","SEM LITERATURA III (TEMATICO)",1,202330,5,5,1,0,1,{"$f":"+BD_DEP[[#This Row],[totalp]]/BD_DEP[[#This Row],[Mat Inicial]]","v":0.2},{"$f":"+BD_DEP[[#This Row],[totalr]]/BD_DEP[[#This Row],[Mat Inicial]]","v":0},{"$f":"+BD_DEP[[#This Row],[repi]]/BD_DEP[[#This Row],[Mat Inicial]]","v":0.2},"46","Dpto. Humanidades y Filosofía",32734871,"Rosas Consuegra Adriana","TC","PR"]
[2067,"HUM4160","SEMINARIO DE ESTETICA",1,202330,9,9,0,0,0,{"$f":"+BD_DEP[[#This Row],[totalp]]/BD_DEP[[#This Row],[Mat Inicial]]","v":0},{"$f":"+BD_DEP[[#This Row],[totalr]]/BD_DEP[[#This Row],[Mat Inicial]]","v":0},{"$f":"+BD_DEP[[#This Row],[repi]]/BD_DEP[[#This Row],[Mat Inicial]]","v":0},"46","Dpto. Humanidades y Filosofía",80422710,"Serrano Lopez Federico","TC","PR"]
[2065,"HUM4070","TEORIA DEL ARTE I",1,202330,10,10,0,0,0,{"$f":"+BD_DEP[[#This Row],[totalp]]/BD_DEP[[#This Row],[Mat Inicial]]","v":0},{"$f":"+BD_DEP[[#This Row],[totalr]]/BD_DEP[[#This Row],[Mat Inicial]]","v":0},{"$f":"+BD_DEP[[#This Row],[repi]]/BD_DEP[[#This Row],[Mat Inicial]]","v":0},"46","Dpto. Humanidades y Filosofía",22416015,"Gontovnik Hobrecht Monica","TC","PR"]
[1843,"ETI8070","ETICA",1,202330,37,37,1,0,1,{"$f":"+BD_DEP[[#This Row],[totalp]]/BD_DEP[[#This Row],[Mat Inicial]]","v":2.7027027027027029E-2},{"$f":"+BD_DEP[[#This Row],[totalr]]/BD_DEP[[#This Row],[Mat Inicial]]","v":0},{"$f":"+BD_DEP[[#This Row],[repi]]/BD_DEP[[#This Row],[Mat Inicial]]","v":2.7027027027027029E-2},"46","Dpto. Humanidades y Filosofía",3223606,"Andrade Alvarez Jose","MT","PR"]
[1844,"ETI8070","ETICA",2,202330,40,37,0,3,3,{"$f":"+BD_DEP[[#This Row],[totalp]]/BD_DEP[[#This Row],[Mat Inicial]]","v":0},{"$f":"+BD_DEP[[#This Row],[totalr]]/BD_DEP[[#This Row],[Mat Inicial]]","v":7.4999999999999997E-2},{"$f":"+BD_DEP[[#This Row],[repi]]/BD_DEP[[#This Row],[Mat Inicial]]","v":7.4999999999999997E-2},"46","Dpto. Humanidades y Filosofía",3223606,"Andrade Alvarez Jose","MT","PR"]
[1845,"ETI8070","ETICA",3,202330,40,38,1,2,3,{"$f":"+BD_DEP[[#This Row],[totalp]]/BD_DEP[[#This Row],[Mat Inicial]]","v":2.5000000000000001E-2},{"$f":"+BD_DEP[[#This Row],[totalr]]/BD_DEP[[#This Row],[Mat Inicial]]","v":0.05},{"$f":"+BD_DEP[[#This Row],[repi]]/BD_DEP[[#This Row],[Mat Inicial]]","v":7.4999999999999997E-2},"46","Dpto. Humanidades y Filosofía",3223606,"Andrade Alvarez Jose","MT","PR"]
[1846,"ETI8070","ETICA",4,202330,40,39,1,1,2,{"$f":"+BD_DEP[[#This Row],[totalp]]/BD_DEP[[#This Row],[Mat Inicial]]","v":2.5000000000000001E-2},{"$f":"+BD_DEP[[#This Row],[totalr]]/BD_DEP[[#This Row],[Mat Inicial]]","v":2.5000000000000001E-2},{"$f":"+BD_DEP[[#This Row],[repi]]/BD_DEP[[#This Row],[Mat Inicial]]","v":0.05},"46","Dpto. Humanidades y Filosofía",8668654,"Pajaro Muñoz Carlos","MT","PR"]
[1847,"ETI8070","ETICA",5,202330,40,39,1,1,2,{"$f":"+BD_DEP[[#This Row],[totalp]]/BD_DEP[[#This Row],[Mat Inicial]]","v":2.5000000000000001E-2},{"$f":"+BD_DEP[[#This Row],[totalr]]/BD_DEP[[#This Row],[Mat Inicial]]","v":2.5000000000000001E-2},{"$f":"+BD_DEP[[#This Row],[repi]]/BD_DEP[[#This Row],[Mat Inicial]]","v":0.05},"46","Dpto. Humanidades y Filosofía",8668654,"Pajaro Muñoz Carlos","MT","PR"]
[1848,"ETI8070","ETICA",6,202330,40,38,1,2,3,{"$f":"+BD_DEP[[#This Row],[totalp]]/BD_DEP[[#This Row],[Mat Inicial]]","v":2.5000000000000001E-2},{"$f":"+BD_DEP[[#This Row],[totalr]]/BD_DEP[[#This Row],[Mat Inicial]]","v":0.05},{"$f":"+BD_DEP[[#This Row],[repi]]/BD_DEP[[#This Row],[Mat Inicial]]","v":7.4999999999999997E-2},"46","Dpto. Humanidades y Filosofía",8668654,"Pajaro Muñoz Carlos","MT","PR"]
[1884,"FIL7010","FILOSOFIA ANTIGUA II (ARISTOT)",1,202330,15,13,2,2,4,{"$f":"+BD_DEP[[#This Row],[totalp]]/BD_DEP[[#This Row],[Mat Inicial]]","v":0.13333333333333333},{"$f":"+BD_DEP[[#This Row],[totalr]]/BD_DEP[[#This Row],[Mat Inicial]]","v":0.13333333333333333},{"$f":"+BD_DEP[[#This Row],[repi]]/BD_DEP[[#This Row],[Mat Inicial]]","v":0.26666666666666666},"46","Dpto. Humanidades y Filosofía",8668654,"Pajaro Muñoz Carlos","MT","PR"]
[1837,"ETI1020","BIOETICA",2,202330,17,16,0,1,1,{"$f":"+BD_DEP[[#This Row],[totalp]]/BD_DEP[[#This Row],[Mat Inicial]]","v":0},{"$f":"+BD_DEP[[#This Row],[totalr]]/BD_DEP[[#This Row],[Mat Inicial]]","v":5.8823529411764705E-2},{"$f":"+BD_DEP[[#This Row],[repi]]/BD_DEP[[#This Row],[Mat Inicial]]","v":5.8823529411764705E-2},"46","Dpto. Humanidades y Filosofía",22517677,"Baquero Mejia Ingrid","CA","PR"]
[1835,"ETI0040","BIOETICA MD",21,202330,56,56,0,0,0,{"$f":"+BD_DEP[[#This Row],[totalp]]/BD_DEP[[#This Row],[Mat Inicial]]","v":0},{"$f":"+BD_DEP[[#This Row],[totalr]]/BD_DEP[[#This Row],[Mat Inicial]]","v":0},{"$f":"+BD_DEP[[#This Row],[repi]]/BD_DEP[[#This Row],[Mat Inicial]]","v":0},"46","Dpto. Humanidades y Filosofía",22517677,"Baquero Mejia Ingrid","CA","PR"]
[6057,"ETI0040","BIOETICA MD",2,202330,57,57,0,0,0,{"$f":"+BD_DEP[[#This Row],[totalp]]/BD_DEP[[#This Row],[Mat Inicial]]","v":0},{"$f":"+BD_DEP[[#This Row],[totalr]]/BD_DEP[[#This Row],[Mat Inicial]]","v":0},{"$f":"+BD_DEP[[#This Row],[repi]]/BD_DEP[[#This Row],[Mat Inicial]]","v":0},"46","Dpto. Humanidades y Filosofía",22517677,"Baquero Mejia Ingrid","CA","PR"]
[6058,"ETI0040","BIOETICA MD",3,202330,56,56,0,0,0,{"$f":"+BD_DEP[[#This Row],[totalp]]/BD_DEP[[#This Row],[Mat Inicial]]","v":0},{"$f":"+BD_DEP[[#This Row],[totalr]]/BD_DEP[[#This Row],[Mat Inicial]]","v":0},{"$f":"+BD_DEP[[#This Row],[repi]]/BD_DEP[[#This Row],[Mat Inicial]]","v":0},"46","Dpto. Humanidades y Filosofía",22517677,"Baquero Mejia Ingrid","CA","PR"]
[4348,"IDS0060","CONOCIMIENTO E INVESTIGACION",54,202330,24,24,0,0,0,{"$f":"+BD_DEP[[#This Row],[totalp]]/BD_DEP[[#This Row],[Mat Inicial]]","v":0},{"$f":"+BD_DEP[[#This Row],[totalr]]/BD_DEP[[#This Row],[Mat Inicial]]","v":0},{"$f":"+BD_DEP[[#This Row],[repi]]/BD_DEP[[#This Row],[Mat Inicial]]","v":0},"46","Dpto. Humanidades y Filosofía",22674530,"Donado Badillo Maria","CA","PR"]
[4349,"IDS0060","CONOCIMIENTO E INVESTIGACION",55,202330,18,17,2,1,3,{"$f":"+BD_DEP[[#This Row],[totalp]]/BD_DEP[[#This Row],[Mat Inicial]]","v":0.1111111111111111},{"$f":"+BD_DEP[[#This Row],[totalr]]/BD_DEP[[#This Row],[Mat Inicial]]","v":5.5555555555555552E-2},{"$f":"+BD_DEP[[#This Row],[repi]]/BD_DEP[[#This Row],[Mat Inicial]]","v":0.16666666666666666},"46","Dpto. Humanidades y Filosofía",22674530,"Donado Badillo Maria","CA","PR"]
[4347,"IDS0060","CONOCIMIENTO E INVESTIGACION",53,202330,25,25,0,0,0,{"$f":"+BD_DEP[[#This Row],[totalp]]/BD_DEP[[#This Row],[Mat Inicial]]","v":0},{"$f":"+BD_DEP[[#This Row],[totalr]]/BD_DEP[[#This Row],[Mat Inicial]]","v":0},{"$f":"+BD_DEP[[#This Row],[repi]]/BD_DEP[[#This Row],[Mat Inicial]]","v":0},"46","Dpto. Humanidades y Filosofía",1042999583,"Penenrey Navarro Julio","CA","PR"]
[4345,"IDS0060","CONOCIMIENTO E INVESTIGACION",51,202330,25,25,1,0,1,{"$f":"+BD_DEP[[#This Row],[totalp]]/BD_DEP[[#This Row],[Mat Inicial]]","v":0.04},{"$f":"+BD_DEP[[#This Row],[totalr]]/BD_DEP[[#This Row],[Mat Inicial]]","v":0},{"$f":"+BD_DEP[[#This Row],[repi]]/BD_DEP[[#This Row],[Mat Inicial]]","v":0.04},"46","Dpto. Humanidades y Filosofía",1129512450,"Jimenez Lara Yolima","CA","PR"]
[4350,"IDS0060","CONOCIMIENTO E INVESTIGACION",56,202330,23,22,0,1,1,{"$f":"+BD_DEP[[#This Row],[totalp]]/BD_DEP[[#This Row],[Mat Inicial]]","v":0},{"$f":"+BD_DEP[[#This Row],[totalr]]/BD_DEP[[#This Row],[Mat Inicial]]","v":4.3478260869565216E-2},{"$f":"+BD_DEP[[#This Row],[repi]]/BD_DEP[[#This Row],[Mat Inicial]]","v":4.3478260869565216E-2},"46","Dpto. Humanidades y Filosofía",1129512450,"Jimenez Lara Yolima","CA","PR"]
[2147,"IDS0060","CONOCIMIENTO E INVESTIGACION",57,202330,6,5,0,1,1,{"$f":"+BD_DEP[[#This Row],[totalp]]/BD_DEP[[#This Row],[Mat Inicial]]","v":0},{"$f":"+BD_DEP[[#This Row],[totalr]]/BD_DEP[[#This Row],[Mat Inicial]]","v":0.16666666666666666},{"$f":"+BD_DEP[[#This Row],[repi]]/BD_DEP[[#This Row],[Mat Inicial]]","v":0.16666666666666666},"46","Dpto. Humanidades y Filosofía",1129568840,"Rubio Erick","CA","PR"]
[1853,"ETI8070","ETICA",11,202330,40,40,0,0,0,{"$f":"+BD_DEP[[#This Row],[totalp]]/BD_DEP[[#This Row],[Mat Inicial]]","v":0},{"$f":"+BD_DEP[[#This Row],[totalr]]/BD_DEP[[#This Row],[Mat Inicial]]","v":0},{"$f":"+BD_DEP[[#This Row],[repi]]/BD_DEP[[#This Row],[Mat Inicial]]","v":0},"46","Dpto. Humanidades y Filosofía",8487606,"SANTAMARIA ACOSTA JAIME","CA","PR"]
[1862,"ETI8070","ETICA",21,202330,40,39,0,1,1,{"$f":"+BD_DEP[[#This Row],[totalp]]/BD_DEP[[#This Row],[Mat Inicial]]","v":0},{"$f":"+BD_DEP[[#This Row],[totalr]]/BD_DEP[[#This Row],[Mat Inicial]]","v":2.5000000000000001E-2},{"$f":"+BD_DEP[[#This Row],[repi]]/BD_DEP[[#This Row],[Mat Inicial]]","v":2.5000000000000001E-2},"46","Dpto. Humanidades y Filosofía",8717039,"Bohorquez Muñoz Francisco","CA","PR"]
[1857,"ETI8070","ETICA",16,202330,40,40,2,0,2,{"$f":"+BD_DEP[[#This Row],[totalp]]/BD_DEP[[#This Row],[Mat Inicial]]","v":0.05},{"$f":"+BD_DEP[[#This Row],[totalr]]/BD_DEP[[#This Row],[Mat Inicial]]","v":0},{"$f":"+BD_DEP[[#This Row],[repi]]/BD_DEP[[#This Row],[Mat Inicial]]","v":0.05},"46","Dpto. Humanidades y Filosofía",10085030,"Giraldo Castro Octavio","CA","PR"]
[1859,"ETI8070","ETICA",18,202330,32,30,1,2,3,{"$f":"+BD_DEP[[#This Row],[totalp]]/BD_DEP[[#This Row],[Mat Inicial]]","v":3.125E-2},{"$f":"+BD_DEP[[#This Row],[totalr]]/BD_DEP[[#This Row],[Mat Inicial]]","v":6.25E-2},{"$f":"+BD_DEP[[#This Row],[repi]]/BD_DEP[[#This Row],[Mat Inicial]]","v":9.375E-2},"46","Dpto. Humanidades y Filosofía",73147859,"López Hernández Jairo","CA","PR"]
[1854,"ETI8070","ETICA",12,202330,40,38,0,2,2,{"$f":"+BD_DEP[[#This Row],[totalp]]/BD_DEP[[#This Row],[Mat Inicial]]","v":0},{"$f":"+BD_DEP[[#This Row],[totalr]]/BD_DEP[[#This Row],[Mat Inicial]]","v":0.05},{"$f":"+BD_DEP[[#This Row],[repi]]/BD_DEP[[#This Row],[Mat Inicial]]","v":0.05},"46","Dpto. Humanidades y Filosofía",79790585,"Gonzalez Garcia Alexander","CA","PR"]
[1863,"ETI8070","ETICA",22,202330,22,18,2,4,6,{"$f":"+BD_DEP[[#This Row],[totalp]]/BD_DEP[[#This Row],[Mat Inicial]]","v":9.0909090909090912E-2},{"$f":"+BD_DEP[[#This Row],[totalr]]/BD_DEP[[#This Row],[Mat Inicial]]","v":0.18181818181818182},{"$f":"+BD_DEP[[#This Row],[repi]]/BD_DEP[[#This Row],[Mat Inicial]]","v":0.27272727272727271},"46","Dpto. Humanidades y Filosofía",80843760,"Figueroa Castillo Manuel","CA","PR"]
[1861,"ETI8070","ETICA",20,202330,29,29,0,0,0,{"$f":"+BD_DEP[[#This Row],[totalp]]/BD_DEP[[#This Row],[Mat Inicial]]","v":0},{"$f":"+BD_DEP[[#This Row],[totalr]]/BD_DEP[[#This Row],[Mat Inicial]]","v":0},{"$f":"+BD_DEP[[#This Row],[repi]]/BD_DEP[[#This Row],[Mat Inicial]]","v":0},"46","Dpto. Humanidades y Filosofía",1032397122,"Estrada Lopez Marvin","CA","PR"]
[1855,"ETI8070","ETICA",14,202330,39,36,1,3,4,{"$f":"+BD_DEP[[#This Row],[totalp]]/BD_DEP[[#This Row],[Mat Inicial]]","v":2.564102564102564E-2},{"$f":"+BD_DEP[[#This Row],[totalr]]/BD_DEP[[#This Row],[Mat Inicial]]","v":7.6923076923076927E-2},{"$f":"+BD_DEP[[#This Row],[repi]]/BD_DEP[[#This Row],[Mat Inicial]]","v":0.10256410256410256},"46","Dpto. Humanidades y Filosofía",1143246543,"Ariza Goenaga Miguel","CA","PR"]
[1860,"ETI8070","ETICA",19,202330,40,40,2,0,2,{"$f":"+BD_DEP[[#This Row],[totalp]]/BD_DEP[[#This Row],[Mat Inicial]]","v":0.05},{"$f":"+BD_DEP[[#This Row],[totalr]]/BD_DEP[[#This Row],[Mat Inicial]]","v":0},{"$f":"+BD_DEP[[#This Row],[repi]]/BD_DEP[[#This Row],[Mat Inicial]]","v":0.05},"46","Dpto. Humanidades y Filosofía",1234090822,"Murcia Monsalvo Yojan","CA","PR"]
[2054,"HUM0100","GÉNERO Y DERECHO HUMANO",1,202330,44,44,0,0,0,{"$f":"+BD_DEP[[#This Row],[totalp]]/BD_DEP[[#This Row],[Mat Inicial]]","v":0},{"$f":"+BD_DEP[[#This Row],[totalr]]/BD_DEP[[#This Row],[Mat Inicial]]","v":0},{"$f":"+BD_DEP[[#This Row],[repi]]/BD_DEP[[#This Row],[Mat Inicial]]","v":0},"46","Dpto. Humanidades y Filosofía",72346608,"Rojas Sandoval Diego","CA","PR"]
[2063,"HUM4040","HISTORIA DEL ARTE",1,202330,52,51,3,1,4,{"$f":"+BD_DEP[[#This Row],[totalp]]/BD_DEP[[#This Row],[Mat Inicial]]","v":5.7692307692307696E-2},{"$f":"+BD_DEP[[#This Row],[totalr]]/BD_DEP[[#This Row],[Mat Inicial]]","v":1.9230769230769232E-2},{"$f":"+BD_DEP[[#This Row],[repi]]/BD_DEP[[#This Row],[Mat Inicial]]","v":7.6923076923076927E-2},"46","Dpto. Humanidades y Filosofía",52620624,"FIGUEROA BOTERO PAULA","CA","PR"]
[4321,"FIL4020","INTRODUCCION A LA FILOSOFIA",1,202330,39,37,1,2,3,{"$f":"+BD_DEP[[#This Row],[totalp]]/BD_DEP[[#This Row],[Mat Inicial]]","v":2.564102564102564E-2},{"$f":"+BD_DEP[[#This Row],[totalr]]/BD_DEP[[#This Row],[Mat Inicial]]","v":5.128205128205128E-2},{"$f":"+BD_DEP[[#This Row],[repi]]/BD_DEP[[#This Row],[Mat Inicial]]","v":7.6923076923076927E-2},"46","Dpto. Humanidades y Filosofía",72358159,"Guerra Naranjo Francisco","CA","PR"]
[1868,"FIL4020","INTRODUCCION A LA FILOSOFIA",6,202330,40,35,0,5,5,{"$f":"+BD_DEP[[#This Row],[totalp]]/BD_DEP[[#This Row],[Mat Inicial]]","v":0},{"$f":"+BD_DEP[[#This Row],[totalr]]/BD_DEP[[#This Row],[Mat Inicial]]","v":0.125},{"$f":"+BD_DEP[[#This Row],[repi]]/BD_DEP[[#This Row],[Mat Inicial]]","v":0.125},"46","Dpto. Humanidades y Filosofía",1032397122,"Estrada Lopez Marvin","CA","PR"]
[2045,"HUM0030","MÚSICA Y CINE",1,202330,32,31,0,1,1,{"$f":"+BD_DEP[[#This Row],[totalp]]/BD_DEP[[#This Row],[Mat Inicial]]","v":0},{"$f":"+BD_DEP[[#This Row],[totalr]]/BD_DEP[[#This Row],[Mat Inicial]]","v":3.125E-2},{"$f":"+BD_DEP[[#This Row],[repi]]/BD_DEP[[#This Row],[Mat Inicial]]","v":3.125E-2},"46","Dpto. Humanidades y Filosofía",32729701,"Marin Niebles Angela","CA","PR"]
[2142,"IDS0035","VIAJANDO POR LA CIENCIA",1,202330,24,21,0,3,3,{"$f":"+BD_DEP[[#This Row],[totalp]]/BD_DEP[[#This Row],[Mat Inicial]]","v":0},{"$f":"+BD_DEP[[#This Row],[totalr]]/BD_DEP[[#This Row],[Mat Inicial]]","v":0.125},{"$f":"+BD_DEP[[#This Row],[repi]]/BD_DEP[[#This Row],[Mat Inicial]]","v":0.125},"46","Dpto. Humanidades y Filosofía",1129568840,"Rubio Erick","CA","PR"]
[2129,"ICI7171","ACUEDUCTO Y ALCANTARILLADO",3,202330,34,33,5,1,6,{"$f":"+BD_DEP[[#This Row],[totalp]]/BD_DEP[[#This Row],[Mat Inicial]]","v":0.14705882352941177},{"$f":"+BD_DEP[[#This Row],[totalr]]/BD_DEP[[#This Row],[Mat Inicial]]","v":2.9411764705882353E-2},{"$f":"+BD_DEP[[#This Row],[repi]]/BD_DEP[[#This Row],[Mat Inicial]]","v":0.17647058823529413},"27","Dpto. Ing. Civil y Ambiental",72002373,"Avila Rangel Humberto","TC","PR"]
[2127,"ICI7171","ACUEDUCTO Y ALCANTARILLADO",1,202330,35,35,2,0,2,{"$f":"+BD_DEP[[#This Row],[totalp]]/BD_DEP[[#This Row],[Mat Inicial]]","v":5.7142857142857141E-2},{"$f":"+BD_DEP[[#This Row],[totalr]]/BD_DEP[[#This Row],[Mat Inicial]]","v":0},{"$f":"+BD_DEP[[#This Row],[repi]]/BD_DEP[[#This Row],[Mat Inicial]]","v":5.7142857142857141E-2},"27","Dpto. Ing. Civil y Ambiental",79967201,"SISA CAMARGO AUGUSTO","TC","PR"]
[2128,"ICI7171","ACUEDUCTO Y ALCANTARILLADO",2,202330,30,30,0,0,0,{"$f":"+BD_DEP[[#This Row],[totalp]]/BD_DEP[[#This Row],[Mat Inicial]]","v":0},{"$f":"+BD_DEP[[#This Row],[totalr]]/BD_DEP[[#This Row],[Mat Inicial]]","v":0},{"$f":"+BD_DEP[[#This Row],[repi]]/BD_DEP[[#This Row],[Mat Inicial]]","v":0},"27","Dpto. Ing. Civil y Ambiental",79967201,"SISA CAMARGO AUGUSTO","TC","PR"]
[1257,"ADM5031","ADMON Y CTRL DE CONSTRUCCION",1,202330,35,35,0,0,0,{"$f":"+BD_DEP[[#This Row],[totalp]]/BD_DEP[[#This Row],[Mat Inicial]]","v":0},{"$f":"+BD_DEP[[#This Row],[totalr]]/BD_DEP[[#This Row],[Mat Inicial]]","v":0},{"$f":"+BD_DEP[[#This Row],[repi]]/BD_DEP[[#This Row],[Mat Inicial]]","v":0},"27","Dpto. Ing. Civil y Ambiental",573228,"ABELLAN GARCIA JOAQUIN","TC","PR"]
[2121,"ICI7104","ANÁLISIS ESTRUCTURAL",1,202330,40,33,16,7,23,{"$f":"+BD_DEP[[#This Row],[totalp]]/BD_DEP[[#This Row],[Mat Inicial]]","v":0.4},{"$f":"+BD_DEP[[#This Row],[totalr]]/BD_DEP[[#This Row],[Mat Inicial]]","v":0.17499999999999999},{"$f":"+BD_DEP[[#This Row],[repi]]/BD_DEP[[#This Row],[Mat Inicial]]","v":0.57499999999999996},"27","Dpto. Ing. Civil y Ambiental",79792545,"Guzman Guerrero Andres","TC","PR"]
[2122,"ICI7104","ANÁLISIS ESTRUCTURAL",2,202330,37,32,9,5,14,{"$f":"+BD_DEP[[#This Row],[totalp]]/BD_DEP[[#This Row],[Mat Inicial]]","v":0.24324324324324326},{"$f":"+BD_DEP[[#This Row],[totalr]]/BD_DEP[[#This Row],[Mat Inicial]]","v":0.13513513513513514},{"$f":"+BD_DEP[[#This Row],[repi]]/BD_DEP[[#This Row],[Mat Inicial]]","v":0.3783783783783784},"27","Dpto. Ing. Civil y Ambiental",79792545,"Guzman Guerrero Andres","TC","PR"]
[2119,"ICI7081","CONSTRUCCION",1,202330,17,17,0,0,0,{"$f":"+BD_DEP[[#This Row],[totalp]]/BD_DEP[[#This Row],[Mat Inicial]]","v":0},{"$f":"+BD_DEP[[#This Row],[totalr]]/BD_DEP[[#This Row],[Mat Inicial]]","v":0},{"$f":"+BD_DEP[[#This Row],[repi]]/BD_DEP[[#This Row],[Mat Inicial]]","v":0},"27","Dpto. Ing. Civil y Ambiental",573228,"ABELLAN GARCIA JOAQUIN","TC","PR"]
[2120,"ICI7081","CONSTRUCCION",2,202330,25,25,0,0,0,{"$f":"+BD_DEP[[#This Row],[totalp]]/BD_DEP[[#This Row],[Mat Inicial]]","v":0},{"$f":"+BD_DEP[[#This Row],[totalr]]/BD_DEP[[#This Row],[Mat Inicial]]","v":0},{"$f":"+BD_DEP[[#This Row],[repi]]/BD_DEP[[#This Row],[Mat Inicial]]","v":0},"27","Dpto. Ing. Civil y Ambiental",573228,"ABELLAN GARCIA JOAQUIN","TC","PR"]
[1778,"ELP4083","CONSTRUCCIONES SOSTENIBLES",1,202330,29,29,0,0,0,{"$f":"+BD_DEP[[#This Row],[totalp]]/BD_DEP[[#This Row],[Mat Inicial]]","v":0},{"$f":"+BD_DEP[[#This Row],[totalr]]/BD_DEP[[#This Row],[Mat Inicial]]","v":0},{"$f":"+BD_DEP[[#This Row],[repi]]/BD_DEP[[#This Row],[Mat Inicial]]","v":0},"27","Dpto. Ing. Civil y Ambiental",79864067,"PACHECO BUSTOS CARLOS","TC","PR"]
[1781,"ELP7029","CORROSION DE LOS MATERIALES",1,202330,17,17,0,0,0,{"$f":"+BD_DEP[[#This Row],[totalp]]/BD_DEP[[#This Row],[Mat Inicial]]","v":0},{"$f":"+BD_DEP[[#This Row],[totalr]]/BD_DEP[[#This Row],[Mat Inicial]]","v":0},{"$f":"+BD_DEP[[#This Row],[repi]]/BD_DEP[[#This Row],[Mat Inicial]]","v":0},"27","Dpto. Ing. Civil y Ambiental",55219894,"DUGARTE COLL MARGARETH","TC","PR"]
[2090,"ICI4021","DISEÑO DE VÍAS",1,202330,38,31,9,7,16,{"$f":"+BD_DEP[[#This Row],[totalp]]/BD_DEP[[#This Row],[Mat Inicial]]","v":0.23684210526315788},{"$f":"+BD_DEP[[#This Row],[totalr]]/BD_DEP[[#This Row],[Mat Inicial]]","v":0.18421052631578946},{"$f":"+BD_DEP[[#This Row],[repi]]/BD_DEP[[#This Row],[Mat Inicial]]","v":0.42105263157894735},"27","Dpto. Ing. Civil y Ambiental",22479016,"CORONELL MOLINA GARIS","TC","PR"]
[2081,"IBA4032","ESTÁTICA",4,202330,30,28,2,2,4,{"$f":"+BD_DEP[[#This Row],[totalp]]/BD_DEP[[#This Row],[Mat Inicial]]","v":6.6666666666666666E-2},{"$f":"+BD_DEP[[#This Row],[totalr]]/BD_DEP[[#This Row],[Mat Inicial]]","v":6.6666666666666666E-2},{"$f":"+BD_DEP[[#This Row],[repi]]/BD_DEP[[#This Row],[Mat Inicial]]","v":0.13333333333333333},"27","Dpto. Ing. Civil y Ambiental",1044427748,"Martinez Lopez Daniela","TC","PR"]
[2082,"IBA4032","ESTÁTICA",5,202330,19,19,3,0,3,{"$f":"+BD_DEP[[#This Row],[totalp]]/BD_DEP[[#This Row],[Mat Inicial]]","v":0.15789473684210525},{"$f":"+BD_DEP[[#This Row],[totalr]]/BD_DEP[[#This Row],[Mat Inicial]]","v":0},{"$f":"+BD_DEP[[#This Row],[repi]]/BD_DEP[[#This Row],[Mat Inicial]]","v":0.15789473684210525},"27","Dpto. Ing. Civil y Ambiental",1082897613,"Carvajal Munoz Juan","TC","PR"]
[2078,"IBA4032","ESTÁTICA",1,202330,30,28,1,2,3,{"$f":"+BD_DEP[[#This Row],[totalp]]/BD_DEP[[#This Row],[Mat Inicial]]","v":3.3333333333333333E-2},{"$f":"+BD_DEP[[#This Row],[totalr]]/BD_DEP[[#This Row],[Mat Inicial]]","v":6.6666666666666666E-2},{"$f":"+BD_DEP[[#This Row],[repi]]/BD_DEP[[#This Row],[Mat Inicial]]","v":0.1},"27","Dpto. Ing. Civil y Ambiental",1143240274,"Archbold Monterrosa Jorge","TC","PR"]
[2079,"IBA4032","ESTÁTICA",2,202330,30,30,1,0,1,{"$f":"+BD_DEP[[#This Row],[totalp]]/BD_DEP[[#This Row],[Mat Inicial]]","v":3.3333333333333333E-2},{"$f":"+BD_DEP[[#This Row],[totalr]]/BD_DEP[[#This Row],[Mat Inicial]]","v":0},{"$f":"+BD_DEP[[#This Row],[repi]]/BD_DEP[[#This Row],[Mat Inicial]]","v":3.3333333333333333E-2},"27","Dpto. Ing. Civil y Ambiental",1143240274,"Archbold Monterrosa Jorge","TC","PR"]
[2080,"IBA4032","ESTÁTICA",3,202330,27,21,2,6,8,{"$f":"+BD_DEP[[#This Row],[totalp]]/BD_DEP[[#This Row],[Mat Inicial]]","v":7.407407407407407E-2},{"$f":"+BD_DEP[[#This Row],[totalr]]/BD_DEP[[#This Row],[Mat Inicial]]","v":0.22222222222222221},{"$f":"+BD_DEP[[#This Row],[repi]]/BD_DEP[[#This Row],[Mat Inicial]]","v":0.29629629629629628},"27","Dpto. Ing. Civil y Ambiental",1143240274,"Archbold Monterrosa Jorge","TC","PR"]
[1150,"IBA4070","ESTATICA PARA ARQUITECTOS",1,202330,20,13,5,7,12,{"$f":"+BD_DEP[[#This Row],[totalp]]/BD_DEP[[#This Row],[Mat Inicial]]","v":0.25},{"$f":"+BD_DEP[[#This Row],[totalr]]/BD_DEP[[#This Row],[Mat Inicial]]","v":0.35},{"$f":"+BD_DEP[[#This Row],[repi]]/BD_DEP[[#This Row],[Mat Inicial]]","v":0.6},"27","Dpto. Ing. Civil y Ambiental",8485869,"FUENTES PUMAREJO LUIS","TC","PR"]
[2085,"IBA4070","ESTATICA PARA ARQUITECTOS",2,202330,26,26,10,0,10,{"$f":"+BD_DEP[[#This Row],[totalp]]/BD_DEP[[#This Row],[Mat Inicial]]","v":0.38461538461538464},{"$f":"+BD_DEP[[#This Row],[totalr]]/BD_DEP[[#This Row],[Mat Inicial]]","v":0},{"$f":"+BD_DEP[[#This Row],[repi]]/BD_DEP[[#This Row],[Mat Inicial]]","v":0.38461538461538464},"27","Dpto. Ing. Civil y Ambiental",72311243,"Martinez Arguelles Gilberto","TC","PR"]
[2125,"ICI7110","FUNDACIONES",1,202330,20,19,1,1,2,{"$f":"+BD_DEP[[#This Row],[totalp]]/BD_DEP[[#This Row],[Mat Inicial]]","v":0.05},{"$f":"+BD_DEP[[#This Row],[totalr]]/BD_DEP[[#This Row],[Mat Inicial]]","v":0.05},{"$f":"+BD_DEP[[#This Row],[repi]]/BD_DEP[[#This Row],[Mat Inicial]]","v":0.1},"27","Dpto. Ing. Civil y Ambiental",72343765,"MERCADO PUCHE VICENTE","TC","PR"]
[2126,"ICI7110","FUNDACIONES",2,202330,13,13,1,0,1,{"$f":"+BD_DEP[[#This Row],[totalp]]/BD_DEP[[#This Row],[Mat Inicial]]","v":7.6923076923076927E-2},{"$f":"+BD_DEP[[#This Row],[totalr]]/BD_DEP[[#This Row],[Mat Inicial]]","v":0},{"$f":"+BD_DEP[[#This Row],[repi]]/BD_DEP[[#This Row],[Mat Inicial]]","v":7.6923076923076927E-2},"27","Dpto. Ing. Civil y Ambiental",72343765,"MERCADO PUCHE VICENTE","TC","PR"]
[2096,"ICI4060","GEOLOGIA",1,202330,26,24,3,2,5,{"$f":"+BD_DEP[[#This Row],[totalp]]/BD_DEP[[#This Row],[Mat Inicial]]","v":0.11538461538461539},{"$f":"+BD_DEP[[#This Row],[totalr]]/BD_DEP[[#This Row],[Mat Inicial]]","v":7.6923076923076927E-2},{"$f":"+BD_DEP[[#This Row],[repi]]/BD_DEP[[#This Row],[Mat Inicial]]","v":0.19230769230769232},"27","Dpto. Ing. Civil y Ambiental",71787989,"Escobar Jaramillo Jaime","TC","PR"]
[2097,"ICI4060","GEOLOGIA",2,202330,26,25,0,1,1,{"$f":"+BD_DEP[[#This Row],[totalp]]/BD_DEP[[#This Row],[Mat Inicial]]","v":0},{"$f":"+BD_DEP[[#This Row],[totalr]]/BD_DEP[[#This Row],[Mat Inicial]]","v":3.8461538461538464E-2},{"$f":"+BD_DEP[[#This Row],[repi]]/BD_DEP[[#This Row],[Mat Inicial]]","v":3.8461538461538464E-2},"27","Dpto. Ing. Civil y Ambiental",71787989,"Escobar Jaramillo Jaime","TC","PR"]
[2098,"ICI4060","GEOLOGIA",3,202330,22,22,2,0,2,{"$f":"+BD_DEP[[#This Row],[totalp]]/BD_DEP[[#This Row],[Mat Inicial]]","v":9.0909090909090912E-2},{"$f":"+BD_DEP[[#This Row],[totalr]]/BD_DEP[[#This Row],[Mat Inicial]]","v":0},{"$f":"+BD_DEP[[#This Row],[repi]]/BD_DEP[[#This Row],[Mat Inicial]]","v":9.0909090909090912E-2},"27","Dpto. Ing. Civil y Ambiental",71787989,"Escobar Jaramillo Jaime","TC","PR"]
[1785,"ELP7272","GEOTECNIA APLICADA",1,202330,16,16,0,0,0,{"$f":"+BD_DEP[[#This Row],[totalp]]/BD_DEP[[#This Row],[Mat Inicial]]","v":0},{"$f":"+BD_DEP[[#This Row],[totalr]]/BD_DEP[[#This Row],[Mat Inicial]]","v":0},{"$f":"+BD_DEP[[#This Row],[repi]]/BD_DEP[[#This Row],[Mat Inicial]]","v":0},"27","Dpto. Ing. Civil y Ambiental",72343765,"MERCADO PUCHE VICENTE","TC","PR"]
[1288,"AMB4032","GESTION DE RESIDUOS",1,202330,28,28,0,0,0,{"$f":"+BD_DEP[[#This Row],[totalp]]/BD_DEP[[#This Row],[Mat Inicial]]","v":0},{"$f":"+BD_DEP[[#This Row],[totalr]]/BD_DEP[[#This Row],[Mat Inicial]]","v":0},{"$f":"+BD_DEP[[#This Row],[repi]]/BD_DEP[[#This Row],[Mat Inicial]]","v":0},"27","Dpto. Ing. Civil y Ambiental",1082897613,"Carvajal Munoz Juan","TC","PR"]
[2102,"ICI4083","HIDRAULICA",1,202330,15,13,2,2,4,{"$f":"+BD_DEP[[#This Row],[totalp]]/BD_DEP[[#This Row],[Mat Inicial]]","v":0.13333333333333333},{"$f":"+BD_DEP[[#This Row],[totalr]]/BD_DEP[[#This Row],[Mat Inicial]]","v":0.13333333333333333},{"$f":"+BD_DEP[[#This Row],[repi]]/BD_DEP[[#This Row],[Mat Inicial]]","v":0.26666666666666666},"27","Dpto. Ing. Civil y Ambiental",72002373,"Avila Rangel Humberto","TC","PR"]
[2103,"ICI4083","HIDRAULICA",2,202330,15,12,0,3,3,{"$f":"+BD_DEP[[#This Row],[totalp]]/BD_DEP[[#This Row],[Mat Inicial]]","v":0},{"$f":"+BD_DEP[[#This Row],[totalr]]/BD_DEP[[#This Row],[Mat Inicial]]","v":0.2},{"$f":"+BD_DEP[[#This Row],[repi]]/BD_DEP[[#This Row],[Mat Inicial]]","v":0.2},"27","Dpto. Ing. Civil y Ambiental",72002373,"Avila Rangel Humberto","TC","PR"]
[2104,"ICI4083","HIDRAULICA",3,202330,15,15,2,0,2,{"$f":"+BD_DEP[[#This Row],[totalp]]/BD_DEP[[#This Row],[Mat Inicial]]","v":0.13333333333333333},{"$f":"+BD_DEP[[#This Row],[totalr]]/BD_DEP[[#This Row],[Mat Inicial]]","v":0},{"$f":"+BD_DEP[[#This Row],[repi]]/BD_DEP[[#This Row],[Mat Inicial]]","v":0.13333333333333333},"27","Dpto. Ing. Civil y Ambiental",72002373,"Avila Rangel Humberto","TC","PR"]
[2105,"ICI4083","HIDRAULICA",4,202330,15,15,2,0,2,{"$f":"+BD_DEP[[#This Row],[totalp]]/BD_DEP[[#This Row],[Mat Inicial]]","v":0.13333333333333333},{"$f":"+BD_DEP[[#This Row],[totalr]]/BD_DEP[[#This Row],[Mat Inicial]]","v":0},{"$f":"+BD_DEP[[#This Row],[repi]]/BD_DEP[[#This Row],[Mat Inicial]]","v":0.13333333333333333},"27","Dpto. Ing. Civil y Ambiental",72002373,"Avila Rangel Humberto","TC","PR"]
[6628,"ICI4083","HIDRAULICA",5,202330,9,8,3,1,4,{"$f":"+BD_DEP[[#This Row],[totalp]]/BD_DEP[[#This Row],[Mat Inicial]]","v":0.33333333333333331},{"$f":"+BD_DEP[[#This Row],[totalr]]/BD_DEP[[#This Row],[Mat Inicial]]","v":0.1111111111111111},{"$f":"+BD_DEP[[#This Row],[repi]]/BD_DEP[[#This Row],[Mat Inicial]]","v":0.44444444444444442},"27","Dpto. Ing. Civil y Ambiental",72002373,"Avila Rangel Humberto","TC","PR"]
[2099,"ICI4070","HIDROLOGIA",1,202330,34,33,1,1,2,{"$f":"+BD_DEP[[#This Row],[totalp]]/BD_DEP[[#This Row],[Mat Inicial]]","v":2.9411764705882353E-2},{"$f":"+BD_DEP[[#This Row],[totalr]]/BD_DEP[[#This Row],[Mat Inicial]]","v":2.9411764705882353E-2},{"$f":"+BD_DEP[[#This Row],[repi]]/BD_DEP[[#This Row],[Mat Inicial]]","v":5.8823529411764705E-2},"27","Dpto. Ing. Civil y Ambiental",79967201,"SISA CAMARGO AUGUSTO","TC","PR"]
[2100,"ICI4070","HIDROLOGIA",2,202330,30,29,2,1,3,{"$f":"+BD_DEP[[#This Row],[totalp]]/BD_DEP[[#This Row],[Mat Inicial]]","v":6.6666666666666666E-2},{"$f":"+BD_DEP[[#This Row],[totalr]]/BD_DEP[[#This Row],[Mat Inicial]]","v":3.3333333333333333E-2},{"$f":"+BD_DEP[[#This Row],[repi]]/BD_DEP[[#This Row],[Mat Inicial]]","v":0.1},"27","Dpto. Ing. Civil y Ambiental",79967201,"SISA CAMARGO AUGUSTO","TC","PR"]
[2130,"ICI8750","INGENIERIA AMBIENTAL",1,202330,15,15,0,0,0,{"$f":"+BD_DEP[[#This Row],[totalp]]/BD_DEP[[#This Row],[Mat Inicial]]","v":0},{"$f":"+BD_DEP[[#This Row],[totalr]]/BD_DEP[[#This Row],[Mat Inicial]]","v":0},{"$f":"+BD_DEP[[#This Row],[repi]]/BD_DEP[[#This Row],[Mat Inicial]]","v":0},"27","Dpto. Ing. Civil y Ambiental",22657309,"AGUDELO CASTANEDA DAYANA","TC","PR"]
[2131,"ICI8750","INGENIERIA AMBIENTAL",2,202330,15,15,0,0,0,{"$f":"+BD_DEP[[#This Row],[totalp]]/BD_DEP[[#This Row],[Mat Inicial]]","v":0},{"$f":"+BD_DEP[[#This Row],[totalr]]/BD_DEP[[#This Row],[Mat Inicial]]","v":0},{"$f":"+BD_DEP[[#This Row],[repi]]/BD_DEP[[#This Row],[Mat Inicial]]","v":0},"27","Dpto. Ing. Civil y Ambiental",22657309,"AGUDELO CASTANEDA DAYANA","TC","PR"]
[2132,"ICI8750","INGENIERIA AMBIENTAL",3,202330,15,15,1,0,1,{"$f":"+BD_DEP[[#This Row],[totalp]]/BD_DEP[[#This Row],[Mat Inicial]]","v":6.6666666666666666E-2},{"$f":"+BD_DEP[[#This Row],[totalr]]/BD_DEP[[#This Row],[Mat Inicial]]","v":0},{"$f":"+BD_DEP[[#This Row],[repi]]/BD_DEP[[#This Row],[Mat Inicial]]","v":6.6666666666666666E-2},"27","Dpto. Ing. Civil y Ambiental",22657309,"AGUDELO CASTANEDA DAYANA","TC","PR"]
[2133,"ICI8750","INGENIERIA AMBIENTAL",4,202330,15,15,0,0,0,{"$f":"+BD_DEP[[#This Row],[totalp]]/BD_DEP[[#This Row],[Mat Inicial]]","v":0},{"$f":"+BD_DEP[[#This Row],[totalr]]/BD_DEP[[#This Row],[Mat Inicial]]","v":0},{"$f":"+BD_DEP[[#This Row],[repi]]/BD_DEP[[#This Row],[Mat Inicial]]","v":0},"27","Dpto. Ing. Civil y Ambiental",22657309,"AGUDELO CASTANEDA DAYANA","TC","PR"]
[2134,"ICI8750","INGENIERIA AMBIENTAL",5,202330,12,12,0,0,0,{"$f":"+BD_DEP[[#This Row],[totalp]]/BD_DEP[[#This Row],[Mat Inicial]]","v":0},{"$f":"+BD_DEP[[#This Row],[totalr]]/BD_DEP[[#This Row],[Mat Inicial]]","v":0},{"$f":"+BD_DEP[[#This Row],[repi]]/BD_DEP[[#This Row],[Mat Inicial]]","v":0},"27","Dpto. Ing. Civil y Ambiental",79864067,"PACHECO BUSTOS CARLOS","TC","PR"]
[2135,"ICI8750","INGENIERIA AMBIENTAL",6,202330,15,15,0,0,0,{"$f":"+BD_DEP[[#This Row],[totalp]]/BD_DEP[[#This Row],[Mat Inicial]]","v":0},{"$f":"+BD_DEP[[#This Row],[totalr]]/BD_DEP[[#This Row],[Mat Inicial]]","v":0},{"$f":"+BD_DEP[[#This Row],[repi]]/BD_DEP[[#This Row],[Mat Inicial]]","v":0},"27","Dpto. Ing. Civil y Ambiental",79864067,"PACHECO BUSTOS CARLOS","TC","PR"]
[1777,"ELP4076","INGENIERIA DE RIOS Y COSTAS",1,202330,7,7,0,0,0,{"$f":"+BD_DEP[[#This Row],[totalp]]/BD_DEP[[#This Row],[Mat Inicial]]","v":0},{"$f":"+BD_DEP[[#This Row],[totalr]]/BD_DEP[[#This Row],[Mat Inicial]]","v":0},{"$f":"+BD_DEP[[#This Row],[repi]]/BD_DEP[[#This Row],[Mat Inicial]]","v":0},"27","Dpto. Ing. Civil y Ambiental",15443411,"RIVILLAS OSPINA GERMAN","TC","PR"]
[2114,"ICI7014","INGENIERIA DE TRANSPORTE",1,202330,31,31,7,0,7,{"$f":"+BD_DEP[[#This Row],[totalp]]/BD_DEP[[#This Row],[Mat Inicial]]","v":0.22580645161290322},{"$f":"+BD_DEP[[#This Row],[totalr]]/BD_DEP[[#This Row],[Mat Inicial]]","v":0},{"$f":"+BD_DEP[[#This Row],[repi]]/BD_DEP[[#This Row],[Mat Inicial]]","v":0.22580645161290322},"27","Dpto. Ing. Civil y Ambiental",8736202,"CANTILLO MAZA VICTOR","TC","PR"]
[4334,"ICI0010","INT A LA INGENIERIA CIVIL",1,202330,42,41,3,1,4,{"$f":"+BD_DEP[[#This Row],[totalp]]/BD_DEP[[#This Row],[Mat Inicial]]","v":7.1428571428571425E-2},{"$f":"+BD_DEP[[#This Row],[totalr]]/BD_DEP[[#This Row],[Mat Inicial]]","v":2.3809523809523808E-2},{"$f":"+BD_DEP[[#This Row],[repi]]/BD_DEP[[#This Row],[Mat Inicial]]","v":9.5238095238095233E-2},"27","Dpto. Ing. Civil y Ambiental",79864067,"PACHECO BUSTOS CARLOS","TC","PR"]
[2092,"ICI4051","MATERIALES DE CONSTRUCCION",1,202330,11,10,0,1,1,{"$f":"+BD_DEP[[#This Row],[totalp]]/BD_DEP[[#This Row],[Mat Inicial]]","v":0},{"$f":"+BD_DEP[[#This Row],[totalr]]/BD_DEP[[#This Row],[Mat Inicial]]","v":9.0909090909090912E-2},{"$f":"+BD_DEP[[#This Row],[repi]]/BD_DEP[[#This Row],[Mat Inicial]]","v":9.0909090909090912E-2},"27","Dpto. Ing. Civil y Ambiental",55219894,"DUGARTE COLL MARGARETH","TC","PR"]
[2093,"ICI4051","MATERIALES DE CONSTRUCCION",2,202330,14,13,1,1,2,{"$f":"+BD_DEP[[#This Row],[totalp]]/BD_DEP[[#This Row],[Mat Inicial]]","v":7.1428571428571425E-2},{"$f":"+BD_DEP[[#This Row],[totalr]]/BD_DEP[[#This Row],[Mat Inicial]]","v":7.1428571428571425E-2},{"$f":"+BD_DEP[[#This Row],[repi]]/BD_DEP[[#This Row],[Mat Inicial]]","v":0.14285714285714285},"27","Dpto. Ing. Civil y Ambiental",55219894,"DUGARTE COLL MARGARETH","TC","PR"]
[2094,"ICI4051","MATERIALES DE CONSTRUCCION",3,202330,15,15,0,0,0,{"$f":"+BD_DEP[[#This Row],[totalp]]/BD_DEP[[#This Row],[Mat Inicial]]","v":0},{"$f":"+BD_DEP[[#This Row],[totalr]]/BD_DEP[[#This Row],[Mat Inicial]]","v":0},{"$f":"+BD_DEP[[#This Row],[repi]]/BD_DEP[[#This Row],[Mat Inicial]]","v":0},"27","Dpto. Ing. Civil y Ambiental",1044427748,"Martinez Lopez Daniela","TC","PR"]
[2095,"ICI4051","MATERIALES DE CONSTRUCCION",4,202330,15,15,1,0,1,{"$f":"+BD_DEP[[#This Row],[totalp]]/BD_DEP[[#This Row],[Mat Inicial]]","v":6.6666666666666666E-2},{"$f":"+BD_DEP[[#This Row],[totalr]]/BD_DEP[[#This Row],[Mat Inicial]]","v":0},{"$f":"+BD_DEP[[#This Row],[repi]]/BD_DEP[[#This Row],[Mat Inicial]]","v":6.6666666666666666E-2},"27","Dpto. Ing. Civil y Ambiental",1044427748,"Martinez Lopez Daniela","TC","PR"]
[1776,"ELP0021","MATERIALES INFRAESTRUCTU VIAL",1,202330,23,23,0,0,0,{"$f":"+BD_DEP[[#This Row],[totalp]]/BD_DEP[[#This Row],[Mat Inicial]]","v":0},{"$f":"+BD_DEP[[#This Row],[totalr]]/BD_DEP[[#This Row],[Mat Inicial]]","v":0},{"$f":"+BD_DEP[[#This Row],[repi]]/BD_DEP[[#This Row],[Mat Inicial]]","v":0},"27","Dpto. Ing. Civil y Ambiental",72311243,"Martinez Arguelles Gilberto","TC","PR"]
[2106,"ICI4310","MECÁNICA DE SUELOS",1,202330,15,15,3,0,3,{"$f":"+BD_DEP[[#This Row],[totalp]]/BD_DEP[[#This Row],[Mat Inicial]]","v":0.2},{"$f":"+BD_DEP[[#This Row],[totalr]]/BD_DEP[[#This Row],[Mat Inicial]]","v":0},{"$f":"+BD_DEP[[#This Row],[repi]]/BD_DEP[[#This Row],[Mat Inicial]]","v":0.2},"27","Dpto. Ing. Civil y Ambiental",80037934,"TOVAR VALENCIA RUBEN","TC","PR"]
[2107,"ICI4310","MECÁNICA DE SUELOS",2,202330,15,15,1,0,1,{"$f":"+BD_DEP[[#This Row],[totalp]]/BD_DEP[[#This Row],[Mat Inicial]]","v":6.6666666666666666E-2},{"$f":"+BD_DEP[[#This Row],[totalr]]/BD_DEP[[#This Row],[Mat Inicial]]","v":0},{"$f":"+BD_DEP[[#This Row],[repi]]/BD_DEP[[#This Row],[Mat Inicial]]","v":6.6666666666666666E-2},"27","Dpto. Ing. Civil y Ambiental",80037934,"TOVAR VALENCIA RUBEN","TC","PR"]
[2108,"ICI4310","MECÁNICA DE SUELOS",3,202330,14,14,4,0,4,{"$f":"+BD_DEP[[#This Row],[totalp]]/BD_DEP[[#This Row],[Mat Inicial]]","v":0.2857142857142857},{"$f":"+BD_DEP[[#This Row],[totalr]]/BD_DEP[[#This Row],[Mat Inicial]]","v":0},{"$f":"+BD_DEP[[#This Row],[repi]]/BD_DEP[[#This Row],[Mat Inicial]]","v":0.2857142857142857},"27","Dpto. Ing. Civil y Ambiental",80037934,"TOVAR VALENCIA RUBEN","TC","PR"]
[2109,"ICI4310","MECÁNICA DE SUELOS",4,202330,15,14,2,1,3,{"$f":"+BD_DEP[[#This Row],[totalp]]/BD_DEP[[#This Row],[Mat Inicial]]","v":0.13333333333333333},{"$f":"+BD_DEP[[#This Row],[totalr]]/BD_DEP[[#This Row],[Mat Inicial]]","v":6.6666666666666666E-2},{"$f":"+BD_DEP[[#This Row],[repi]]/BD_DEP[[#This Row],[Mat Inicial]]","v":0.2},"27","Dpto. Ing. Civil y Ambiental",80037934,"TOVAR VALENCIA RUBEN","TC","PR"]
[1784,"ELP7271","PAVIMENTOS",1,202330,13,10,0,3,3,{"$f":"+BD_DEP[[#This Row],[totalp]]/BD_DEP[[#This Row],[Mat Inicial]]","v":0},{"$f":"+BD_DEP[[#This Row],[totalr]]/BD_DEP[[#This Row],[Mat Inicial]]","v":0.23076923076923078},{"$f":"+BD_DEP[[#This Row],[repi]]/BD_DEP[[#This Row],[Mat Inicial]]","v":0.23076923076923078},"27","Dpto. Ing. Civil y Ambiental",8485869,"FUENTES PUMAREJO LUIS","TC","PR"]
[2402,"INV7362","PROYECTO FINAL",3,202330,18,18,0,0,0,{"$f":"+BD_DEP[[#This Row],[totalp]]/BD_DEP[[#This Row],[Mat Inicial]]","v":0},{"$f":"+BD_DEP[[#This Row],[totalr]]/BD_DEP[[#This Row],[Mat Inicial]]","v":0},{"$f":"+BD_DEP[[#This Row],[repi]]/BD_DEP[[#This Row],[Mat Inicial]]","v":0},"27","Dpto. Ing. Civil y Ambiental",8736202,"CANTILLO MAZA VICTOR","TC","PR"]
[2403,"INV7362","PROYECTO FINAL",4,202330,16,16,0,0,0,{"$f":"+BD_DEP[[#This Row],[totalp]]/BD_DEP[[#This Row],[Mat Inicial]]","v":0},{"$f":"+BD_DEP[[#This Row],[totalr]]/BD_DEP[[#This Row],[Mat Inicial]]","v":0},{"$f":"+BD_DEP[[#This Row],[repi]]/BD_DEP[[#This Row],[Mat Inicial]]","v":0},"27","Dpto. Ing. Civil y Ambiental",11800537,"MATURANA CORDOBA AYMER","TC","PR"]
[2401,"INV7362","PROYECTO FINAL",2,202330,11,11,0,0,0,{"$f":"+BD_DEP[[#This Row],[totalp]]/BD_DEP[[#This Row],[Mat Inicial]]","v":0},{"$f":"+BD_DEP[[#This Row],[totalr]]/BD_DEP[[#This Row],[Mat Inicial]]","v":0},{"$f":"+BD_DEP[[#This Row],[repi]]/BD_DEP[[#This Row],[Mat Inicial]]","v":0},"27","Dpto. Ing. Civil y Ambiental",15443411,"RIVILLAS OSPINA GERMAN","TC","PR"]
[2400,"INV7362","PROYECTO FINAL",1,202330,10,10,0,0,0,{"$f":"+BD_DEP[[#This Row],[totalp]]/BD_DEP[[#This Row],[Mat Inicial]]","v":0},{"$f":"+BD_DEP[[#This Row],[totalr]]/BD_DEP[[#This Row],[Mat Inicial]]","v":0},{"$f":"+BD_DEP[[#This Row],[repi]]/BD_DEP[[#This Row],[Mat Inicial]]","v":0},"27","Dpto. Ing. Civil y Ambiental",72251038,"ARTETA TORRENTS CARLOS","TC","PR"]
[1780,"ELP7028","TOPIC AVANZ EN TECNOL Y CONCRE",1,202330,24,24,0,0,0,{"$f":"+BD_DEP[[#This Row],[totalp]]/BD_DEP[[#This Row],[Mat Inicial]]","v":0},{"$f":"+BD_DEP[[#This Row],[totalr]]/BD_DEP[[#This Row],[Mat Inicial]]","v":0},{"$f":"+BD_DEP[[#This Row],[repi]]/BD_DEP[[#This Row],[Mat Inicial]]","v":0},"27","Dpto. Ing. Civil y Ambiental",1044427748,"Martinez Lopez Daniela","TC","PR"]
[2086,"ICI4011","TOPOGRAFIA Y GEOINFORMACION",1,202330,15,13,2,2,4,{"$f":"+BD_DEP[[#This Row],[totalp]]/BD_DEP[[#This Row],[Mat Inicial]]","v":0.13333333333333333},{"$f":"+BD_DEP[[#This Row],[totalr]]/BD_DEP[[#This Row],[Mat Inicial]]","v":0.13333333333333333},{"$f":"+BD_DEP[[#This Row],[repi]]/BD_DEP[[#This Row],[Mat Inicial]]","v":0.26666666666666666},"27","Dpto. Ing. Civil y Ambiental",22479016,"CORONELL MOLINA GARIS","TC","PR"]
[2087,"ICI4011","TOPOGRAFIA Y GEOINFORMACION",2,202330,15,13,1,2,3,{"$f":"+BD_DEP[[#This Row],[totalp]]/BD_DEP[[#This Row],[Mat Inicial]]","v":6.6666666666666666E-2},{"$f":"+BD_DEP[[#This Row],[totalr]]/BD_DEP[[#This Row],[Mat Inicial]]","v":0.13333333333333333},{"$f":"+BD_DEP[[#This Row],[repi]]/BD_DEP[[#This Row],[Mat Inicial]]","v":0.2},"27","Dpto. Ing. Civil y Ambiental",22479016,"CORONELL MOLINA GARIS","TC","PR"]
[2088,"ICI4011","TOPOGRAFIA Y GEOINFORMACION",3,202330,16,13,2,3,5,{"$f":"+BD_DEP[[#This Row],[totalp]]/BD_DEP[[#This Row],[Mat Inicial]]","v":0.125},{"$f":"+BD_DEP[[#This Row],[totalr]]/BD_DEP[[#This Row],[Mat Inicial]]","v":0.1875},{"$f":"+BD_DEP[[#This Row],[repi]]/BD_DEP[[#This Row],[Mat Inicial]]","v":0.3125},"27","Dpto. Ing. Civil y Ambiental",22479016,"CORONELL MOLINA GARIS","TC","PR"]
[2089,"ICI4011","TOPOGRAFIA Y GEOINFORMACION",4,202330,15,14,6,1,7,{"$f":"+BD_DEP[[#This Row],[totalp]]/BD_DEP[[#This Row],[Mat Inicial]]","v":0.4},{"$f":"+BD_DEP[[#This Row],[totalr]]/BD_DEP[[#This Row],[Mat Inicial]]","v":6.6666666666666666E-2},{"$f":"+BD_DEP[[#This Row],[repi]]/BD_DEP[[#This Row],[Mat Inicial]]","v":0.46666666666666667},"27","Dpto. Ing. Civil y Ambiental",22479016,"CORONELL MOLINA GARIS","TC","PR"]
[1260,"ADM5031","ADMON Y CTRL DE CONSTRUCCION",4,202330,33,32,0,1,1,{"$f":"+BD_DEP[[#This Row],[totalp]]/BD_DEP[[#This Row],[Mat Inicial]]","v":0},{"$f":"+BD_DEP[[#This Row],[totalr]]/BD_DEP[[#This Row],[Mat Inicial]]","v":3.0303030303030304E-2},{"$f":"+BD_DEP[[#This Row],[repi]]/BD_DEP[[#This Row],[Mat Inicial]]","v":3.0303030303030304E-2},"27","Dpto. Ing. Civil y Ambiental",32878075,"Ayala Rueda Claudia","CA","PR"]
[1258,"ADM5031","ADMON Y CTRL DE CONSTRUCCION",2,202330,35,35,1,0,1,{"$f":"+BD_DEP[[#This Row],[totalp]]/BD_DEP[[#This Row],[Mat Inicial]]","v":2.8571428571428571E-2},{"$f":"+BD_DEP[[#This Row],[totalr]]/BD_DEP[[#This Row],[Mat Inicial]]","v":0},{"$f":"+BD_DEP[[#This Row],[repi]]/BD_DEP[[#This Row],[Mat Inicial]]","v":2.8571428571428571E-2},"27","Dpto. Ing. Civil y Ambiental",52154781,"Albis Feliz María","CA","PR"]
[1259,"ADM5031","ADMON Y CTRL DE CONSTRUCCION",3,202330,35,32,2,3,5,{"$f":"+BD_DEP[[#This Row],[totalp]]/BD_DEP[[#This Row],[Mat Inicial]]","v":5.7142857142857141E-2},{"$f":"+BD_DEP[[#This Row],[totalr]]/BD_DEP[[#This Row],[Mat Inicial]]","v":8.5714285714285715E-2},{"$f":"+BD_DEP[[#This Row],[repi]]/BD_DEP[[#This Row],[Mat Inicial]]","v":0.14285714285714285},"27","Dpto. Ing. Civil y Ambiental",72134665,"Pedrosa Goenaga Alberto","CA","PR"]
[2124,"ICI7104","ANÁLISIS ESTRUCTURAL",4,202330,35,32,6,3,9,{"$f":"+BD_DEP[[#This Row],[totalp]]/BD_DEP[[#This Row],[Mat Inicial]]","v":0.17142857142857143},{"$f":"+BD_DEP[[#This Row],[totalr]]/BD_DEP[[#This Row],[Mat Inicial]]","v":8.5714285714285715E-2},{"$f":"+BD_DEP[[#This Row],[repi]]/BD_DEP[[#This Row],[Mat Inicial]]","v":0.25714285714285712},"27","Dpto. Ing. Civil y Ambiental",1140833413,"Galan Bettin Andres","CA","PR"]
[2091,"ICI4021","DISEÑO DE VÍAS",2,202330,39,37,13,2,15,{"$f":"+BD_DEP[[#This Row],[totalp]]/BD_DEP[[#This Row],[Mat Inicial]]","v":0.33333333333333331},{"$f":"+BD_DEP[[#This Row],[totalr]]/BD_DEP[[#This Row],[Mat Inicial]]","v":5.128205128205128E-2},{"$f":"+BD_DEP[[#This Row],[repi]]/BD_DEP[[#This Row],[Mat Inicial]]","v":0.38461538461538464},"27","Dpto. Ing. Civil y Ambiental",72257515,"Segura Rodriguez Mario","CA","PR"]
[2117,"ICI7052","DISEÑO ESTRUCTURAL",1,202330,23,23,1,0,1,{"$f":"+BD_DEP[[#This Row],[totalp]]/BD_DEP[[#This Row],[Mat Inicial]]","v":4.3478260869565216E-2},{"$f":"+BD_DEP[[#This Row],[totalr]]/BD_DEP[[#This Row],[Mat Inicial]]","v":0},{"$f":"+BD_DEP[[#This Row],[repi]]/BD_DEP[[#This Row],[Mat Inicial]]","v":4.3478260869565216E-2},"27","Dpto. Ing. Civil y Ambiental",1102823854,"Martinez Barraza Domingo","CA","PR"]
[2118,"ICI7052","DISEÑO ESTRUCTURAL",2,202330,25,22,2,3,5,{"$f":"+BD_DEP[[#This Row],[totalp]]/BD_DEP[[#This Row],[Mat Inicial]]","v":0.08},{"$f":"+BD_DEP[[#This Row],[totalr]]/BD_DEP[[#This Row],[Mat Inicial]]","v":0.12},{"$f":"+BD_DEP[[#This Row],[repi]]/BD_DEP[[#This Row],[Mat Inicial]]","v":0.2},"27","Dpto. Ing. Civil y Ambiental",1102823854,"Martinez Barraza Domingo","CA","PR"]
[4330,"IBA0022","EXPRESION GRAFICA",1,202330,34,34,0,0,0,{"$f":"+BD_DEP[[#This Row],[totalp]]/BD_DEP[[#This Row],[Mat Inicial]]","v":0},{"$f":"+BD_DEP[[#This Row],[totalr]]/BD_DEP[[#This Row],[Mat Inicial]]","v":0},{"$f":"+BD_DEP[[#This Row],[repi]]/BD_DEP[[#This Row],[Mat Inicial]]","v":0},"27","Dpto. Ing. Civil y Ambiental",84458939,"Vivas Pertuz Jorge","CA","PR"]
[4331,"IBA0022","EXPRESION GRAFICA",2,202330,34,34,6,0,6,{"$f":"+BD_DEP[[#This Row],[totalp]]/BD_DEP[[#This Row],[Mat Inicial]]","v":0.17647058823529413},{"$f":"+BD_DEP[[#This Row],[totalr]]/BD_DEP[[#This Row],[Mat Inicial]]","v":0},{"$f":"+BD_DEP[[#This Row],[repi]]/BD_DEP[[#This Row],[Mat Inicial]]","v":0.17647058823529413},"27","Dpto. Ing. Civil y Ambiental",84458939,"Vivas Pertuz Jorge","CA","PR"]
[4332,"IBA0022","EXPRESION GRAFICA",3,202330,34,30,5,4,9,{"$f":"+BD_DEP[[#This Row],[totalp]]/BD_DEP[[#This Row],[Mat Inicial]]","v":0.14705882352941177},{"$f":"+BD_DEP[[#This Row],[totalr]]/BD_DEP[[#This Row],[Mat Inicial]]","v":0.11764705882352941},{"$f":"+BD_DEP[[#This Row],[repi]]/BD_DEP[[#This Row],[Mat Inicial]]","v":0.26470588235294118},"27","Dpto. Ing. Civil y Ambiental",1129514501,"Miranda Giraldo Michael","CA","PR"]
[4333,"IBA0022","EXPRESION GRAFICA",4,202330,34,32,9,2,11,{"$f":"+BD_DEP[[#This Row],[totalp]]/BD_DEP[[#This Row],[Mat Inicial]]","v":0.26470588235294118},{"$f":"+BD_DEP[[#This Row],[totalr]]/BD_DEP[[#This Row],[Mat Inicial]]","v":5.8823529411764705E-2},{"$f":"+BD_DEP[[#This Row],[repi]]/BD_DEP[[#This Row],[Mat Inicial]]","v":0.3235294117647059},"27","Dpto. Ing. Civil y Ambiental",1129514501,"Miranda Giraldo Michael","CA","PR"]
[4335,"ICI4280","GEOMETRIA DESCRIPTIVA",1,202330,30,29,1,1,2,{"$f":"+BD_DEP[[#This Row],[totalp]]/BD_DEP[[#This Row],[Mat Inicial]]","v":3.3333333333333333E-2},{"$f":"+BD_DEP[[#This Row],[totalr]]/BD_DEP[[#This Row],[Mat Inicial]]","v":3.3333333333333333E-2},{"$f":"+BD_DEP[[#This Row],[repi]]/BD_DEP[[#This Row],[Mat Inicial]]","v":6.6666666666666666E-2},"27","Dpto. Ing. Civil y Ambiental",22412321,"Barrios Mass Gloria","CA","PR"]
[4336,"ICI4280","GEOMETRIA DESCRIPTIVA",2,202330,12,12,1,0,1,{"$f":"+BD_DEP[[#This Row],[totalp]]/BD_DEP[[#This Row],[Mat Inicial]]","v":8.3333333333333329E-2},{"$f":"+BD_DEP[[#This Row],[totalr]]/BD_DEP[[#This Row],[Mat Inicial]]","v":0},{"$f":"+BD_DEP[[#This Row],[repi]]/BD_DEP[[#This Row],[Mat Inicial]]","v":8.3333333333333329E-2},"27","Dpto. Ing. Civil y Ambiental",22412321,"Barrios Mass Gloria","CA","PR"]
[2101,"ICI4070","HIDROLOGIA",3,202330,26,24,2,2,4,{"$f":"+BD_DEP[[#This Row],[totalp]]/BD_DEP[[#This Row],[Mat Inicial]]","v":7.6923076923076927E-2},{"$f":"+BD_DEP[[#This Row],[totalr]]/BD_DEP[[#This Row],[Mat Inicial]]","v":7.6923076923076927E-2},{"$f":"+BD_DEP[[#This Row],[repi]]/BD_DEP[[#This Row],[Mat Inicial]]","v":0.15384615384615385},"27","Dpto. Ing. Civil y Ambiental",1124029149,"Berrio Arrieta Yeison","CA","PR"]
[2115,"ICI7014","INGENIERIA DE TRANSPORTE",2,202330,36,35,12,1,13,{"$f":"+BD_DEP[[#This Row],[totalp]]/BD_DEP[[#This Row],[Mat Inicial]]","v":0.33333333333333331},{"$f":"+BD_DEP[[#This Row],[totalr]]/BD_DEP[[#This Row],[Mat Inicial]]","v":2.7777777777777776E-2},{"$f":"+BD_DEP[[#This Row],[repi]]/BD_DEP[[#This Row],[Mat Inicial]]","v":0.3611111111111111},"27","Dpto. Ing. Civil y Ambiental",1140843380,"Serrano Arrieta Ivan","CA","PR"]
[2116,"ICI7014","INGENIERIA DE TRANSPORTE",3,202330,30,30,6,0,6,{"$f":"+BD_DEP[[#This Row],[totalp]]/BD_DEP[[#This Row],[Mat Inicial]]","v":0.2},{"$f":"+BD_DEP[[#This Row],[totalr]]/BD_DEP[[#This Row],[Mat Inicial]]","v":0},{"$f":"+BD_DEP[[#This Row],[repi]]/BD_DEP[[#This Row],[Mat Inicial]]","v":0.2},"27","Dpto. Ing. Civil y Ambiental",1140843380,"Serrano Arrieta Ivan","CA","PR"]
[2110,"ICI4310","MECÁNICA DE SUELOS",5,202330,15,15,0,0,0,{"$f":"+BD_DEP[[#This Row],[totalp]]/BD_DEP[[#This Row],[Mat Inicial]]","v":0},{"$f":"+BD_DEP[[#This Row],[totalr]]/BD_DEP[[#This Row],[Mat Inicial]]","v":0},{"$f":"+BD_DEP[[#This Row],[repi]]/BD_DEP[[#This Row],[Mat Inicial]]","v":0},"27","Dpto. Ing. Civil y Ambiental",72135297,"GARCIA BELTRAN HENRY","CA","PR"]
[2111,"ICI4310","MECÁNICA DE SUELOS",6,202330,15,15,0,0,0,{"$f":"+BD_DEP[[#This Row],[totalp]]/BD_DEP[[#This Row],[Mat Inicial]]","v":0},{"$f":"+BD_DEP[[#This Row],[totalr]]/BD_DEP[[#This Row],[Mat Inicial]]","v":0},{"$f":"+BD_DEP[[#This Row],[repi]]/BD_DEP[[#This Row],[Mat Inicial]]","v":0},"27","Dpto. Ing. Civil y Ambiental",72135297,"GARCIA BELTRAN HENRY","CA","PR"]
[2426,"IST2088","ALGORITMIA Y PROGRAMACIÓN I",3,202330,40,34,7,6,13,{"$f":"+BD_DEP[[#This Row],[totalp]]/BD_DEP[[#This Row],[Mat Inicial]]","v":0.17499999999999999},{"$f":"+BD_DEP[[#This Row],[totalr]]/BD_DEP[[#This Row],[Mat Inicial]]","v":0.15},{"$f":"+BD_DEP[[#This Row],[repi]]/BD_DEP[[#This Row],[Mat Inicial]]","v":0.32500000000000001},"29","Dpto. Ingeniería de Sistemas",32692873,"Garcia Ramos Lucy","TC","PR"]
[4362,"IST2088","ALGORITMIA Y PROGRAMACIÓN I",51,202330,40,32,8,8,16,{"$f":"+BD_DEP[[#This Row],[totalp]]/BD_DEP[[#This Row],[Mat Inicial]]","v":0.2},{"$f":"+BD_DEP[[#This Row],[totalr]]/BD_DEP[[#This Row],[Mat Inicial]]","v":0.2},{"$f":"+BD_DEP[[#This Row],[repi]]/BD_DEP[[#This Row],[Mat Inicial]]","v":0.4},"29","Dpto. Ingeniería de Sistemas",32790652,"Ramos Rodriguez Rocio","TC","PR"]
[4363,"IST2088","ALGORITMIA Y PROGRAMACIÓN I",52,202330,40,34,13,6,19,{"$f":"+BD_DEP[[#This Row],[totalp]]/BD_DEP[[#This Row],[Mat Inicial]]","v":0.32500000000000001},{"$f":"+BD_DEP[[#This Row],[totalr]]/BD_DEP[[#This Row],[Mat Inicial]]","v":0.15},{"$f":"+BD_DEP[[#This Row],[repi]]/BD_DEP[[#This Row],[Mat Inicial]]","v":0.47499999999999998},"29","Dpto. Ingeniería de Sistemas",32790652,"Ramos Rodriguez Rocio","TC","PR"]
[2432,"IST2089","ALGORITMIA Y PROGRAMACIÓN II",1,202330,35,34,2,1,3,{"$f":"+BD_DEP[[#This Row],[totalp]]/BD_DEP[[#This Row],[Mat Inicial]]","v":5.7142857142857141E-2},{"$f":"+BD_DEP[[#This Row],[totalr]]/BD_DEP[[#This Row],[Mat Inicial]]","v":2.8571428571428571E-2},{"$f":"+BD_DEP[[#This Row],[repi]]/BD_DEP[[#This Row],[Mat Inicial]]","v":8.5714285714285715E-2},"29","Dpto. Ingeniería de Sistemas",8534748,"Jabba Molinares Daladier","TC","PR"]
[2433,"IST2089","ALGORITMIA Y PROGRAMACIÓN II",2,202330,33,31,3,2,5,{"$f":"+BD_DEP[[#This Row],[totalp]]/BD_DEP[[#This Row],[Mat Inicial]]","v":9.0909090909090912E-2},{"$f":"+BD_DEP[[#This Row],[totalr]]/BD_DEP[[#This Row],[Mat Inicial]]","v":6.0606060606060608E-2},{"$f":"+BD_DEP[[#This Row],[repi]]/BD_DEP[[#This Row],[Mat Inicial]]","v":0.15151515151515152},"29","Dpto. Ingeniería de Sistemas",32790652,"Ramos Rodriguez Rocio","TC","PR"]
[2434,"IST2089","ALGORITMIA Y PROGRAMACIÓN II",3,202330,32,29,2,3,5,{"$f":"+BD_DEP[[#This Row],[totalp]]/BD_DEP[[#This Row],[Mat Inicial]]","v":6.25E-2},{"$f":"+BD_DEP[[#This Row],[totalr]]/BD_DEP[[#This Row],[Mat Inicial]]","v":9.375E-2},{"$f":"+BD_DEP[[#This Row],[repi]]/BD_DEP[[#This Row],[Mat Inicial]]","v":0.15625},"29","Dpto. Ingeniería de Sistemas",72054493,"Piñeres Melo Marlon","TC","PR"]
[2435,"IST2089","ALGORITMIA Y PROGRAMACIÓN II",4,202330,31,26,1,5,6,{"$f":"+BD_DEP[[#This Row],[totalp]]/BD_DEP[[#This Row],[Mat Inicial]]","v":3.2258064516129031E-2},{"$f":"+BD_DEP[[#This Row],[totalr]]/BD_DEP[[#This Row],[Mat Inicial]]","v":0.16129032258064516},{"$f":"+BD_DEP[[#This Row],[repi]]/BD_DEP[[#This Row],[Mat Inicial]]","v":0.19354838709677419},"29","Dpto. Ingeniería de Sistemas",72054493,"Piñeres Melo Marlon","TC","PR"]
[2449,"IST4310","ALGORITMOS Y COMPLEJIDAD",2,202330,24,22,0,2,2,{"$f":"+BD_DEP[[#This Row],[totalp]]/BD_DEP[[#This Row],[Mat Inicial]]","v":0},{"$f":"+BD_DEP[[#This Row],[totalr]]/BD_DEP[[#This Row],[Mat Inicial]]","v":8.3333333333333329E-2},{"$f":"+BD_DEP[[#This Row],[repi]]/BD_DEP[[#This Row],[Mat Inicial]]","v":8.3333333333333329E-2},"29","Dpto. Ingeniería de Sistemas",72291764,"Niño Ruiz Elias","TC","PR"]
[2467,"IST7111","BASES DE DATOS",1,202330,35,34,2,1,3,{"$f":"+BD_DEP[[#This Row],[totalp]]/BD_DEP[[#This Row],[Mat Inicial]]","v":5.7142857142857141E-2},{"$f":"+BD_DEP[[#This Row],[totalr]]/BD_DEP[[#This Row],[Mat Inicial]]","v":2.8571428571428571E-2},{"$f":"+BD_DEP[[#This Row],[repi]]/BD_DEP[[#This Row],[Mat Inicial]]","v":8.5714285714285715E-2},"29","Dpto. Ingeniería de Sistemas",72245666,"JIMENO PABA MIGUEL","TC","PR"]
[2143,"IDS0040","CIBERETICA",1,202330,22,21,0,1,1,{"$f":"+BD_DEP[[#This Row],[totalp]]/BD_DEP[[#This Row],[Mat Inicial]]","v":0},{"$f":"+BD_DEP[[#This Row],[totalr]]/BD_DEP[[#This Row],[Mat Inicial]]","v":4.5454545454545456E-2},{"$f":"+BD_DEP[[#This Row],[repi]]/BD_DEP[[#This Row],[Mat Inicial]]","v":4.5454545454545456E-2},"29","Dpto. Ingeniería de Sistemas",32692873,"Garcia Ramos Lucy","TC","PR"]
[2141,"IDS0025","CIENCIA TECNOLOGIA Y GENERO",1,202330,14,14,0,0,0,{"$f":"+BD_DEP[[#This Row],[totalp]]/BD_DEP[[#This Row],[Mat Inicial]]","v":0},{"$f":"+BD_DEP[[#This Row],[totalr]]/BD_DEP[[#This Row],[Mat Inicial]]","v":0},{"$f":"+BD_DEP[[#This Row],[repi]]/BD_DEP[[#This Row],[Mat Inicial]]","v":0},"29","Dpto. Ingeniería de Sistemas",32692873,"Garcia Ramos Lucy","TC","PR"]
[2475,"IST7410","COMPILADORES",1,202330,39,37,8,2,10,{"$f":"+BD_DEP[[#This Row],[totalp]]/BD_DEP[[#This Row],[Mat Inicial]]","v":0.20512820512820512},{"$f":"+BD_DEP[[#This Row],[totalr]]/BD_DEP[[#This Row],[Mat Inicial]]","v":5.128205128205128E-2},{"$f":"+BD_DEP[[#This Row],[repi]]/BD_DEP[[#This Row],[Mat Inicial]]","v":0.25641025641025639},"29","Dpto. Ingeniería de Sistemas",72136530,"Marquez Diaz Jose","TC","PR"]
[2476,"IST7410","COMPILADORES",2,202330,40,38,10,2,12,{"$f":"+BD_DEP[[#This Row],[totalp]]/BD_DEP[[#This Row],[Mat Inicial]]","v":0.25},{"$f":"+BD_DEP[[#This Row],[totalr]]/BD_DEP[[#This Row],[Mat Inicial]]","v":0.05},{"$f":"+BD_DEP[[#This Row],[repi]]/BD_DEP[[#This Row],[Mat Inicial]]","v":0.3},"29","Dpto. Ingeniería de Sistemas",72136530,"Marquez Diaz Jose","TC","PR"]
[2469,"IST7121","DISEÑO DE SOFTWARE I",1,202330,30,30,0,0,0,{"$f":"+BD_DEP[[#This Row],[totalp]]/BD_DEP[[#This Row],[Mat Inicial]]","v":0},{"$f":"+BD_DEP[[#This Row],[totalr]]/BD_DEP[[#This Row],[Mat Inicial]]","v":0},{"$f":"+BD_DEP[[#This Row],[repi]]/BD_DEP[[#This Row],[Mat Inicial]]","v":0},"29","Dpto. Ingeniería de Sistemas",3103865,"Nieto Bernal Wilson","TC","PR"]
[2442,"IST4021","ESTRUCTURA DE DATOS I-IS",1,202330,36,36,1,0,1,{"$f":"+BD_DEP[[#This Row],[totalp]]/BD_DEP[[#This Row],[Mat Inicial]]","v":2.7777777777777776E-2},{"$f":"+BD_DEP[[#This Row],[totalr]]/BD_DEP[[#This Row],[Mat Inicial]]","v":0},{"$f":"+BD_DEP[[#This Row],[repi]]/BD_DEP[[#This Row],[Mat Inicial]]","v":2.7777777777777776E-2},"29","Dpto. Ingeniería de Sistemas",1140814021,"Gamarra Acosta Margarita","TC","PR"]
[2443,"IST4021","ESTRUCTURA DE DATOS I-IS",2,202330,35,33,2,2,4,{"$f":"+BD_DEP[[#This Row],[totalp]]/BD_DEP[[#This Row],[Mat Inicial]]","v":5.7142857142857141E-2},{"$f":"+BD_DEP[[#This Row],[totalr]]/BD_DEP[[#This Row],[Mat Inicial]]","v":5.7142857142857141E-2},{"$f":"+BD_DEP[[#This Row],[repi]]/BD_DEP[[#This Row],[Mat Inicial]]","v":0.11428571428571428},"29","Dpto. Ingeniería de Sistemas",1140814021,"Gamarra Acosta Margarita","TC","PR"]
[2444,"IST4021","ESTRUCTURA DE DATOS I-IS",3,202330,32,31,1,1,2,{"$f":"+BD_DEP[[#This Row],[totalp]]/BD_DEP[[#This Row],[Mat Inicial]]","v":3.125E-2},{"$f":"+BD_DEP[[#This Row],[totalr]]/BD_DEP[[#This Row],[Mat Inicial]]","v":3.125E-2},{"$f":"+BD_DEP[[#This Row],[repi]]/BD_DEP[[#This Row],[Mat Inicial]]","v":6.25E-2},"29","Dpto. Ingeniería de Sistemas",1140814021,"Gamarra Acosta Margarita","TC","PR"]
[2440,"IST4012","ESTRUCTURA DEL COMPUTADOR I",1,202330,30,29,2,1,3,{"$f":"+BD_DEP[[#This Row],[totalp]]/BD_DEP[[#This Row],[Mat Inicial]]","v":6.6666666666666666E-2},{"$f":"+BD_DEP[[#This Row],[totalr]]/BD_DEP[[#This Row],[Mat Inicial]]","v":3.3333333333333333E-2},{"$f":"+BD_DEP[[#This Row],[repi]]/BD_DEP[[#This Row],[Mat Inicial]]","v":0.1},"29","Dpto. Ingeniería de Sistemas",72167852,"Zurek Varela Eduardo","TC","PR"]
[2466,"IST7102","ESTRUCTURA DEL COMPUTADOR II",1,202330,39,37,4,2,6,{"$f":"+BD_DEP[[#This Row],[totalp]]/BD_DEP[[#This Row],[Mat Inicial]]","v":0.10256410256410256},{"$f":"+BD_DEP[[#This Row],[totalr]]/BD_DEP[[#This Row],[Mat Inicial]]","v":5.128205128205128E-2},{"$f":"+BD_DEP[[#This Row],[repi]]/BD_DEP[[#This Row],[Mat Inicial]]","v":0.15384615384615385},"29","Dpto. Ingeniería de Sistemas",7601760,"Salazar Silva Augusto","TC","PR"]
[2450,"IST4330","ESTRUCTURAS DISCRETAS",1,202330,30,24,4,6,10,{"$f":"+BD_DEP[[#This Row],[totalp]]/BD_DEP[[#This Row],[Mat Inicial]]","v":0.13333333333333333},{"$f":"+BD_DEP[[#This Row],[totalr]]/BD_DEP[[#This Row],[Mat Inicial]]","v":0.2},{"$f":"+BD_DEP[[#This Row],[repi]]/BD_DEP[[#This Row],[Mat Inicial]]","v":0.33333333333333331},"29","Dpto. Ingeniería de Sistemas",8709908,"Mancilla Herrera Alfonso","TC","PR"]
[2451,"IST4330","ESTRUCTURAS DISCRETAS",2,202330,33,30,4,3,7,{"$f":"+BD_DEP[[#This Row],[totalp]]/BD_DEP[[#This Row],[Mat Inicial]]","v":0.12121212121212122},{"$f":"+BD_DEP[[#This Row],[totalr]]/BD_DEP[[#This Row],[Mat Inicial]]","v":9.0909090909090912E-2},{"$f":"+BD_DEP[[#This Row],[repi]]/BD_DEP[[#This Row],[Mat Inicial]]","v":0.21212121212121213},"29","Dpto. Ingeniería de Sistemas",8709908,"Mancilla Herrera Alfonso","TC","PR"]
[4361,"IST0010","INT A LA ING. DE SISTEMAS",53,202330,26,23,1,3,4,{"$f":"+BD_DEP[[#This Row],[totalp]]/BD_DEP[[#This Row],[Mat Inicial]]","v":3.8461538461538464E-2},{"$f":"+BD_DEP[[#This Row],[totalr]]/BD_DEP[[#This Row],[Mat Inicial]]","v":0.11538461538461539},{"$f":"+BD_DEP[[#This Row],[repi]]/BD_DEP[[#This Row],[Mat Inicial]]","v":0.15384615384615385},"29","Dpto. Ingeniería de Sistemas",72054493,"Piñeres Melo Marlon","TC","PR"]
[4359,"IST0010","INT A LA ING. DE SISTEMAS",51,202330,30,27,0,3,3,{"$f":"+BD_DEP[[#This Row],[totalp]]/BD_DEP[[#This Row],[Mat Inicial]]","v":0},{"$f":"+BD_DEP[[#This Row],[totalr]]/BD_DEP[[#This Row],[Mat Inicial]]","v":0.1},{"$f":"+BD_DEP[[#This Row],[repi]]/BD_DEP[[#This Row],[Mat Inicial]]","v":0.1},"29","Dpto. Ingeniería de Sistemas",72245666,"JIMENO PABA MIGUEL","TC","PR"]
[4360,"IST0010","INT A LA ING. DE SISTEMAS",52,202330,31,30,2,1,3,{"$f":"+BD_DEP[[#This Row],[totalp]]/BD_DEP[[#This Row],[Mat Inicial]]","v":6.4516129032258063E-2},{"$f":"+BD_DEP[[#This Row],[totalr]]/BD_DEP[[#This Row],[Mat Inicial]]","v":3.2258064516129031E-2},{"$f":"+BD_DEP[[#This Row],[repi]]/BD_DEP[[#This Row],[Mat Inicial]]","v":9.6774193548387094E-2},"29","Dpto. Ingeniería de Sistemas",72245666,"JIMENO PABA MIGUEL","TC","PR"]
[1788,"ELP8012","INTELIGENCIA ARTIFICIAL",1,202330,26,24,0,2,2,{"$f":"+BD_DEP[[#This Row],[totalp]]/BD_DEP[[#This Row],[Mat Inicial]]","v":0},{"$f":"+BD_DEP[[#This Row],[totalr]]/BD_DEP[[#This Row],[Mat Inicial]]","v":7.6923076923076927E-2},{"$f":"+BD_DEP[[#This Row],[repi]]/BD_DEP[[#This Row],[Mat Inicial]]","v":7.6923076923076927E-2},"29","Dpto. Ingeniería de Sistemas",72167852,"Zurek Varela Eduardo","TC","PR"]
[1795,"ELP8124","MINERÍA DE DATOS",1,202330,33,26,0,7,7,{"$f":"+BD_DEP[[#This Row],[totalp]]/BD_DEP[[#This Row],[Mat Inicial]]","v":0},{"$f":"+BD_DEP[[#This Row],[totalr]]/BD_DEP[[#This Row],[Mat Inicial]]","v":0.21212121212121213},{"$f":"+BD_DEP[[#This Row],[repi]]/BD_DEP[[#This Row],[Mat Inicial]]","v":0.21212121212121213},"29","Dpto. Ingeniería de Sistemas",72291764,"Niño Ruiz Elias","TC","PR"]
[1783,"ELP7196","NETWORKING CON LINUX",1,202330,20,20,0,0,0,{"$f":"+BD_DEP[[#This Row],[totalp]]/BD_DEP[[#This Row],[Mat Inicial]]","v":0},{"$f":"+BD_DEP[[#This Row],[totalr]]/BD_DEP[[#This Row],[Mat Inicial]]","v":0},{"$f":"+BD_DEP[[#This Row],[repi]]/BD_DEP[[#This Row],[Mat Inicial]]","v":0},"29","Dpto. Ingeniería de Sistemas",7563331,"Cardona Peña Jairo","TC","PR"]
[2477,"IST7420","OPTIMIZACION",1,202330,39,36,1,3,4,{"$f":"+BD_DEP[[#This Row],[totalp]]/BD_DEP[[#This Row],[Mat Inicial]]","v":2.564102564102564E-2},{"$f":"+BD_DEP[[#This Row],[totalr]]/BD_DEP[[#This Row],[Mat Inicial]]","v":7.6923076923076927E-2},{"$f":"+BD_DEP[[#This Row],[repi]]/BD_DEP[[#This Row],[Mat Inicial]]","v":0.10256410256410256},"29","Dpto. Ingeniería de Sistemas",1083023517,"Acevedo Garcia Felipe","TC","PR"]
[1798,"ELP8510","PROGRAMACIÓN MÓVIL",1,202330,33,30,1,3,4,{"$f":"+BD_DEP[[#This Row],[totalp]]/BD_DEP[[#This Row],[Mat Inicial]]","v":3.0303030303030304E-2},{"$f":"+BD_DEP[[#This Row],[totalr]]/BD_DEP[[#This Row],[Mat Inicial]]","v":9.0909090909090912E-2},{"$f":"+BD_DEP[[#This Row],[repi]]/BD_DEP[[#This Row],[Mat Inicial]]","v":0.12121212121212122},"29","Dpto. Ingeniería de Sistemas",7601760,"Salazar Silva Augusto","TC","PR"]
[2439,"IST2110","PROGRAMACION ORIENTADA OBJETOS",3,202330,31,26,0,5,5,{"$f":"+BD_DEP[[#This Row],[totalp]]/BD_DEP[[#This Row],[Mat Inicial]]","v":0},{"$f":"+BD_DEP[[#This Row],[totalr]]/BD_DEP[[#This Row],[Mat Inicial]]","v":0.16129032258064516},{"$f":"+BD_DEP[[#This Row],[repi]]/BD_DEP[[#This Row],[Mat Inicial]]","v":0.16129032258064516},"29","Dpto. Ingeniería de Sistemas",7601760,"Salazar Silva Augusto","TC","PR"]
[2404,"INV7363","PROYECTO FINAL",1,202330,41,40,1,1,2,{"$f":"+BD_DEP[[#This Row],[totalp]]/BD_DEP[[#This Row],[Mat Inicial]]","v":2.4390243902439025E-2},{"$f":"+BD_DEP[[#This Row],[totalr]]/BD_DEP[[#This Row],[Mat Inicial]]","v":2.4390243902439025E-2},{"$f":"+BD_DEP[[#This Row],[repi]]/BD_DEP[[#This Row],[Mat Inicial]]","v":4.878048780487805E-2},"29","Dpto. Ingeniería de Sistemas",3103865,"Nieto Bernal Wilson","TC","PR"]
[2464,"IST7081","SISTEMAS OPERACIONALES",1,202330,13,11,3,2,5,{"$f":"+BD_DEP[[#This Row],[totalp]]/BD_DEP[[#This Row],[Mat Inicial]]","v":0.23076923076923078},{"$f":"+BD_DEP[[#This Row],[totalr]]/BD_DEP[[#This Row],[Mat Inicial]]","v":0.15384615384615385},{"$f":"+BD_DEP[[#This Row],[repi]]/BD_DEP[[#This Row],[Mat Inicial]]","v":0.38461538461538464},"29","Dpto. Ingeniería de Sistemas",72136530,"Marquez Diaz Jose","TC","PR"]
[2465,"IST7081","SISTEMAS OPERACIONALES",2,202330,28,25,5,3,8,{"$f":"+BD_DEP[[#This Row],[totalp]]/BD_DEP[[#This Row],[Mat Inicial]]","v":0.17857142857142858},{"$f":"+BD_DEP[[#This Row],[totalr]]/BD_DEP[[#This Row],[Mat Inicial]]","v":0.10714285714285714},{"$f":"+BD_DEP[[#This Row],[repi]]/BD_DEP[[#This Row],[Mat Inicial]]","v":0.2857142857142857},"29","Dpto. Ingeniería de Sistemas",72136530,"Marquez Diaz Jose","TC","PR"]
[2454,"IST4360","SOLUCIONES COMP. A PROB.EN ING",3,202330,30,29,0,1,1,{"$f":"+BD_DEP[[#This Row],[totalp]]/BD_DEP[[#This Row],[Mat Inicial]]","v":0},{"$f":"+BD_DEP[[#This Row],[totalr]]/BD_DEP[[#This Row],[Mat Inicial]]","v":3.3333333333333333E-2},{"$f":"+BD_DEP[[#This Row],[repi]]/BD_DEP[[#This Row],[Mat Inicial]]","v":3.3333333333333333E-2},"29","Dpto. Ingeniería de Sistemas",72054493,"Piñeres Melo Marlon","TC","PR"]
[2455,"IST4360","SOLUCIONES COMP. A PROB.EN ING",4,202330,36,31,0,5,5,{"$f":"+BD_DEP[[#This Row],[totalp]]/BD_DEP[[#This Row],[Mat Inicial]]","v":0},{"$f":"+BD_DEP[[#This Row],[totalr]]/BD_DEP[[#This Row],[Mat Inicial]]","v":0.1388888888888889},{"$f":"+BD_DEP[[#This Row],[repi]]/BD_DEP[[#This Row],[Mat Inicial]]","v":0.1388888888888889},"29","Dpto. Ingeniería de Sistemas",1083023517,"Acevedo Garcia Felipe","TC","PR"]
[2456,"IST4360","SOLUCIONES COMP. A PROB.EN ING",5,202330,30,28,0,2,2,{"$f":"+BD_DEP[[#This Row],[totalp]]/BD_DEP[[#This Row],[Mat Inicial]]","v":0},{"$f":"+BD_DEP[[#This Row],[totalr]]/BD_DEP[[#This Row],[Mat Inicial]]","v":6.6666666666666666E-2},{"$f":"+BD_DEP[[#This Row],[repi]]/BD_DEP[[#This Row],[Mat Inicial]]","v":6.6666666666666666E-2},"29","Dpto. Ingeniería de Sistemas",1083023517,"Acevedo Garcia Felipe","TC","PR"]
[2457,"IST4360","SOLUCIONES COMP. A PROB.EN ING",6,202330,37,33,1,4,5,{"$f":"+BD_DEP[[#This Row],[totalp]]/BD_DEP[[#This Row],[Mat Inicial]]","v":2.7027027027027029E-2},{"$f":"+BD_DEP[[#This Row],[totalr]]/BD_DEP[[#This Row],[Mat Inicial]]","v":0.10810810810810811},{"$f":"+BD_DEP[[#This Row],[repi]]/BD_DEP[[#This Row],[Mat Inicial]]","v":0.13513513513513514},"29","Dpto. Ingeniería de Sistemas",1083023517,"Acevedo Garcia Felipe","TC","PR"]
[2458,"IST4360","SOLUCIONES COMP. A PROB.EN ING",7,202330,31,27,0,4,4,{"$f":"+BD_DEP[[#This Row],[totalp]]/BD_DEP[[#This Row],[Mat Inicial]]","v":0},{"$f":"+BD_DEP[[#This Row],[totalr]]/BD_DEP[[#This Row],[Mat Inicial]]","v":0.12903225806451613},{"$f":"+BD_DEP[[#This Row],[repi]]/BD_DEP[[#This Row],[Mat Inicial]]","v":0.12903225806451613},"29","Dpto. Ingeniería de Sistemas",1083023517,"Acevedo Garcia Felipe","TC","PR"]
[2452,"IST4360","SOLUCIONES COMP. A PROB.EN ING",1,202330,22,14,1,8,9,{"$f":"+BD_DEP[[#This Row],[totalp]]/BD_DEP[[#This Row],[Mat Inicial]]","v":4.5454545454545456E-2},{"$f":"+BD_DEP[[#This Row],[totalr]]/BD_DEP[[#This Row],[Mat Inicial]]","v":0.36363636363636365},{"$f":"+BD_DEP[[#This Row],[repi]]/BD_DEP[[#This Row],[Mat Inicial]]","v":0.40909090909090912},"29","Dpto. Ingeniería de Sistemas",8688587,"ARDILA HERNANDEZ CARLOS","MT","PR"]
[2453,"IST4360","SOLUCIONES COMP. A PROB.EN ING",2,202330,37,26,5,11,16,{"$f":"+BD_DEP[[#This Row],[totalp]]/BD_DEP[[#This Row],[Mat Inicial]]","v":0.13513513513513514},{"$f":"+BD_DEP[[#This Row],[totalr]]/BD_DEP[[#This Row],[Mat Inicial]]","v":0.29729729729729731},{"$f":"+BD_DEP[[#This Row],[repi]]/BD_DEP[[#This Row],[Mat Inicial]]","v":0.43243243243243246},"29","Dpto. Ingeniería de Sistemas",8688587,"ARDILA HERNANDEZ CARLOS","MT","PR"]
[2424,"IST2088","ALGORITMIA Y PROGRAMACIÓN I",1,202330,40,36,7,4,11,{"$f":"+BD_DEP[[#This Row],[totalp]]/BD_DEP[[#This Row],[Mat Inicial]]","v":0.17499999999999999},{"$f":"+BD_DEP[[#This Row],[totalr]]/BD_DEP[[#This Row],[Mat Inicial]]","v":0.1},{"$f":"+BD_DEP[[#This Row],[repi]]/BD_DEP[[#This Row],[Mat Inicial]]","v":0.27500000000000002},"29","Dpto. Ingeniería de Sistemas",13353246,"Capacho Portilla Jose","CA","PR"]
[2425,"IST2088","ALGORITMIA Y PROGRAMACIÓN I",2,202330,37,28,5,9,14,{"$f":"+BD_DEP[[#This Row],[totalp]]/BD_DEP[[#This Row],[Mat Inicial]]","v":0.13513513513513514},{"$f":"+BD_DEP[[#This Row],[totalr]]/BD_DEP[[#This Row],[Mat Inicial]]","v":0.24324324324324326},{"$f":"+BD_DEP[[#This Row],[repi]]/BD_DEP[[#This Row],[Mat Inicial]]","v":0.3783783783783784},"29","Dpto. Ingeniería de Sistemas",13353246,"Capacho Portilla Jose","CA","PR"]
[4364,"IST2088","ALGORITMIA Y PROGRAMACIÓN I",53,202330,23,23,0,0,0,{"$f":"+BD_DEP[[#This Row],[totalp]]/BD_DEP[[#This Row],[Mat Inicial]]","v":0},{"$f":"+BD_DEP[[#This Row],[totalr]]/BD_DEP[[#This Row],[Mat Inicial]]","v":0},{"$f":"+BD_DEP[[#This Row],[repi]]/BD_DEP[[#This Row],[Mat Inicial]]","v":0},"29","Dpto. Ingeniería de Sistemas",32770061,"DIAZ DUARTE SANDRA","CA","PR"]
[2429,"IST2088","ALGORITMIA Y PROGRAMACIÓN I",6,202330,40,40,5,0,5,{"$f":"+BD_DEP[[#This Row],[totalp]]/BD_DEP[[#This Row],[Mat Inicial]]","v":0.125},{"$f":"+BD_DEP[[#This Row],[totalr]]/BD_DEP[[#This Row],[Mat Inicial]]","v":0},{"$f":"+BD_DEP[[#This Row],[repi]]/BD_DEP[[#This Row],[Mat Inicial]]","v":0.125},"29","Dpto. Ingeniería de Sistemas",32775080,"Delgado Osorio Erika","CA","PR"]
[2427,"IST2088","ALGORITMIA Y PROGRAMACIÓN I",4,202330,40,37,5,3,8,{"$f":"+BD_DEP[[#This Row],[totalp]]/BD_DEP[[#This Row],[Mat Inicial]]","v":0.125},{"$f":"+BD_DEP[[#This Row],[totalr]]/BD_DEP[[#This Row],[Mat Inicial]]","v":7.4999999999999997E-2},{"$f":"+BD_DEP[[#This Row],[repi]]/BD_DEP[[#This Row],[Mat Inicial]]","v":0.2},"29","Dpto. Ingeniería de Sistemas",37838018,"Duarte Hernandez Marlene","CA","PR"]
[2428,"IST2088","ALGORITMIA Y PROGRAMACIÓN I",5,202330,40,33,7,7,14,{"$f":"+BD_DEP[[#This Row],[totalp]]/BD_DEP[[#This Row],[Mat Inicial]]","v":0.17499999999999999},{"$f":"+BD_DEP[[#This Row],[totalr]]/BD_DEP[[#This Row],[Mat Inicial]]","v":0.17499999999999999},{"$f":"+BD_DEP[[#This Row],[repi]]/BD_DEP[[#This Row],[Mat Inicial]]","v":0.35},"29","Dpto. Ingeniería de Sistemas",37838018,"Duarte Hernandez Marlene","CA","PR"]
[2430,"IST2088","ALGORITMIA Y PROGRAMACIÓN I",7,202330,40,34,9,6,15,{"$f":"+BD_DEP[[#This Row],[totalp]]/BD_DEP[[#This Row],[Mat Inicial]]","v":0.22500000000000001},{"$f":"+BD_DEP[[#This Row],[totalr]]/BD_DEP[[#This Row],[Mat Inicial]]","v":0.15},{"$f":"+BD_DEP[[#This Row],[repi]]/BD_DEP[[#This Row],[Mat Inicial]]","v":0.375},"29","Dpto. Ingeniería de Sistemas",1140878648,"Teheran Olmos Juan","CA","PR"]
[2436,"IST2089","ALGORITMIA Y PROGRAMACIÓN II",5,202330,30,28,1,2,3,{"$f":"+BD_DEP[[#This Row],[totalp]]/BD_DEP[[#This Row],[Mat Inicial]]","v":3.3333333333333333E-2},{"$f":"+BD_DEP[[#This Row],[totalr]]/BD_DEP[[#This Row],[Mat Inicial]]","v":6.6666666666666666E-2},{"$f":"+BD_DEP[[#This Row],[repi]]/BD_DEP[[#This Row],[Mat Inicial]]","v":0.1},"29","Dpto. Ingeniería de Sistemas",1045754938,"Ariza Coll Sebastian","CA","PR"]
[2448,"IST4310","ALGORITMOS Y COMPLEJIDAD",1,202330,38,35,2,3,5,{"$f":"+BD_DEP[[#This Row],[totalp]]/BD_DEP[[#This Row],[Mat Inicial]]","v":5.2631578947368418E-2},{"$f":"+BD_DEP[[#This Row],[totalr]]/BD_DEP[[#This Row],[Mat Inicial]]","v":7.8947368421052627E-2},{"$f":"+BD_DEP[[#This Row],[repi]]/BD_DEP[[#This Row],[Mat Inicial]]","v":0.13157894736842105},"29","Dpto. Ingeniería de Sistemas",71753928,"Leal Narvaez Esmeide","CA","PR"]
[2468,"IST7111","BASES DE DATOS",2,202330,26,26,0,0,0,{"$f":"+BD_DEP[[#This Row],[totalp]]/BD_DEP[[#This Row],[Mat Inicial]]","v":0},{"$f":"+BD_DEP[[#This Row],[totalr]]/BD_DEP[[#This Row],[Mat Inicial]]","v":0},{"$f":"+BD_DEP[[#This Row],[repi]]/BD_DEP[[#This Row],[Mat Inicial]]","v":0},"29","Dpto. Ingeniería de Sistemas",72174800,"Llach Lopez Luis","CA","PR"]
[1787,"ELP8011","CRIPTOGRAFIA",1,202330,18,14,0,4,4,{"$f":"+BD_DEP[[#This Row],[totalp]]/BD_DEP[[#This Row],[Mat Inicial]]","v":0},{"$f":"+BD_DEP[[#This Row],[totalr]]/BD_DEP[[#This Row],[Mat Inicial]]","v":0.22222222222222221},{"$f":"+BD_DEP[[#This Row],[repi]]/BD_DEP[[#This Row],[Mat Inicial]]","v":0.22222222222222221},"29","Dpto. Ingeniería de Sistemas",1140897206,"Angulo Madrid Eduardo","CA","PR"]
[2470,"IST7122","DISEÑO DEL SOFTWARE II",1,202330,36,36,1,0,1,{"$f":"+BD_DEP[[#This Row],[totalp]]/BD_DEP[[#This Row],[Mat Inicial]]","v":2.7777777777777776E-2},{"$f":"+BD_DEP[[#This Row],[totalr]]/BD_DEP[[#This Row],[Mat Inicial]]","v":0},{"$f":"+BD_DEP[[#This Row],[repi]]/BD_DEP[[#This Row],[Mat Inicial]]","v":2.7777777777777776E-2},"29","Dpto. Ingeniería de Sistemas",72168978,"Julliard Amador Pierre","CA","PR"]
[2471,"IST7122","DISEÑO DEL SOFTWARE II",2,202330,26,25,0,1,1,{"$f":"+BD_DEP[[#This Row],[totalp]]/BD_DEP[[#This Row],[Mat Inicial]]","v":0},{"$f":"+BD_DEP[[#This Row],[totalr]]/BD_DEP[[#This Row],[Mat Inicial]]","v":3.8461538461538464E-2},{"$f":"+BD_DEP[[#This Row],[repi]]/BD_DEP[[#This Row],[Mat Inicial]]","v":3.8461538461538464E-2},"29","Dpto. Ingeniería de Sistemas",72168978,"Julliard Amador Pierre","CA","PR"]
[2463,"IST7072","DISEÑO DIGITAL",1,202330,38,37,0,1,1,{"$f":"+BD_DEP[[#This Row],[totalp]]/BD_DEP[[#This Row],[Mat Inicial]]","v":0},{"$f":"+BD_DEP[[#This Row],[totalr]]/BD_DEP[[#This Row],[Mat Inicial]]","v":2.6315789473684209E-2},{"$f":"+BD_DEP[[#This Row],[repi]]/BD_DEP[[#This Row],[Mat Inicial]]","v":2.6315789473684209E-2},"29","Dpto. Ingeniería de Sistemas",71761528,"LEAL NARVAEZ NALLIG","CA","PR"]
[2462,"IST4453","DLLO APLICACIONES WEB FRONTEND",1,202330,34,34,0,0,0,{"$f":"+BD_DEP[[#This Row],[totalp]]/BD_DEP[[#This Row],[Mat Inicial]]","v":0},{"$f":"+BD_DEP[[#This Row],[totalr]]/BD_DEP[[#This Row],[Mat Inicial]]","v":0},{"$f":"+BD_DEP[[#This Row],[repi]]/BD_DEP[[#This Row],[Mat Inicial]]","v":0},"29","Dpto. Ingeniería de Sistemas",1140878648,"Teheran Olmos Juan","CA","PR"]
[2461,"IST4452","DSLLO APLICACIONES WEB BACKEND",1,202330,34,34,0,0,0,{"$f":"+BD_DEP[[#This Row],[totalp]]/BD_DEP[[#This Row],[Mat Inicial]]","v":0},{"$f":"+BD_DEP[[#This Row],[totalr]]/BD_DEP[[#This Row],[Mat Inicial]]","v":0},{"$f":"+BD_DEP[[#This Row],[repi]]/BD_DEP[[#This Row],[Mat Inicial]]","v":0},"29","Dpto. Ingeniería de Sistemas",1140885897,"Movilla Obregon Andres","CA","PR"]
[2447,"IST4031","ESTRUCTURA DE DATOS II",3,202330,36,34,1,2,3,{"$f":"+BD_DEP[[#This Row],[totalp]]/BD_DEP[[#This Row],[Mat Inicial]]","v":2.7777777777777776E-2},{"$f":"+BD_DEP[[#This Row],[totalr]]/BD_DEP[[#This Row],[Mat Inicial]]","v":5.5555555555555552E-2},{"$f":"+BD_DEP[[#This Row],[repi]]/BD_DEP[[#This Row],[Mat Inicial]]","v":8.3333333333333329E-2},"29","Dpto. Ingeniería de Sistemas",22669825,"Ospino Bermejo Katherine","CA","PR"]
[2445,"IST4031","ESTRUCTURA DE DATOS II",1,202330,40,38,3,2,5,{"$f":"+BD_DEP[[#This Row],[totalp]]/BD_DEP[[#This Row],[Mat Inicial]]","v":7.4999999999999997E-2},{"$f":"+BD_DEP[[#This Row],[totalr]]/BD_DEP[[#This Row],[Mat Inicial]]","v":0.05},{"$f":"+BD_DEP[[#This Row],[repi]]/BD_DEP[[#This Row],[Mat Inicial]]","v":0.125},"29","Dpto. Ingeniería de Sistemas",1140897206,"Angulo Madrid Eduardo","CA","PR"]
[2446,"IST4031","ESTRUCTURA DE DATOS II",2,202330,38,38,3,0,3,{"$f":"+BD_DEP[[#This Row],[totalp]]/BD_DEP[[#This Row],[Mat Inicial]]","v":7.8947368421052627E-2},{"$f":"+BD_DEP[[#This Row],[totalr]]/BD_DEP[[#This Row],[Mat Inicial]]","v":0},{"$f":"+BD_DEP[[#This Row],[repi]]/BD_DEP[[#This Row],[Mat Inicial]]","v":7.8947368421052627E-2},"29","Dpto. Ingeniería de Sistemas",1140897206,"Angulo Madrid Eduardo","CA","PR"]
[2441,"IST4012","ESTRUCTURA DEL COMPUTADOR I",2,202330,34,33,0,1,1,{"$f":"+BD_DEP[[#This Row],[totalp]]/BD_DEP[[#This Row],[Mat Inicial]]","v":0},{"$f":"+BD_DEP[[#This Row],[totalr]]/BD_DEP[[#This Row],[Mat Inicial]]","v":2.9411764705882353E-2},{"$f":"+BD_DEP[[#This Row],[repi]]/BD_DEP[[#This Row],[Mat Inicial]]","v":2.9411764705882353E-2},"29","Dpto. Ingeniería de Sistemas",71761528,"LEAL NARVAEZ NALLIG","CA","PR"]
[1797,"ELP8480","GESTIÓN INTEGRADA EN T.I.",1,202330,29,29,0,0,0,{"$f":"+BD_DEP[[#This Row],[totalp]]/BD_DEP[[#This Row],[Mat Inicial]]","v":0},{"$f":"+BD_DEP[[#This Row],[totalr]]/BD_DEP[[#This Row],[Mat Inicial]]","v":0},{"$f":"+BD_DEP[[#This Row],[repi]]/BD_DEP[[#This Row],[Mat Inicial]]","v":0},"29","Dpto. Ingeniería de Sistemas",55302013,"Wilches Arango Maria","CA","PR"]
[2437,"IST2110","PROGRAMACION ORIENTADA OBJETOS",1,202330,27,27,3,0,3,{"$f":"+BD_DEP[[#This Row],[totalp]]/BD_DEP[[#This Row],[Mat Inicial]]","v":0.1111111111111111},{"$f":"+BD_DEP[[#This Row],[totalr]]/BD_DEP[[#This Row],[Mat Inicial]]","v":0},{"$f":"+BD_DEP[[#This Row],[repi]]/BD_DEP[[#This Row],[Mat Inicial]]","v":0.1111111111111111},"29","Dpto. Ingeniería de Sistemas",1140897206,"Angulo Madrid Eduardo","CA","PR"]
[2438,"IST2110","PROGRAMACION ORIENTADA OBJETOS",2,202330,31,28,0,3,3,{"$f":"+BD_DEP[[#This Row],[totalp]]/BD_DEP[[#This Row],[Mat Inicial]]","v":0},{"$f":"+BD_DEP[[#This Row],[totalr]]/BD_DEP[[#This Row],[Mat Inicial]]","v":9.6774193548387094E-2},{"$f":"+BD_DEP[[#This Row],[repi]]/BD_DEP[[#This Row],[Mat Inicial]]","v":9.6774193548387094E-2},"29","Dpto. Ingeniería de Sistemas",1140897206,"Angulo Madrid Eduardo","CA","PR"]
[1136,"ELP7195","REDES DE ALTA VELOCIDAD",2,202330,20,20,0,0,0,{"$f":"+BD_DEP[[#This Row],[totalp]]/BD_DEP[[#This Row],[Mat Inicial]]","v":0},{"$f":"+BD_DEP[[#This Row],[totalr]]/BD_DEP[[#This Row],[Mat Inicial]]","v":0},{"$f":"+BD_DEP[[#This Row],[repi]]/BD_DEP[[#This Row],[Mat Inicial]]","v":0},"29","Dpto. Ingeniería de Sistemas",55226100,"Calle Ariza Ingrid","CA","PR"]
[1782,"ELP7195","REDES DE ALTA VELOCIDAD",1,202330,19,18,0,1,1,{"$f":"+BD_DEP[[#This Row],[totalp]]/BD_DEP[[#This Row],[Mat Inicial]]","v":0},{"$f":"+BD_DEP[[#This Row],[totalr]]/BD_DEP[[#This Row],[Mat Inicial]]","v":5.2631578947368418E-2},{"$f":"+BD_DEP[[#This Row],[repi]]/BD_DEP[[#This Row],[Mat Inicial]]","v":5.2631578947368418E-2},"29","Dpto. Ingeniería de Sistemas",55226100,"Calle Ariza Ingrid","CA","PR"]
[6735,"ELP7195","REDES DE ALTA VELOCIDAD",3,202330,14,12,0,2,2,{"$f":"+BD_DEP[[#This Row],[totalp]]/BD_DEP[[#This Row],[Mat Inicial]]","v":0},{"$f":"+BD_DEP[[#This Row],[totalr]]/BD_DEP[[#This Row],[Mat Inicial]]","v":0.14285714285714285},{"$f":"+BD_DEP[[#This Row],[repi]]/BD_DEP[[#This Row],[Mat Inicial]]","v":0.14285714285714285},"29","Dpto. Ingeniería de Sistemas",55226100,"Calle Ariza Ingrid","CA","PR"]
[2472,"IST7191","REDES DE COMPUTACION",1,202330,20,18,0,2,2,{"$f":"+BD_DEP[[#This Row],[totalp]]/BD_DEP[[#This Row],[Mat Inicial]]","v":0},{"$f":"+BD_DEP[[#This Row],[totalr]]/BD_DEP[[#This Row],[Mat Inicial]]","v":0.1},{"$f":"+BD_DEP[[#This Row],[repi]]/BD_DEP[[#This Row],[Mat Inicial]]","v":0.1},"29","Dpto. Ingeniería de Sistemas",72152442,"Barrios Bustamante Wayner","CA","PR"]
[2473,"IST7191","REDES DE COMPUTACION",2,202330,20,20,2,0,2,{"$f":"+BD_DEP[[#This Row],[totalp]]/BD_DEP[[#This Row],[Mat Inicial]]","v":0.1},{"$f":"+BD_DEP[[#This Row],[totalr]]/BD_DEP[[#This Row],[Mat Inicial]]","v":0},{"$f":"+BD_DEP[[#This Row],[repi]]/BD_DEP[[#This Row],[Mat Inicial]]","v":0.1},"29","Dpto. Ingeniería de Sistemas",72152442,"Barrios Bustamante Wayner","CA","PR"]
[2474,"IST7191","REDES DE COMPUTACION",3,202330,20,20,0,0,0,{"$f":"+BD_DEP[[#This Row],[totalp]]/BD_DEP[[#This Row],[Mat Inicial]]","v":0},{"$f":"+BD_DEP[[#This Row],[totalr]]/BD_DEP[[#This Row],[Mat Inicial]]","v":0},{"$f":"+BD_DEP[[#This Row],[repi]]/BD_DEP[[#This Row],[Mat Inicial]]","v":0},"29","Dpto. Ingeniería de Sistemas",72152442,"Barrios Bustamante Wayner","CA","PR"]
[2296,"IIN9321","ANALIS  MODEL GTION TALEN HUMA",1,202330,38,37,0,1,1,{"$f":"+BD_DEP[[#This Row],[totalp]]/BD_DEP[[#This Row],[Mat Inicial]]","v":0},{"$f":"+BD_DEP[[#This Row],[totalr]]/BD_DEP[[#This Row],[Mat Inicial]]","v":2.6315789473684209E-2},{"$f":"+BD_DEP[[#This Row],[repi]]/BD_DEP[[#This Row],[Mat Inicial]]","v":2.6315789473684209E-2},"26","Dpto. Ingeniería Industrial",32745610,"DOMINGUEZ SANTIAGO MILDRED","TC","PR"]
[2297,"IIN9321","ANALIS  MODEL GTION TALEN HUMA",2,202330,37,36,1,1,2,{"$f":"+BD_DEP[[#This Row],[totalp]]/BD_DEP[[#This Row],[Mat Inicial]]","v":2.7027027027027029E-2},{"$f":"+BD_DEP[[#This Row],[totalr]]/BD_DEP[[#This Row],[Mat Inicial]]","v":2.7027027027027029E-2},{"$f":"+BD_DEP[[#This Row],[repi]]/BD_DEP[[#This Row],[Mat Inicial]]","v":5.4054054054054057E-2},"26","Dpto. Ingeniería Industrial",32745610,"DOMINGUEZ SANTIAGO MILDRED","TC","PR"]
[2294,"IIN8945","ANÁLIS Y EVAL DE PROY DE INVER",1,202330,39,39,2,0,2,{"$f":"+BD_DEP[[#This Row],[totalp]]/BD_DEP[[#This Row],[Mat Inicial]]","v":5.128205128205128E-2},{"$f":"+BD_DEP[[#This Row],[totalr]]/BD_DEP[[#This Row],[Mat Inicial]]","v":0},{"$f":"+BD_DEP[[#This Row],[repi]]/BD_DEP[[#This Row],[Mat Inicial]]","v":5.128205128205128E-2},"26","Dpto. Ingeniería Industrial",72161005,"Henao Perez Alvin","TC","PR"]
[2295,"IIN8945","ANÁLIS Y EVAL DE PROY DE INVER",2,202330,16,16,0,0,0,{"$f":"+BD_DEP[[#This Row],[totalp]]/BD_DEP[[#This Row],[Mat Inicial]]","v":0},{"$f":"+BD_DEP[[#This Row],[totalr]]/BD_DEP[[#This Row],[Mat Inicial]]","v":0},{"$f":"+BD_DEP[[#This Row],[repi]]/BD_DEP[[#This Row],[Mat Inicial]]","v":0},"26","Dpto. Ingeniería Industrial",72161005,"Henao Perez Alvin","TC","PR"]
[1828,"EST7042","ANÁLISIS  DE DATOS EN INGEN I",4,202330,36,35,8,1,9,{"$f":"+BD_DEP[[#This Row],[totalp]]/BD_DEP[[#This Row],[Mat Inicial]]","v":0.22222222222222221},{"$f":"+BD_DEP[[#This Row],[totalr]]/BD_DEP[[#This Row],[Mat Inicial]]","v":2.7777777777777776E-2},{"$f":"+BD_DEP[[#This Row],[repi]]/BD_DEP[[#This Row],[Mat Inicial]]","v":0.25},"26","Dpto. Ingeniería Industrial",8026732,"Henao Botero Cesar","TC","PR"]
[1825,"EST7042","ANÁLISIS  DE DATOS EN INGEN I",1,202330,30,24,5,6,11,{"$f":"+BD_DEP[[#This Row],[totalp]]/BD_DEP[[#This Row],[Mat Inicial]]","v":0.16666666666666666},{"$f":"+BD_DEP[[#This Row],[totalr]]/BD_DEP[[#This Row],[Mat Inicial]]","v":0.2},{"$f":"+BD_DEP[[#This Row],[repi]]/BD_DEP[[#This Row],[Mat Inicial]]","v":0.36666666666666664},"26","Dpto. Ingeniería Industrial",22478841,"Palacio Salgar Katherine","TC","PR"]
[1826,"EST7042","ANÁLISIS  DE DATOS EN INGEN I",2,202330,34,28,3,6,9,{"$f":"+BD_DEP[[#This Row],[totalp]]/BD_DEP[[#This Row],[Mat Inicial]]","v":8.8235294117647065E-2},{"$f":"+BD_DEP[[#This Row],[totalr]]/BD_DEP[[#This Row],[Mat Inicial]]","v":0.17647058823529413},{"$f":"+BD_DEP[[#This Row],[repi]]/BD_DEP[[#This Row],[Mat Inicial]]","v":0.26470588235294118},"26","Dpto. Ingeniería Industrial",22478841,"Palacio Salgar Katherine","TC","PR"]
[1827,"EST7042","ANÁLISIS  DE DATOS EN INGEN I",3,202330,33,30,3,3,6,{"$f":"+BD_DEP[[#This Row],[totalp]]/BD_DEP[[#This Row],[Mat Inicial]]","v":9.0909090909090912E-2},{"$f":"+BD_DEP[[#This Row],[totalr]]/BD_DEP[[#This Row],[Mat Inicial]]","v":9.0909090909090912E-2},{"$f":"+BD_DEP[[#This Row],[repi]]/BD_DEP[[#This Row],[Mat Inicial]]","v":0.18181818181818182},"26","Dpto. Ingeniería Industrial",22478841,"Palacio Salgar Katherine","TC","PR"]
[1834,"EST7042","ANÁLISIS  DE DATOS EN INGEN I",10,202330,19,13,3,6,9,{"$f":"+BD_DEP[[#This Row],[totalp]]/BD_DEP[[#This Row],[Mat Inicial]]","v":0.15789473684210525},{"$f":"+BD_DEP[[#This Row],[totalr]]/BD_DEP[[#This Row],[Mat Inicial]]","v":0.31578947368421051},{"$f":"+BD_DEP[[#This Row],[repi]]/BD_DEP[[#This Row],[Mat Inicial]]","v":0.47368421052631576},"26","Dpto. Ingeniería Industrial",55223356,"Theran Brochero Carolina","TC","PR"]
[1831,"EST7042","ANÁLISIS  DE DATOS EN INGEN I",7,202330,32,27,3,5,8,{"$f":"+BD_DEP[[#This Row],[totalp]]/BD_DEP[[#This Row],[Mat Inicial]]","v":9.375E-2},{"$f":"+BD_DEP[[#This Row],[totalr]]/BD_DEP[[#This Row],[Mat Inicial]]","v":0.15625},{"$f":"+BD_DEP[[#This Row],[repi]]/BD_DEP[[#This Row],[Mat Inicial]]","v":0.25},"26","Dpto. Ingeniería Industrial",72291002,"Nieto Isaza Santiago","TC","PR"]
[1833,"EST7042","ANÁLISIS  DE DATOS EN INGEN I",9,202330,32,28,1,4,5,{"$f":"+BD_DEP[[#This Row],[totalp]]/BD_DEP[[#This Row],[Mat Inicial]]","v":3.125E-2},{"$f":"+BD_DEP[[#This Row],[totalr]]/BD_DEP[[#This Row],[Mat Inicial]]","v":0.125},{"$f":"+BD_DEP[[#This Row],[repi]]/BD_DEP[[#This Row],[Mat Inicial]]","v":0.15625},"26","Dpto. Ingeniería Industrial",72291002,"Nieto Isaza Santiago","TC","PR"]
[1829,"EST7042","ANÁLISIS  DE DATOS EN INGEN I",5,202330,30,27,6,3,9,{"$f":"+BD_DEP[[#This Row],[totalp]]/BD_DEP[[#This Row],[Mat Inicial]]","v":0.2},{"$f":"+BD_DEP[[#This Row],[totalr]]/BD_DEP[[#This Row],[Mat Inicial]]","v":0.1},{"$f":"+BD_DEP[[#This Row],[repi]]/BD_DEP[[#This Row],[Mat Inicial]]","v":0.3},"26","Dpto. Ingeniería Industrial",1044426511,"Moros Daza Adriana","TC","PR"]
[1830,"EST7042","ANÁLISIS  DE DATOS EN INGEN I",6,202330,32,26,4,6,10,{"$f":"+BD_DEP[[#This Row],[totalp]]/BD_DEP[[#This Row],[Mat Inicial]]","v":0.125},{"$f":"+BD_DEP[[#This Row],[totalr]]/BD_DEP[[#This Row],[Mat Inicial]]","v":0.1875},{"$f":"+BD_DEP[[#This Row],[repi]]/BD_DEP[[#This Row],[Mat Inicial]]","v":0.3125},"26","Dpto. Ingeniería Industrial",1044426511,"Moros Daza Adriana","TC","PR"]
[1832,"EST7042","ANÁLISIS  DE DATOS EN INGEN I",8,202330,21,12,5,9,14,{"$f":"+BD_DEP[[#This Row],[totalp]]/BD_DEP[[#This Row],[Mat Inicial]]","v":0.23809523809523808},{"$f":"+BD_DEP[[#This Row],[totalr]]/BD_DEP[[#This Row],[Mat Inicial]]","v":0.42857142857142855},{"$f":"+BD_DEP[[#This Row],[repi]]/BD_DEP[[#This Row],[Mat Inicial]]","v":0.66666666666666663},"26","Dpto. Ingeniería Industrial",1063154258,"MORENO ARTEAGA ALFREDO","TC","PR"]
[1813,"EST1051","ANÁLISIS DE DATOS EN INGEN II",1,202330,24,24,0,0,0,{"$f":"+BD_DEP[[#This Row],[totalp]]/BD_DEP[[#This Row],[Mat Inicial]]","v":0},{"$f":"+BD_DEP[[#This Row],[totalr]]/BD_DEP[[#This Row],[Mat Inicial]]","v":0},{"$f":"+BD_DEP[[#This Row],[repi]]/BD_DEP[[#This Row],[Mat Inicial]]","v":0},"26","Dpto. Ingeniería Industrial",71365457,"Velez Valbuena Jorge","TC","PR"]
[1815,"EST1051","ANÁLISIS DE DATOS EN INGEN II",3,202330,40,40,0,0,0,{"$f":"+BD_DEP[[#This Row],[totalp]]/BD_DEP[[#This Row],[Mat Inicial]]","v":0},{"$f":"+BD_DEP[[#This Row],[totalr]]/BD_DEP[[#This Row],[Mat Inicial]]","v":0},{"$f":"+BD_DEP[[#This Row],[repi]]/BD_DEP[[#This Row],[Mat Inicial]]","v":0},"26","Dpto. Ingeniería Industrial",71365457,"Velez Valbuena Jorge","TC","PR"]
[1814,"EST1051","ANÁLISIS DE DATOS EN INGEN II",2,202330,40,39,4,1,5,{"$f":"+BD_DEP[[#This Row],[totalp]]/BD_DEP[[#This Row],[Mat Inicial]]","v":0.1},{"$f":"+BD_DEP[[#This Row],[totalr]]/BD_DEP[[#This Row],[Mat Inicial]]","v":2.5000000000000001E-2},{"$f":"+BD_DEP[[#This Row],[repi]]/BD_DEP[[#This Row],[Mat Inicial]]","v":0.125},"26","Dpto. Ingeniería Industrial",1129579108,"Romero Rodriguez Daniel","TC","PR"]
[1789,"ELP8022","ANALISIS ESTADIST.MULTIVARIADO",1,202330,20,16,0,4,4,{"$f":"+BD_DEP[[#This Row],[totalp]]/BD_DEP[[#This Row],[Mat Inicial]]","v":0},{"$f":"+BD_DEP[[#This Row],[totalr]]/BD_DEP[[#This Row],[Mat Inicial]]","v":0.2},{"$f":"+BD_DEP[[#This Row],[repi]]/BD_DEP[[#This Row],[Mat Inicial]]","v":0.2},"26","Dpto. Ingeniería Industrial",1063154258,"MORENO ARTEAGA ALFREDO","TC","PR"]
[2241,"IIN0018","ANALITICA DE DATOS APLICADA",1,202330,39,38,0,1,1,{"$f":"+BD_DEP[[#This Row],[totalp]]/BD_DEP[[#This Row],[Mat Inicial]]","v":0},{"$f":"+BD_DEP[[#This Row],[totalr]]/BD_DEP[[#This Row],[Mat Inicial]]","v":2.564102564102564E-2},{"$f":"+BD_DEP[[#This Row],[repi]]/BD_DEP[[#This Row],[Mat Inicial]]","v":2.564102564102564E-2},"26","Dpto. Ingeniería Industrial",71365457,"Velez Valbuena Jorge","TC","PR"]
[2138,"IDS0015","CREAC DE EMP DE BASE Y TECNOL",1,202330,37,37,0,0,0,{"$f":"+BD_DEP[[#This Row],[totalp]]/BD_DEP[[#This Row],[Mat Inicial]]","v":0},{"$f":"+BD_DEP[[#This Row],[totalr]]/BD_DEP[[#This Row],[Mat Inicial]]","v":0},{"$f":"+BD_DEP[[#This Row],[repi]]/BD_DEP[[#This Row],[Mat Inicial]]","v":0},"26","Dpto. Ingeniería Industrial",8485806,"Castillo De Andreis Rafael","TC","PR"]
[2139,"IDS0015","CREAC DE EMP DE BASE Y TECNOL",2,202330,39,39,1,0,1,{"$f":"+BD_DEP[[#This Row],[totalp]]/BD_DEP[[#This Row],[Mat Inicial]]","v":2.564102564102564E-2},{"$f":"+BD_DEP[[#This Row],[totalr]]/BD_DEP[[#This Row],[Mat Inicial]]","v":0},{"$f":"+BD_DEP[[#This Row],[repi]]/BD_DEP[[#This Row],[Mat Inicial]]","v":2.564102564102564E-2},"26","Dpto. Ingeniería Industrial",8485806,"Castillo De Andreis Rafael","TC","PR"]
[1793,"ELP8032","CREACION DE EMPRESAS (I.I)",2,202330,40,40,0,0,0,{"$f":"+BD_DEP[[#This Row],[totalp]]/BD_DEP[[#This Row],[Mat Inicial]]","v":0},{"$f":"+BD_DEP[[#This Row],[totalr]]/BD_DEP[[#This Row],[Mat Inicial]]","v":0},{"$f":"+BD_DEP[[#This Row],[repi]]/BD_DEP[[#This Row],[Mat Inicial]]","v":0},"26","Dpto. Ingeniería Industrial",8485806,"Castillo De Andreis Rafael","TC","PR"]
[2273,"IIN7050","CTRL Y GEST INT DE LA CALIDAD",7,202330,9,6,3,3,6,{"$f":"+BD_DEP[[#This Row],[totalp]]/BD_DEP[[#This Row],[Mat Inicial]]","v":0.33333333333333331},{"$f":"+BD_DEP[[#This Row],[totalr]]/BD_DEP[[#This Row],[Mat Inicial]]","v":0.33333333333333331},{"$f":"+BD_DEP[[#This Row],[repi]]/BD_DEP[[#This Row],[Mat Inicial]]","v":0.66666666666666663},"26","Dpto. Ingeniería Industrial",32735042,"PeñaBaena Niebles Rita","TC","PR"]
[2275,"IIN7050","CTRL Y GEST INT DE LA CALIDAD",9,202330,15,10,3,5,8,{"$f":"+BD_DEP[[#This Row],[totalp]]/BD_DEP[[#This Row],[Mat Inicial]]","v":0.2},{"$f":"+BD_DEP[[#This Row],[totalr]]/BD_DEP[[#This Row],[Mat Inicial]]","v":0.33333333333333331},{"$f":"+BD_DEP[[#This Row],[repi]]/BD_DEP[[#This Row],[Mat Inicial]]","v":0.53333333333333333},"26","Dpto. Ingeniería Industrial",32735042,"PeñaBaena Niebles Rita","TC","PR"]
[2267,"IIN7050","CTRL Y GEST INT DE LA CALIDAD",1,202330,15,11,0,4,4,{"$f":"+BD_DEP[[#This Row],[totalp]]/BD_DEP[[#This Row],[Mat Inicial]]","v":0},{"$f":"+BD_DEP[[#This Row],[totalr]]/BD_DEP[[#This Row],[Mat Inicial]]","v":0.26666666666666666},{"$f":"+BD_DEP[[#This Row],[repi]]/BD_DEP[[#This Row],[Mat Inicial]]","v":0.26666666666666666},"26","Dpto. Ingeniería Industrial",1140856643,"Jubiz Diaz Maria","TC","PR"]
[2268,"IIN7050","CTRL Y GEST INT DE LA CALIDAD",2,202330,15,13,3,2,5,{"$f":"+BD_DEP[[#This Row],[totalp]]/BD_DEP[[#This Row],[Mat Inicial]]","v":0.2},{"$f":"+BD_DEP[[#This Row],[totalr]]/BD_DEP[[#This Row],[Mat Inicial]]","v":0.13333333333333333},{"$f":"+BD_DEP[[#This Row],[repi]]/BD_DEP[[#This Row],[Mat Inicial]]","v":0.33333333333333331},"26","Dpto. Ingeniería Industrial",1140856643,"Jubiz Diaz Maria","TC","PR"]
[2269,"IIN7050","CTRL Y GEST INT DE LA CALIDAD",3,202330,15,11,6,4,10,{"$f":"+BD_DEP[[#This Row],[totalp]]/BD_DEP[[#This Row],[Mat Inicial]]","v":0.4},{"$f":"+BD_DEP[[#This Row],[totalr]]/BD_DEP[[#This Row],[Mat Inicial]]","v":0.26666666666666666},{"$f":"+BD_DEP[[#This Row],[repi]]/BD_DEP[[#This Row],[Mat Inicial]]","v":0.66666666666666663},"26","Dpto. Ingeniería Industrial",1140856643,"Jubiz Diaz Maria","TC","PR"]
[2270,"IIN7050","CTRL Y GEST INT DE LA CALIDAD",4,202330,15,15,5,0,5,{"$f":"+BD_DEP[[#This Row],[totalp]]/BD_DEP[[#This Row],[Mat Inicial]]","v":0.33333333333333331},{"$f":"+BD_DEP[[#This Row],[totalr]]/BD_DEP[[#This Row],[Mat Inicial]]","v":0},{"$f":"+BD_DEP[[#This Row],[repi]]/BD_DEP[[#This Row],[Mat Inicial]]","v":0.33333333333333331},"26","Dpto. Ingeniería Industrial",1140856643,"Jubiz Diaz Maria","TC","PR"]
[2271,"IIN7050","CTRL Y GEST INT DE LA CALIDAD",5,202330,14,11,1,3,4,{"$f":"+BD_DEP[[#This Row],[totalp]]/BD_DEP[[#This Row],[Mat Inicial]]","v":7.1428571428571425E-2},{"$f":"+BD_DEP[[#This Row],[totalr]]/BD_DEP[[#This Row],[Mat Inicial]]","v":0.21428571428571427},{"$f":"+BD_DEP[[#This Row],[repi]]/BD_DEP[[#This Row],[Mat Inicial]]","v":0.2857142857142857},"26","Dpto. Ingeniería Industrial",1140856643,"Jubiz Diaz Maria","TC","PR"]
[2272,"IIN7050","CTRL Y GEST INT DE LA CALIDAD",6,202330,15,9,4,6,10,{"$f":"+BD_DEP[[#This Row],[totalp]]/BD_DEP[[#This Row],[Mat Inicial]]","v":0.26666666666666666},{"$f":"+BD_DEP[[#This Row],[totalr]]/BD_DEP[[#This Row],[Mat Inicial]]","v":0.4},{"$f":"+BD_DEP[[#This Row],[repi]]/BD_DEP[[#This Row],[Mat Inicial]]","v":0.66666666666666663},"26","Dpto. Ingeniería Industrial",1140856643,"Jubiz Diaz Maria","TC","PR"]
[2264,"IIN7030","DIS. DE SISTEMAS PRODUCTIVOS",1,202330,37,36,1,1,2,{"$f":"+BD_DEP[[#This Row],[totalp]]/BD_DEP[[#This Row],[Mat Inicial]]","v":2.7027027027027029E-2},{"$f":"+BD_DEP[[#This Row],[totalr]]/BD_DEP[[#This Row],[Mat Inicial]]","v":2.7027027027027029E-2},{"$f":"+BD_DEP[[#This Row],[repi]]/BD_DEP[[#This Row],[Mat Inicial]]","v":5.4054054054054057E-2},"26","Dpto. Ingeniería Industrial",8691600,"ROJAS SANTIAGO MIGUEL","TC","PR"]
[2265,"IIN7030","DIS. DE SISTEMAS PRODUCTIVOS",2,202330,26,25,0,1,1,{"$f":"+BD_DEP[[#This Row],[totalp]]/BD_DEP[[#This Row],[Mat Inicial]]","v":0},{"$f":"+BD_DEP[[#This Row],[totalr]]/BD_DEP[[#This Row],[Mat Inicial]]","v":3.8461538461538464E-2},{"$f":"+BD_DEP[[#This Row],[repi]]/BD_DEP[[#This Row],[Mat Inicial]]","v":3.8461538461538464E-2},"26","Dpto. Ingeniería Industrial",55304140,"Prada Angarita Lina","TC","PR"]
[2266,"IIN7030","DIS. DE SISTEMAS PRODUCTIVOS",3,202330,38,38,0,0,0,{"$f":"+BD_DEP[[#This Row],[totalp]]/BD_DEP[[#This Row],[Mat Inicial]]","v":0},{"$f":"+BD_DEP[[#This Row],[totalr]]/BD_DEP[[#This Row],[Mat Inicial]]","v":0},{"$f":"+BD_DEP[[#This Row],[repi]]/BD_DEP[[#This Row],[Mat Inicial]]","v":0},"26","Dpto. Ingeniería Industrial",55304140,"Prada Angarita Lina","TC","PR"]
[2299,"IIN9525","DISEÑO DE SIST DE INFORMACION",1,202330,14,12,2,2,4,{"$f":"+BD_DEP[[#This Row],[totalp]]/BD_DEP[[#This Row],[Mat Inicial]]","v":0.14285714285714285},{"$f":"+BD_DEP[[#This Row],[totalr]]/BD_DEP[[#This Row],[Mat Inicial]]","v":0.14285714285714285},{"$f":"+BD_DEP[[#This Row],[repi]]/BD_DEP[[#This Row],[Mat Inicial]]","v":0.2857142857142857},"26","Dpto. Ingeniería Industrial",72284176,"Yie Pinedo Ruben","TC","PR"]
[2260,"IIN4340","ESTRATEGIAS DE OPERACIONES",2,202330,35,34,7,1,8,{"$f":"+BD_DEP[[#This Row],[totalp]]/BD_DEP[[#This Row],[Mat Inicial]]","v":0.2},{"$f":"+BD_DEP[[#This Row],[totalr]]/BD_DEP[[#This Row],[Mat Inicial]]","v":2.8571428571428571E-2},{"$f":"+BD_DEP[[#This Row],[repi]]/BD_DEP[[#This Row],[Mat Inicial]]","v":0.22857142857142856},"26","Dpto. Ingeniería Industrial",22444223,"Berdugo Correa Carmen","TC","PR"]
[2259,"IIN4340","ESTRATEGIAS DE OPERACIONES",1,202330,35,34,1,1,2,{"$f":"+BD_DEP[[#This Row],[totalp]]/BD_DEP[[#This Row],[Mat Inicial]]","v":2.8571428571428571E-2},{"$f":"+BD_DEP[[#This Row],[totalr]]/BD_DEP[[#This Row],[Mat Inicial]]","v":2.8571428571428571E-2},{"$f":"+BD_DEP[[#This Row],[repi]]/BD_DEP[[#This Row],[Mat Inicial]]","v":5.7142857142857141E-2},"26","Dpto. Ingeniería Industrial",32745610,"DOMINGUEZ SANTIAGO MILDRED","TC","PR"]
[2244,"IIN4300","ESTUDIO DEL TRABAJO",1,202330,13,13,0,0,0,{"$f":"+BD_DEP[[#This Row],[totalp]]/BD_DEP[[#This Row],[Mat Inicial]]","v":0},{"$f":"+BD_DEP[[#This Row],[totalr]]/BD_DEP[[#This Row],[Mat Inicial]]","v":0},{"$f":"+BD_DEP[[#This Row],[repi]]/BD_DEP[[#This Row],[Mat Inicial]]","v":0},"26","Dpto. Ingeniería Industrial",55304140,"Prada Angarita Lina","TC","PR"]
[2245,"IIN4300","ESTUDIO DEL TRABAJO",2,202330,14,14,0,0,0,{"$f":"+BD_DEP[[#This Row],[totalp]]/BD_DEP[[#This Row],[Mat Inicial]]","v":0},{"$f":"+BD_DEP[[#This Row],[totalr]]/BD_DEP[[#This Row],[Mat Inicial]]","v":0},{"$f":"+BD_DEP[[#This Row],[repi]]/BD_DEP[[#This Row],[Mat Inicial]]","v":0},"26","Dpto. Ingeniería Industrial",55304140,"Prada Angarita Lina","TC","PR"]
[2246,"IIN4300","ESTUDIO DEL TRABAJO",3,202330,14,14,0,0,0,{"$f":"+BD_DEP[[#This Row],[totalp]]/BD_DEP[[#This Row],[Mat Inicial]]","v":0},{"$f":"+BD_DEP[[#This Row],[totalr]]/BD_DEP[[#This Row],[Mat Inicial]]","v":0},{"$f":"+BD_DEP[[#This Row],[repi]]/BD_DEP[[#This Row],[Mat Inicial]]","v":0},"26","Dpto. Ingeniería Industrial",55304140,"Prada Angarita Lina","TC","PR"]
[2004,"GPY1012","FORM Y EVAL DE PROYECTOS",2,202330,40,33,7,7,14,{"$f":"+BD_DEP[[#This Row],[totalp]]/BD_DEP[[#This Row],[Mat Inicial]]","v":0.17499999999999999},{"$f":"+BD_DEP[[#This Row],[totalr]]/BD_DEP[[#This Row],[Mat Inicial]]","v":0.17499999999999999},{"$f":"+BD_DEP[[#This Row],[repi]]/BD_DEP[[#This Row],[Mat Inicial]]","v":0.35},"26","Dpto. Ingeniería Industrial",55223356,"Theran Brochero Carolina","TC","PR"]
[2005,"GPY1012","FORM Y EVAL DE PROYECTOS",3,202330,40,38,6,2,8,{"$f":"+BD_DEP[[#This Row],[totalp]]/BD_DEP[[#This Row],[Mat Inicial]]","v":0.15},{"$f":"+BD_DEP[[#This Row],[totalr]]/BD_DEP[[#This Row],[Mat Inicial]]","v":0.05},{"$f":"+BD_DEP[[#This Row],[repi]]/BD_DEP[[#This Row],[Mat Inicial]]","v":0.2},"26","Dpto. Ingeniería Industrial",55223356,"Theran Brochero Carolina","TC","PR"]
[2006,"GPY1012","FORM Y EVAL DE PROYECTOS",4,202330,40,34,4,6,10,{"$f":"+BD_DEP[[#This Row],[totalp]]/BD_DEP[[#This Row],[Mat Inicial]]","v":0.1},{"$f":"+BD_DEP[[#This Row],[totalr]]/BD_DEP[[#This Row],[Mat Inicial]]","v":0.15},{"$f":"+BD_DEP[[#This Row],[repi]]/BD_DEP[[#This Row],[Mat Inicial]]","v":0.25},"26","Dpto. Ingeniería Industrial",55223356,"Theran Brochero Carolina","TC","PR"]
[1779,"ELP4085","GESTION DE INVENTARIOS",1,202330,17,17,5,0,5,{"$f":"+BD_DEP[[#This Row],[totalp]]/BD_DEP[[#This Row],[Mat Inicial]]","v":0.29411764705882354},{"$f":"+BD_DEP[[#This Row],[totalr]]/BD_DEP[[#This Row],[Mat Inicial]]","v":0},{"$f":"+BD_DEP[[#This Row],[repi]]/BD_DEP[[#This Row],[Mat Inicial]]","v":0.29411764705882354},"26","Dpto. Ingeniería Industrial",8691600,"ROJAS SANTIAGO MIGUEL","TC","PR"]
[2248,"IIN4305","INGENIERIA ECONOMICA",1,202330,28,26,5,2,7,{"$f":"+BD_DEP[[#This Row],[totalp]]/BD_DEP[[#This Row],[Mat Inicial]]","v":0.17857142857142858},{"$f":"+BD_DEP[[#This Row],[totalr]]/BD_DEP[[#This Row],[Mat Inicial]]","v":7.1428571428571425E-2},{"$f":"+BD_DEP[[#This Row],[repi]]/BD_DEP[[#This Row],[Mat Inicial]]","v":0.25},"26","Dpto. Ingeniería Industrial",72161747,"Amaya Mier Rene","TC","PR"]
[2249,"IIN4305","INGENIERIA ECONOMICA",2,202330,31,29,4,2,6,{"$f":"+BD_DEP[[#This Row],[totalp]]/BD_DEP[[#This Row],[Mat Inicial]]","v":0.12903225806451613},{"$f":"+BD_DEP[[#This Row],[totalr]]/BD_DEP[[#This Row],[Mat Inicial]]","v":6.4516129032258063E-2},{"$f":"+BD_DEP[[#This Row],[repi]]/BD_DEP[[#This Row],[Mat Inicial]]","v":0.19354838709677419},"26","Dpto. Ingeniería Industrial",72161747,"Amaya Mier Rene","TC","PR"]
[4357,"IIN0010","INT A LA ING. INDUSTRIAL",2,202330,42,41,0,1,1,{"$f":"+BD_DEP[[#This Row],[totalp]]/BD_DEP[[#This Row],[Mat Inicial]]","v":0},{"$f":"+BD_DEP[[#This Row],[totalr]]/BD_DEP[[#This Row],[Mat Inicial]]","v":2.3809523809523808E-2},{"$f":"+BD_DEP[[#This Row],[repi]]/BD_DEP[[#This Row],[Mat Inicial]]","v":2.3809523809523808E-2},"26","Dpto. Ingeniería Industrial",55223356,"Theran Brochero Carolina","TC","PR"]
[2280,"IIN7071","INVESTIGACION DE OPERAC 2",1,202330,20,20,5,0,5,{"$f":"+BD_DEP[[#This Row],[totalp]]/BD_DEP[[#This Row],[Mat Inicial]]","v":0.25},{"$f":"+BD_DEP[[#This Row],[totalr]]/BD_DEP[[#This Row],[Mat Inicial]]","v":0},{"$f":"+BD_DEP[[#This Row],[repi]]/BD_DEP[[#This Row],[Mat Inicial]]","v":0.25},"26","Dpto. Ingeniería Industrial",32830098,"Guzman Acuña Luceny","TC","PR"]
[2281,"IIN7071","INVESTIGACION DE OPERAC 2",2,202330,37,35,9,2,11,{"$f":"+BD_DEP[[#This Row],[totalp]]/BD_DEP[[#This Row],[Mat Inicial]]","v":0.24324324324324326},{"$f":"+BD_DEP[[#This Row],[totalr]]/BD_DEP[[#This Row],[Mat Inicial]]","v":5.4054054054054057E-2},{"$f":"+BD_DEP[[#This Row],[repi]]/BD_DEP[[#This Row],[Mat Inicial]]","v":0.29729729729729731},"26","Dpto. Ingeniería Industrial",32830098,"Guzman Acuña Luceny","TC","PR"]
[2282,"IIN7071","INVESTIGACION DE OPERAC 2",3,202330,26,26,6,0,6,{"$f":"+BD_DEP[[#This Row],[totalp]]/BD_DEP[[#This Row],[Mat Inicial]]","v":0.23076923076923078},{"$f":"+BD_DEP[[#This Row],[totalr]]/BD_DEP[[#This Row],[Mat Inicial]]","v":0},{"$f":"+BD_DEP[[#This Row],[repi]]/BD_DEP[[#This Row],[Mat Inicial]]","v":0.23076923076923078},"26","Dpto. Ingeniería Industrial",55303810,"Galindo Pacheco Gina","TC","PR"]
[2276,"IIN7061","INVESTIGACION DE OPERACIONES I",1,202330,27,23,8,4,12,{"$f":"+BD_DEP[[#This Row],[totalp]]/BD_DEP[[#This Row],[Mat Inicial]]","v":0.29629629629629628},{"$f":"+BD_DEP[[#This Row],[totalr]]/BD_DEP[[#This Row],[Mat Inicial]]","v":0.14814814814814814},{"$f":"+BD_DEP[[#This Row],[repi]]/BD_DEP[[#This Row],[Mat Inicial]]","v":0.44444444444444442},"26","Dpto. Ingeniería Industrial",22444223,"Berdugo Correa Carmen","TC","PR"]
[2277,"IIN7061","INVESTIGACION DE OPERACIONES I",2,202330,36,35,12,1,13,{"$f":"+BD_DEP[[#This Row],[totalp]]/BD_DEP[[#This Row],[Mat Inicial]]","v":0.33333333333333331},{"$f":"+BD_DEP[[#This Row],[totalr]]/BD_DEP[[#This Row],[Mat Inicial]]","v":2.7777777777777776E-2},{"$f":"+BD_DEP[[#This Row],[repi]]/BD_DEP[[#This Row],[Mat Inicial]]","v":0.3611111111111111},"26","Dpto. Ingeniería Industrial",22444223,"Berdugo Correa Carmen","TC","PR"]
[2278,"IIN7061","INVESTIGACION DE OPERACIONES I",3,202330,28,24,6,4,10,{"$f":"+BD_DEP[[#This Row],[totalp]]/BD_DEP[[#This Row],[Mat Inicial]]","v":0.21428571428571427},{"$f":"+BD_DEP[[#This Row],[totalr]]/BD_DEP[[#This Row],[Mat Inicial]]","v":0.14285714285714285},{"$f":"+BD_DEP[[#This Row],[repi]]/BD_DEP[[#This Row],[Mat Inicial]]","v":0.35714285714285715},"26","Dpto. Ingeniería Industrial",22444223,"Berdugo Correa Carmen","TC","PR"]
[2279,"IIN7061","INVESTIGACION DE OPERACIONES I",4,202330,33,28,5,5,10,{"$f":"+BD_DEP[[#This Row],[totalp]]/BD_DEP[[#This Row],[Mat Inicial]]","v":0.15151515151515152},{"$f":"+BD_DEP[[#This Row],[totalr]]/BD_DEP[[#This Row],[Mat Inicial]]","v":0.15151515151515152},{"$f":"+BD_DEP[[#This Row],[repi]]/BD_DEP[[#This Row],[Mat Inicial]]","v":0.30303030303030304},"26","Dpto. Ingeniería Industrial",22444223,"Berdugo Correa Carmen","TC","PR"]
[2283,"IIN7100","LOGISTICA Y DISTRIBUCION",1,202330,34,34,3,0,3,{"$f":"+BD_DEP[[#This Row],[totalp]]/BD_DEP[[#This Row],[Mat Inicial]]","v":8.8235294117647065E-2},{"$f":"+BD_DEP[[#This Row],[totalr]]/BD_DEP[[#This Row],[Mat Inicial]]","v":0},{"$f":"+BD_DEP[[#This Row],[repi]]/BD_DEP[[#This Row],[Mat Inicial]]","v":8.8235294117647065E-2},"26","Dpto. Ingeniería Industrial",72161747,"Amaya Mier Rene","TC","PR"]
[2284,"IIN7100","LOGISTICA Y DISTRIBUCION",2,202330,35,35,8,0,8,{"$f":"+BD_DEP[[#This Row],[totalp]]/BD_DEP[[#This Row],[Mat Inicial]]","v":0.22857142857142856},{"$f":"+BD_DEP[[#This Row],[totalr]]/BD_DEP[[#This Row],[Mat Inicial]]","v":0},{"$f":"+BD_DEP[[#This Row],[repi]]/BD_DEP[[#This Row],[Mat Inicial]]","v":0.22857142857142856},"26","Dpto. Ingeniería Industrial",72161747,"Amaya Mier Rene","TC","PR"]
[2285,"IIN7100","LOGISTICA Y DISTRIBUCION",3,202330,32,30,3,2,5,{"$f":"+BD_DEP[[#This Row],[totalp]]/BD_DEP[[#This Row],[Mat Inicial]]","v":9.375E-2},{"$f":"+BD_DEP[[#This Row],[totalr]]/BD_DEP[[#This Row],[Mat Inicial]]","v":6.25E-2},{"$f":"+BD_DEP[[#This Row],[repi]]/BD_DEP[[#This Row],[Mat Inicial]]","v":0.15625},"26","Dpto. Ingeniería Industrial",1044426511,"Moros Daza Adriana","TC","PR"]
[2293,"IIN8897","MODELO ISO 9000 GTION CALIDAD",1,202330,33,31,1,2,3,{"$f":"+BD_DEP[[#This Row],[totalp]]/BD_DEP[[#This Row],[Mat Inicial]]","v":3.0303030303030304E-2},{"$f":"+BD_DEP[[#This Row],[totalr]]/BD_DEP[[#This Row],[Mat Inicial]]","v":6.0606060606060608E-2},{"$f":"+BD_DEP[[#This Row],[repi]]/BD_DEP[[#This Row],[Mat Inicial]]","v":9.0909090909090912E-2},"26","Dpto. Ingeniería Industrial",32745610,"DOMINGUEZ SANTIAGO MILDRED","TC","PR"]
[2292,"IIN7171","PLAN. PROG Y CTRL PRODUCCION",3,202330,28,27,2,1,3,{"$f":"+BD_DEP[[#This Row],[totalp]]/BD_DEP[[#This Row],[Mat Inicial]]","v":7.1428571428571425E-2},{"$f":"+BD_DEP[[#This Row],[totalr]]/BD_DEP[[#This Row],[Mat Inicial]]","v":3.5714285714285712E-2},{"$f":"+BD_DEP[[#This Row],[repi]]/BD_DEP[[#This Row],[Mat Inicial]]","v":0.10714285714285714},"26","Dpto. Ingeniería Industrial",8691600,"ROJAS SANTIAGO MIGUEL","TC","PR"]
[2290,"IIN7171","PLAN. PROG Y CTRL PRODUCCION",1,202330,25,24,13,1,14,{"$f":"+BD_DEP[[#This Row],[totalp]]/BD_DEP[[#This Row],[Mat Inicial]]","v":0.52},{"$f":"+BD_DEP[[#This Row],[totalr]]/BD_DEP[[#This Row],[Mat Inicial]]","v":0.04},{"$f":"+BD_DEP[[#This Row],[repi]]/BD_DEP[[#This Row],[Mat Inicial]]","v":0.56000000000000005},"26","Dpto. Ingeniería Industrial",72005885,"Santander Mercado Alcides","TC","PR"]
[2291,"IIN7171","PLAN. PROG Y CTRL PRODUCCION",2,202330,32,23,4,9,13,{"$f":"+BD_DEP[[#This Row],[totalp]]/BD_DEP[[#This Row],[Mat Inicial]]","v":0.125},{"$f":"+BD_DEP[[#This Row],[totalr]]/BD_DEP[[#This Row],[Mat Inicial]]","v":0.28125},{"$f":"+BD_DEP[[#This Row],[repi]]/BD_DEP[[#This Row],[Mat Inicial]]","v":0.40625},"26","Dpto. Ingeniería Industrial",72005885,"Santander Mercado Alcides","TC","PR"]
[2409,"INV7366","PROYECTO FINAL",3,202330,17,17,1,0,1,{"$f":"+BD_DEP[[#This Row],[totalp]]/BD_DEP[[#This Row],[Mat Inicial]]","v":5.8823529411764705E-2},{"$f":"+BD_DEP[[#This Row],[totalr]]/BD_DEP[[#This Row],[Mat Inicial]]","v":0},{"$f":"+BD_DEP[[#This Row],[repi]]/BD_DEP[[#This Row],[Mat Inicial]]","v":5.8823529411764705E-2},"26","Dpto. Ingeniería Industrial",55303810,"Galindo Pacheco Gina","TC","PR"]
[2410,"INV7366","PROYECTO FINAL",4,202330,17,17,1,0,1,{"$f":"+BD_DEP[[#This Row],[totalp]]/BD_DEP[[#This Row],[Mat Inicial]]","v":5.8823529411764705E-2},{"$f":"+BD_DEP[[#This Row],[totalr]]/BD_DEP[[#This Row],[Mat Inicial]]","v":0},{"$f":"+BD_DEP[[#This Row],[repi]]/BD_DEP[[#This Row],[Mat Inicial]]","v":5.8823529411764705E-2},"26","Dpto. Ingeniería Industrial",72005885,"Santander Mercado Alcides","TC","PR"]
[2407,"INV7366","PROYECTO FINAL",1,202330,17,16,0,1,1,{"$f":"+BD_DEP[[#This Row],[totalp]]/BD_DEP[[#This Row],[Mat Inicial]]","v":0},{"$f":"+BD_DEP[[#This Row],[totalr]]/BD_DEP[[#This Row],[Mat Inicial]]","v":5.8823529411764705E-2},{"$f":"+BD_DEP[[#This Row],[repi]]/BD_DEP[[#This Row],[Mat Inicial]]","v":5.8823529411764705E-2},"26","Dpto. Ingeniería Industrial",72161747,"Amaya Mier Rene","TC","PR"]
[2408,"INV7366","PROYECTO FINAL",2,202330,17,17,2,0,2,{"$f":"+BD_DEP[[#This Row],[totalp]]/BD_DEP[[#This Row],[Mat Inicial]]","v":0.11764705882352941},{"$f":"+BD_DEP[[#This Row],[totalr]]/BD_DEP[[#This Row],[Mat Inicial]]","v":0},{"$f":"+BD_DEP[[#This Row],[repi]]/BD_DEP[[#This Row],[Mat Inicial]]","v":0.11764705882352941},"26","Dpto. Ingeniería Industrial",1044426511,"Moros Daza Adriana","TC","PR"]
[1291,"AMB8607","SEGURIDAD GESTION AMBIENTAL",1,202330,15,15,0,0,0,{"$f":"+BD_DEP[[#This Row],[totalp]]/BD_DEP[[#This Row],[Mat Inicial]]","v":0},{"$f":"+BD_DEP[[#This Row],[totalr]]/BD_DEP[[#This Row],[Mat Inicial]]","v":0},{"$f":"+BD_DEP[[#This Row],[repi]]/BD_DEP[[#This Row],[Mat Inicial]]","v":0},"26","Dpto. Ingeniería Industrial",8485806,"Castillo De Andreis Rafael","TC","PR"]
[1292,"AMB8607","SEGURIDAD GESTION AMBIENTAL",2,202330,15,14,0,1,1,{"$f":"+BD_DEP[[#This Row],[totalp]]/BD_DEP[[#This Row],[Mat Inicial]]","v":0},{"$f":"+BD_DEP[[#This Row],[totalr]]/BD_DEP[[#This Row],[Mat Inicial]]","v":6.6666666666666666E-2},{"$f":"+BD_DEP[[#This Row],[repi]]/BD_DEP[[#This Row],[Mat Inicial]]","v":6.6666666666666666E-2},"26","Dpto. Ingeniería Industrial",8485806,"Castillo De Andreis Rafael","TC","PR"]
[1293,"AMB8607","SEGURIDAD GESTION AMBIENTAL",3,202330,15,15,0,0,0,{"$f":"+BD_DEP[[#This Row],[totalp]]/BD_DEP[[#This Row],[Mat Inicial]]","v":0},{"$f":"+BD_DEP[[#This Row],[totalr]]/BD_DEP[[#This Row],[Mat Inicial]]","v":0},{"$f":"+BD_DEP[[#This Row],[repi]]/BD_DEP[[#This Row],[Mat Inicial]]","v":0},"26","Dpto. Ingeniería Industrial",8485806,"Castillo De Andreis Rafael","TC","PR"]
[1294,"AMB8607","SEGURIDAD GESTION AMBIENTAL",4,202330,15,15,0,0,0,{"$f":"+BD_DEP[[#This Row],[totalp]]/BD_DEP[[#This Row],[Mat Inicial]]","v":0},{"$f":"+BD_DEP[[#This Row],[totalr]]/BD_DEP[[#This Row],[Mat Inicial]]","v":0},{"$f":"+BD_DEP[[#This Row],[repi]]/BD_DEP[[#This Row],[Mat Inicial]]","v":0},"26","Dpto. Ingeniería Industrial",8485806,"Castillo De Andreis Rafael","TC","PR"]
[1295,"AMB8607","SEGURIDAD GESTION AMBIENTAL",5,202330,15,15,0,0,0,{"$f":"+BD_DEP[[#This Row],[totalp]]/BD_DEP[[#This Row],[Mat Inicial]]","v":0},{"$f":"+BD_DEP[[#This Row],[totalr]]/BD_DEP[[#This Row],[Mat Inicial]]","v":0},{"$f":"+BD_DEP[[#This Row],[repi]]/BD_DEP[[#This Row],[Mat Inicial]]","v":0},"26","Dpto. Ingeniería Industrial",8485806,"Castillo De Andreis Rafael","TC","PR"]
[2288,"IIN7105","SIMULACIÓN",3,202330,28,27,4,1,5,{"$f":"+BD_DEP[[#This Row],[totalp]]/BD_DEP[[#This Row],[Mat Inicial]]","v":0.14285714285714285},{"$f":"+BD_DEP[[#This Row],[totalr]]/BD_DEP[[#This Row],[Mat Inicial]]","v":3.5714285714285712E-2},{"$f":"+BD_DEP[[#This Row],[repi]]/BD_DEP[[#This Row],[Mat Inicial]]","v":0.17857142857142858},"26","Dpto. Ingeniería Industrial",22589530,"GARCIA LLINAS GUISSELLE","TC","PR"]
[2289,"IIN7105","SIMULACIÓN",4,202330,28,26,11,2,13,{"$f":"+BD_DEP[[#This Row],[totalp]]/BD_DEP[[#This Row],[Mat Inicial]]","v":0.39285714285714285},{"$f":"+BD_DEP[[#This Row],[totalr]]/BD_DEP[[#This Row],[Mat Inicial]]","v":7.1428571428571425E-2},{"$f":"+BD_DEP[[#This Row],[repi]]/BD_DEP[[#This Row],[Mat Inicial]]","v":0.4642857142857143},"26","Dpto. Ingeniería Industrial",22589530,"GARCIA LLINAS GUISSELLE","TC","PR"]
[2286,"IIN7105","SIMULACIÓN",1,202330,27,24,6,3,9,{"$f":"+BD_DEP[[#This Row],[totalp]]/BD_DEP[[#This Row],[Mat Inicial]]","v":0.22222222222222221},{"$f":"+BD_DEP[[#This Row],[totalr]]/BD_DEP[[#This Row],[Mat Inicial]]","v":0.1111111111111111},{"$f":"+BD_DEP[[#This Row],[repi]]/BD_DEP[[#This Row],[Mat Inicial]]","v":0.33333333333333331},"26","Dpto. Ingeniería Industrial",72284176,"Yie Pinedo Ruben","TC","PR"]
[2287,"IIN7105","SIMULACIÓN",2,202330,26,22,13,4,17,{"$f":"+BD_DEP[[#This Row],[totalp]]/BD_DEP[[#This Row],[Mat Inicial]]","v":0.5},{"$f":"+BD_DEP[[#This Row],[totalr]]/BD_DEP[[#This Row],[Mat Inicial]]","v":0.15384615384615385},{"$f":"+BD_DEP[[#This Row],[repi]]/BD_DEP[[#This Row],[Mat Inicial]]","v":0.65384615384615385},"26","Dpto. Ingeniería Industrial",72284176,"Yie Pinedo Ruben","TC","PR"]
[2239,"IIN0008","SISTEMAS DE COSTOS DE PRODUCCI",2,202330,23,19,0,4,4,{"$f":"+BD_DEP[[#This Row],[totalp]]/BD_DEP[[#This Row],[Mat Inicial]]","v":0},{"$f":"+BD_DEP[[#This Row],[totalr]]/BD_DEP[[#This Row],[Mat Inicial]]","v":0.17391304347826086},{"$f":"+BD_DEP[[#This Row],[repi]]/BD_DEP[[#This Row],[Mat Inicial]]","v":0.17391304347826086},"26","Dpto. Ingeniería Industrial",55223356,"Theran Brochero Carolina","TC","PR"]
[2240,"IIN0008","SISTEMAS DE COSTOS DE PRODUCCI",3,202330,37,35,6,2,8,{"$f":"+BD_DEP[[#This Row],[totalp]]/BD_DEP[[#This Row],[Mat Inicial]]","v":0.16216216216216217},{"$f":"+BD_DEP[[#This Row],[totalr]]/BD_DEP[[#This Row],[Mat Inicial]]","v":5.4054054054054057E-2},{"$f":"+BD_DEP[[#This Row],[repi]]/BD_DEP[[#This Row],[Mat Inicial]]","v":0.21621621621621623},"26","Dpto. Ingeniería Industrial",55223356,"Theran Brochero Carolina","TC","PR"]
[2003,"GPY1012","FORM Y EVAL DE PROYECTOS",1,202330,40,34,8,6,14,{"$f":"+BD_DEP[[#This Row],[totalp]]/BD_DEP[[#This Row],[Mat Inicial]]","v":0.2},{"$f":"+BD_DEP[[#This Row],[totalr]]/BD_DEP[[#This Row],[Mat Inicial]]","v":0.15},{"$f":"+BD_DEP[[#This Row],[repi]]/BD_DEP[[#This Row],[Mat Inicial]]","v":0.35},"26","Dpto. Ingeniería Industrial",13809250,"Estupiñan Paipa Alirio","CA","PR"]
[6632,"GPY1012","FORM Y EVAL DE PROYECTOS",5,202330,35,31,7,4,11,{"$f":"+BD_DEP[[#This Row],[totalp]]/BD_DEP[[#This Row],[Mat Inicial]]","v":0.2},{"$f":"+BD_DEP[[#This Row],[totalr]]/BD_DEP[[#This Row],[Mat Inicial]]","v":0.11428571428571428},{"$f":"+BD_DEP[[#This Row],[repi]]/BD_DEP[[#This Row],[Mat Inicial]]","v":0.31428571428571428},"26","Dpto. Ingeniería Industrial",13809250,"Estupiñan Paipa Alirio","CA","PR"]
[2242,"IIN1226","FUNDAMENTOS DE ING. ECONÓMICA",1,202330,27,25,1,2,3,{"$f":"+BD_DEP[[#This Row],[totalp]]/BD_DEP[[#This Row],[Mat Inicial]]","v":3.7037037037037035E-2},{"$f":"+BD_DEP[[#This Row],[totalr]]/BD_DEP[[#This Row],[Mat Inicial]]","v":7.407407407407407E-2},{"$f":"+BD_DEP[[#This Row],[repi]]/BD_DEP[[#This Row],[Mat Inicial]]","v":0.1111111111111111},"26","Dpto. Ingeniería Industrial",1002152174,"Jurado Pineda Carlos","CA","PR"]
[2243,"IIN1226","FUNDAMENTOS DE ING. ECONÓMICA",2,202330,27,24,0,3,3,{"$f":"+BD_DEP[[#This Row],[totalp]]/BD_DEP[[#This Row],[Mat Inicial]]","v":0},{"$f":"+BD_DEP[[#This Row],[totalr]]/BD_DEP[[#This Row],[Mat Inicial]]","v":0.1111111111111111},{"$f":"+BD_DEP[[#This Row],[repi]]/BD_DEP[[#This Row],[Mat Inicial]]","v":0.1111111111111111},"26","Dpto. Ingeniería Industrial",1002152174,"Jurado Pineda Carlos","CA","PR"]
[2250,"IIN4305","INGENIERIA ECONOMICA",3,202330,29,29,0,0,0,{"$f":"+BD_DEP[[#This Row],[totalp]]/BD_DEP[[#This Row],[Mat Inicial]]","v":0},{"$f":"+BD_DEP[[#This Row],[totalr]]/BD_DEP[[#This Row],[Mat Inicial]]","v":0},{"$f":"+BD_DEP[[#This Row],[repi]]/BD_DEP[[#This Row],[Mat Inicial]]","v":0},"26","Dpto. Ingeniería Industrial",13827908,"Tarazona Sepulveda Luis","CA","PR"]
[2337,"IME4224","ANALISIS DE FALLA",1,202330,10,10,0,0,0,{"$f":"+BD_DEP[[#This Row],[totalp]]/BD_DEP[[#This Row],[Mat Inicial]]","v":0},{"$f":"+BD_DEP[[#This Row],[totalr]]/BD_DEP[[#This Row],[Mat Inicial]]","v":0},{"$f":"+BD_DEP[[#This Row],[repi]]/BD_DEP[[#This Row],[Mat Inicial]]","v":0},"24","Dpto. Ingeniería Mecánica",72224984,"Gomez Vega Humberto","TC","PR"]
[1165,"IME1205","CIENCIA DE LOS MATERIALES",9,202330,15,11,3,4,7,{"$f":"+BD_DEP[[#This Row],[totalp]]/BD_DEP[[#This Row],[Mat Inicial]]","v":0.2},{"$f":"+BD_DEP[[#This Row],[totalr]]/BD_DEP[[#This Row],[Mat Inicial]]","v":0.26666666666666666},{"$f":"+BD_DEP[[#This Row],[repi]]/BD_DEP[[#This Row],[Mat Inicial]]","v":0.46666666666666667},"24","Dpto. Ingeniería Mecánica",453658,"Paredes Mendez Virginia","TC","PR"]
[2302,"IME1205","CIENCIA DE LOS MATERIALES",1,202330,15,8,0,7,7,{"$f":"+BD_DEP[[#This Row],[totalp]]/BD_DEP[[#This Row],[Mat Inicial]]","v":0},{"$f":"+BD_DEP[[#This Row],[totalr]]/BD_DEP[[#This Row],[Mat Inicial]]","v":0.46666666666666667},{"$f":"+BD_DEP[[#This Row],[repi]]/BD_DEP[[#This Row],[Mat Inicial]]","v":0.46666666666666667},"24","Dpto. Ingeniería Mecánica",453658,"Paredes Mendez Virginia","TC","PR"]
[2303,"IME1205","CIENCIA DE LOS MATERIALES",2,202330,15,15,0,0,0,{"$f":"+BD_DEP[[#This Row],[totalp]]/BD_DEP[[#This Row],[Mat Inicial]]","v":0},{"$f":"+BD_DEP[[#This Row],[totalr]]/BD_DEP[[#This Row],[Mat Inicial]]","v":0},{"$f":"+BD_DEP[[#This Row],[repi]]/BD_DEP[[#This Row],[Mat Inicial]]","v":0},"24","Dpto. Ingeniería Mecánica",453658,"Paredes Mendez Virginia","TC","PR"]
[2304,"IME1205","CIENCIA DE LOS MATERIALES",3,202330,13,10,1,3,4,{"$f":"+BD_DEP[[#This Row],[totalp]]/BD_DEP[[#This Row],[Mat Inicial]]","v":7.6923076923076927E-2},{"$f":"+BD_DEP[[#This Row],[totalr]]/BD_DEP[[#This Row],[Mat Inicial]]","v":0.23076923076923078},{"$f":"+BD_DEP[[#This Row],[repi]]/BD_DEP[[#This Row],[Mat Inicial]]","v":0.30769230769230771},"24","Dpto. Ingeniería Mecánica",453658,"Paredes Mendez Virginia","TC","PR"]
[2305,"IME1205","CIENCIA DE LOS MATERIALES",4,202330,13,10,2,3,5,{"$f":"+BD_DEP[[#This Row],[totalp]]/BD_DEP[[#This Row],[Mat Inicial]]","v":0.15384615384615385},{"$f":"+BD_DEP[[#This Row],[totalr]]/BD_DEP[[#This Row],[Mat Inicial]]","v":0.23076923076923078},{"$f":"+BD_DEP[[#This Row],[repi]]/BD_DEP[[#This Row],[Mat Inicial]]","v":0.38461538461538464},"24","Dpto. Ingeniería Mecánica",453658,"Paredes Mendez Virginia","TC","PR"]
[2306,"IME1205","CIENCIA DE LOS MATERIALES",5,202330,14,8,1,6,7,{"$f":"+BD_DEP[[#This Row],[totalp]]/BD_DEP[[#This Row],[Mat Inicial]]","v":7.1428571428571425E-2},{"$f":"+BD_DEP[[#This Row],[totalr]]/BD_DEP[[#This Row],[Mat Inicial]]","v":0.42857142857142855},{"$f":"+BD_DEP[[#This Row],[repi]]/BD_DEP[[#This Row],[Mat Inicial]]","v":0.5},"24","Dpto. Ingeniería Mecánica",453658,"Paredes Mendez Virginia","TC","PR"]
[2308,"IME1205","CIENCIA DE LOS MATERIALES",7,202330,15,10,3,5,8,{"$f":"+BD_DEP[[#This Row],[totalp]]/BD_DEP[[#This Row],[Mat Inicial]]","v":0.2},{"$f":"+BD_DEP[[#This Row],[totalr]]/BD_DEP[[#This Row],[Mat Inicial]]","v":0.33333333333333331},{"$f":"+BD_DEP[[#This Row],[repi]]/BD_DEP[[#This Row],[Mat Inicial]]","v":0.53333333333333333},"24","Dpto. Ingeniería Mecánica",453658,"Paredes Mendez Virginia","TC","PR"]
[2310,"IME1205","CIENCIA DE LOS MATERIALES",10,202330,15,15,3,0,3,{"$f":"+BD_DEP[[#This Row],[totalp]]/BD_DEP[[#This Row],[Mat Inicial]]","v":0.2},{"$f":"+BD_DEP[[#This Row],[totalr]]/BD_DEP[[#This Row],[Mat Inicial]]","v":0},{"$f":"+BD_DEP[[#This Row],[repi]]/BD_DEP[[#This Row],[Mat Inicial]]","v":0.2},"24","Dpto. Ingeniería Mecánica",453658,"Paredes Mendez Virginia","TC","PR"]
[2307,"IME1205","CIENCIA DE LOS MATERIALES",6,202330,15,11,1,4,5,{"$f":"+BD_DEP[[#This Row],[totalp]]/BD_DEP[[#This Row],[Mat Inicial]]","v":6.6666666666666666E-2},{"$f":"+BD_DEP[[#This Row],[totalr]]/BD_DEP[[#This Row],[Mat Inicial]]","v":0.26666666666666666},{"$f":"+BD_DEP[[#This Row],[repi]]/BD_DEP[[#This Row],[Mat Inicial]]","v":0.33333333333333331},"24","Dpto. Ingeniería Mecánica",1049610279,"FONSECA REYES ANA","TC","PR"]
[2309,"IME1205","CIENCIA DE LOS MATERIALES",8,202330,15,13,4,2,6,{"$f":"+BD_DEP[[#This Row],[totalp]]/BD_DEP[[#This Row],[Mat Inicial]]","v":0.26666666666666666},{"$f":"+BD_DEP[[#This Row],[totalr]]/BD_DEP[[#This Row],[Mat Inicial]]","v":0.13333333333333333},{"$f":"+BD_DEP[[#This Row],[repi]]/BD_DEP[[#This Row],[Mat Inicial]]","v":0.4},"24","Dpto. Ingeniería Mecánica",1049610279,"FONSECA REYES ANA","TC","PR"]
[2311,"IME1205","CIENCIA DE LOS MATERIALES",11,202330,12,7,2,5,7,{"$f":"+BD_DEP[[#This Row],[totalp]]/BD_DEP[[#This Row],[Mat Inicial]]","v":0.16666666666666666},{"$f":"+BD_DEP[[#This Row],[totalr]]/BD_DEP[[#This Row],[Mat Inicial]]","v":0.41666666666666669},{"$f":"+BD_DEP[[#This Row],[repi]]/BD_DEP[[#This Row],[Mat Inicial]]","v":0.58333333333333337},"24","Dpto. Ingeniería Mecánica",1049610279,"FONSECA REYES ANA","TC","PR"]
[2334,"IME4205","DIBUJO MECANICO II",1,202330,22,21,2,1,3,{"$f":"+BD_DEP[[#This Row],[totalp]]/BD_DEP[[#This Row],[Mat Inicial]]","v":9.0909090909090912E-2},{"$f":"+BD_DEP[[#This Row],[totalr]]/BD_DEP[[#This Row],[Mat Inicial]]","v":4.5454545454545456E-2},{"$f":"+BD_DEP[[#This Row],[repi]]/BD_DEP[[#This Row],[Mat Inicial]]","v":0.13636363636363635},"24","Dpto. Ingeniería Mecánica",1067861259,"MESA COGOLLO JAIME","TC","PR"]
[1149,"IBA4061","DINAMICA",3,202330,30,28,3,2,5,{"$f":"+BD_DEP[[#This Row],[totalp]]/BD_DEP[[#This Row],[Mat Inicial]]","v":0.1},{"$f":"+BD_DEP[[#This Row],[totalr]]/BD_DEP[[#This Row],[Mat Inicial]]","v":6.6666666666666666E-2},{"$f":"+BD_DEP[[#This Row],[repi]]/BD_DEP[[#This Row],[Mat Inicial]]","v":0.16666666666666666},"24","Dpto. Ingeniería Mecánica",1143434588,"PUGLIESE MANOTAS VICTOR","TC","PR"]
[2083,"IBA4061","DINAMICA",1,202330,35,25,3,10,13,{"$f":"+BD_DEP[[#This Row],[totalp]]/BD_DEP[[#This Row],[Mat Inicial]]","v":8.5714285714285715E-2},{"$f":"+BD_DEP[[#This Row],[totalr]]/BD_DEP[[#This Row],[Mat Inicial]]","v":0.2857142857142857},{"$f":"+BD_DEP[[#This Row],[repi]]/BD_DEP[[#This Row],[Mat Inicial]]","v":0.37142857142857144},"24","Dpto. Ingeniería Mecánica",1143434588,"PUGLIESE MANOTAS VICTOR","TC","PR"]
[2084,"IBA4061","DINAMICA",2,202330,16,13,2,3,5,{"$f":"+BD_DEP[[#This Row],[totalp]]/BD_DEP[[#This Row],[Mat Inicial]]","v":0.125},{"$f":"+BD_DEP[[#This Row],[totalr]]/BD_DEP[[#This Row],[Mat Inicial]]","v":0.1875},{"$f":"+BD_DEP[[#This Row],[repi]]/BD_DEP[[#This Row],[Mat Inicial]]","v":0.3125},"24","Dpto. Ingeniería Mecánica",1143434588,"PUGLIESE MANOTAS VICTOR","TC","PR"]
[2367,"IME7220","DISEÑO MECANICO",1,202330,36,35,5,1,6,{"$f":"+BD_DEP[[#This Row],[totalp]]/BD_DEP[[#This Row],[Mat Inicial]]","v":0.1388888888888889},{"$f":"+BD_DEP[[#This Row],[totalr]]/BD_DEP[[#This Row],[Mat Inicial]]","v":2.7777777777777776E-2},{"$f":"+BD_DEP[[#This Row],[repi]]/BD_DEP[[#This Row],[Mat Inicial]]","v":0.16666666666666666},"24","Dpto. Ingeniería Mecánica",72004985,"ZAMBRANO RODRIGUEZ HABIB","TC","PR"]
[2368,"IME7220","DISEÑO MECANICO",2,202330,31,30,6,1,7,{"$f":"+BD_DEP[[#This Row],[totalp]]/BD_DEP[[#This Row],[Mat Inicial]]","v":0.19354838709677419},{"$f":"+BD_DEP[[#This Row],[totalr]]/BD_DEP[[#This Row],[Mat Inicial]]","v":3.2258064516129031E-2},{"$f":"+BD_DEP[[#This Row],[repi]]/BD_DEP[[#This Row],[Mat Inicial]]","v":0.22580645161290322},"24","Dpto. Ingeniería Mecánica",72004985,"ZAMBRANO RODRIGUEZ HABIB","TC","PR"]
[2363,"IME7192","DISEÑO SISTEMAS TERMO FLUIDO",1,202330,7,7,0,0,0,{"$f":"+BD_DEP[[#This Row],[totalp]]/BD_DEP[[#This Row],[Mat Inicial]]","v":0},{"$f":"+BD_DEP[[#This Row],[totalr]]/BD_DEP[[#This Row],[Mat Inicial]]","v":0},{"$f":"+BD_DEP[[#This Row],[repi]]/BD_DEP[[#This Row],[Mat Inicial]]","v":0},"24","Dpto. Ingeniería Mecánica",13829179,"Durango Padilla Nestor","TC","PR"]
[2364,"IME7192","DISEÑO SISTEMAS TERMO FLUIDO",2,202330,10,9,1,1,2,{"$f":"+BD_DEP[[#This Row],[totalp]]/BD_DEP[[#This Row],[Mat Inicial]]","v":0.1},{"$f":"+BD_DEP[[#This Row],[totalr]]/BD_DEP[[#This Row],[Mat Inicial]]","v":0.1},{"$f":"+BD_DEP[[#This Row],[repi]]/BD_DEP[[#This Row],[Mat Inicial]]","v":0.2},"24","Dpto. Ingeniería Mecánica",13829179,"Durango Padilla Nestor","TC","PR"]
[2365,"IME7192","DISEÑO SISTEMAS TERMO FLUIDO",3,202330,10,10,1,0,1,{"$f":"+BD_DEP[[#This Row],[totalp]]/BD_DEP[[#This Row],[Mat Inicial]]","v":0.1},{"$f":"+BD_DEP[[#This Row],[totalr]]/BD_DEP[[#This Row],[Mat Inicial]]","v":0},{"$f":"+BD_DEP[[#This Row],[repi]]/BD_DEP[[#This Row],[Mat Inicial]]","v":0.1},"24","Dpto. Ingeniería Mecánica",13829179,"Durango Padilla Nestor","TC","PR"]
[2366,"IME7192","DISEÑO SISTEMAS TERMO FLUIDO",4,202330,10,10,0,0,0,{"$f":"+BD_DEP[[#This Row],[totalp]]/BD_DEP[[#This Row],[Mat Inicial]]","v":0},{"$f":"+BD_DEP[[#This Row],[totalr]]/BD_DEP[[#This Row],[Mat Inicial]]","v":0},{"$f":"+BD_DEP[[#This Row],[repi]]/BD_DEP[[#This Row],[Mat Inicial]]","v":0},"24","Dpto. Ingeniería Mecánica",13829179,"Durango Padilla Nestor","TC","PR"]
[2352,"IME7085","DISEÑOS DE SISTEMAS MECANICOS",1,202330,26,25,2,1,3,{"$f":"+BD_DEP[[#This Row],[totalp]]/BD_DEP[[#This Row],[Mat Inicial]]","v":7.6923076923076927E-2},{"$f":"+BD_DEP[[#This Row],[totalr]]/BD_DEP[[#This Row],[Mat Inicial]]","v":3.8461538461538464E-2},{"$f":"+BD_DEP[[#This Row],[repi]]/BD_DEP[[#This Row],[Mat Inicial]]","v":0.11538461538461539},"24","Dpto. Ingeniería Mecánica",3745359,"Maury Ramirez Heriberto","TC","PR"]
[2353,"IME7085","DISEÑOS DE SISTEMAS MECANICOS",2,202330,12,11,3,1,4,{"$f":"+BD_DEP[[#This Row],[totalp]]/BD_DEP[[#This Row],[Mat Inicial]]","v":0.25},{"$f":"+BD_DEP[[#This Row],[totalr]]/BD_DEP[[#This Row],[Mat Inicial]]","v":8.3333333333333329E-2},{"$f":"+BD_DEP[[#This Row],[repi]]/BD_DEP[[#This Row],[Mat Inicial]]","v":0.33333333333333331},"24","Dpto. Ingeniería Mecánica",3745359,"Maury Ramirez Heriberto","TC","PR"]
[2369,"IME7285","ENERGÍA ALTERNATIVAS",1,202330,28,28,1,0,1,{"$f":"+BD_DEP[[#This Row],[totalp]]/BD_DEP[[#This Row],[Mat Inicial]]","v":3.5714285714285712E-2},{"$f":"+BD_DEP[[#This Row],[totalr]]/BD_DEP[[#This Row],[Mat Inicial]]","v":0},{"$f":"+BD_DEP[[#This Row],[repi]]/BD_DEP[[#This Row],[Mat Inicial]]","v":3.5714285714285712E-2},"24","Dpto. Ingeniería Mecánica",1047392852,"Pupo Roncallo Oscar","TC","PR"]
[2077,"IBA1012","INGENIERÍA DE MATERIALES",1,202330,58,55,4,3,7,{"$f":"+BD_DEP[[#This Row],[totalp]]/BD_DEP[[#This Row],[Mat Inicial]]","v":6.8965517241379309E-2},{"$f":"+BD_DEP[[#This Row],[totalr]]/BD_DEP[[#This Row],[Mat Inicial]]","v":5.1724137931034482E-2},{"$f":"+BD_DEP[[#This Row],[repi]]/BD_DEP[[#This Row],[Mat Inicial]]","v":0.1206896551724138},"24","Dpto. Ingeniería Mecánica",72224984,"Gomez Vega Humberto","TC","PR"]
[1171,"IME8310","INSTRUMENTACION Y CONTROL",8,202330,5,3,0,2,2,{"$f":"+BD_DEP[[#This Row],[totalp]]/BD_DEP[[#This Row],[Mat Inicial]]","v":0},{"$f":"+BD_DEP[[#This Row],[totalr]]/BD_DEP[[#This Row],[Mat Inicial]]","v":0.4},{"$f":"+BD_DEP[[#This Row],[repi]]/BD_DEP[[#This Row],[Mat Inicial]]","v":0.4},"24","Dpto. Ingeniería Mecánica",1084733011,"Sanjuan De Caro Javier","TC","PR"]
[2372,"IME8310","INSTRUMENTACION Y CONTROL",3,202330,6,6,0,0,0,{"$f":"+BD_DEP[[#This Row],[totalp]]/BD_DEP[[#This Row],[Mat Inicial]]","v":0},{"$f":"+BD_DEP[[#This Row],[totalr]]/BD_DEP[[#This Row],[Mat Inicial]]","v":0},{"$f":"+BD_DEP[[#This Row],[repi]]/BD_DEP[[#This Row],[Mat Inicial]]","v":0},"24","Dpto. Ingeniería Mecánica",1084733011,"Sanjuan De Caro Javier","TC","PR"]
[4358,"IME0010","INT A LA ING. MECANICA",51,202330,18,18,1,0,1,{"$f":"+BD_DEP[[#This Row],[totalp]]/BD_DEP[[#This Row],[Mat Inicial]]","v":5.5555555555555552E-2},{"$f":"+BD_DEP[[#This Row],[totalr]]/BD_DEP[[#This Row],[Mat Inicial]]","v":0},{"$f":"+BD_DEP[[#This Row],[repi]]/BD_DEP[[#This Row],[Mat Inicial]]","v":5.5555555555555552E-2},"24","Dpto. Ingeniería Mecánica",19464822,"Corredor Martinez Lesme","TC","PR"]
[2340,"IME5650","INT A LA TECN COSTA AFUERA",1,202330,28,28,0,0,0,{"$f":"+BD_DEP[[#This Row],[totalp]]/BD_DEP[[#This Row],[Mat Inicial]]","v":0},{"$f":"+BD_DEP[[#This Row],[totalr]]/BD_DEP[[#This Row],[Mat Inicial]]","v":0},{"$f":"+BD_DEP[[#This Row],[repi]]/BD_DEP[[#This Row],[Mat Inicial]]","v":0},"24","Dpto. Ingeniería Mecánica",72004985,"ZAMBRANO RODRIGUEZ HABIB","TC","PR"]
[2324,"IME4070","MECANICA DE FLUIDOS",1,202330,33,25,3,8,11,{"$f":"+BD_DEP[[#This Row],[totalp]]/BD_DEP[[#This Row],[Mat Inicial]]","v":9.0909090909090912E-2},{"$f":"+BD_DEP[[#This Row],[totalr]]/BD_DEP[[#This Row],[Mat Inicial]]","v":0.24242424242424243},{"$f":"+BD_DEP[[#This Row],[repi]]/BD_DEP[[#This Row],[Mat Inicial]]","v":0.33333333333333331},"24","Dpto. Ingeniería Mecánica",13829179,"Durango Padilla Nestor","TC","PR"]
[2325,"IME4070","MECANICA DE FLUIDOS",2,202330,35,29,3,6,9,{"$f":"+BD_DEP[[#This Row],[totalp]]/BD_DEP[[#This Row],[Mat Inicial]]","v":8.5714285714285715E-2},{"$f":"+BD_DEP[[#This Row],[totalr]]/BD_DEP[[#This Row],[Mat Inicial]]","v":0.17142857142857143},{"$f":"+BD_DEP[[#This Row],[repi]]/BD_DEP[[#This Row],[Mat Inicial]]","v":0.25714285714285712},"24","Dpto. Ingeniería Mecánica",13829179,"Durango Padilla Nestor","TC","PR"]
[2326,"IME4072","MECANICA DE FLUIDOS",1,202330,10,8,3,2,5,{"$f":"+BD_DEP[[#This Row],[totalp]]/BD_DEP[[#This Row],[Mat Inicial]]","v":0.3},{"$f":"+BD_DEP[[#This Row],[totalr]]/BD_DEP[[#This Row],[Mat Inicial]]","v":0.2},{"$f":"+BD_DEP[[#This Row],[repi]]/BD_DEP[[#This Row],[Mat Inicial]]","v":0.5},"24","Dpto. Ingeniería Mecánica",13829179,"Durango Padilla Nestor","TC","PR"]
[2327,"IME4072","MECANICA DE FLUIDOS",2,202330,4,4,1,0,1,{"$f":"+BD_DEP[[#This Row],[totalp]]/BD_DEP[[#This Row],[Mat Inicial]]","v":0.25},{"$f":"+BD_DEP[[#This Row],[totalr]]/BD_DEP[[#This Row],[Mat Inicial]]","v":0},{"$f":"+BD_DEP[[#This Row],[repi]]/BD_DEP[[#This Row],[Mat Inicial]]","v":0.25},"24","Dpto. Ingeniería Mecánica",13829179,"Durango Padilla Nestor","TC","PR"]
[2328,"IME4072","MECANICA DE FLUIDOS",3,202330,10,10,1,0,1,{"$f":"+BD_DEP[[#This Row],[totalp]]/BD_DEP[[#This Row],[Mat Inicial]]","v":0.1},{"$f":"+BD_DEP[[#This Row],[totalr]]/BD_DEP[[#This Row],[Mat Inicial]]","v":0},{"$f":"+BD_DEP[[#This Row],[repi]]/BD_DEP[[#This Row],[Mat Inicial]]","v":0.1},"24","Dpto. Ingeniería Mecánica",13829179,"Durango Padilla Nestor","TC","PR"]
[2312,"IME1210","MECÁNICA DE MAQUINAS",1,202330,27,25,5,2,7,{"$f":"+BD_DEP[[#This Row],[totalp]]/BD_DEP[[#This Row],[Mat Inicial]]","v":0.18518518518518517},{"$f":"+BD_DEP[[#This Row],[totalr]]/BD_DEP[[#This Row],[Mat Inicial]]","v":7.407407407407407E-2},{"$f":"+BD_DEP[[#This Row],[repi]]/BD_DEP[[#This Row],[Mat Inicial]]","v":0.25925925925925924},"24","Dpto. Ingeniería Mecánica",72046994,"Pacheco Bolivar Jovanny","TC","PR"]
[2332,"IME4200","MECÁNICA DE SOLIDOS",4,202330,36,26,4,10,14,{"$f":"+BD_DEP[[#This Row],[totalp]]/BD_DEP[[#This Row],[Mat Inicial]]","v":0.1111111111111111},{"$f":"+BD_DEP[[#This Row],[totalr]]/BD_DEP[[#This Row],[Mat Inicial]]","v":0.27777777777777779},{"$f":"+BD_DEP[[#This Row],[repi]]/BD_DEP[[#This Row],[Mat Inicial]]","v":0.3888888888888889},"24","Dpto. Ingeniería Mecánica",72046994,"Pacheco Bolivar Jovanny","TC","PR"]
[2333,"IME4200","MECÁNICA DE SOLIDOS",5,202330,32,25,11,7,18,{"$f":"+BD_DEP[[#This Row],[totalp]]/BD_DEP[[#This Row],[Mat Inicial]]","v":0.34375},{"$f":"+BD_DEP[[#This Row],[totalr]]/BD_DEP[[#This Row],[Mat Inicial]]","v":0.21875},{"$f":"+BD_DEP[[#This Row],[repi]]/BD_DEP[[#This Row],[Mat Inicial]]","v":0.5625},"24","Dpto. Ingeniería Mecánica",72046994,"Pacheco Bolivar Jovanny","TC","PR"]
[2329,"IME4200","MECÁNICA DE SOLIDOS",1,202330,30,27,6,3,9,{"$f":"+BD_DEP[[#This Row],[totalp]]/BD_DEP[[#This Row],[Mat Inicial]]","v":0.2},{"$f":"+BD_DEP[[#This Row],[totalr]]/BD_DEP[[#This Row],[Mat Inicial]]","v":0.1},{"$f":"+BD_DEP[[#This Row],[repi]]/BD_DEP[[#This Row],[Mat Inicial]]","v":0.3},"24","Dpto. Ingeniería Mecánica",72203607,"Bris Cabrera Jorge","TC","PR"]
[2330,"IME4200","MECÁNICA DE SOLIDOS",2,202330,36,34,7,2,9,{"$f":"+BD_DEP[[#This Row],[totalp]]/BD_DEP[[#This Row],[Mat Inicial]]","v":0.19444444444444445},{"$f":"+BD_DEP[[#This Row],[totalr]]/BD_DEP[[#This Row],[Mat Inicial]]","v":5.5555555555555552E-2},{"$f":"+BD_DEP[[#This Row],[repi]]/BD_DEP[[#This Row],[Mat Inicial]]","v":0.25},"24","Dpto. Ingeniería Mecánica",1067861259,"MESA COGOLLO JAIME","TC","PR"]
[2331,"IME4200","MECÁNICA DE SOLIDOS",3,202330,34,31,4,3,7,{"$f":"+BD_DEP[[#This Row],[totalp]]/BD_DEP[[#This Row],[Mat Inicial]]","v":0.11764705882352941},{"$f":"+BD_DEP[[#This Row],[totalr]]/BD_DEP[[#This Row],[Mat Inicial]]","v":8.8235294117647065E-2},{"$f":"+BD_DEP[[#This Row],[repi]]/BD_DEP[[#This Row],[Mat Inicial]]","v":0.20588235294117646},"24","Dpto. Ingeniería Mecánica",1067861259,"MESA COGOLLO JAIME","TC","PR"]
[2354,"IME7095","MODELOS DE SISTEMAS DINÁMICOS",1,202330,13,11,3,2,5,{"$f":"+BD_DEP[[#This Row],[totalp]]/BD_DEP[[#This Row],[Mat Inicial]]","v":0.23076923076923078},{"$f":"+BD_DEP[[#This Row],[totalr]]/BD_DEP[[#This Row],[Mat Inicial]]","v":0.15384615384615385},{"$f":"+BD_DEP[[#This Row],[repi]]/BD_DEP[[#This Row],[Mat Inicial]]","v":0.38461538461538464},"24","Dpto. Ingeniería Mecánica",1084733011,"Sanjuan De Caro Javier","TC","PR"]
[2313,"IME4030","PROCESOS DE FABRICACION",1,202330,14,13,0,1,1,{"$f":"+BD_DEP[[#This Row],[totalp]]/BD_DEP[[#This Row],[Mat Inicial]]","v":0},{"$f":"+BD_DEP[[#This Row],[totalr]]/BD_DEP[[#This Row],[Mat Inicial]]","v":7.1428571428571425E-2},{"$f":"+BD_DEP[[#This Row],[repi]]/BD_DEP[[#This Row],[Mat Inicial]]","v":7.1428571428571425E-2},"24","Dpto. Ingeniería Mecánica",8709465,"Muñoz Yi Ventura","TC","PR"]
[2314,"IME4030","PROCESOS DE FABRICACION",2,202330,14,14,1,0,1,{"$f":"+BD_DEP[[#This Row],[totalp]]/BD_DEP[[#This Row],[Mat Inicial]]","v":7.1428571428571425E-2},{"$f":"+BD_DEP[[#This Row],[totalr]]/BD_DEP[[#This Row],[Mat Inicial]]","v":0},{"$f":"+BD_DEP[[#This Row],[repi]]/BD_DEP[[#This Row],[Mat Inicial]]","v":7.1428571428571425E-2},"24","Dpto. Ingeniería Mecánica",8709465,"Muñoz Yi Ventura","TC","PR"]
[2316,"IME4030","PROCESOS DE FABRICACION",4,202330,14,13,0,1,1,{"$f":"+BD_DEP[[#This Row],[totalp]]/BD_DEP[[#This Row],[Mat Inicial]]","v":0},{"$f":"+BD_DEP[[#This Row],[totalr]]/BD_DEP[[#This Row],[Mat Inicial]]","v":7.1428571428571425E-2},{"$f":"+BD_DEP[[#This Row],[repi]]/BD_DEP[[#This Row],[Mat Inicial]]","v":7.1428571428571425E-2},"24","Dpto. Ingeniería Mecánica",8709465,"Muñoz Yi Ventura","TC","PR"]
[2317,"IME4030","PROCESOS DE FABRICACION",5,202330,14,14,0,0,0,{"$f":"+BD_DEP[[#This Row],[totalp]]/BD_DEP[[#This Row],[Mat Inicial]]","v":0},{"$f":"+BD_DEP[[#This Row],[totalr]]/BD_DEP[[#This Row],[Mat Inicial]]","v":0},{"$f":"+BD_DEP[[#This Row],[repi]]/BD_DEP[[#This Row],[Mat Inicial]]","v":0},"24","Dpto. Ingeniería Mecánica",8709465,"Muñoz Yi Ventura","TC","PR"]
[2318,"IME4030","PROCESOS DE FABRICACION",6,202330,12,12,0,0,0,{"$f":"+BD_DEP[[#This Row],[totalp]]/BD_DEP[[#This Row],[Mat Inicial]]","v":0},{"$f":"+BD_DEP[[#This Row],[totalr]]/BD_DEP[[#This Row],[Mat Inicial]]","v":0},{"$f":"+BD_DEP[[#This Row],[repi]]/BD_DEP[[#This Row],[Mat Inicial]]","v":0},"24","Dpto. Ingeniería Mecánica",8709465,"Muñoz Yi Ventura","TC","PR"]
[2319,"IME4030","PROCESOS DE FABRICACION",7,202330,13,12,0,1,1,{"$f":"+BD_DEP[[#This Row],[totalp]]/BD_DEP[[#This Row],[Mat Inicial]]","v":0},{"$f":"+BD_DEP[[#This Row],[totalr]]/BD_DEP[[#This Row],[Mat Inicial]]","v":7.6923076923076927E-2},{"$f":"+BD_DEP[[#This Row],[repi]]/BD_DEP[[#This Row],[Mat Inicial]]","v":7.6923076923076927E-2},"24","Dpto. Ingeniería Mecánica",8709465,"Muñoz Yi Ventura","TC","PR"]
[2320,"IME4030","PROCESOS DE FABRICACION",8,202330,8,8,1,0,1,{"$f":"+BD_DEP[[#This Row],[totalp]]/BD_DEP[[#This Row],[Mat Inicial]]","v":0.125},{"$f":"+BD_DEP[[#This Row],[totalr]]/BD_DEP[[#This Row],[Mat Inicial]]","v":0},{"$f":"+BD_DEP[[#This Row],[repi]]/BD_DEP[[#This Row],[Mat Inicial]]","v":0.125},"24","Dpto. Ingeniería Mecánica",8709465,"Muñoz Yi Ventura","TC","PR"]
[2392,"INV4235","PROYECTO FINAL",3,202330,12,12,0,0,0,{"$f":"+BD_DEP[[#This Row],[totalp]]/BD_DEP[[#This Row],[Mat Inicial]]","v":0},{"$f":"+BD_DEP[[#This Row],[totalr]]/BD_DEP[[#This Row],[Mat Inicial]]","v":0},{"$f":"+BD_DEP[[#This Row],[repi]]/BD_DEP[[#This Row],[Mat Inicial]]","v":0},"24","Dpto. Ingeniería Mecánica",3745359,"Maury Ramirez Heriberto","TC","PR"]
[2391,"INV4235","PROYECTO FINAL",2,202330,12,12,0,0,0,{"$f":"+BD_DEP[[#This Row],[totalp]]/BD_DEP[[#This Row],[Mat Inicial]]","v":0},{"$f":"+BD_DEP[[#This Row],[totalr]]/BD_DEP[[#This Row],[Mat Inicial]]","v":0},{"$f":"+BD_DEP[[#This Row],[repi]]/BD_DEP[[#This Row],[Mat Inicial]]","v":0},"24","Dpto. Ingeniería Mecánica",19464822,"Corredor Martinez Lesme","TC","PR"]
[2393,"INV4235","PROYECTO FINAL",4,202330,13,13,0,0,0,{"$f":"+BD_DEP[[#This Row],[totalp]]/BD_DEP[[#This Row],[Mat Inicial]]","v":0},{"$f":"+BD_DEP[[#This Row],[totalr]]/BD_DEP[[#This Row],[Mat Inicial]]","v":0},{"$f":"+BD_DEP[[#This Row],[repi]]/BD_DEP[[#This Row],[Mat Inicial]]","v":0},"24","Dpto. Ingeniería Mecánica",19464822,"Corredor Martinez Lesme","TC","PR"]
[2343,"IME7052","PROYECTOS DE INVESTIGACION",1,202330,27,27,0,0,0,{"$f":"+BD_DEP[[#This Row],[totalp]]/BD_DEP[[#This Row],[Mat Inicial]]","v":0},{"$f":"+BD_DEP[[#This Row],[totalr]]/BD_DEP[[#This Row],[Mat Inicial]]","v":0},{"$f":"+BD_DEP[[#This Row],[repi]]/BD_DEP[[#This Row],[Mat Inicial]]","v":0},"24","Dpto. Ingeniería Mecánica",10032633,"CARMONA GARCIA MAURICIO","TC","PR"]
[2344,"IME7052","PROYECTOS DE INVESTIGACION",2,202330,22,22,0,0,0,{"$f":"+BD_DEP[[#This Row],[totalp]]/BD_DEP[[#This Row],[Mat Inicial]]","v":0},{"$f":"+BD_DEP[[#This Row],[totalr]]/BD_DEP[[#This Row],[Mat Inicial]]","v":0},{"$f":"+BD_DEP[[#This Row],[repi]]/BD_DEP[[#This Row],[Mat Inicial]]","v":0},"24","Dpto. Ingeniería Mecánica",10032633,"CARMONA GARCIA MAURICIO","TC","PR"]
[2349,"IME7061","TERMODINAMICA I",6,202330,24,17,0,7,7,{"$f":"+BD_DEP[[#This Row],[totalp]]/BD_DEP[[#This Row],[Mat Inicial]]","v":0},{"$f":"+BD_DEP[[#This Row],[totalr]]/BD_DEP[[#This Row],[Mat Inicial]]","v":0.29166666666666669},{"$f":"+BD_DEP[[#This Row],[repi]]/BD_DEP[[#This Row],[Mat Inicial]]","v":0.29166666666666669},"24","Dpto. Ingeniería Mecánica",91542947,"Gonzalez Quiroga Arturo","TC","PR"]
[1167,"IME7061","TERMODINAMICA I",3,202330,38,31,2,7,9,{"$f":"+BD_DEP[[#This Row],[totalp]]/BD_DEP[[#This Row],[Mat Inicial]]","v":5.2631578947368418E-2},{"$f":"+BD_DEP[[#This Row],[totalr]]/BD_DEP[[#This Row],[Mat Inicial]]","v":0.18421052631578946},{"$f":"+BD_DEP[[#This Row],[repi]]/BD_DEP[[#This Row],[Mat Inicial]]","v":0.23684210526315788},"24","Dpto. Ingeniería Mecánica",92495790,"Acuña Garrido Francisco","TC","PR"]
[2345,"IME7061","TERMODINAMICA I",1,202330,38,29,3,9,12,{"$f":"+BD_DEP[[#This Row],[totalp]]/BD_DEP[[#This Row],[Mat Inicial]]","v":7.8947368421052627E-2},{"$f":"+BD_DEP[[#This Row],[totalr]]/BD_DEP[[#This Row],[Mat Inicial]]","v":0.23684210526315788},{"$f":"+BD_DEP[[#This Row],[repi]]/BD_DEP[[#This Row],[Mat Inicial]]","v":0.31578947368421051},"24","Dpto. Ingeniería Mecánica",92495790,"Acuña Garrido Francisco","TC","PR"]
[2346,"IME7061","TERMODINAMICA I",2,202330,36,26,0,10,10,{"$f":"+BD_DEP[[#This Row],[totalp]]/BD_DEP[[#This Row],[Mat Inicial]]","v":0},{"$f":"+BD_DEP[[#This Row],[totalr]]/BD_DEP[[#This Row],[Mat Inicial]]","v":0.27777777777777779},{"$f":"+BD_DEP[[#This Row],[repi]]/BD_DEP[[#This Row],[Mat Inicial]]","v":0.27777777777777779},"24","Dpto. Ingeniería Mecánica",92495790,"Acuña Garrido Francisco","TC","PR"]
[2347,"IME7061","TERMODINAMICA I",4,202330,37,31,0,6,6,{"$f":"+BD_DEP[[#This Row],[totalp]]/BD_DEP[[#This Row],[Mat Inicial]]","v":0},{"$f":"+BD_DEP[[#This Row],[totalr]]/BD_DEP[[#This Row],[Mat Inicial]]","v":0.16216216216216217},{"$f":"+BD_DEP[[#This Row],[repi]]/BD_DEP[[#This Row],[Mat Inicial]]","v":0.16216216216216217},"24","Dpto. Ingeniería Mecánica",94062730,"Yepes Martinez Julian","TC","PR"]
[2348,"IME7061","TERMODINAMICA I",5,202330,25,17,1,8,9,{"$f":"+BD_DEP[[#This Row],[totalp]]/BD_DEP[[#This Row],[Mat Inicial]]","v":0.04},{"$f":"+BD_DEP[[#This Row],[totalr]]/BD_DEP[[#This Row],[Mat Inicial]]","v":0.32},{"$f":"+BD_DEP[[#This Row],[repi]]/BD_DEP[[#This Row],[Mat Inicial]]","v":0.36},"24","Dpto. Ingeniería Mecánica",94062730,"Yepes Martinez Julian","TC","PR"]
[2350,"IME7070","TERMODINAMICA II",1,202330,19,12,0,7,7,{"$f":"+BD_DEP[[#This Row],[totalp]]/BD_DEP[[#This Row],[Mat Inicial]]","v":0},{"$f":"+BD_DEP[[#This Row],[totalr]]/BD_DEP[[#This Row],[Mat Inicial]]","v":0.36842105263157893},{"$f":"+BD_DEP[[#This Row],[repi]]/BD_DEP[[#This Row],[Mat Inicial]]","v":0.36842105263157893},"24","Dpto. Ingeniería Mecánica",92495790,"Acuña Garrido Francisco","TC","PR"]
[2351,"IME7070","TERMODINAMICA II",2,202330,25,16,2,9,11,{"$f":"+BD_DEP[[#This Row],[totalp]]/BD_DEP[[#This Row],[Mat Inicial]]","v":0.08},{"$f":"+BD_DEP[[#This Row],[totalr]]/BD_DEP[[#This Row],[Mat Inicial]]","v":0.36},{"$f":"+BD_DEP[[#This Row],[repi]]/BD_DEP[[#This Row],[Mat Inicial]]","v":0.44},"24","Dpto. Ingeniería Mecánica",92495790,"Acuña Garrido Francisco","TC","PR"]
[1168,"IME7101","TRANSFERENCIA DE CALOR",4,202330,5,3,1,2,3,{"$f":"+BD_DEP[[#This Row],[totalp]]/BD_DEP[[#This Row],[Mat Inicial]]","v":0.2},{"$f":"+BD_DEP[[#This Row],[totalr]]/BD_DEP[[#This Row],[Mat Inicial]]","v":0.4},{"$f":"+BD_DEP[[#This Row],[repi]]/BD_DEP[[#This Row],[Mat Inicial]]","v":0.6},"24","Dpto. Ingeniería Mecánica",10032633,"CARMONA GARCIA MAURICIO","TC","PR"]
[2356,"IME7101","TRANSFERENCIA DE CALOR",1,202330,10,10,1,0,1,{"$f":"+BD_DEP[[#This Row],[totalp]]/BD_DEP[[#This Row],[Mat Inicial]]","v":0.1},{"$f":"+BD_DEP[[#This Row],[totalr]]/BD_DEP[[#This Row],[Mat Inicial]]","v":0},{"$f":"+BD_DEP[[#This Row],[repi]]/BD_DEP[[#This Row],[Mat Inicial]]","v":0.1},"24","Dpto. Ingeniería Mecánica",10032633,"CARMONA GARCIA MAURICIO","TC","PR"]
[2357,"IME7101","TRANSFERENCIA DE CALOR",2,202330,10,10,0,0,0,{"$f":"+BD_DEP[[#This Row],[totalp]]/BD_DEP[[#This Row],[Mat Inicial]]","v":0},{"$f":"+BD_DEP[[#This Row],[totalr]]/BD_DEP[[#This Row],[Mat Inicial]]","v":0},{"$f":"+BD_DEP[[#This Row],[repi]]/BD_DEP[[#This Row],[Mat Inicial]]","v":0},"24","Dpto. Ingeniería Mecánica",10032633,"CARMONA GARCIA MAURICIO","TC","PR"]
[2358,"IME7101","TRANSFERENCIA DE CALOR",3,202330,10,10,1,0,1,{"$f":"+BD_DEP[[#This Row],[totalp]]/BD_DEP[[#This Row],[Mat Inicial]]","v":0.1},{"$f":"+BD_DEP[[#This Row],[totalr]]/BD_DEP[[#This Row],[Mat Inicial]]","v":0},{"$f":"+BD_DEP[[#This Row],[repi]]/BD_DEP[[#This Row],[Mat Inicial]]","v":0.1},"24","Dpto. Ingeniería Mecánica",10032633,"CARMONA GARCIA MAURICIO","TC","PR"]
[2359,"IME7101","TRANSFERENCIA DE CALOR",5,202330,10,8,0,2,2,{"$f":"+BD_DEP[[#This Row],[totalp]]/BD_DEP[[#This Row],[Mat Inicial]]","v":0},{"$f":"+BD_DEP[[#This Row],[totalr]]/BD_DEP[[#This Row],[Mat Inicial]]","v":0.2},{"$f":"+BD_DEP[[#This Row],[repi]]/BD_DEP[[#This Row],[Mat Inicial]]","v":0.2},"24","Dpto. Ingeniería Mecánica",91542947,"Gonzalez Quiroga Arturo","TC","PR"]
[2360,"IME7101","TRANSFERENCIA DE CALOR",6,202330,10,10,0,0,0,{"$f":"+BD_DEP[[#This Row],[totalp]]/BD_DEP[[#This Row],[Mat Inicial]]","v":0},{"$f":"+BD_DEP[[#This Row],[totalr]]/BD_DEP[[#This Row],[Mat Inicial]]","v":0},{"$f":"+BD_DEP[[#This Row],[repi]]/BD_DEP[[#This Row],[Mat Inicial]]","v":0},"24","Dpto. Ingeniería Mecánica",91542947,"Gonzalez Quiroga Arturo","TC","PR"]
[2361,"IME7101","TRANSFERENCIA DE CALOR",7,202330,10,9,1,1,2,{"$f":"+BD_DEP[[#This Row],[totalp]]/BD_DEP[[#This Row],[Mat Inicial]]","v":0.1},{"$f":"+BD_DEP[[#This Row],[totalr]]/BD_DEP[[#This Row],[Mat Inicial]]","v":0.1},{"$f":"+BD_DEP[[#This Row],[repi]]/BD_DEP[[#This Row],[Mat Inicial]]","v":0.2},"24","Dpto. Ingeniería Mecánica",91542947,"Gonzalez Quiroga Arturo","TC","PR"]
[2362,"IME7101","TRANSFERENCIA DE CALOR",8,202330,9,6,1,3,4,{"$f":"+BD_DEP[[#This Row],[totalp]]/BD_DEP[[#This Row],[Mat Inicial]]","v":0.1111111111111111},{"$f":"+BD_DEP[[#This Row],[totalr]]/BD_DEP[[#This Row],[Mat Inicial]]","v":0.33333333333333331},{"$f":"+BD_DEP[[#This Row],[repi]]/BD_DEP[[#This Row],[Mat Inicial]]","v":0.44444444444444442},"24","Dpto. Ingeniería Mecánica",91542947,"Gonzalez Quiroga Arturo","TC","PR"]
[2336,"IME4214","TURBOMAQUINAS",1,202330,30,28,0,2,2,{"$f":"+BD_DEP[[#This Row],[totalp]]/BD_DEP[[#This Row],[Mat Inicial]]","v":0},{"$f":"+BD_DEP[[#This Row],[totalr]]/BD_DEP[[#This Row],[Mat Inicial]]","v":6.6666666666666666E-2},{"$f":"+BD_DEP[[#This Row],[repi]]/BD_DEP[[#This Row],[Mat Inicial]]","v":6.6666666666666666E-2},"24","Dpto. Ingeniería Mecánica",13829179,"Durango Padilla Nestor","TC","PR"]
[2341,"IME7042","GESTIÓN DE ACTIVOS",1,202330,30,30,0,0,0,{"$f":"+BD_DEP[[#This Row],[totalp]]/BD_DEP[[#This Row],[Mat Inicial]]","v":0},{"$f":"+BD_DEP[[#This Row],[totalr]]/BD_DEP[[#This Row],[Mat Inicial]]","v":0},{"$f":"+BD_DEP[[#This Row],[repi]]/BD_DEP[[#This Row],[Mat Inicial]]","v":0},"24","Dpto. Ingeniería Mecánica",14399336,"ALDANA RICO ANDRES","CA","PR"]
[2342,"IME7042","GESTIÓN DE ACTIVOS",2,202330,38,38,0,0,0,{"$f":"+BD_DEP[[#This Row],[totalp]]/BD_DEP[[#This Row],[Mat Inicial]]","v":0},{"$f":"+BD_DEP[[#This Row],[totalr]]/BD_DEP[[#This Row],[Mat Inicial]]","v":0},{"$f":"+BD_DEP[[#This Row],[repi]]/BD_DEP[[#This Row],[Mat Inicial]]","v":0},"24","Dpto. Ingeniería Mecánica",14399336,"ALDANA RICO ANDRES","CA","PR"]
[2371,"IME8310","INSTRUMENTACION Y CONTROL",2,202330,9,9,0,0,0,{"$f":"+BD_DEP[[#This Row],[totalp]]/BD_DEP[[#This Row],[Mat Inicial]]","v":0},{"$f":"+BD_DEP[[#This Row],[totalr]]/BD_DEP[[#This Row],[Mat Inicial]]","v":0},{"$f":"+BD_DEP[[#This Row],[repi]]/BD_DEP[[#This Row],[Mat Inicial]]","v":0},"24","Dpto. Ingeniería Mecánica",14399336,"ALDANA RICO ANDRES","CA","PR"]
[2373,"IME8310","INSTRUMENTACION Y CONTROL",4,202330,7,7,0,0,0,{"$f":"+BD_DEP[[#This Row],[totalp]]/BD_DEP[[#This Row],[Mat Inicial]]","v":0},{"$f":"+BD_DEP[[#This Row],[totalr]]/BD_DEP[[#This Row],[Mat Inicial]]","v":0},{"$f":"+BD_DEP[[#This Row],[repi]]/BD_DEP[[#This Row],[Mat Inicial]]","v":0},"24","Dpto. Ingeniería Mecánica",14399336,"ALDANA RICO ANDRES","CA","PR"]
[2374,"IME8310","INSTRUMENTACION Y CONTROL",5,202330,10,10,0,0,0,{"$f":"+BD_DEP[[#This Row],[totalp]]/BD_DEP[[#This Row],[Mat Inicial]]","v":0},{"$f":"+BD_DEP[[#This Row],[totalr]]/BD_DEP[[#This Row],[Mat Inicial]]","v":0},{"$f":"+BD_DEP[[#This Row],[repi]]/BD_DEP[[#This Row],[Mat Inicial]]","v":0},"24","Dpto. Ingeniería Mecánica",14399336,"ALDANA RICO ANDRES","CA","PR"]
[2375,"IME8310","INSTRUMENTACION Y CONTROL",6,202330,10,10,0,0,0,{"$f":"+BD_DEP[[#This Row],[totalp]]/BD_DEP[[#This Row],[Mat Inicial]]","v":0},{"$f":"+BD_DEP[[#This Row],[totalr]]/BD_DEP[[#This Row],[Mat Inicial]]","v":0},{"$f":"+BD_DEP[[#This Row],[repi]]/BD_DEP[[#This Row],[Mat Inicial]]","v":0},"24","Dpto. Ingeniería Mecánica",14399336,"ALDANA RICO ANDRES","CA","PR"]
[2376,"IME8310","INSTRUMENTACION Y CONTROL",7,202330,10,10,0,0,0,{"$f":"+BD_DEP[[#This Row],[totalp]]/BD_DEP[[#This Row],[Mat Inicial]]","v":0},{"$f":"+BD_DEP[[#This Row],[totalr]]/BD_DEP[[#This Row],[Mat Inicial]]","v":0},{"$f":"+BD_DEP[[#This Row],[repi]]/BD_DEP[[#This Row],[Mat Inicial]]","v":0},"24","Dpto. Ingeniería Mecánica",14399336,"ALDANA RICO ANDRES","CA","PR"]
[2355,"IME7095","MODELOS DE SISTEMAS DINÁMICOS",2,202330,18,13,1,5,6,{"$f":"+BD_DEP[[#This Row],[totalp]]/BD_DEP[[#This Row],[Mat Inicial]]","v":5.5555555555555552E-2},{"$f":"+BD_DEP[[#This Row],[totalr]]/BD_DEP[[#This Row],[Mat Inicial]]","v":0.27777777777777779},{"$f":"+BD_DEP[[#This Row],[repi]]/BD_DEP[[#This Row],[Mat Inicial]]","v":0.33333333333333331},"24","Dpto. Ingeniería Mecánica",1234089710,"Albuja Del Valle Rafael","CA","PR"]
[2322,"IME4030","PROCESOS DE FABRICACION",10,202330,13,10,0,3,3,{"$f":"+BD_DEP[[#This Row],[totalp]]/BD_DEP[[#This Row],[Mat Inicial]]","v":0},{"$f":"+BD_DEP[[#This Row],[totalr]]/BD_DEP[[#This Row],[Mat Inicial]]","v":0.23076923076923078},{"$f":"+BD_DEP[[#This Row],[repi]]/BD_DEP[[#This Row],[Mat Inicial]]","v":0.23076923076923078},"24","Dpto. Ingeniería Mecánica",72166407,"Cuello Escamilla Numael","CA","PR"]
[2323,"IME4030","PROCESOS DE FABRICACION",11,202330,11,9,3,2,5,{"$f":"+BD_DEP[[#This Row],[totalp]]/BD_DEP[[#This Row],[Mat Inicial]]","v":0.27272727272727271},{"$f":"+BD_DEP[[#This Row],[totalr]]/BD_DEP[[#This Row],[Mat Inicial]]","v":0.18181818181818182},{"$f":"+BD_DEP[[#This Row],[repi]]/BD_DEP[[#This Row],[Mat Inicial]]","v":0.45454545454545453},"24","Dpto. Ingeniería Mecánica",72166407,"Cuello Escamilla Numael","CA","PR"]
[6636,"IGL0012","BUSINESS ENGLISH II ADM",10,202330,5,5,1,0,1,{"$f":"+BD_DEP[[#This Row],[totalp]]/BD_DEP[[#This Row],[Mat Inicial]]","v":0.2},{"$f":"+BD_DEP[[#This Row],[totalr]]/BD_DEP[[#This Row],[Mat Inicial]]","v":0},{"$f":"+BD_DEP[[#This Row],[repi]]/BD_DEP[[#This Row],[Mat Inicial]]","v":0.2},"77","Dpto. Lenguas Extranjeras",1042422585,"Niebles Thevening Indira","TC","PR"]
[4776,"IGL7760","BUSINESS ENGLISH VI",1,202330,8,8,0,0,0,{"$f":"+BD_DEP[[#This Row],[totalp]]/BD_DEP[[#This Row],[Mat Inicial]]","v":0},{"$f":"+BD_DEP[[#This Row],[totalr]]/BD_DEP[[#This Row],[Mat Inicial]]","v":0},{"$f":"+BD_DEP[[#This Row],[repi]]/BD_DEP[[#This Row],[Mat Inicial]]","v":0},"77","Dpto. Lenguas Extranjeras",1042422585,"Niebles Thevening Indira","TC","PR"]
[4777,"IGL7760","BUSINESS ENGLISH VI",2,202330,22,22,0,0,0,{"$f":"+BD_DEP[[#This Row],[totalp]]/BD_DEP[[#This Row],[Mat Inicial]]","v":0},{"$f":"+BD_DEP[[#This Row],[totalr]]/BD_DEP[[#This Row],[Mat Inicial]]","v":0},{"$f":"+BD_DEP[[#This Row],[repi]]/BD_DEP[[#This Row],[Mat Inicial]]","v":0},"77","Dpto. Lenguas Extranjeras",1042422585,"Niebles Thevening Indira","TC","PR"]
[4780,"IGL7770","BUSINESS ENGLISH VII",1,202330,22,22,0,0,0,{"$f":"+BD_DEP[[#This Row],[totalp]]/BD_DEP[[#This Row],[Mat Inicial]]","v":0},{"$f":"+BD_DEP[[#This Row],[totalr]]/BD_DEP[[#This Row],[Mat Inicial]]","v":0},{"$f":"+BD_DEP[[#This Row],[repi]]/BD_DEP[[#This Row],[Mat Inicial]]","v":0},"77","Dpto. Lenguas Extranjeras",311874,"Bailey Angela","TC","PR"]
[4781,"IGL7770","BUSINESS ENGLISH VII",2,202330,22,22,0,0,0,{"$f":"+BD_DEP[[#This Row],[totalp]]/BD_DEP[[#This Row],[Mat Inicial]]","v":0},{"$f":"+BD_DEP[[#This Row],[totalr]]/BD_DEP[[#This Row],[Mat Inicial]]","v":0},{"$f":"+BD_DEP[[#This Row],[repi]]/BD_DEP[[#This Row],[Mat Inicial]]","v":0},"77","Dpto. Lenguas Extranjeras",311874,"Bailey Angela","TC","PR"]
[4782,"IGL7770","BUSINESS ENGLISH VII",3,202330,20,20,0,0,0,{"$f":"+BD_DEP[[#This Row],[totalp]]/BD_DEP[[#This Row],[Mat Inicial]]","v":0},{"$f":"+BD_DEP[[#This Row],[totalr]]/BD_DEP[[#This Row],[Mat Inicial]]","v":0},{"$f":"+BD_DEP[[#This Row],[repi]]/BD_DEP[[#This Row],[Mat Inicial]]","v":0},"77","Dpto. Lenguas Extranjeras",311874,"Bailey Angela","TC","PR"]
[4785,"IGL7780","BUSINESS ENGLISH VIII",1,202330,21,20,0,1,1,{"$f":"+BD_DEP[[#This Row],[totalp]]/BD_DEP[[#This Row],[Mat Inicial]]","v":0},{"$f":"+BD_DEP[[#This Row],[totalr]]/BD_DEP[[#This Row],[Mat Inicial]]","v":4.7619047619047616E-2},{"$f":"+BD_DEP[[#This Row],[repi]]/BD_DEP[[#This Row],[Mat Inicial]]","v":4.7619047619047616E-2},"77","Dpto. Lenguas Extranjeras",1018474979,"FONTALVO TORRES LAURA","TC","PR"]
[4786,"IGL7780","BUSINESS ENGLISH VIII",2,202330,14,14,0,0,0,{"$f":"+BD_DEP[[#This Row],[totalp]]/BD_DEP[[#This Row],[Mat Inicial]]","v":0},{"$f":"+BD_DEP[[#This Row],[totalr]]/BD_DEP[[#This Row],[Mat Inicial]]","v":0},{"$f":"+BD_DEP[[#This Row],[repi]]/BD_DEP[[#This Row],[Mat Inicial]]","v":0},"77","Dpto. Lenguas Extranjeras",1018474979,"FONTALVO TORRES LAURA","TC","PR"]
[4787,"IGL7780","BUSINESS ENGLISH VIII",3,202330,22,22,0,0,0,{"$f":"+BD_DEP[[#This Row],[totalp]]/BD_DEP[[#This Row],[Mat Inicial]]","v":0},{"$f":"+BD_DEP[[#This Row],[totalr]]/BD_DEP[[#This Row],[Mat Inicial]]","v":0},{"$f":"+BD_DEP[[#This Row],[repi]]/BD_DEP[[#This Row],[Mat Inicial]]","v":0},"77","Dpto. Lenguas Extranjeras",1018474979,"FONTALVO TORRES LAURA","TC","PR"]
[1432,"CLT5001","CINE LATINOAMERICANO",1,202330,28,28,0,0,0,{"$f":"+BD_DEP[[#This Row],[totalp]]/BD_DEP[[#This Row],[Mat Inicial]]","v":0},{"$f":"+BD_DEP[[#This Row],[totalr]]/BD_DEP[[#This Row],[Mat Inicial]]","v":0},{"$f":"+BD_DEP[[#This Row],[repi]]/BD_DEP[[#This Row],[Mat Inicial]]","v":0},"77","Dpto. Lenguas Extranjeras",22491825,"Roa Narvaez Alana","TC","PR"]
[1430,"CLT4003","CULT. ISSUES & INTER AFFAIRS",1,202330,15,15,0,0,0,{"$f":"+BD_DEP[[#This Row],[totalp]]/BD_DEP[[#This Row],[Mat Inicial]]","v":0},{"$f":"+BD_DEP[[#This Row],[totalr]]/BD_DEP[[#This Row],[Mat Inicial]]","v":0},{"$f":"+BD_DEP[[#This Row],[repi]]/BD_DEP[[#This Row],[Mat Inicial]]","v":0},"77","Dpto. Lenguas Extranjeras",1190778,"Concu Valentina","TC","PR"]
[1431,"CLT4003","CULT. ISSUES & INTER AFFAIRS",2,202330,7,6,1,1,2,{"$f":"+BD_DEP[[#This Row],[totalp]]/BD_DEP[[#This Row],[Mat Inicial]]","v":0.14285714285714285},{"$f":"+BD_DEP[[#This Row],[totalr]]/BD_DEP[[#This Row],[Mat Inicial]]","v":0.14285714285714285},{"$f":"+BD_DEP[[#This Row],[repi]]/BD_DEP[[#This Row],[Mat Inicial]]","v":0.2857142857142857},"77","Dpto. Lenguas Extranjeras",1190778,"Concu Valentina","TC","PR"]
[1425,"CLT4001","CULTURE & PEACEBUILDING",1,202330,17,15,0,2,2,{"$f":"+BD_DEP[[#This Row],[totalp]]/BD_DEP[[#This Row],[Mat Inicial]]","v":0},{"$f":"+BD_DEP[[#This Row],[totalr]]/BD_DEP[[#This Row],[Mat Inicial]]","v":0.11764705882352941},{"$f":"+BD_DEP[[#This Row],[repi]]/BD_DEP[[#This Row],[Mat Inicial]]","v":0.11764705882352941},"77","Dpto. Lenguas Extranjeras",72262106,"De la Rosa Yacomelo Johan","TC","PR"]
[1426,"CLT4001","CULTURE & PEACEBUILDING",2,202330,25,25,0,0,0,{"$f":"+BD_DEP[[#This Row],[totalp]]/BD_DEP[[#This Row],[Mat Inicial]]","v":0},{"$f":"+BD_DEP[[#This Row],[totalr]]/BD_DEP[[#This Row],[Mat Inicial]]","v":0},{"$f":"+BD_DEP[[#This Row],[repi]]/BD_DEP[[#This Row],[Mat Inicial]]","v":0},"77","Dpto. Lenguas Extranjeras",72262106,"De la Rosa Yacomelo Johan","TC","PR"]
[1427,"CLT4002","DES. PROYECTOS CULT. Y SOC.",1,202330,25,25,0,0,0,{"$f":"+BD_DEP[[#This Row],[totalp]]/BD_DEP[[#This Row],[Mat Inicial]]","v":0},{"$f":"+BD_DEP[[#This Row],[totalr]]/BD_DEP[[#This Row],[Mat Inicial]]","v":0},{"$f":"+BD_DEP[[#This Row],[repi]]/BD_DEP[[#This Row],[Mat Inicial]]","v":0},"77","Dpto. Lenguas Extranjeras",32749482,"Robles Noriega Heydy","TC","PR"]
[1428,"CLT4002","DES. PROYECTOS CULT. Y SOC.",2,202330,25,25,0,0,0,{"$f":"+BD_DEP[[#This Row],[totalp]]/BD_DEP[[#This Row],[Mat Inicial]]","v":0},{"$f":"+BD_DEP[[#This Row],[totalr]]/BD_DEP[[#This Row],[Mat Inicial]]","v":0},{"$f":"+BD_DEP[[#This Row],[repi]]/BD_DEP[[#This Row],[Mat Inicial]]","v":0},"77","Dpto. Lenguas Extranjeras",32749482,"Robles Noriega Heydy","TC","PR"]
[4516,"ALE0017","DEUTSCHE SPRACHE UND KULT 4",1,202330,9,9,0,0,0,{"$f":"+BD_DEP[[#This Row],[totalp]]/BD_DEP[[#This Row],[Mat Inicial]]","v":0},{"$f":"+BD_DEP[[#This Row],[totalr]]/BD_DEP[[#This Row],[Mat Inicial]]","v":0},{"$f":"+BD_DEP[[#This Row],[repi]]/BD_DEP[[#This Row],[Mat Inicial]]","v":0},"77","Dpto. Lenguas Extranjeras",8532130,"Gomez Casasbuenas Pablo","TC","PR"]
[4517,"ALE0018","DEUTSCHE SPRACHE UND KULT 5",1,202330,11,10,2,1,3,{"$f":"+BD_DEP[[#This Row],[totalp]]/BD_DEP[[#This Row],[Mat Inicial]]","v":0.18181818181818182},{"$f":"+BD_DEP[[#This Row],[totalr]]/BD_DEP[[#This Row],[Mat Inicial]]","v":9.0909090909090912E-2},{"$f":"+BD_DEP[[#This Row],[repi]]/BD_DEP[[#This Row],[Mat Inicial]]","v":0.27272727272727271},"77","Dpto. Lenguas Extranjeras",8532130,"Gomez Casasbuenas Pablo","TC","PR"]
[4518,"ALE0019","DEUTSCHE SPRACHE UND KULT 6",1,202330,12,12,0,0,0,{"$f":"+BD_DEP[[#This Row],[totalp]]/BD_DEP[[#This Row],[Mat Inicial]]","v":0},{"$f":"+BD_DEP[[#This Row],[totalr]]/BD_DEP[[#This Row],[Mat Inicial]]","v":0},{"$f":"+BD_DEP[[#This Row],[repi]]/BD_DEP[[#This Row],[Mat Inicial]]","v":0},"77","Dpto. Lenguas Extranjeras",8532130,"Gomez Casasbuenas Pablo","TC","PR"]
[4522,"ALE0026","DEUTSCHE SPRACHE UND KULT 7",1,202330,4,4,0,0,0,{"$f":"+BD_DEP[[#This Row],[totalp]]/BD_DEP[[#This Row],[Mat Inicial]]","v":0},{"$f":"+BD_DEP[[#This Row],[totalr]]/BD_DEP[[#This Row],[Mat Inicial]]","v":0},{"$f":"+BD_DEP[[#This Row],[repi]]/BD_DEP[[#This Row],[Mat Inicial]]","v":0},"77","Dpto. Lenguas Extranjeras",8532130,"Gomez Casasbuenas Pablo","TC","PR"]
[4523,"ALE0027","DEUTSCHE SPRACHE UND KULT 8",1,202330,17,17,5,0,5,{"$f":"+BD_DEP[[#This Row],[totalp]]/BD_DEP[[#This Row],[Mat Inicial]]","v":0.29411764705882354},{"$f":"+BD_DEP[[#This Row],[totalr]]/BD_DEP[[#This Row],[Mat Inicial]]","v":0},{"$f":"+BD_DEP[[#This Row],[repi]]/BD_DEP[[#This Row],[Mat Inicial]]","v":0.29411764705882354},"77","Dpto. Lenguas Extranjeras",1190778,"Concu Valentina","TC","PR"]
[2228,"IGL0376","ENGLISH FOR NURSING 2",1,202330,22,19,2,3,5,{"$f":"+BD_DEP[[#This Row],[totalp]]/BD_DEP[[#This Row],[Mat Inicial]]","v":9.0909090909090912E-2},{"$f":"+BD_DEP[[#This Row],[totalr]]/BD_DEP[[#This Row],[Mat Inicial]]","v":0.13636363636363635},{"$f":"+BD_DEP[[#This Row],[repi]]/BD_DEP[[#This Row],[Mat Inicial]]","v":0.22727272727272727},"77","Dpto. Lenguas Extranjeras",1018474979,"FONTALVO TORRES LAURA","TC","PR"]
[6535,"IGL0377","ENGLISH FOR NURSING 3",2,202330,13,13,0,0,0,{"$f":"+BD_DEP[[#This Row],[totalp]]/BD_DEP[[#This Row],[Mat Inicial]]","v":0},{"$f":"+BD_DEP[[#This Row],[totalr]]/BD_DEP[[#This Row],[Mat Inicial]]","v":0},{"$f":"+BD_DEP[[#This Row],[repi]]/BD_DEP[[#This Row],[Mat Inicial]]","v":0},"77","Dpto. Lenguas Extranjeras",1042422585,"Niebles Thevening Indira","TC","PR"]
[4741,"IGL4994","ENGLISH II",2,202330,18,16,1,2,3,{"$f":"+BD_DEP[[#This Row],[totalp]]/BD_DEP[[#This Row],[Mat Inicial]]","v":5.5555555555555552E-2},{"$f":"+BD_DEP[[#This Row],[totalr]]/BD_DEP[[#This Row],[Mat Inicial]]","v":0.1111111111111111},{"$f":"+BD_DEP[[#This Row],[repi]]/BD_DEP[[#This Row],[Mat Inicial]]","v":0.16666666666666666},"77","Dpto. Lenguas Extranjeras",1129503037,"Avila Trujillo Johanna","TC","PR"]
[4742,"IGL4994","ENGLISH II",3,202330,14,14,1,0,1,{"$f":"+BD_DEP[[#This Row],[totalp]]/BD_DEP[[#This Row],[Mat Inicial]]","v":7.1428571428571425E-2},{"$f":"+BD_DEP[[#This Row],[totalr]]/BD_DEP[[#This Row],[Mat Inicial]]","v":0},{"$f":"+BD_DEP[[#This Row],[repi]]/BD_DEP[[#This Row],[Mat Inicial]]","v":7.1428571428571425E-2},"77","Dpto. Lenguas Extranjeras",1129503037,"Avila Trujillo Johanna","TC","PR"]
[4355,"IGL5008","ENGLISH LANGUAGE I",51,202330,6,6,0,0,0,{"$f":"+BD_DEP[[#This Row],[totalp]]/BD_DEP[[#This Row],[Mat Inicial]]","v":0},{"$f":"+BD_DEP[[#This Row],[totalr]]/BD_DEP[[#This Row],[Mat Inicial]]","v":0},{"$f":"+BD_DEP[[#This Row],[repi]]/BD_DEP[[#This Row],[Mat Inicial]]","v":0},"77","Dpto. Lenguas Extranjeras",415479,"Heru Dewi","TC","PR"]
[4763,"IGL5010","ENGLISH LANGUAGE III",1,202330,17,17,0,0,0,{"$f":"+BD_DEP[[#This Row],[totalp]]/BD_DEP[[#This Row],[Mat Inicial]]","v":0},{"$f":"+BD_DEP[[#This Row],[totalr]]/BD_DEP[[#This Row],[Mat Inicial]]","v":0},{"$f":"+BD_DEP[[#This Row],[repi]]/BD_DEP[[#This Row],[Mat Inicial]]","v":0},"77","Dpto. Lenguas Extranjeras",1042434478,"Villanueva Niebles Elkin","TC","PR"]
[2232,"IGL5011","ENGLISH LANGUAGE IV",51,202330,21,21,1,0,1,{"$f":"+BD_DEP[[#This Row],[totalp]]/BD_DEP[[#This Row],[Mat Inicial]]","v":4.7619047619047616E-2},{"$f":"+BD_DEP[[#This Row],[totalr]]/BD_DEP[[#This Row],[Mat Inicial]]","v":0},{"$f":"+BD_DEP[[#This Row],[repi]]/BD_DEP[[#This Row],[Mat Inicial]]","v":4.7619047619047616E-2},"77","Dpto. Lenguas Extranjeras",13569625,"CAMPO BECERRA OSCAR","TC","PR"]
[4764,"IGL5011","ENGLISH LANGUAGE IV",1,202330,13,13,0,0,0,{"$f":"+BD_DEP[[#This Row],[totalp]]/BD_DEP[[#This Row],[Mat Inicial]]","v":0},{"$f":"+BD_DEP[[#This Row],[totalr]]/BD_DEP[[#This Row],[Mat Inicial]]","v":0},{"$f":"+BD_DEP[[#This Row],[repi]]/BD_DEP[[#This Row],[Mat Inicial]]","v":0},"77","Dpto. Lenguas Extranjeras",1140821186,"Delgado Cañas Martha","TC","PR"]
[4765,"IGL5012","ENGLISH LANGUAGE V",1,202330,21,21,0,0,0,{"$f":"+BD_DEP[[#This Row],[totalp]]/BD_DEP[[#This Row],[Mat Inicial]]","v":0},{"$f":"+BD_DEP[[#This Row],[totalr]]/BD_DEP[[#This Row],[Mat Inicial]]","v":0},{"$f":"+BD_DEP[[#This Row],[repi]]/BD_DEP[[#This Row],[Mat Inicial]]","v":0},"77","Dpto. Lenguas Extranjeras",494901,"MCGARRY CALLUM","TC","PR"]
[4766,"IGL5012","ENGLISH LANGUAGE V",2,202330,10,10,0,0,0,{"$f":"+BD_DEP[[#This Row],[totalp]]/BD_DEP[[#This Row],[Mat Inicial]]","v":0},{"$f":"+BD_DEP[[#This Row],[totalr]]/BD_DEP[[#This Row],[Mat Inicial]]","v":0},{"$f":"+BD_DEP[[#This Row],[repi]]/BD_DEP[[#This Row],[Mat Inicial]]","v":0},"77","Dpto. Lenguas Extranjeras",494901,"MCGARRY CALLUM","TC","PR"]
[4752,"IGL5000","ENGLISH V",3,202330,22,20,0,2,2,{"$f":"+BD_DEP[[#This Row],[totalp]]/BD_DEP[[#This Row],[Mat Inicial]]","v":0},{"$f":"+BD_DEP[[#This Row],[totalr]]/BD_DEP[[#This Row],[Mat Inicial]]","v":9.0909090909090912E-2},{"$f":"+BD_DEP[[#This Row],[repi]]/BD_DEP[[#This Row],[Mat Inicial]]","v":9.0909090909090912E-2},"77","Dpto. Lenguas Extranjeras",1129503037,"Avila Trujillo Johanna","TC","PR"]
[4753,"IGL5000","ENGLISH V",4,202330,21,21,2,0,2,{"$f":"+BD_DEP[[#This Row],[totalp]]/BD_DEP[[#This Row],[Mat Inicial]]","v":9.5238095238095233E-2},{"$f":"+BD_DEP[[#This Row],[totalr]]/BD_DEP[[#This Row],[Mat Inicial]]","v":0},{"$f":"+BD_DEP[[#This Row],[repi]]/BD_DEP[[#This Row],[Mat Inicial]]","v":9.5238095238095233E-2},"77","Dpto. Lenguas Extranjeras",1129503037,"Avila Trujillo Johanna","TC","PR"]
[6916,"IGL5002","ENGLISH VI",13,202330,2,2,0,0,0,{"$f":"+BD_DEP[[#This Row],[totalp]]/BD_DEP[[#This Row],[Mat Inicial]]","v":0},{"$f":"+BD_DEP[[#This Row],[totalr]]/BD_DEP[[#This Row],[Mat Inicial]]","v":0},{"$f":"+BD_DEP[[#This Row],[repi]]/BD_DEP[[#This Row],[Mat Inicial]]","v":0},"77","Dpto. Lenguas Extranjeras",408366,"Miller Andrew","TC","PR"]
[4795,"IGL8530","EX.INGLES VIII-SOCIAL AND SUST",6,202330,15,15,3,0,3,{"$f":"+BD_DEP[[#This Row],[totalp]]/BD_DEP[[#This Row],[Mat Inicial]]","v":0.2},{"$f":"+BD_DEP[[#This Row],[totalr]]/BD_DEP[[#This Row],[Mat Inicial]]","v":0},{"$f":"+BD_DEP[[#This Row],[repi]]/BD_DEP[[#This Row],[Mat Inicial]]","v":0.2},"77","Dpto. Lenguas Extranjeras",869870,"NEYLAND JR MICHAEL","TC","PR"]
[4791,"IGL8530","EX.INGLES VIII-SOCIAL AND SUST",2,202330,18,18,0,0,0,{"$f":"+BD_DEP[[#This Row],[totalp]]/BD_DEP[[#This Row],[Mat Inicial]]","v":0},{"$f":"+BD_DEP[[#This Row],[totalr]]/BD_DEP[[#This Row],[Mat Inicial]]","v":0},{"$f":"+BD_DEP[[#This Row],[repi]]/BD_DEP[[#This Row],[Mat Inicial]]","v":0},"77","Dpto. Lenguas Extranjeras",1042434478,"Villanueva Niebles Elkin","TC","PR"]
[4792,"IGL8530","EX.INGLES VIII-SOCIAL AND SUST",3,202330,23,21,0,2,2,{"$f":"+BD_DEP[[#This Row],[totalp]]/BD_DEP[[#This Row],[Mat Inicial]]","v":0},{"$f":"+BD_DEP[[#This Row],[totalr]]/BD_DEP[[#This Row],[Mat Inicial]]","v":8.6956521739130432E-2},{"$f":"+BD_DEP[[#This Row],[repi]]/BD_DEP[[#This Row],[Mat Inicial]]","v":8.6956521739130432E-2},"77","Dpto. Lenguas Extranjeras",1042434478,"Villanueva Niebles Elkin","TC","PR"]
[4794,"IGL8530","EX.INGLES VIII-SOCIAL AND SUST",5,202330,18,18,0,0,0,{"$f":"+BD_DEP[[#This Row],[totalp]]/BD_DEP[[#This Row],[Mat Inicial]]","v":0},{"$f":"+BD_DEP[[#This Row],[totalr]]/BD_DEP[[#This Row],[Mat Inicial]]","v":0},{"$f":"+BD_DEP[[#This Row],[repi]]/BD_DEP[[#This Row],[Mat Inicial]]","v":0},"77","Dpto. Lenguas Extranjeras",1129573356,"Villalba Ramos Karen","TC","PR"]
[6739,"IGL4895","EXIGENCIA  INGLES II",12,202330,6,6,1,0,1,{"$f":"+BD_DEP[[#This Row],[totalp]]/BD_DEP[[#This Row],[Mat Inicial]]","v":0.16666666666666666},{"$f":"+BD_DEP[[#This Row],[totalr]]/BD_DEP[[#This Row],[Mat Inicial]]","v":0},{"$f":"+BD_DEP[[#This Row],[repi]]/BD_DEP[[#This Row],[Mat Inicial]]","v":0.16666666666666666},"77","Dpto. Lenguas Extranjeras",1129503037,"Avila Trujillo Johanna","TC","PR"]
[4641,"IGL4905","EXIGENCIA  INGLES IV",14,202330,22,16,1,6,7,{"$f":"+BD_DEP[[#This Row],[totalp]]/BD_DEP[[#This Row],[Mat Inicial]]","v":4.5454545454545456E-2},{"$f":"+BD_DEP[[#This Row],[totalr]]/BD_DEP[[#This Row],[Mat Inicial]]","v":0.27272727272727271},{"$f":"+BD_DEP[[#This Row],[repi]]/BD_DEP[[#This Row],[Mat Inicial]]","v":0.31818181818181818},"77","Dpto. Lenguas Extranjeras",415479,"Heru Dewi","TC","PR"]
[4642,"IGL4905","EXIGENCIA  INGLES IV",15,202330,23,22,1,1,2,{"$f":"+BD_DEP[[#This Row],[totalp]]/BD_DEP[[#This Row],[Mat Inicial]]","v":4.3478260869565216E-2},{"$f":"+BD_DEP[[#This Row],[totalr]]/BD_DEP[[#This Row],[Mat Inicial]]","v":4.3478260869565216E-2},{"$f":"+BD_DEP[[#This Row],[repi]]/BD_DEP[[#This Row],[Mat Inicial]]","v":8.6956521739130432E-2},"77","Dpto. Lenguas Extranjeras",415479,"Heru Dewi","TC","PR"]
[4643,"IGL4910","EXIGENCIA  INGLES V",1,202330,18,16,2,2,4,{"$f":"+BD_DEP[[#This Row],[totalp]]/BD_DEP[[#This Row],[Mat Inicial]]","v":0.1111111111111111},{"$f":"+BD_DEP[[#This Row],[totalr]]/BD_DEP[[#This Row],[Mat Inicial]]","v":0.1111111111111111},{"$f":"+BD_DEP[[#This Row],[repi]]/BD_DEP[[#This Row],[Mat Inicial]]","v":0.22222222222222221},"77","Dpto. Lenguas Extranjeras",7545505,"COLEMAN MICHELLE","TC","PR"]
[4658,"IGL4910","EXIGENCIA  INGLES V",16,202330,19,19,1,0,1,{"$f":"+BD_DEP[[#This Row],[totalp]]/BD_DEP[[#This Row],[Mat Inicial]]","v":5.2631578947368418E-2},{"$f":"+BD_DEP[[#This Row],[totalr]]/BD_DEP[[#This Row],[Mat Inicial]]","v":0},{"$f":"+BD_DEP[[#This Row],[repi]]/BD_DEP[[#This Row],[Mat Inicial]]","v":5.2631578947368418E-2},"77","Dpto. Lenguas Extranjeras",7545505,"COLEMAN MICHELLE","TC","PR"]
[4659,"IGL4910","EXIGENCIA  INGLES V",17,202330,23,23,1,0,1,{"$f":"+BD_DEP[[#This Row],[totalp]]/BD_DEP[[#This Row],[Mat Inicial]]","v":4.3478260869565216E-2},{"$f":"+BD_DEP[[#This Row],[totalr]]/BD_DEP[[#This Row],[Mat Inicial]]","v":0},{"$f":"+BD_DEP[[#This Row],[repi]]/BD_DEP[[#This Row],[Mat Inicial]]","v":4.3478260869565216E-2},"77","Dpto. Lenguas Extranjeras",7545505,"COLEMAN MICHELLE","TC","PR"]
[4646,"IGL4910","EXIGENCIA  INGLES V",4,202330,23,21,0,2,2,{"$f":"+BD_DEP[[#This Row],[totalp]]/BD_DEP[[#This Row],[Mat Inicial]]","v":0},{"$f":"+BD_DEP[[#This Row],[totalr]]/BD_DEP[[#This Row],[Mat Inicial]]","v":8.6956521739130432E-2},{"$f":"+BD_DEP[[#This Row],[repi]]/BD_DEP[[#This Row],[Mat Inicial]]","v":8.6956521739130432E-2},"77","Dpto. Lenguas Extranjeras",72311427,"Rodriguez Sanchez Andres","TC","PR"]
[4648,"IGL4910","EXIGENCIA  INGLES V",6,202330,23,23,0,0,0,{"$f":"+BD_DEP[[#This Row],[totalp]]/BD_DEP[[#This Row],[Mat Inicial]]","v":0},{"$f":"+BD_DEP[[#This Row],[totalr]]/BD_DEP[[#This Row],[Mat Inicial]]","v":0},{"$f":"+BD_DEP[[#This Row],[repi]]/BD_DEP[[#This Row],[Mat Inicial]]","v":0},"77","Dpto. Lenguas Extranjeras",72311427,"Rodriguez Sanchez Andres","TC","PR"]
[4649,"IGL4910","EXIGENCIA  INGLES V",7,202330,22,22,0,0,0,{"$f":"+BD_DEP[[#This Row],[totalp]]/BD_DEP[[#This Row],[Mat Inicial]]","v":0},{"$f":"+BD_DEP[[#This Row],[totalr]]/BD_DEP[[#This Row],[Mat Inicial]]","v":0},{"$f":"+BD_DEP[[#This Row],[repi]]/BD_DEP[[#This Row],[Mat Inicial]]","v":0},"77","Dpto. Lenguas Extranjeras",72311427,"Rodriguez Sanchez Andres","TC","PR"]
[6605,"IGL4910","EXIGENCIA  INGLES V",18,202330,19,16,2,3,5,{"$f":"+BD_DEP[[#This Row],[totalp]]/BD_DEP[[#This Row],[Mat Inicial]]","v":0.10526315789473684},{"$f":"+BD_DEP[[#This Row],[totalr]]/BD_DEP[[#This Row],[Mat Inicial]]","v":0.15789473684210525},{"$f":"+BD_DEP[[#This Row],[repi]]/BD_DEP[[#This Row],[Mat Inicial]]","v":0.26315789473684209},"77","Dpto. Lenguas Extranjeras",1129573356,"Villalba Ramos Karen","TC","PR"]
[4675,"IGL4915","EXIGENCIA  INGLES VI",16,202330,23,22,1,1,2,{"$f":"+BD_DEP[[#This Row],[totalp]]/BD_DEP[[#This Row],[Mat Inicial]]","v":4.3478260869565216E-2},{"$f":"+BD_DEP[[#This Row],[totalr]]/BD_DEP[[#This Row],[Mat Inicial]]","v":4.3478260869565216E-2},{"$f":"+BD_DEP[[#This Row],[repi]]/BD_DEP[[#This Row],[Mat Inicial]]","v":8.6956521739130432E-2},"77","Dpto. Lenguas Extranjeras",408366,"Miller Andrew","TC","PR"]
[4676,"IGL4915","EXIGENCIA  INGLES VI",17,202330,23,23,0,0,0,{"$f":"+BD_DEP[[#This Row],[totalp]]/BD_DEP[[#This Row],[Mat Inicial]]","v":0},{"$f":"+BD_DEP[[#This Row],[totalr]]/BD_DEP[[#This Row],[Mat Inicial]]","v":0},{"$f":"+BD_DEP[[#This Row],[repi]]/BD_DEP[[#This Row],[Mat Inicial]]","v":0},"77","Dpto. Lenguas Extranjeras",408366,"Miller Andrew","TC","PR"]
[4677,"IGL4915","EXIGENCIA  INGLES VI",18,202330,22,21,3,1,4,{"$f":"+BD_DEP[[#This Row],[totalp]]/BD_DEP[[#This Row],[Mat Inicial]]","v":0.13636363636363635},{"$f":"+BD_DEP[[#This Row],[totalr]]/BD_DEP[[#This Row],[Mat Inicial]]","v":4.5454545454545456E-2},{"$f":"+BD_DEP[[#This Row],[repi]]/BD_DEP[[#This Row],[Mat Inicial]]","v":0.18181818181818182},"77","Dpto. Lenguas Extranjeras",408366,"Miller Andrew","TC","PR"]
[4680,"IGL4915","EXIGENCIA  INGLES VI",21,202330,23,21,7,2,9,{"$f":"+BD_DEP[[#This Row],[totalp]]/BD_DEP[[#This Row],[Mat Inicial]]","v":0.30434782608695654},{"$f":"+BD_DEP[[#This Row],[totalr]]/BD_DEP[[#This Row],[Mat Inicial]]","v":8.6956521739130432E-2},{"$f":"+BD_DEP[[#This Row],[repi]]/BD_DEP[[#This Row],[Mat Inicial]]","v":0.39130434782608697},"77","Dpto. Lenguas Extranjeras",1065579468,"Rodriguez Fuentes Rodrigo","TC","PR"]
[4530,"ALE4051","EXIGENCIA ALEMAN IV",2,202330,2,2,0,0,0,{"$f":"+BD_DEP[[#This Row],[totalp]]/BD_DEP[[#This Row],[Mat Inicial]]","v":0},{"$f":"+BD_DEP[[#This Row],[totalr]]/BD_DEP[[#This Row],[Mat Inicial]]","v":0},{"$f":"+BD_DEP[[#This Row],[repi]]/BD_DEP[[#This Row],[Mat Inicial]]","v":0},"77","Dpto. Lenguas Extranjeras",1143255780,"Araujo Porras Julieth","TC","PR"]
[4535,"ALE7081","EXIGENCIA ALEMAN VII",2,202330,10,10,1,0,1,{"$f":"+BD_DEP[[#This Row],[totalp]]/BD_DEP[[#This Row],[Mat Inicial]]","v":0.1},{"$f":"+BD_DEP[[#This Row],[totalr]]/BD_DEP[[#This Row],[Mat Inicial]]","v":0},{"$f":"+BD_DEP[[#This Row],[repi]]/BD_DEP[[#This Row],[Mat Inicial]]","v":0.1},"77","Dpto. Lenguas Extranjeras",8532130,"Gomez Casasbuenas Pablo","TC","PR"]
[4565,"FRA1040","EXIGENCIA DE FRANCES IV",5,202330,14,12,0,2,2,{"$f":"+BD_DEP[[#This Row],[totalp]]/BD_DEP[[#This Row],[Mat Inicial]]","v":0},{"$f":"+BD_DEP[[#This Row],[totalr]]/BD_DEP[[#This Row],[Mat Inicial]]","v":0.14285714285714285},{"$f":"+BD_DEP[[#This Row],[repi]]/BD_DEP[[#This Row],[Mat Inicial]]","v":0.14285714285714285},"77","Dpto. Lenguas Extranjeras",6699376,"Robert Caniard Beatrice","TC","PR"]
[4569,"FRA4020","EXIGENCIA DE FRANCES VI",1,202330,23,23,2,0,2,{"$f":"+BD_DEP[[#This Row],[totalp]]/BD_DEP[[#This Row],[Mat Inicial]]","v":8.6956521739130432E-2},{"$f":"+BD_DEP[[#This Row],[totalr]]/BD_DEP[[#This Row],[Mat Inicial]]","v":0},{"$f":"+BD_DEP[[#This Row],[repi]]/BD_DEP[[#This Row],[Mat Inicial]]","v":8.6956521739130432E-2},"77","Dpto. Lenguas Extranjeras",6699376,"Robert Caniard Beatrice","TC","PR"]
[4571,"FRA4020","EXIGENCIA DE FRANCES VI",3,202330,21,20,2,1,3,{"$f":"+BD_DEP[[#This Row],[totalp]]/BD_DEP[[#This Row],[Mat Inicial]]","v":9.5238095238095233E-2},{"$f":"+BD_DEP[[#This Row],[totalr]]/BD_DEP[[#This Row],[Mat Inicial]]","v":4.7619047619047616E-2},{"$f":"+BD_DEP[[#This Row],[repi]]/BD_DEP[[#This Row],[Mat Inicial]]","v":0.14285714285714285},"77","Dpto. Lenguas Extranjeras",6699376,"Robert Caniard Beatrice","TC","PR"]
[4576,"FRA7021","EXIGENCIA DE FRANCES VIII",2,202330,16,16,0,0,0,{"$f":"+BD_DEP[[#This Row],[totalp]]/BD_DEP[[#This Row],[Mat Inicial]]","v":0},{"$f":"+BD_DEP[[#This Row],[totalr]]/BD_DEP[[#This Row],[Mat Inicial]]","v":0},{"$f":"+BD_DEP[[#This Row],[repi]]/BD_DEP[[#This Row],[Mat Inicial]]","v":0},"77","Dpto. Lenguas Extranjeras",6699376,"Robert Caniard Beatrice","TC","PR"]
[6746,"FRA7021","EXIGENCIA DE FRANCES VIII",5,202330,10,10,0,0,0,{"$f":"+BD_DEP[[#This Row],[totalp]]/BD_DEP[[#This Row],[Mat Inicial]]","v":0},{"$f":"+BD_DEP[[#This Row],[totalr]]/BD_DEP[[#This Row],[Mat Inicial]]","v":0},{"$f":"+BD_DEP[[#This Row],[repi]]/BD_DEP[[#This Row],[Mat Inicial]]","v":0},"77","Dpto. Lenguas Extranjeras",6699376,"Robert Caniard Beatrice","TC","PR"]
[4693,"IGL4920","EXIGENCIA INGLES VII",12,202330,23,23,1,0,1,{"$f":"+BD_DEP[[#This Row],[totalp]]/BD_DEP[[#This Row],[Mat Inicial]]","v":4.3478260869565216E-2},{"$f":"+BD_DEP[[#This Row],[totalr]]/BD_DEP[[#This Row],[Mat Inicial]]","v":0},{"$f":"+BD_DEP[[#This Row],[repi]]/BD_DEP[[#This Row],[Mat Inicial]]","v":4.3478260869565216E-2},"77","Dpto. Lenguas Extranjeras",408366,"Miller Andrew","TC","PR"]
[4694,"IGL4920","EXIGENCIA INGLES VII",13,202330,22,22,1,0,1,{"$f":"+BD_DEP[[#This Row],[totalp]]/BD_DEP[[#This Row],[Mat Inicial]]","v":4.5454545454545456E-2},{"$f":"+BD_DEP[[#This Row],[totalr]]/BD_DEP[[#This Row],[Mat Inicial]]","v":0},{"$f":"+BD_DEP[[#This Row],[repi]]/BD_DEP[[#This Row],[Mat Inicial]]","v":4.5454545454545456E-2},"77","Dpto. Lenguas Extranjeras",408366,"Miller Andrew","TC","PR"]
[6634,"IGL4920","EXIGENCIA INGLES VII",24,202330,22,21,2,1,3,{"$f":"+BD_DEP[[#This Row],[totalp]]/BD_DEP[[#This Row],[Mat Inicial]]","v":9.0909090909090912E-2},{"$f":"+BD_DEP[[#This Row],[totalr]]/BD_DEP[[#This Row],[Mat Inicial]]","v":4.5454545454545456E-2},{"$f":"+BD_DEP[[#This Row],[repi]]/BD_DEP[[#This Row],[Mat Inicial]]","v":0.13636363636363635},"77","Dpto. Lenguas Extranjeras",32749482,"Robles Noriega Heydy","TC","PR"]
[4689,"IGL4920","EXIGENCIA INGLES VII",8,202330,17,15,0,2,2,{"$f":"+BD_DEP[[#This Row],[totalp]]/BD_DEP[[#This Row],[Mat Inicial]]","v":0},{"$f":"+BD_DEP[[#This Row],[totalr]]/BD_DEP[[#This Row],[Mat Inicial]]","v":0.11764705882352941},{"$f":"+BD_DEP[[#This Row],[repi]]/BD_DEP[[#This Row],[Mat Inicial]]","v":0.11764705882352941},"77","Dpto. Lenguas Extranjeras",72311427,"Rodriguez Sanchez Andres","TC","PR"]
[4691,"IGL4920","EXIGENCIA INGLES VII",10,202330,22,22,0,0,0,{"$f":"+BD_DEP[[#This Row],[totalp]]/BD_DEP[[#This Row],[Mat Inicial]]","v":0},{"$f":"+BD_DEP[[#This Row],[totalr]]/BD_DEP[[#This Row],[Mat Inicial]]","v":0},{"$f":"+BD_DEP[[#This Row],[repi]]/BD_DEP[[#This Row],[Mat Inicial]]","v":0},"77","Dpto. Lenguas Extranjeras",72311427,"Rodriguez Sanchez Andres","TC","PR"]
[4682,"IGL4920","EXIGENCIA INGLES VII",1,202330,23,23,0,0,0,{"$f":"+BD_DEP[[#This Row],[totalp]]/BD_DEP[[#This Row],[Mat Inicial]]","v":0},{"$f":"+BD_DEP[[#This Row],[totalr]]/BD_DEP[[#This Row],[Mat Inicial]]","v":0},{"$f":"+BD_DEP[[#This Row],[repi]]/BD_DEP[[#This Row],[Mat Inicial]]","v":0},"77","Dpto. Lenguas Extranjeras",1127472001,"Stubbs Chirolla Paul","TC","PR"]
[4683,"IGL4920","EXIGENCIA INGLES VII",2,202330,23,21,1,2,3,{"$f":"+BD_DEP[[#This Row],[totalp]]/BD_DEP[[#This Row],[Mat Inicial]]","v":4.3478260869565216E-2},{"$f":"+BD_DEP[[#This Row],[totalr]]/BD_DEP[[#This Row],[Mat Inicial]]","v":8.6956521739130432E-2},{"$f":"+BD_DEP[[#This Row],[repi]]/BD_DEP[[#This Row],[Mat Inicial]]","v":0.13043478260869565},"77","Dpto. Lenguas Extranjeras",1127472001,"Stubbs Chirolla Paul","TC","PR"]
[4685,"IGL4920","EXIGENCIA INGLES VII",4,202330,22,20,0,2,2,{"$f":"+BD_DEP[[#This Row],[totalp]]/BD_DEP[[#This Row],[Mat Inicial]]","v":0},{"$f":"+BD_DEP[[#This Row],[totalr]]/BD_DEP[[#This Row],[Mat Inicial]]","v":9.0909090909090912E-2},{"$f":"+BD_DEP[[#This Row],[repi]]/BD_DEP[[#This Row],[Mat Inicial]]","v":9.0909090909090912E-2},"77","Dpto. Lenguas Extranjeras",1127472001,"Stubbs Chirolla Paul","TC","PR"]
[4686,"IGL4920","EXIGENCIA INGLES VII",5,202330,19,18,0,1,1,{"$f":"+BD_DEP[[#This Row],[totalp]]/BD_DEP[[#This Row],[Mat Inicial]]","v":0},{"$f":"+BD_DEP[[#This Row],[totalr]]/BD_DEP[[#This Row],[Mat Inicial]]","v":5.2631578947368418E-2},{"$f":"+BD_DEP[[#This Row],[repi]]/BD_DEP[[#This Row],[Mat Inicial]]","v":5.2631578947368418E-2},"77","Dpto. Lenguas Extranjeras",1127472001,"Stubbs Chirolla Paul","TC","PR"]
[4702,"IGL4920","EXIGENCIA INGLES VII",21,202330,22,21,1,1,2,{"$f":"+BD_DEP[[#This Row],[totalp]]/BD_DEP[[#This Row],[Mat Inicial]]","v":4.5454545454545456E-2},{"$f":"+BD_DEP[[#This Row],[totalr]]/BD_DEP[[#This Row],[Mat Inicial]]","v":4.5454545454545456E-2},{"$f":"+BD_DEP[[#This Row],[repi]]/BD_DEP[[#This Row],[Mat Inicial]]","v":9.0909090909090912E-2},"77","Dpto. Lenguas Extranjeras",1127472001,"Stubbs Chirolla Paul","TC","PR"]
[4695,"IGL4920","EXIGENCIA INGLES VII",14,202330,22,19,3,3,6,{"$f":"+BD_DEP[[#This Row],[totalp]]/BD_DEP[[#This Row],[Mat Inicial]]","v":0.13636363636363635},{"$f":"+BD_DEP[[#This Row],[totalr]]/BD_DEP[[#This Row],[Mat Inicial]]","v":0.13636363636363635},{"$f":"+BD_DEP[[#This Row],[repi]]/BD_DEP[[#This Row],[Mat Inicial]]","v":0.27272727272727271},"77","Dpto. Lenguas Extranjeras",1129573356,"Villalba Ramos Karen","TC","PR"]
[4718,"IGL4925","EXIGENCIA INGLES VIII",13,202330,13,12,0,1,1,{"$f":"+BD_DEP[[#This Row],[totalp]]/BD_DEP[[#This Row],[Mat Inicial]]","v":0},{"$f":"+BD_DEP[[#This Row],[totalr]]/BD_DEP[[#This Row],[Mat Inicial]]","v":7.6923076923076927E-2},{"$f":"+BD_DEP[[#This Row],[repi]]/BD_DEP[[#This Row],[Mat Inicial]]","v":7.6923076923076927E-2},"77","Dpto. Lenguas Extranjeras",371400,"McClain Steven","TC","PR"]
[6873,"IGL4925","EXIGENCIA INGLES VIII",11,202330,15,14,0,1,1,{"$f":"+BD_DEP[[#This Row],[totalp]]/BD_DEP[[#This Row],[Mat Inicial]]","v":0},{"$f":"+BD_DEP[[#This Row],[totalr]]/BD_DEP[[#This Row],[Mat Inicial]]","v":6.6666666666666666E-2},{"$f":"+BD_DEP[[#This Row],[repi]]/BD_DEP[[#This Row],[Mat Inicial]]","v":6.6666666666666666E-2},"77","Dpto. Lenguas Extranjeras",371400,"McClain Steven","TC","PR"]
[4706,"IGL4925","EXIGENCIA INGLES VIII",1,202330,23,23,0,0,0,{"$f":"+BD_DEP[[#This Row],[totalp]]/BD_DEP[[#This Row],[Mat Inicial]]","v":0},{"$f":"+BD_DEP[[#This Row],[totalr]]/BD_DEP[[#This Row],[Mat Inicial]]","v":0},{"$f":"+BD_DEP[[#This Row],[repi]]/BD_DEP[[#This Row],[Mat Inicial]]","v":0},"77","Dpto. Lenguas Extranjeras",381823,"Wade Hillary","TC","PR"]
[4707,"IGL4925","EXIGENCIA INGLES VIII",2,202330,20,20,0,0,0,{"$f":"+BD_DEP[[#This Row],[totalp]]/BD_DEP[[#This Row],[Mat Inicial]]","v":0},{"$f":"+BD_DEP[[#This Row],[totalr]]/BD_DEP[[#This Row],[Mat Inicial]]","v":0},{"$f":"+BD_DEP[[#This Row],[repi]]/BD_DEP[[#This Row],[Mat Inicial]]","v":0},"77","Dpto. Lenguas Extranjeras",381823,"Wade Hillary","TC","PR"]
[4708,"IGL4925","EXIGENCIA INGLES VIII",3,202330,22,21,1,1,2,{"$f":"+BD_DEP[[#This Row],[totalp]]/BD_DEP[[#This Row],[Mat Inicial]]","v":4.5454545454545456E-2},{"$f":"+BD_DEP[[#This Row],[totalr]]/BD_DEP[[#This Row],[Mat Inicial]]","v":4.5454545454545456E-2},{"$f":"+BD_DEP[[#This Row],[repi]]/BD_DEP[[#This Row],[Mat Inicial]]","v":9.0909090909090912E-2},"77","Dpto. Lenguas Extranjeras",381823,"Wade Hillary","TC","PR"]
[4709,"IGL4925","EXIGENCIA INGLES VIII",4,202330,18,17,2,1,3,{"$f":"+BD_DEP[[#This Row],[totalp]]/BD_DEP[[#This Row],[Mat Inicial]]","v":0.1111111111111111},{"$f":"+BD_DEP[[#This Row],[totalr]]/BD_DEP[[#This Row],[Mat Inicial]]","v":5.5555555555555552E-2},{"$f":"+BD_DEP[[#This Row],[repi]]/BD_DEP[[#This Row],[Mat Inicial]]","v":0.16666666666666666},"77","Dpto. Lenguas Extranjeras",381823,"Wade Hillary","TC","PR"]
[4710,"IGL4925","EXIGENCIA INGLES VIII",5,202330,22,22,0,0,0,{"$f":"+BD_DEP[[#This Row],[totalp]]/BD_DEP[[#This Row],[Mat Inicial]]","v":0},{"$f":"+BD_DEP[[#This Row],[totalr]]/BD_DEP[[#This Row],[Mat Inicial]]","v":0},{"$f":"+BD_DEP[[#This Row],[repi]]/BD_DEP[[#This Row],[Mat Inicial]]","v":0},"77","Dpto. Lenguas Extranjeras",869870,"NEYLAND JR MICHAEL","TC","PR"]
[4715,"IGL4925","EXIGENCIA INGLES VIII",10,202330,22,22,0,0,0,{"$f":"+BD_DEP[[#This Row],[totalp]]/BD_DEP[[#This Row],[Mat Inicial]]","v":0},{"$f":"+BD_DEP[[#This Row],[totalr]]/BD_DEP[[#This Row],[Mat Inicial]]","v":0},{"$f":"+BD_DEP[[#This Row],[repi]]/BD_DEP[[#This Row],[Mat Inicial]]","v":0},"77","Dpto. Lenguas Extranjeras",869870,"NEYLAND JR MICHAEL","TC","PR"]
[6602,"IGL4925","EXIGENCIA INGLES VIII",14,202330,23,19,0,4,4,{"$f":"+BD_DEP[[#This Row],[totalp]]/BD_DEP[[#This Row],[Mat Inicial]]","v":0},{"$f":"+BD_DEP[[#This Row],[totalr]]/BD_DEP[[#This Row],[Mat Inicial]]","v":0.17391304347826086},{"$f":"+BD_DEP[[#This Row],[repi]]/BD_DEP[[#This Row],[Mat Inicial]]","v":0.17391304347826086},"77","Dpto. Lenguas Extranjeras",869870,"NEYLAND JR MICHAEL","TC","PR"]
[4717,"IGL4925","EXIGENCIA INGLES VIII",12,202330,23,22,1,1,2,{"$f":"+BD_DEP[[#This Row],[totalp]]/BD_DEP[[#This Row],[Mat Inicial]]","v":4.3478260869565216E-2},{"$f":"+BD_DEP[[#This Row],[totalr]]/BD_DEP[[#This Row],[Mat Inicial]]","v":4.3478260869565216E-2},{"$f":"+BD_DEP[[#This Row],[repi]]/BD_DEP[[#This Row],[Mat Inicial]]","v":8.6956521739130432E-2},"77","Dpto. Lenguas Extranjeras",72262106,"De la Rosa Yacomelo Johan","TC","PR"]
[4711,"IGL4925","EXIGENCIA INGLES VIII",6,202330,22,21,0,1,1,{"$f":"+BD_DEP[[#This Row],[totalp]]/BD_DEP[[#This Row],[Mat Inicial]]","v":0},{"$f":"+BD_DEP[[#This Row],[totalr]]/BD_DEP[[#This Row],[Mat Inicial]]","v":4.5454545454545456E-2},{"$f":"+BD_DEP[[#This Row],[repi]]/BD_DEP[[#This Row],[Mat Inicial]]","v":4.5454545454545456E-2},"77","Dpto. Lenguas Extranjeras",1140821186,"Delgado Cañas Martha","TC","PR"]
[2975,"POR4050","EXIGENCIA PORTUGUES I",1,202330,20,20,1,0,1,{"$f":"+BD_DEP[[#This Row],[totalp]]/BD_DEP[[#This Row],[Mat Inicial]]","v":0.05},{"$f":"+BD_DEP[[#This Row],[totalr]]/BD_DEP[[#This Row],[Mat Inicial]]","v":0},{"$f":"+BD_DEP[[#This Row],[repi]]/BD_DEP[[#This Row],[Mat Inicial]]","v":0.05},"77","Dpto. Lenguas Extranjeras",406834,"Sifuentes Mena Da Silva Melina","TC","PR"]
[6723,"POR4050","EXIGENCIA PORTUGUES I",2,202330,13,13,0,0,0,{"$f":"+BD_DEP[[#This Row],[totalp]]/BD_DEP[[#This Row],[Mat Inicial]]","v":0},{"$f":"+BD_DEP[[#This Row],[totalr]]/BD_DEP[[#This Row],[Mat Inicial]]","v":0},{"$f":"+BD_DEP[[#This Row],[repi]]/BD_DEP[[#This Row],[Mat Inicial]]","v":0},"77","Dpto. Lenguas Extranjeras",406834,"Sifuentes Mena Da Silva Melina","TC","PR"]
[4805,"POR4055","EXIGENCIA PORTUGUES II",1,202330,15,15,0,0,0,{"$f":"+BD_DEP[[#This Row],[totalp]]/BD_DEP[[#This Row],[Mat Inicial]]","v":0},{"$f":"+BD_DEP[[#This Row],[totalr]]/BD_DEP[[#This Row],[Mat Inicial]]","v":0},{"$f":"+BD_DEP[[#This Row],[repi]]/BD_DEP[[#This Row],[Mat Inicial]]","v":0},"77","Dpto. Lenguas Extranjeras",406834,"Sifuentes Mena Da Silva Melina","TC","PR"]
[4806,"POR4060","EXIGENCIA PORTUGUES III",1,202330,11,11,0,0,0,{"$f":"+BD_DEP[[#This Row],[totalp]]/BD_DEP[[#This Row],[Mat Inicial]]","v":0},{"$f":"+BD_DEP[[#This Row],[totalr]]/BD_DEP[[#This Row],[Mat Inicial]]","v":0},{"$f":"+BD_DEP[[#This Row],[repi]]/BD_DEP[[#This Row],[Mat Inicial]]","v":0},"77","Dpto. Lenguas Extranjeras",481000,"Kleaim Luiz","TC","PR"]
[4807,"POR4065","EXIGENCIA PORTUGUES IV",1,202330,14,14,0,0,0,{"$f":"+BD_DEP[[#This Row],[totalp]]/BD_DEP[[#This Row],[Mat Inicial]]","v":0},{"$f":"+BD_DEP[[#This Row],[totalr]]/BD_DEP[[#This Row],[Mat Inicial]]","v":0},{"$f":"+BD_DEP[[#This Row],[repi]]/BD_DEP[[#This Row],[Mat Inicial]]","v":0},"77","Dpto. Lenguas Extranjeras",406834,"Sifuentes Mena Da Silva Melina","TC","PR"]
[4808,"POR4070","EXIGENCIA PORTUGUES V",1,202330,8,7,0,1,1,{"$f":"+BD_DEP[[#This Row],[totalp]]/BD_DEP[[#This Row],[Mat Inicial]]","v":0},{"$f":"+BD_DEP[[#This Row],[totalr]]/BD_DEP[[#This Row],[Mat Inicial]]","v":0.125},{"$f":"+BD_DEP[[#This Row],[repi]]/BD_DEP[[#This Row],[Mat Inicial]]","v":0.125},"77","Dpto. Lenguas Extranjeras",406834,"Sifuentes Mena Da Silva Melina","TC","PR"]
[6836,"POR4070","EXIGENCIA PORTUGUES V",2,202330,1,1,0,0,0,{"$f":"+BD_DEP[[#This Row],[totalp]]/BD_DEP[[#This Row],[Mat Inicial]]","v":0},{"$f":"+BD_DEP[[#This Row],[totalr]]/BD_DEP[[#This Row],[Mat Inicial]]","v":0},{"$f":"+BD_DEP[[#This Row],[repi]]/BD_DEP[[#This Row],[Mat Inicial]]","v":0},"77","Dpto. Lenguas Extranjeras",406834,"Sifuentes Mena Da Silva Melina","TC","PR"]
[4809,"POR4075","EXIGENCIA PORTUGUES VI",1,202330,11,11,0,0,0,{"$f":"+BD_DEP[[#This Row],[totalp]]/BD_DEP[[#This Row],[Mat Inicial]]","v":0},{"$f":"+BD_DEP[[#This Row],[totalr]]/BD_DEP[[#This Row],[Mat Inicial]]","v":0},{"$f":"+BD_DEP[[#This Row],[repi]]/BD_DEP[[#This Row],[Mat Inicial]]","v":0},"77","Dpto. Lenguas Extranjeras",481000,"Kleaim Luiz","TC","PR"]
[4810,"POR4080","EXIGENCIA PORTUGUES VII",1,202330,9,9,1,0,1,{"$f":"+BD_DEP[[#This Row],[totalp]]/BD_DEP[[#This Row],[Mat Inicial]]","v":0.1111111111111111},{"$f":"+BD_DEP[[#This Row],[totalr]]/BD_DEP[[#This Row],[Mat Inicial]]","v":0},{"$f":"+BD_DEP[[#This Row],[repi]]/BD_DEP[[#This Row],[Mat Inicial]]","v":0.1111111111111111},"77","Dpto. Lenguas Extranjeras",481000,"Kleaim Luiz","TC","PR"]
[4811,"POR4085","EXIGENCIA PORTUGUES VIII",1,202330,16,16,0,0,0,{"$f":"+BD_DEP[[#This Row],[totalp]]/BD_DEP[[#This Row],[Mat Inicial]]","v":0},{"$f":"+BD_DEP[[#This Row],[totalr]]/BD_DEP[[#This Row],[Mat Inicial]]","v":0},{"$f":"+BD_DEP[[#This Row],[repi]]/BD_DEP[[#This Row],[Mat Inicial]]","v":0},"77","Dpto. Lenguas Extranjeras",481000,"Kleaim Luiz","TC","PR"]
[3136,"TCH4000","FOREIGN LANG TEACHING I",1,202330,18,18,2,0,2,{"$f":"+BD_DEP[[#This Row],[totalp]]/BD_DEP[[#This Row],[Mat Inicial]]","v":0.1111111111111111},{"$f":"+BD_DEP[[#This Row],[totalr]]/BD_DEP[[#This Row],[Mat Inicial]]","v":0},{"$f":"+BD_DEP[[#This Row],[repi]]/BD_DEP[[#This Row],[Mat Inicial]]","v":0.1111111111111111},"77","Dpto. Lenguas Extranjeras",22449373,"Rey Paba Lourdes","TC","PR"]
[3137,"TCH4000","FOREIGN LANG TEACHING I",2,202330,14,14,1,0,1,{"$f":"+BD_DEP[[#This Row],[totalp]]/BD_DEP[[#This Row],[Mat Inicial]]","v":7.1428571428571425E-2},{"$f":"+BD_DEP[[#This Row],[totalr]]/BD_DEP[[#This Row],[Mat Inicial]]","v":0},{"$f":"+BD_DEP[[#This Row],[repi]]/BD_DEP[[#This Row],[Mat Inicial]]","v":7.1428571428571425E-2},"77","Dpto. Lenguas Extranjeras",22449373,"Rey Paba Lourdes","TC","PR"]
[3138,"TCH4001","FOREIGN LANG TEACHING II",1,202330,25,25,1,0,1,{"$f":"+BD_DEP[[#This Row],[totalp]]/BD_DEP[[#This Row],[Mat Inicial]]","v":0.04},{"$f":"+BD_DEP[[#This Row],[totalr]]/BD_DEP[[#This Row],[Mat Inicial]]","v":0},{"$f":"+BD_DEP[[#This Row],[repi]]/BD_DEP[[#This Row],[Mat Inicial]]","v":0.04},"77","Dpto. Lenguas Extranjeras",299379,"Corrales Kathleen","TC","PR"]
[3139,"TCH4001","FOREIGN LANG TEACHING II",2,202330,26,25,1,1,2,{"$f":"+BD_DEP[[#This Row],[totalp]]/BD_DEP[[#This Row],[Mat Inicial]]","v":3.8461538461538464E-2},{"$f":"+BD_DEP[[#This Row],[totalr]]/BD_DEP[[#This Row],[Mat Inicial]]","v":3.8461538461538464E-2},{"$f":"+BD_DEP[[#This Row],[repi]]/BD_DEP[[#This Row],[Mat Inicial]]","v":7.6923076923076927E-2},"77","Dpto. Lenguas Extranjeras",299379,"Corrales Kathleen","TC","PR"]
[3141,"TCH4002","FOREIGN LANG TEACHING III",1,202330,10,10,0,0,0,{"$f":"+BD_DEP[[#This Row],[totalp]]/BD_DEP[[#This Row],[Mat Inicial]]","v":0},{"$f":"+BD_DEP[[#This Row],[totalr]]/BD_DEP[[#This Row],[Mat Inicial]]","v":0},{"$f":"+BD_DEP[[#This Row],[repi]]/BD_DEP[[#This Row],[Mat Inicial]]","v":0},"77","Dpto. Lenguas Extranjeras",1065579468,"Rodriguez Fuentes Rodrigo","TC","PR"]
[3142,"TCH4002","FOREIGN LANG TEACHING III",2,202330,25,25,0,0,0,{"$f":"+BD_DEP[[#This Row],[totalp]]/BD_DEP[[#This Row],[Mat Inicial]]","v":0},{"$f":"+BD_DEP[[#This Row],[totalr]]/BD_DEP[[#This Row],[Mat Inicial]]","v":0},{"$f":"+BD_DEP[[#This Row],[repi]]/BD_DEP[[#This Row],[Mat Inicial]]","v":0},"77","Dpto. Lenguas Extranjeras",1065579468,"Rodriguez Fuentes Rodrigo","TC","PR"]
[6627,"IGL4965","INTER RELATIONS ENGLISH I",2,202330,1,1,0,0,0,{"$f":"+BD_DEP[[#This Row],[totalp]]/BD_DEP[[#This Row],[Mat Inicial]]","v":0},{"$f":"+BD_DEP[[#This Row],[totalr]]/BD_DEP[[#This Row],[Mat Inicial]]","v":0},{"$f":"+BD_DEP[[#This Row],[repi]]/BD_DEP[[#This Row],[Mat Inicial]]","v":0},"77","Dpto. Lenguas Extranjeras",1129503037,"Avila Trujillo Johanna","TC","PR"]
[6919,"IGL4965","INTER RELATIONS ENGLISH I",10,202330,1,1,0,0,0,{"$f":"+BD_DEP[[#This Row],[totalp]]/BD_DEP[[#This Row],[Mat Inicial]]","v":0},{"$f":"+BD_DEP[[#This Row],[totalr]]/BD_DEP[[#This Row],[Mat Inicial]]","v":0},{"$f":"+BD_DEP[[#This Row],[repi]]/BD_DEP[[#This Row],[Mat Inicial]]","v":0},"77","Dpto. Lenguas Extranjeras",1129503037,"Avila Trujillo Johanna","TC","PR"]
[4730,"IGL4969","INTER RELATIONS ENGLISH III",1,202330,8,8,0,0,0,{"$f":"+BD_DEP[[#This Row],[totalp]]/BD_DEP[[#This Row],[Mat Inicial]]","v":0},{"$f":"+BD_DEP[[#This Row],[totalr]]/BD_DEP[[#This Row],[Mat Inicial]]","v":0},{"$f":"+BD_DEP[[#This Row],[repi]]/BD_DEP[[#This Row],[Mat Inicial]]","v":0},"77","Dpto. Lenguas Extranjeras",869870,"NEYLAND JR MICHAEL","TC","PR"]
[4731,"IGL4971","INTER RELATIONS ENGLISH IV",1,202330,5,5,0,0,0,{"$f":"+BD_DEP[[#This Row],[totalp]]/BD_DEP[[#This Row],[Mat Inicial]]","v":0},{"$f":"+BD_DEP[[#This Row],[totalr]]/BD_DEP[[#This Row],[Mat Inicial]]","v":0},{"$f":"+BD_DEP[[#This Row],[repi]]/BD_DEP[[#This Row],[Mat Inicial]]","v":0},"77","Dpto. Lenguas Extranjeras",381823,"Wade Hillary","TC","PR"]
[2231,"IGL4975","INTER RELATIONS ENGLISH V",51,202330,17,17,1,0,1,{"$f":"+BD_DEP[[#This Row],[totalp]]/BD_DEP[[#This Row],[Mat Inicial]]","v":5.8823529411764705E-2},{"$f":"+BD_DEP[[#This Row],[totalr]]/BD_DEP[[#This Row],[Mat Inicial]]","v":0},{"$f":"+BD_DEP[[#This Row],[repi]]/BD_DEP[[#This Row],[Mat Inicial]]","v":5.8823529411764705E-2},"77","Dpto. Lenguas Extranjeras",7545505,"COLEMAN MICHELLE","TC","PR"]
[4734,"IGL4975","INTER RELATIONS ENGLISH V",1,202330,14,14,0,0,0,{"$f":"+BD_DEP[[#This Row],[totalp]]/BD_DEP[[#This Row],[Mat Inicial]]","v":0},{"$f":"+BD_DEP[[#This Row],[totalr]]/BD_DEP[[#This Row],[Mat Inicial]]","v":0},{"$f":"+BD_DEP[[#This Row],[repi]]/BD_DEP[[#This Row],[Mat Inicial]]","v":0},"77","Dpto. Lenguas Extranjeras",7545505,"COLEMAN MICHELLE","TC","PR"]
[4732,"IGL4973","INTER RELATIONS ENGLISH VI",1,202330,10,8,0,2,2,{"$f":"+BD_DEP[[#This Row],[totalp]]/BD_DEP[[#This Row],[Mat Inicial]]","v":0},{"$f":"+BD_DEP[[#This Row],[totalr]]/BD_DEP[[#This Row],[Mat Inicial]]","v":0.2},{"$f":"+BD_DEP[[#This Row],[repi]]/BD_DEP[[#This Row],[Mat Inicial]]","v":0.2},"77","Dpto. Lenguas Extranjeras",494901,"MCGARRY CALLUM","TC","PR"]
[4733,"IGL4973","INTER RELATIONS ENGLISH VI",2,202330,15,15,0,0,0,{"$f":"+BD_DEP[[#This Row],[totalp]]/BD_DEP[[#This Row],[Mat Inicial]]","v":0},{"$f":"+BD_DEP[[#This Row],[totalr]]/BD_DEP[[#This Row],[Mat Inicial]]","v":0},{"$f":"+BD_DEP[[#This Row],[repi]]/BD_DEP[[#This Row],[Mat Inicial]]","v":0},"77","Dpto. Lenguas Extranjeras",1129573356,"Villalba Ramos Karen","TC","PR"]
[6745,"IGL4977","INTER RELATIONS ENGLISH VII",4,202330,18,18,0,0,0,{"$f":"+BD_DEP[[#This Row],[totalp]]/BD_DEP[[#This Row],[Mat Inicial]]","v":0},{"$f":"+BD_DEP[[#This Row],[totalr]]/BD_DEP[[#This Row],[Mat Inicial]]","v":0},{"$f":"+BD_DEP[[#This Row],[repi]]/BD_DEP[[#This Row],[Mat Inicial]]","v":0},"77","Dpto. Lenguas Extranjeras",372480,"Keogh Conor Garret","TC","PR"]
[4737,"IGL4979","INTER RELATIONS ENGLISH VIII",1,202330,25,24,0,1,1,{"$f":"+BD_DEP[[#This Row],[totalp]]/BD_DEP[[#This Row],[Mat Inicial]]","v":0},{"$f":"+BD_DEP[[#This Row],[totalr]]/BD_DEP[[#This Row],[Mat Inicial]]","v":0.04},{"$f":"+BD_DEP[[#This Row],[repi]]/BD_DEP[[#This Row],[Mat Inicial]]","v":0.04},"77","Dpto. Lenguas Extranjeras",372480,"Keogh Conor Garret","TC","PR"]
[4738,"IGL4979","INTER RELATIONS ENGLISH VIII",2,202330,19,19,0,0,0,{"$f":"+BD_DEP[[#This Row],[totalp]]/BD_DEP[[#This Row],[Mat Inicial]]","v":0},{"$f":"+BD_DEP[[#This Row],[totalr]]/BD_DEP[[#This Row],[Mat Inicial]]","v":0},{"$f":"+BD_DEP[[#This Row],[repi]]/BD_DEP[[#This Row],[Mat Inicial]]","v":0},"77","Dpto. Lenguas Extranjeras",372480,"Keogh Conor Garret","TC","PR"]
[1433,"CLT5005","INTRO LENGUAS INDIGENA/CRIOLLA",1,202330,15,14,0,1,1,{"$f":"+BD_DEP[[#This Row],[totalp]]/BD_DEP[[#This Row],[Mat Inicial]]","v":0},{"$f":"+BD_DEP[[#This Row],[totalr]]/BD_DEP[[#This Row],[Mat Inicial]]","v":6.6666666666666666E-2},{"$f":"+BD_DEP[[#This Row],[repi]]/BD_DEP[[#This Row],[Mat Inicial]]","v":6.6666666666666666E-2},"77","Dpto. Lenguas Extranjeras",55221544,"Valdez Jimenez Wendy","TC","PR"]
[4538,"FRA0001","LANGUE FRANC ET CULT FRANC I",51,202330,16,16,0,0,0,{"$f":"+BD_DEP[[#This Row],[totalp]]/BD_DEP[[#This Row],[Mat Inicial]]","v":0},{"$f":"+BD_DEP[[#This Row],[totalr]]/BD_DEP[[#This Row],[Mat Inicial]]","v":0},{"$f":"+BD_DEP[[#This Row],[repi]]/BD_DEP[[#This Row],[Mat Inicial]]","v":0},"77","Dpto. Lenguas Extranjeras",1140850461,"Sorkar Gomez Rajib","TC","PR"]
[4539,"FRA0002","LANGUE FRANC ET CULT FRANC II",1,202330,23,22,0,1,1,{"$f":"+BD_DEP[[#This Row],[totalp]]/BD_DEP[[#This Row],[Mat Inicial]]","v":0},{"$f":"+BD_DEP[[#This Row],[totalr]]/BD_DEP[[#This Row],[Mat Inicial]]","v":4.3478260869565216E-2},{"$f":"+BD_DEP[[#This Row],[repi]]/BD_DEP[[#This Row],[Mat Inicial]]","v":4.3478260869565216E-2},"77","Dpto. Lenguas Extranjeras",1140850461,"Sorkar Gomez Rajib","TC","PR"]
[4541,"FRA0004","LANGUE FRANC ET CULT FRANC IV",1,202330,18,17,0,1,1,{"$f":"+BD_DEP[[#This Row],[totalp]]/BD_DEP[[#This Row],[Mat Inicial]]","v":0},{"$f":"+BD_DEP[[#This Row],[totalr]]/BD_DEP[[#This Row],[Mat Inicial]]","v":5.5555555555555552E-2},{"$f":"+BD_DEP[[#This Row],[repi]]/BD_DEP[[#This Row],[Mat Inicial]]","v":5.5555555555555552E-2},"77","Dpto. Lenguas Extranjeras",1140850461,"Sorkar Gomez Rajib","TC","PR"]
[1435,"CLT5020","LENGUA Y CULTURA WAYUU",1,202330,5,5,0,0,0,{"$f":"+BD_DEP[[#This Row],[totalp]]/BD_DEP[[#This Row],[Mat Inicial]]","v":0},{"$f":"+BD_DEP[[#This Row],[totalr]]/BD_DEP[[#This Row],[Mat Inicial]]","v":0},{"$f":"+BD_DEP[[#This Row],[repi]]/BD_DEP[[#This Row],[Mat Inicial]]","v":0},"77","Dpto. Lenguas Extranjeras",79150050,"Guerra Curvelo Weildler","TC","PR"]
[1424,"CLT4000","LENGUAJE CULT Y GLOBALIZACION",2,202330,26,26,0,0,0,{"$f":"+BD_DEP[[#This Row],[totalp]]/BD_DEP[[#This Row],[Mat Inicial]]","v":0},{"$f":"+BD_DEP[[#This Row],[totalr]]/BD_DEP[[#This Row],[Mat Inicial]]","v":0},{"$f":"+BD_DEP[[#This Row],[repi]]/BD_DEP[[#This Row],[Mat Inicial]]","v":0},"77","Dpto. Lenguas Extranjeras",1020729661,"Amon Mitrani Josef","TC","PR"]
[2233,"IGL5014","TOPICS IN LITERATURE",1,202330,21,20,0,1,1,{"$f":"+BD_DEP[[#This Row],[totalp]]/BD_DEP[[#This Row],[Mat Inicial]]","v":0},{"$f":"+BD_DEP[[#This Row],[totalr]]/BD_DEP[[#This Row],[Mat Inicial]]","v":4.7619047619047616E-2},{"$f":"+BD_DEP[[#This Row],[repi]]/BD_DEP[[#This Row],[Mat Inicial]]","v":4.7619047619047616E-2},"77","Dpto. Lenguas Extranjeras",371400,"McClain Steven","TC","PR"]
[2234,"IGL5014","TOPICS IN LITERATURE",2,202330,15,14,0,1,1,{"$f":"+BD_DEP[[#This Row],[totalp]]/BD_DEP[[#This Row],[Mat Inicial]]","v":0},{"$f":"+BD_DEP[[#This Row],[totalr]]/BD_DEP[[#This Row],[Mat Inicial]]","v":6.6666666666666666E-2},{"$f":"+BD_DEP[[#This Row],[repi]]/BD_DEP[[#This Row],[Mat Inicial]]","v":6.6666666666666666E-2},"77","Dpto. Lenguas Extranjeras",371400,"McClain Steven","TC","PR"]
[6831,"IGL5015","WRITING STUDIES SEMINAR",3,202330,23,23,0,0,0,{"$f":"+BD_DEP[[#This Row],[totalp]]/BD_DEP[[#This Row],[Mat Inicial]]","v":0},{"$f":"+BD_DEP[[#This Row],[totalr]]/BD_DEP[[#This Row],[Mat Inicial]]","v":0},{"$f":"+BD_DEP[[#This Row],[repi]]/BD_DEP[[#This Row],[Mat Inicial]]","v":0},"77","Dpto. Lenguas Extranjeras",371400,"McClain Steven","TC","PR"]
[4353,"IGL1350","BUSINESS ENGLISH I",51,202330,18,15,3,3,6,{"$f":"+BD_DEP[[#This Row],[totalp]]/BD_DEP[[#This Row],[Mat Inicial]]","v":0.16666666666666666},{"$f":"+BD_DEP[[#This Row],[totalr]]/BD_DEP[[#This Row],[Mat Inicial]]","v":0.16666666666666666},{"$f":"+BD_DEP[[#This Row],[repi]]/BD_DEP[[#This Row],[Mat Inicial]]","v":0.33333333333333331},"77","Dpto. Lenguas Extranjeras",1140825681,"Diaz De La Cruz Mayra","CA","PR"]
[4581,"IGL0011","BUSINESS ENGLISH I ADM",52,202330,23,19,7,4,11,{"$f":"+BD_DEP[[#This Row],[totalp]]/BD_DEP[[#This Row],[Mat Inicial]]","v":0.30434782608695654},{"$f":"+BD_DEP[[#This Row],[totalr]]/BD_DEP[[#This Row],[Mat Inicial]]","v":0.17391304347826086},{"$f":"+BD_DEP[[#This Row],[repi]]/BD_DEP[[#This Row],[Mat Inicial]]","v":0.47826086956521741},"77","Dpto. Lenguas Extranjeras",32778380,"Torrenegra Campis Mariluz","CA","PR"]
[6635,"IGL0011","BUSINESS ENGLISH I ADM",10,202330,2,2,0,0,0,{"$f":"+BD_DEP[[#This Row],[totalp]]/BD_DEP[[#This Row],[Mat Inicial]]","v":0},{"$f":"+BD_DEP[[#This Row],[totalr]]/BD_DEP[[#This Row],[Mat Inicial]]","v":0},{"$f":"+BD_DEP[[#This Row],[repi]]/BD_DEP[[#This Row],[Mat Inicial]]","v":0},"77","Dpto. Lenguas Extranjeras",32778380,"Torrenegra Campis Mariluz","CA","PR"]
[4580,"IGL0011","BUSINESS ENGLISH I ADM",51,202330,23,22,0,1,1,{"$f":"+BD_DEP[[#This Row],[totalp]]/BD_DEP[[#This Row],[Mat Inicial]]","v":0},{"$f":"+BD_DEP[[#This Row],[totalr]]/BD_DEP[[#This Row],[Mat Inicial]]","v":4.3478260869565216E-2},{"$f":"+BD_DEP[[#This Row],[repi]]/BD_DEP[[#This Row],[Mat Inicial]]","v":4.3478260869565216E-2},"77","Dpto. Lenguas Extranjeras",79931514,"Chavarro Cabarcas Jose","CA","PR"]
[6658,"IGL0011","BUSINESS ENGLISH I ADM",11,202330,8,8,1,0,1,{"$f":"+BD_DEP[[#This Row],[totalp]]/BD_DEP[[#This Row],[Mat Inicial]]","v":0.125},{"$f":"+BD_DEP[[#This Row],[totalr]]/BD_DEP[[#This Row],[Mat Inicial]]","v":0},{"$f":"+BD_DEP[[#This Row],[repi]]/BD_DEP[[#This Row],[Mat Inicial]]","v":0.125},"77","Dpto. Lenguas Extranjeras",79931514,"Chavarro Cabarcas Jose","CA","PR"]
[4579,"IGL0011","BUSINESS ENGLISH I ADM",1,202330,23,22,3,1,4,{"$f":"+BD_DEP[[#This Row],[totalp]]/BD_DEP[[#This Row],[Mat Inicial]]","v":0.13043478260869565},{"$f":"+BD_DEP[[#This Row],[totalr]]/BD_DEP[[#This Row],[Mat Inicial]]","v":4.3478260869565216E-2},{"$f":"+BD_DEP[[#This Row],[repi]]/BD_DEP[[#This Row],[Mat Inicial]]","v":0.17391304347826086},"77","Dpto. Lenguas Extranjeras",1140825681,"Diaz De La Cruz Mayra","CA","PR"]
[4588,"IGL1360","BUSINESS ENGLISH II",1,202330,18,18,0,0,0,{"$f":"+BD_DEP[[#This Row],[totalp]]/BD_DEP[[#This Row],[Mat Inicial]]","v":0},{"$f":"+BD_DEP[[#This Row],[totalr]]/BD_DEP[[#This Row],[Mat Inicial]]","v":0},{"$f":"+BD_DEP[[#This Row],[repi]]/BD_DEP[[#This Row],[Mat Inicial]]","v":0},"77","Dpto. Lenguas Extranjeras",55224331,"Borrero Florez Silvana","CA","PR"]
[4584,"IGL0012","BUSINESS ENGLISH II ADM",3,202330,21,20,1,1,2,{"$f":"+BD_DEP[[#This Row],[totalp]]/BD_DEP[[#This Row],[Mat Inicial]]","v":4.7619047619047616E-2},{"$f":"+BD_DEP[[#This Row],[totalr]]/BD_DEP[[#This Row],[Mat Inicial]]","v":4.7619047619047616E-2},{"$f":"+BD_DEP[[#This Row],[repi]]/BD_DEP[[#This Row],[Mat Inicial]]","v":9.5238095238095233E-2},"77","Dpto. Lenguas Extranjeras",79931514,"Chavarro Cabarcas Jose","CA","PR"]
[4582,"IGL0012","BUSINESS ENGLISH II ADM",1,202330,16,15,4,1,5,{"$f":"+BD_DEP[[#This Row],[totalp]]/BD_DEP[[#This Row],[Mat Inicial]]","v":0.25},{"$f":"+BD_DEP[[#This Row],[totalr]]/BD_DEP[[#This Row],[Mat Inicial]]","v":6.25E-2},{"$f":"+BD_DEP[[#This Row],[repi]]/BD_DEP[[#This Row],[Mat Inicial]]","v":0.3125},"77","Dpto. Lenguas Extranjeras",1140825681,"Diaz De La Cruz Mayra","CA","PR"]
[4585,"IGL0012","BUSINESS ENGLISH II ADM",4,202330,11,11,0,0,0,{"$f":"+BD_DEP[[#This Row],[totalp]]/BD_DEP[[#This Row],[Mat Inicial]]","v":0},{"$f":"+BD_DEP[[#This Row],[totalr]]/BD_DEP[[#This Row],[Mat Inicial]]","v":0},{"$f":"+BD_DEP[[#This Row],[repi]]/BD_DEP[[#This Row],[Mat Inicial]]","v":0},"77","Dpto. Lenguas Extranjeras",1140825681,"Diaz De La Cruz Mayra","CA","PR"]
[4583,"IGL0012","BUSINESS ENGLISH II ADM",2,202330,22,22,1,0,1,{"$f":"+BD_DEP[[#This Row],[totalp]]/BD_DEP[[#This Row],[Mat Inicial]]","v":4.5454545454545456E-2},{"$f":"+BD_DEP[[#This Row],[totalr]]/BD_DEP[[#This Row],[Mat Inicial]]","v":0},{"$f":"+BD_DEP[[#This Row],[repi]]/BD_DEP[[#This Row],[Mat Inicial]]","v":4.5454545454545456E-2},"77","Dpto. Lenguas Extranjeras",1140827506,"Avila Torres Maria","CA","PR"]
[4589,"IGL1370","BUSINESS ENGLISH III",1,202330,8,6,1,2,3,{"$f":"+BD_DEP[[#This Row],[totalp]]/BD_DEP[[#This Row],[Mat Inicial]]","v":0.125},{"$f":"+BD_DEP[[#This Row],[totalr]]/BD_DEP[[#This Row],[Mat Inicial]]","v":0.25},{"$f":"+BD_DEP[[#This Row],[repi]]/BD_DEP[[#This Row],[Mat Inicial]]","v":0.375},"77","Dpto. Lenguas Extranjeras",32778380,"Torrenegra Campis Mariluz","CA","PR"]
[4590,"IGL1370","BUSINESS ENGLISH III",2,202330,19,17,0,2,2,{"$f":"+BD_DEP[[#This Row],[totalp]]/BD_DEP[[#This Row],[Mat Inicial]]","v":0},{"$f":"+BD_DEP[[#This Row],[totalr]]/BD_DEP[[#This Row],[Mat Inicial]]","v":0.10526315789473684},{"$f":"+BD_DEP[[#This Row],[repi]]/BD_DEP[[#This Row],[Mat Inicial]]","v":0.10526315789473684},"77","Dpto. Lenguas Extranjeras",32778380,"Torrenegra Campis Mariluz","CA","PR"]
[4591,"IGL1380","BUSINESS ENGLISH IV",1,202330,19,17,0,2,2,{"$f":"+BD_DEP[[#This Row],[totalp]]/BD_DEP[[#This Row],[Mat Inicial]]","v":0},{"$f":"+BD_DEP[[#This Row],[totalr]]/BD_DEP[[#This Row],[Mat Inicial]]","v":0.10526315789473684},{"$f":"+BD_DEP[[#This Row],[repi]]/BD_DEP[[#This Row],[Mat Inicial]]","v":0.10526315789473684},"77","Dpto. Lenguas Extranjeras",1140827506,"Avila Torres Maria","CA","PR"]
[4592,"IGL1380","BUSINESS ENGLISH IV",51,202330,16,16,0,0,0,{"$f":"+BD_DEP[[#This Row],[totalp]]/BD_DEP[[#This Row],[Mat Inicial]]","v":0},{"$f":"+BD_DEP[[#This Row],[totalr]]/BD_DEP[[#This Row],[Mat Inicial]]","v":0},{"$f":"+BD_DEP[[#This Row],[repi]]/BD_DEP[[#This Row],[Mat Inicial]]","v":0},"77","Dpto. Lenguas Extranjeras",1140827506,"Avila Torres Maria","CA","PR"]
[2237,"IGL7750","BUSINESS ENGLISH V",51,202330,22,16,4,6,10,{"$f":"+BD_DEP[[#This Row],[totalp]]/BD_DEP[[#This Row],[Mat Inicial]]","v":0.18181818181818182},{"$f":"+BD_DEP[[#This Row],[totalr]]/BD_DEP[[#This Row],[Mat Inicial]]","v":0.27272727272727271},{"$f":"+BD_DEP[[#This Row],[repi]]/BD_DEP[[#This Row],[Mat Inicial]]","v":0.45454545454545453},"77","Dpto. Lenguas Extranjeras",32778380,"Torrenegra Campis Mariluz","CA","PR"]
[4773,"IGL7750","BUSINESS ENGLISH V",1,202330,21,20,2,1,3,{"$f":"+BD_DEP[[#This Row],[totalp]]/BD_DEP[[#This Row],[Mat Inicial]]","v":9.5238095238095233E-2},{"$f":"+BD_DEP[[#This Row],[totalr]]/BD_DEP[[#This Row],[Mat Inicial]]","v":4.7619047619047616E-2},{"$f":"+BD_DEP[[#This Row],[repi]]/BD_DEP[[#This Row],[Mat Inicial]]","v":0.14285714285714285},"77","Dpto. Lenguas Extranjeras",32778380,"Torrenegra Campis Mariluz","CA","PR"]
[4774,"IGL7750","BUSINESS ENGLISH V",2,202330,16,16,2,0,2,{"$f":"+BD_DEP[[#This Row],[totalp]]/BD_DEP[[#This Row],[Mat Inicial]]","v":0.125},{"$f":"+BD_DEP[[#This Row],[totalr]]/BD_DEP[[#This Row],[Mat Inicial]]","v":0},{"$f":"+BD_DEP[[#This Row],[repi]]/BD_DEP[[#This Row],[Mat Inicial]]","v":0.125},"77","Dpto. Lenguas Extranjeras",79931514,"Chavarro Cabarcas Jose","CA","PR"]
[4775,"IGL7750","BUSINESS ENGLISH V",3,202330,22,22,2,0,2,{"$f":"+BD_DEP[[#This Row],[totalp]]/BD_DEP[[#This Row],[Mat Inicial]]","v":9.0909090909090912E-2},{"$f":"+BD_DEP[[#This Row],[totalr]]/BD_DEP[[#This Row],[Mat Inicial]]","v":0},{"$f":"+BD_DEP[[#This Row],[repi]]/BD_DEP[[#This Row],[Mat Inicial]]","v":9.0909090909090912E-2},"77","Dpto. Lenguas Extranjeras",1140825681,"Diaz De La Cruz Mayra","CA","PR"]
[4778,"IGL7760","BUSINESS ENGLISH VI",3,202330,15,15,0,0,0,{"$f":"+BD_DEP[[#This Row],[totalp]]/BD_DEP[[#This Row],[Mat Inicial]]","v":0},{"$f":"+BD_DEP[[#This Row],[totalr]]/BD_DEP[[#This Row],[Mat Inicial]]","v":0},{"$f":"+BD_DEP[[#This Row],[repi]]/BD_DEP[[#This Row],[Mat Inicial]]","v":0},"77","Dpto. Lenguas Extranjeras",1140827506,"Avila Torres Maria","CA","PR"]
[4779,"IGL7760","BUSINESS ENGLISH VI",4,202330,20,20,0,0,0,{"$f":"+BD_DEP[[#This Row],[totalp]]/BD_DEP[[#This Row],[Mat Inicial]]","v":0},{"$f":"+BD_DEP[[#This Row],[totalr]]/BD_DEP[[#This Row],[Mat Inicial]]","v":0},{"$f":"+BD_DEP[[#This Row],[repi]]/BD_DEP[[#This Row],[Mat Inicial]]","v":0},"77","Dpto. Lenguas Extranjeras",1140827506,"Avila Torres Maria","CA","PR"]
[6802,"IGL7770","BUSINESS ENGLISH VII",10,202330,14,12,0,2,2,{"$f":"+BD_DEP[[#This Row],[totalp]]/BD_DEP[[#This Row],[Mat Inicial]]","v":0},{"$f":"+BD_DEP[[#This Row],[totalr]]/BD_DEP[[#This Row],[Mat Inicial]]","v":0.14285714285714285},{"$f":"+BD_DEP[[#This Row],[repi]]/BD_DEP[[#This Row],[Mat Inicial]]","v":0.14285714285714285},"77","Dpto. Lenguas Extranjeras",22520392,"Mercado Del Vechio Carolina","CA","PR"]
[4788,"IGL7780","BUSINESS ENGLISH VIII",4,202330,20,18,0,2,2,{"$f":"+BD_DEP[[#This Row],[totalp]]/BD_DEP[[#This Row],[Mat Inicial]]","v":0},{"$f":"+BD_DEP[[#This Row],[totalr]]/BD_DEP[[#This Row],[Mat Inicial]]","v":0.1},{"$f":"+BD_DEP[[#This Row],[repi]]/BD_DEP[[#This Row],[Mat Inicial]]","v":0.1},"77","Dpto. Lenguas Extranjeras",1140846415,"Casimiro Cantillo Samuel","CA","PR"]
[4519,"ALE0022","DEUTSCHE SPRACHE UND KULT 1",51,202330,11,11,2,0,2,{"$f":"+BD_DEP[[#This Row],[totalp]]/BD_DEP[[#This Row],[Mat Inicial]]","v":0.18181818181818182},{"$f":"+BD_DEP[[#This Row],[totalr]]/BD_DEP[[#This Row],[Mat Inicial]]","v":0},{"$f":"+BD_DEP[[#This Row],[repi]]/BD_DEP[[#This Row],[Mat Inicial]]","v":0.18181818181818182},"77","Dpto. Lenguas Extranjeras",79864225,"Rojas Pion Otto","CA","PR"]
[4520,"ALE0023","DEUTSCHE SPRACHE UND KULT 2",1,202330,6,6,0,0,0,{"$f":"+BD_DEP[[#This Row],[totalp]]/BD_DEP[[#This Row],[Mat Inicial]]","v":0},{"$f":"+BD_DEP[[#This Row],[totalr]]/BD_DEP[[#This Row],[Mat Inicial]]","v":0},{"$f":"+BD_DEP[[#This Row],[repi]]/BD_DEP[[#This Row],[Mat Inicial]]","v":0},"77","Dpto. Lenguas Extranjeras",79864225,"Rojas Pion Otto","CA","PR"]
[4521,"ALE0024","DEUTSCHE SPRACHE UND KULT 3",1,202330,6,6,0,0,0,{"$f":"+BD_DEP[[#This Row],[totalp]]/BD_DEP[[#This Row],[Mat Inicial]]","v":0},{"$f":"+BD_DEP[[#This Row],[totalr]]/BD_DEP[[#This Row],[Mat Inicial]]","v":0},{"$f":"+BD_DEP[[#This Row],[repi]]/BD_DEP[[#This Row],[Mat Inicial]]","v":0},"77","Dpto. Lenguas Extranjeras",1140824987,"Bohorquez Anaya Jose","CA","PR"]
[2227,"IGL0375","ENGLISH FOR NURSING 1",1,202330,22,22,4,0,4,{"$f":"+BD_DEP[[#This Row],[totalp]]/BD_DEP[[#This Row],[Mat Inicial]]","v":0.18181818181818182},{"$f":"+BD_DEP[[#This Row],[totalr]]/BD_DEP[[#This Row],[Mat Inicial]]","v":0},{"$f":"+BD_DEP[[#This Row],[repi]]/BD_DEP[[#This Row],[Mat Inicial]]","v":0.18181818181818182},"77","Dpto. Lenguas Extranjeras",32824260,"Martinez Ibañez Maribel","CA","PR"]
[6833,"IGL0376","ENGLISH FOR NURSING 2",10,202330,1,1,0,0,0,{"$f":"+BD_DEP[[#This Row],[totalp]]/BD_DEP[[#This Row],[Mat Inicial]]","v":0},{"$f":"+BD_DEP[[#This Row],[totalr]]/BD_DEP[[#This Row],[Mat Inicial]]","v":0},{"$f":"+BD_DEP[[#This Row],[repi]]/BD_DEP[[#This Row],[Mat Inicial]]","v":0},"77","Dpto. Lenguas Extranjeras",22521070,"Insignares Blanco Shirley","CA","PR"]
[6848,"IGL0377","ENGLISH FOR NURSING 3",1,202330,13,12,0,1,1,{"$f":"+BD_DEP[[#This Row],[totalp]]/BD_DEP[[#This Row],[Mat Inicial]]","v":0},{"$f":"+BD_DEP[[#This Row],[totalr]]/BD_DEP[[#This Row],[Mat Inicial]]","v":7.6923076923076927E-2},{"$f":"+BD_DEP[[#This Row],[repi]]/BD_DEP[[#This Row],[Mat Inicial]]","v":7.6923076923076927E-2},"77","Dpto. Lenguas Extranjeras",8774140,"Escobar Hernandez Nixon","CA","PR"]
[6647,"IGL4992","ENGLISH I",11,202330,1,1,1,0,1,{"$f":"+BD_DEP[[#This Row],[totalp]]/BD_DEP[[#This Row],[Mat Inicial]]","v":1},{"$f":"+BD_DEP[[#This Row],[totalr]]/BD_DEP[[#This Row],[Mat Inicial]]","v":0},{"$f":"+BD_DEP[[#This Row],[repi]]/BD_DEP[[#This Row],[Mat Inicial]]","v":1},"77","Dpto. Lenguas Extranjeras",22423520,"Choperena Ramos Nora","CA","PR"]
[4740,"IGL4992","ENGLISH I",51,202330,16,14,2,2,4,{"$f":"+BD_DEP[[#This Row],[totalp]]/BD_DEP[[#This Row],[Mat Inicial]]","v":0.125},{"$f":"+BD_DEP[[#This Row],[totalr]]/BD_DEP[[#This Row],[Mat Inicial]]","v":0.125},{"$f":"+BD_DEP[[#This Row],[repi]]/BD_DEP[[#This Row],[Mat Inicial]]","v":0.25},"77","Dpto. Lenguas Extranjeras",22634917,"Vargas Mena Lida","CA","PR"]
[6648,"IGL4992","ENGLISH I",12,202330,5,4,1,1,2,{"$f":"+BD_DEP[[#This Row],[totalp]]/BD_DEP[[#This Row],[Mat Inicial]]","v":0.2},{"$f":"+BD_DEP[[#This Row],[totalr]]/BD_DEP[[#This Row],[Mat Inicial]]","v":0.2},{"$f":"+BD_DEP[[#This Row],[repi]]/BD_DEP[[#This Row],[Mat Inicial]]","v":0.4},"77","Dpto. Lenguas Extranjeras",22634917,"Vargas Mena Lida","CA","PR"]
[6644,"IGL4994","ENGLISH II",11,202330,2,2,0,0,0,{"$f":"+BD_DEP[[#This Row],[totalp]]/BD_DEP[[#This Row],[Mat Inicial]]","v":0},{"$f":"+BD_DEP[[#This Row],[totalr]]/BD_DEP[[#This Row],[Mat Inicial]]","v":0},{"$f":"+BD_DEP[[#This Row],[repi]]/BD_DEP[[#This Row],[Mat Inicial]]","v":0},"77","Dpto. Lenguas Extranjeras",22521070,"Insignares Blanco Shirley","CA","PR"]
[4746,"IGL4996","ENGLISH III",4,202330,23,22,0,1,1,{"$f":"+BD_DEP[[#This Row],[totalp]]/BD_DEP[[#This Row],[Mat Inicial]]","v":0},{"$f":"+BD_DEP[[#This Row],[totalr]]/BD_DEP[[#This Row],[Mat Inicial]]","v":4.3478260869565216E-2},{"$f":"+BD_DEP[[#This Row],[repi]]/BD_DEP[[#This Row],[Mat Inicial]]","v":4.3478260869565216E-2},"77","Dpto. Lenguas Extranjeras",8774140,"Escobar Hernandez Nixon","CA","PR"]
[6734,"IGL4996","ENGLISH III",12,202330,4,4,0,0,0,{"$f":"+BD_DEP[[#This Row],[totalp]]/BD_DEP[[#This Row],[Mat Inicial]]","v":0},{"$f":"+BD_DEP[[#This Row],[totalr]]/BD_DEP[[#This Row],[Mat Inicial]]","v":0},{"$f":"+BD_DEP[[#This Row],[repi]]/BD_DEP[[#This Row],[Mat Inicial]]","v":0},"77","Dpto. Lenguas Extranjeras",32735404,"Vides Orozco Elizabeth","CA","PR"]
[4744,"IGL4996","ENGLISH III",2,202330,14,13,1,1,2,{"$f":"+BD_DEP[[#This Row],[totalp]]/BD_DEP[[#This Row],[Mat Inicial]]","v":7.1428571428571425E-2},{"$f":"+BD_DEP[[#This Row],[totalr]]/BD_DEP[[#This Row],[Mat Inicial]]","v":7.1428571428571425E-2},{"$f":"+BD_DEP[[#This Row],[repi]]/BD_DEP[[#This Row],[Mat Inicial]]","v":0.14285714285714285},"77","Dpto. Lenguas Extranjeras",72287073,"Gil Olivera Numas","CA","PR"]
[4747,"IGL4998","ENGLISH IV",1,202330,10,8,2,2,4,{"$f":"+BD_DEP[[#This Row],[totalp]]/BD_DEP[[#This Row],[Mat Inicial]]","v":0.2},{"$f":"+BD_DEP[[#This Row],[totalr]]/BD_DEP[[#This Row],[Mat Inicial]]","v":0.2},{"$f":"+BD_DEP[[#This Row],[repi]]/BD_DEP[[#This Row],[Mat Inicial]]","v":0.4},"77","Dpto. Lenguas Extranjeras",22732473,"Daniels Coneo Viviana","CA","PR"]
[4748,"IGL4998","ENGLISH IV",3,202330,22,21,0,1,1,{"$f":"+BD_DEP[[#This Row],[totalp]]/BD_DEP[[#This Row],[Mat Inicial]]","v":0},{"$f":"+BD_DEP[[#This Row],[totalr]]/BD_DEP[[#This Row],[Mat Inicial]]","v":4.5454545454545456E-2},{"$f":"+BD_DEP[[#This Row],[repi]]/BD_DEP[[#This Row],[Mat Inicial]]","v":4.5454545454545456E-2},"77","Dpto. Lenguas Extranjeras",55313438,"Morales Miranda Veronica","CA","PR"]
[4749,"IGL4998","ENGLISH IV",4,202330,22,22,0,0,0,{"$f":"+BD_DEP[[#This Row],[totalp]]/BD_DEP[[#This Row],[Mat Inicial]]","v":0},{"$f":"+BD_DEP[[#This Row],[totalr]]/BD_DEP[[#This Row],[Mat Inicial]]","v":0},{"$f":"+BD_DEP[[#This Row],[repi]]/BD_DEP[[#This Row],[Mat Inicial]]","v":0},"77","Dpto. Lenguas Extranjeras",55313438,"Morales Miranda Veronica","CA","PR"]
[4762,"IGL5009","ENGLISH LANGUAGE II",1,202330,11,11,0,0,0,{"$f":"+BD_DEP[[#This Row],[totalp]]/BD_DEP[[#This Row],[Mat Inicial]]","v":0},{"$f":"+BD_DEP[[#This Row],[totalr]]/BD_DEP[[#This Row],[Mat Inicial]]","v":0},{"$f":"+BD_DEP[[#This Row],[repi]]/BD_DEP[[#This Row],[Mat Inicial]]","v":0},"77","Dpto. Lenguas Extranjeras",1140846174,"Pacheco Gonzalez Stefani","CA","PR"]
[4751,"IGL5000","ENGLISH V",2,202330,22,21,1,1,2,{"$f":"+BD_DEP[[#This Row],[totalp]]/BD_DEP[[#This Row],[Mat Inicial]]","v":4.5454545454545456E-2},{"$f":"+BD_DEP[[#This Row],[totalr]]/BD_DEP[[#This Row],[Mat Inicial]]","v":4.5454545454545456E-2},{"$f":"+BD_DEP[[#This Row],[repi]]/BD_DEP[[#This Row],[Mat Inicial]]","v":9.0909090909090912E-2},"77","Dpto. Lenguas Extranjeras",75107553,"Londoño Alzate Juan","CA","PR"]
[4754,"IGL5002","ENGLISH VI",1,202330,23,23,3,0,3,{"$f":"+BD_DEP[[#This Row],[totalp]]/BD_DEP[[#This Row],[Mat Inicial]]","v":0.13043478260869565},{"$f":"+BD_DEP[[#This Row],[totalr]]/BD_DEP[[#This Row],[Mat Inicial]]","v":0},{"$f":"+BD_DEP[[#This Row],[repi]]/BD_DEP[[#This Row],[Mat Inicial]]","v":0.13043478260869565},"77","Dpto. Lenguas Extranjeras",22520392,"Mercado Del Vechio Carolina","CA","PR"]
[4756,"IGL5002","ENGLISH VI",3,202330,23,22,2,1,3,{"$f":"+BD_DEP[[#This Row],[totalp]]/BD_DEP[[#This Row],[Mat Inicial]]","v":8.6956521739130432E-2},{"$f":"+BD_DEP[[#This Row],[totalr]]/BD_DEP[[#This Row],[Mat Inicial]]","v":4.3478260869565216E-2},{"$f":"+BD_DEP[[#This Row],[repi]]/BD_DEP[[#This Row],[Mat Inicial]]","v":0.13043478260869565},"77","Dpto. Lenguas Extranjeras",22520392,"Mercado Del Vechio Carolina","CA","PR"]
[4757,"IGL5002","ENGLISH VI",4,202330,23,23,2,0,2,{"$f":"+BD_DEP[[#This Row],[totalp]]/BD_DEP[[#This Row],[Mat Inicial]]","v":8.6956521739130432E-2},{"$f":"+BD_DEP[[#This Row],[totalr]]/BD_DEP[[#This Row],[Mat Inicial]]","v":0},{"$f":"+BD_DEP[[#This Row],[repi]]/BD_DEP[[#This Row],[Mat Inicial]]","v":8.6956521739130432E-2},"77","Dpto. Lenguas Extranjeras",22520392,"Mercado Del Vechio Carolina","CA","PR"]
[6755,"IGL5002","ENGLISH VI",5,202330,4,4,0,0,0,{"$f":"+BD_DEP[[#This Row],[totalp]]/BD_DEP[[#This Row],[Mat Inicial]]","v":0},{"$f":"+BD_DEP[[#This Row],[totalr]]/BD_DEP[[#This Row],[Mat Inicial]]","v":0},{"$f":"+BD_DEP[[#This Row],[repi]]/BD_DEP[[#This Row],[Mat Inicial]]","v":0},"77","Dpto. Lenguas Extranjeras",72190633,"Iglesias Montes Rafael","CA","PR"]
[4759,"IGL5004","ENGLISH VII",2,202330,9,9,1,0,1,{"$f":"+BD_DEP[[#This Row],[totalp]]/BD_DEP[[#This Row],[Mat Inicial]]","v":0.1111111111111111},{"$f":"+BD_DEP[[#This Row],[totalr]]/BD_DEP[[#This Row],[Mat Inicial]]","v":0},{"$f":"+BD_DEP[[#This Row],[repi]]/BD_DEP[[#This Row],[Mat Inicial]]","v":0.1111111111111111},"77","Dpto. Lenguas Extranjeras",8774140,"Escobar Hernandez Nixon","CA","PR"]
[4758,"IGL5004","ENGLISH VII",1,202330,18,18,2,0,2,{"$f":"+BD_DEP[[#This Row],[totalp]]/BD_DEP[[#This Row],[Mat Inicial]]","v":0.1111111111111111},{"$f":"+BD_DEP[[#This Row],[totalr]]/BD_DEP[[#This Row],[Mat Inicial]]","v":0},{"$f":"+BD_DEP[[#This Row],[repi]]/BD_DEP[[#This Row],[Mat Inicial]]","v":0.1111111111111111},"77","Dpto. Lenguas Extranjeras",79931514,"Chavarro Cabarcas Jose","CA","PR"]
[4761,"IGL5006","ENGLISH VIII",2,202330,13,13,0,0,0,{"$f":"+BD_DEP[[#This Row],[totalp]]/BD_DEP[[#This Row],[Mat Inicial]]","v":0},{"$f":"+BD_DEP[[#This Row],[totalr]]/BD_DEP[[#This Row],[Mat Inicial]]","v":0},{"$f":"+BD_DEP[[#This Row],[repi]]/BD_DEP[[#This Row],[Mat Inicial]]","v":0},"77","Dpto. Lenguas Extranjeras",1094240822,"Rodriguez Urbina Daniel","CA","PR"]
[4760,"IGL5006","ENGLISH VIII",1,202330,22,21,4,1,5,{"$f":"+BD_DEP[[#This Row],[totalp]]/BD_DEP[[#This Row],[Mat Inicial]]","v":0.18181818181818182},{"$f":"+BD_DEP[[#This Row],[totalr]]/BD_DEP[[#This Row],[Mat Inicial]]","v":4.5454545454545456E-2},{"$f":"+BD_DEP[[#This Row],[repi]]/BD_DEP[[#This Row],[Mat Inicial]]","v":0.22727272727272727},"77","Dpto. Lenguas Extranjeras",1140846415,"Casimiro Cantillo Samuel","CA","PR"]
[6532,"IGL8520","EX. INGLES NIVELATORIO SALUD",2,202330,8,8,0,0,0,{"$f":"+BD_DEP[[#This Row],[totalp]]/BD_DEP[[#This Row],[Mat Inicial]]","v":0},{"$f":"+BD_DEP[[#This Row],[totalr]]/BD_DEP[[#This Row],[Mat Inicial]]","v":0},{"$f":"+BD_DEP[[#This Row],[repi]]/BD_DEP[[#This Row],[Mat Inicial]]","v":0},"77","Dpto. Lenguas Extranjeras",22580043,"Martelo Garcia Claudia","CA","PR"]
[4789,"IGL8520","EX. INGLES NIVELATORIO SALUD",1,202330,15,15,3,0,3,{"$f":"+BD_DEP[[#This Row],[totalp]]/BD_DEP[[#This Row],[Mat Inicial]]","v":0.2},{"$f":"+BD_DEP[[#This Row],[totalr]]/BD_DEP[[#This Row],[Mat Inicial]]","v":0},{"$f":"+BD_DEP[[#This Row],[repi]]/BD_DEP[[#This Row],[Mat Inicial]]","v":0.2},"77","Dpto. Lenguas Extranjeras",72287073,"Gil Olivera Numas","CA","PR"]
[4802,"IGL8530","EX.INGLES VIII-SOCIAL AND SUST",13,202330,22,22,1,0,1,{"$f":"+BD_DEP[[#This Row],[totalp]]/BD_DEP[[#This Row],[Mat Inicial]]","v":4.5454545454545456E-2},{"$f":"+BD_DEP[[#This Row],[totalr]]/BD_DEP[[#This Row],[Mat Inicial]]","v":0},{"$f":"+BD_DEP[[#This Row],[repi]]/BD_DEP[[#This Row],[Mat Inicial]]","v":4.5454545454545456E-2},"77","Dpto. Lenguas Extranjeras",72162475,"Rivaldo Marrugo Armando","CA","PR"]
[6085,"IGL8530","EX.INGLES VIII-SOCIAL AND SUST",16,202330,22,22,0,0,0,{"$f":"+BD_DEP[[#This Row],[totalp]]/BD_DEP[[#This Row],[Mat Inicial]]","v":0},{"$f":"+BD_DEP[[#This Row],[totalr]]/BD_DEP[[#This Row],[Mat Inicial]]","v":0},{"$f":"+BD_DEP[[#This Row],[repi]]/BD_DEP[[#This Row],[Mat Inicial]]","v":0},"77","Dpto. Lenguas Extranjeras",72162475,"Rivaldo Marrugo Armando","CA","PR"]
[4796,"IGL8530","EX.INGLES VIII-SOCIAL AND SUST",7,202330,23,23,0,0,0,{"$f":"+BD_DEP[[#This Row],[totalp]]/BD_DEP[[#This Row],[Mat Inicial]]","v":0},{"$f":"+BD_DEP[[#This Row],[totalr]]/BD_DEP[[#This Row],[Mat Inicial]]","v":0},{"$f":"+BD_DEP[[#This Row],[repi]]/BD_DEP[[#This Row],[Mat Inicial]]","v":0},"77","Dpto. Lenguas Extranjeras",72190385,"Angulo Spirko Fabian","CA","PR"]
[4804,"IGL8530","EX.INGLES VIII-SOCIAL AND SUST",15,202330,18,18,1,0,1,{"$f":"+BD_DEP[[#This Row],[totalp]]/BD_DEP[[#This Row],[Mat Inicial]]","v":5.5555555555555552E-2},{"$f":"+BD_DEP[[#This Row],[totalr]]/BD_DEP[[#This Row],[Mat Inicial]]","v":0},{"$f":"+BD_DEP[[#This Row],[repi]]/BD_DEP[[#This Row],[Mat Inicial]]","v":5.5555555555555552E-2},"77","Dpto. Lenguas Extranjeras",72275585,"PADILLA DE LA CERDA FABIAN","CA","PR"]
[4803,"IGL8530","EX.INGLES VIII-SOCIAL AND SUST",14,202330,23,21,1,2,3,{"$f":"+BD_DEP[[#This Row],[totalp]]/BD_DEP[[#This Row],[Mat Inicial]]","v":4.3478260869565216E-2},{"$f":"+BD_DEP[[#This Row],[totalr]]/BD_DEP[[#This Row],[Mat Inicial]]","v":8.6956521739130432E-2},{"$f":"+BD_DEP[[#This Row],[repi]]/BD_DEP[[#This Row],[Mat Inicial]]","v":0.13043478260869565},"77","Dpto. Lenguas Extranjeras",72280623,"Orozco De la Cruz Claudio","CA","PR"]
[4800,"IGL8530","EX.INGLES VIII-SOCIAL AND SUST",11,202330,21,21,3,0,3,{"$f":"+BD_DEP[[#This Row],[totalp]]/BD_DEP[[#This Row],[Mat Inicial]]","v":0.14285714285714285},{"$f":"+BD_DEP[[#This Row],[totalr]]/BD_DEP[[#This Row],[Mat Inicial]]","v":0},{"$f":"+BD_DEP[[#This Row],[repi]]/BD_DEP[[#This Row],[Mat Inicial]]","v":0.14285714285714285},"77","Dpto. Lenguas Extranjeras",1140846174,"Pacheco Gonzalez Stefani","CA","PR"]
[4801,"IGL8530","EX.INGLES VIII-SOCIAL AND SUST",12,202330,13,11,2,2,4,{"$f":"+BD_DEP[[#This Row],[totalp]]/BD_DEP[[#This Row],[Mat Inicial]]","v":0.15384615384615385},{"$f":"+BD_DEP[[#This Row],[totalr]]/BD_DEP[[#This Row],[Mat Inicial]]","v":0.15384615384615385},{"$f":"+BD_DEP[[#This Row],[repi]]/BD_DEP[[#This Row],[Mat Inicial]]","v":0.30769230769230771},"77","Dpto. Lenguas Extranjeras",1140846174,"Pacheco Gonzalez Stefani","CA","PR"]
[4525,"ALE1031","EXIGENCIA  ALEMAN I",51,202330,14,13,3,1,4,{"$f":"+BD_DEP[[#This Row],[totalp]]/BD_DEP[[#This Row],[Mat Inicial]]","v":0.21428571428571427},{"$f":"+BD_DEP[[#This Row],[totalr]]/BD_DEP[[#This Row],[Mat Inicial]]","v":7.1428571428571425E-2},{"$f":"+BD_DEP[[#This Row],[repi]]/BD_DEP[[#This Row],[Mat Inicial]]","v":0.2857142857142857},"77","Dpto. Lenguas Extranjeras",1140823288,"Segura Duran Maria","CA","PR"]
[4600,"IGL4890","EXIGENCIA  INGLES I",5,202330,23,18,9,5,14,{"$f":"+BD_DEP[[#This Row],[totalp]]/BD_DEP[[#This Row],[Mat Inicial]]","v":0.39130434782608697},{"$f":"+BD_DEP[[#This Row],[totalr]]/BD_DEP[[#This Row],[Mat Inicial]]","v":0.21739130434782608},{"$f":"+BD_DEP[[#This Row],[repi]]/BD_DEP[[#This Row],[Mat Inicial]]","v":0.60869565217391308},"77","Dpto. Lenguas Extranjeras",22423520,"Choperena Ramos Nora","CA","PR"]
[4602,"IGL4890","EXIGENCIA  INGLES I",7,202330,18,18,8,0,8,{"$f":"+BD_DEP[[#This Row],[totalp]]/BD_DEP[[#This Row],[Mat Inicial]]","v":0.44444444444444442},{"$f":"+BD_DEP[[#This Row],[totalr]]/BD_DEP[[#This Row],[Mat Inicial]]","v":0},{"$f":"+BD_DEP[[#This Row],[repi]]/BD_DEP[[#This Row],[Mat Inicial]]","v":0.44444444444444442},"77","Dpto. Lenguas Extranjeras",22634917,"Vargas Mena Lida","CA","PR"]
[6851,"IGL4890","EXIGENCIA  INGLES I",8,202330,6,6,0,0,0,{"$f":"+BD_DEP[[#This Row],[totalp]]/BD_DEP[[#This Row],[Mat Inicial]]","v":0},{"$f":"+BD_DEP[[#This Row],[totalr]]/BD_DEP[[#This Row],[Mat Inicial]]","v":0},{"$f":"+BD_DEP[[#This Row],[repi]]/BD_DEP[[#This Row],[Mat Inicial]]","v":0},"77","Dpto. Lenguas Extranjeras",22634917,"Vargas Mena Lida","CA","PR"]
[4596,"IGL4890","EXIGENCIA  INGLES I",1,202330,23,22,8,1,9,{"$f":"+BD_DEP[[#This Row],[totalp]]/BD_DEP[[#This Row],[Mat Inicial]]","v":0.34782608695652173},{"$f":"+BD_DEP[[#This Row],[totalr]]/BD_DEP[[#This Row],[Mat Inicial]]","v":4.3478260869565216E-2},{"$f":"+BD_DEP[[#This Row],[repi]]/BD_DEP[[#This Row],[Mat Inicial]]","v":0.39130434782608697},"77","Dpto. Lenguas Extranjeras",32756979,"Castillo Barrios Mercedes","CA","PR"]
[4597,"IGL4890","EXIGENCIA  INGLES I",2,202330,23,20,9,3,12,{"$f":"+BD_DEP[[#This Row],[totalp]]/BD_DEP[[#This Row],[Mat Inicial]]","v":0.39130434782608697},{"$f":"+BD_DEP[[#This Row],[totalr]]/BD_DEP[[#This Row],[Mat Inicial]]","v":0.13043478260869565},{"$f":"+BD_DEP[[#This Row],[repi]]/BD_DEP[[#This Row],[Mat Inicial]]","v":0.52173913043478259},"77","Dpto. Lenguas Extranjeras",32756979,"Castillo Barrios Mercedes","CA","PR"]
[4601,"IGL4890","EXIGENCIA  INGLES I",6,202330,23,22,5,1,6,{"$f":"+BD_DEP[[#This Row],[totalp]]/BD_DEP[[#This Row],[Mat Inicial]]","v":0.21739130434782608},{"$f":"+BD_DEP[[#This Row],[totalr]]/BD_DEP[[#This Row],[Mat Inicial]]","v":4.3478260869565216E-2},{"$f":"+BD_DEP[[#This Row],[repi]]/BD_DEP[[#This Row],[Mat Inicial]]","v":0.2608695652173913},"77","Dpto. Lenguas Extranjeras",32824260,"Martinez Ibañez Maribel","CA","PR"]
[4599,"IGL4890","EXIGENCIA  INGLES I",4,202330,23,22,2,1,3,{"$f":"+BD_DEP[[#This Row],[totalp]]/BD_DEP[[#This Row],[Mat Inicial]]","v":8.6956521739130432E-2},{"$f":"+BD_DEP[[#This Row],[totalr]]/BD_DEP[[#This Row],[Mat Inicial]]","v":4.3478260869565216E-2},{"$f":"+BD_DEP[[#This Row],[repi]]/BD_DEP[[#This Row],[Mat Inicial]]","v":0.13043478260869565},"77","Dpto. Lenguas Extranjeras",1140858933,"Henriquez Medina Leonor","CA","PR"]
[4604,"IGL4895","EXIGENCIA  INGLES II",1,202330,20,17,0,3,3,{"$f":"+BD_DEP[[#This Row],[totalp]]/BD_DEP[[#This Row],[Mat Inicial]]","v":0},{"$f":"+BD_DEP[[#This Row],[totalr]]/BD_DEP[[#This Row],[Mat Inicial]]","v":0.15},{"$f":"+BD_DEP[[#This Row],[repi]]/BD_DEP[[#This Row],[Mat Inicial]]","v":0.15},"77","Dpto. Lenguas Extranjeras",22521070,"Insignares Blanco Shirley","CA","PR"]
[4605,"IGL4895","EXIGENCIA  INGLES II",2,202330,23,21,2,2,4,{"$f":"+BD_DEP[[#This Row],[totalp]]/BD_DEP[[#This Row],[Mat Inicial]]","v":8.6956521739130432E-2},{"$f":"+BD_DEP[[#This Row],[totalr]]/BD_DEP[[#This Row],[Mat Inicial]]","v":8.6956521739130432E-2},{"$f":"+BD_DEP[[#This Row],[repi]]/BD_DEP[[#This Row],[Mat Inicial]]","v":0.17391304347826086},"77","Dpto. Lenguas Extranjeras",22521070,"Insignares Blanco Shirley","CA","PR"]
[4614,"IGL4895","EXIGENCIA  INGLES II",11,202330,18,13,1,5,6,{"$f":"+BD_DEP[[#This Row],[totalp]]/BD_DEP[[#This Row],[Mat Inicial]]","v":5.5555555555555552E-2},{"$f":"+BD_DEP[[#This Row],[totalr]]/BD_DEP[[#This Row],[Mat Inicial]]","v":0.27777777777777779},{"$f":"+BD_DEP[[#This Row],[repi]]/BD_DEP[[#This Row],[Mat Inicial]]","v":0.33333333333333331},"77","Dpto. Lenguas Extranjeras",41614522,"Gomez Mendoza Olga","CA","PR"]
[4608,"IGL4895","EXIGENCIA  INGLES II",5,202330,23,23,4,0,4,{"$f":"+BD_DEP[[#This Row],[totalp]]/BD_DEP[[#This Row],[Mat Inicial]]","v":0.17391304347826086},{"$f":"+BD_DEP[[#This Row],[totalr]]/BD_DEP[[#This Row],[Mat Inicial]]","v":0},{"$f":"+BD_DEP[[#This Row],[repi]]/BD_DEP[[#This Row],[Mat Inicial]]","v":0.17391304347826086},"77","Dpto. Lenguas Extranjeras",55223626,"Duran Campo Kelly","CA","PR"]
[4609,"IGL4895","EXIGENCIA  INGLES II",6,202330,22,20,2,2,4,{"$f":"+BD_DEP[[#This Row],[totalp]]/BD_DEP[[#This Row],[Mat Inicial]]","v":9.0909090909090912E-2},{"$f":"+BD_DEP[[#This Row],[totalr]]/BD_DEP[[#This Row],[Mat Inicial]]","v":9.0909090909090912E-2},{"$f":"+BD_DEP[[#This Row],[repi]]/BD_DEP[[#This Row],[Mat Inicial]]","v":0.18181818181818182},"77","Dpto. Lenguas Extranjeras",55223626,"Duran Campo Kelly","CA","PR"]
[4610,"IGL4895","EXIGENCIA  INGLES II",7,202330,23,21,2,2,4,{"$f":"+BD_DEP[[#This Row],[totalp]]/BD_DEP[[#This Row],[Mat Inicial]]","v":8.6956521739130432E-2},{"$f":"+BD_DEP[[#This Row],[totalr]]/BD_DEP[[#This Row],[Mat Inicial]]","v":8.6956521739130432E-2},{"$f":"+BD_DEP[[#This Row],[repi]]/BD_DEP[[#This Row],[Mat Inicial]]","v":0.17391304347826086},"77","Dpto. Lenguas Extranjeras",55223626,"Duran Campo Kelly","CA","PR"]
[4611,"IGL4895","EXIGENCIA  INGLES II",8,202330,23,21,6,2,8,{"$f":"+BD_DEP[[#This Row],[totalp]]/BD_DEP[[#This Row],[Mat Inicial]]","v":0.2608695652173913},{"$f":"+BD_DEP[[#This Row],[totalr]]/BD_DEP[[#This Row],[Mat Inicial]]","v":8.6956521739130432E-2},{"$f":"+BD_DEP[[#This Row],[repi]]/BD_DEP[[#This Row],[Mat Inicial]]","v":0.34782608695652173},"77","Dpto. Lenguas Extranjeras",55223626,"Duran Campo Kelly","CA","PR"]
[4612,"IGL4895","EXIGENCIA  INGLES II",9,202330,20,18,1,2,3,{"$f":"+BD_DEP[[#This Row],[totalp]]/BD_DEP[[#This Row],[Mat Inicial]]","v":0.05},{"$f":"+BD_DEP[[#This Row],[totalr]]/BD_DEP[[#This Row],[Mat Inicial]]","v":0.1},{"$f":"+BD_DEP[[#This Row],[repi]]/BD_DEP[[#This Row],[Mat Inicial]]","v":0.15},"77","Dpto. Lenguas Extranjeras",1129573213,"Segura Duran Maria","CA","PR"]
[4613,"IGL4895","EXIGENCIA  INGLES II",10,202330,23,19,1,4,5,{"$f":"+BD_DEP[[#This Row],[totalp]]/BD_DEP[[#This Row],[Mat Inicial]]","v":4.3478260869565216E-2},{"$f":"+BD_DEP[[#This Row],[totalr]]/BD_DEP[[#This Row],[Mat Inicial]]","v":0.17391304347826086},{"$f":"+BD_DEP[[#This Row],[repi]]/BD_DEP[[#This Row],[Mat Inicial]]","v":0.21739130434782608},"77","Dpto. Lenguas Extranjeras",1129573213,"Segura Duran Maria","CA","PR"]
[4618,"IGL4900","EXIGENCIA  INGLES III",4,202330,23,20,3,3,6,{"$f":"+BD_DEP[[#This Row],[totalp]]/BD_DEP[[#This Row],[Mat Inicial]]","v":0.13043478260869565},{"$f":"+BD_DEP[[#This Row],[totalr]]/BD_DEP[[#This Row],[Mat Inicial]]","v":0.13043478260869565},{"$f":"+BD_DEP[[#This Row],[repi]]/BD_DEP[[#This Row],[Mat Inicial]]","v":0.2608695652173913},"77","Dpto. Lenguas Extranjeras",8724781,"Cadenas Bejarano Luis","CA","PR"]
[4623,"IGL4900","EXIGENCIA  INGLES III",9,202330,17,17,4,0,4,{"$f":"+BD_DEP[[#This Row],[totalp]]/BD_DEP[[#This Row],[Mat Inicial]]","v":0.23529411764705882},{"$f":"+BD_DEP[[#This Row],[totalr]]/BD_DEP[[#This Row],[Mat Inicial]]","v":0},{"$f":"+BD_DEP[[#This Row],[repi]]/BD_DEP[[#This Row],[Mat Inicial]]","v":0.23529411764705882},"77","Dpto. Lenguas Extranjeras",22423520,"Choperena Ramos Nora","CA","PR"]
[4619,"IGL4900","EXIGENCIA  INGLES III",5,202330,20,19,1,1,2,{"$f":"+BD_DEP[[#This Row],[totalp]]/BD_DEP[[#This Row],[Mat Inicial]]","v":0.05},{"$f":"+BD_DEP[[#This Row],[totalr]]/BD_DEP[[#This Row],[Mat Inicial]]","v":0.05},{"$f":"+BD_DEP[[#This Row],[repi]]/BD_DEP[[#This Row],[Mat Inicial]]","v":0.1},"77","Dpto. Lenguas Extranjeras",32735404,"Vides Orozco Elizabeth","CA","PR"]
[4620,"IGL4900","EXIGENCIA  INGLES III",6,202330,11,9,0,2,2,{"$f":"+BD_DEP[[#This Row],[totalp]]/BD_DEP[[#This Row],[Mat Inicial]]","v":0},{"$f":"+BD_DEP[[#This Row],[totalr]]/BD_DEP[[#This Row],[Mat Inicial]]","v":0.18181818181818182},{"$f":"+BD_DEP[[#This Row],[repi]]/BD_DEP[[#This Row],[Mat Inicial]]","v":0.18181818181818182},"77","Dpto. Lenguas Extranjeras",32735404,"Vides Orozco Elizabeth","CA","PR"]
[4625,"IGL4900","EXIGENCIA  INGLES III",11,202330,22,22,0,0,0,{"$f":"+BD_DEP[[#This Row],[totalp]]/BD_DEP[[#This Row],[Mat Inicial]]","v":0},{"$f":"+BD_DEP[[#This Row],[totalr]]/BD_DEP[[#This Row],[Mat Inicial]]","v":0},{"$f":"+BD_DEP[[#This Row],[repi]]/BD_DEP[[#This Row],[Mat Inicial]]","v":0},"77","Dpto. Lenguas Extranjeras",41614522,"Gomez Mendoza Olga","CA","PR"]
[4626,"IGL4900","EXIGENCIA  INGLES III",12,202330,22,20,0,2,2,{"$f":"+BD_DEP[[#This Row],[totalp]]/BD_DEP[[#This Row],[Mat Inicial]]","v":0},{"$f":"+BD_DEP[[#This Row],[totalr]]/BD_DEP[[#This Row],[Mat Inicial]]","v":9.0909090909090912E-2},{"$f":"+BD_DEP[[#This Row],[repi]]/BD_DEP[[#This Row],[Mat Inicial]]","v":9.0909090909090912E-2},"77","Dpto. Lenguas Extranjeras",55313438,"Morales Miranda Veronica","CA","PR"]
[4627,"IGL4900","EXIGENCIA  INGLES III",13,202330,22,22,0,0,0,{"$f":"+BD_DEP[[#This Row],[totalp]]/BD_DEP[[#This Row],[Mat Inicial]]","v":0},{"$f":"+BD_DEP[[#This Row],[totalr]]/BD_DEP[[#This Row],[Mat Inicial]]","v":0},{"$f":"+BD_DEP[[#This Row],[repi]]/BD_DEP[[#This Row],[Mat Inicial]]","v":0},"77","Dpto. Lenguas Extranjeras",55313438,"Morales Miranda Veronica","CA","PR"]
[4615,"IGL4900","EXIGENCIA  INGLES III",1,202330,22,21,4,1,5,{"$f":"+BD_DEP[[#This Row],[totalp]]/BD_DEP[[#This Row],[Mat Inicial]]","v":0.18181818181818182},{"$f":"+BD_DEP[[#This Row],[totalr]]/BD_DEP[[#This Row],[Mat Inicial]]","v":4.5454545454545456E-2},{"$f":"+BD_DEP[[#This Row],[repi]]/BD_DEP[[#This Row],[Mat Inicial]]","v":0.22727272727272727},"77","Dpto. Lenguas Extranjeras",75107553,"Londoño Alzate Juan","CA","PR"]
[4616,"IGL4900","EXIGENCIA  INGLES III",2,202330,18,17,1,1,2,{"$f":"+BD_DEP[[#This Row],[totalp]]/BD_DEP[[#This Row],[Mat Inicial]]","v":5.5555555555555552E-2},{"$f":"+BD_DEP[[#This Row],[totalr]]/BD_DEP[[#This Row],[Mat Inicial]]","v":5.5555555555555552E-2},{"$f":"+BD_DEP[[#This Row],[repi]]/BD_DEP[[#This Row],[Mat Inicial]]","v":0.1111111111111111},"77","Dpto. Lenguas Extranjeras",75107553,"Londoño Alzate Juan","CA","PR"]
[4617,"IGL4900","EXIGENCIA  INGLES III",3,202330,14,13,0,1,1,{"$f":"+BD_DEP[[#This Row],[totalp]]/BD_DEP[[#This Row],[Mat Inicial]]","v":0},{"$f":"+BD_DEP[[#This Row],[totalr]]/BD_DEP[[#This Row],[Mat Inicial]]","v":7.1428571428571425E-2},{"$f":"+BD_DEP[[#This Row],[repi]]/BD_DEP[[#This Row],[Mat Inicial]]","v":7.1428571428571425E-2},"77","Dpto. Lenguas Extranjeras",75107553,"Londoño Alzate Juan","CA","PR"]
[4621,"IGL4900","EXIGENCIA  INGLES III",7,202330,13,12,2,1,3,{"$f":"+BD_DEP[[#This Row],[totalp]]/BD_DEP[[#This Row],[Mat Inicial]]","v":0.15384615384615385},{"$f":"+BD_DEP[[#This Row],[totalr]]/BD_DEP[[#This Row],[Mat Inicial]]","v":7.6923076923076927E-2},{"$f":"+BD_DEP[[#This Row],[repi]]/BD_DEP[[#This Row],[Mat Inicial]]","v":0.23076923076923078},"77","Dpto. Lenguas Extranjeras",1129573213,"Segura Duran Maria","CA","PR"]
[4622,"IGL4900","EXIGENCIA  INGLES III",8,202330,19,15,2,4,6,{"$f":"+BD_DEP[[#This Row],[totalp]]/BD_DEP[[#This Row],[Mat Inicial]]","v":0.10526315789473684},{"$f":"+BD_DEP[[#This Row],[totalr]]/BD_DEP[[#This Row],[Mat Inicial]]","v":0.21052631578947367},{"$f":"+BD_DEP[[#This Row],[repi]]/BD_DEP[[#This Row],[Mat Inicial]]","v":0.31578947368421051},"77","Dpto. Lenguas Extranjeras",1129573213,"Segura Duran Maria","CA","PR"]
[4628,"IGL4905","EXIGENCIA  INGLES IV",1,202330,24,24,2,0,2,{"$f":"+BD_DEP[[#This Row],[totalp]]/BD_DEP[[#This Row],[Mat Inicial]]","v":8.3333333333333329E-2},{"$f":"+BD_DEP[[#This Row],[totalr]]/BD_DEP[[#This Row],[Mat Inicial]]","v":0},{"$f":"+BD_DEP[[#This Row],[repi]]/BD_DEP[[#This Row],[Mat Inicial]]","v":8.3333333333333329E-2},"77","Dpto. Lenguas Extranjeras",22448736,"Parra Lopez Katia","CA","PR"]
[4629,"IGL4905","EXIGENCIA  INGLES IV",2,202330,23,21,0,2,2,{"$f":"+BD_DEP[[#This Row],[totalp]]/BD_DEP[[#This Row],[Mat Inicial]]","v":0},{"$f":"+BD_DEP[[#This Row],[totalr]]/BD_DEP[[#This Row],[Mat Inicial]]","v":8.6956521739130432E-2},{"$f":"+BD_DEP[[#This Row],[repi]]/BD_DEP[[#This Row],[Mat Inicial]]","v":8.6956521739130432E-2},"77","Dpto. Lenguas Extranjeras",22448736,"Parra Lopez Katia","CA","PR"]
[4630,"IGL4905","EXIGENCIA  INGLES IV",3,202330,23,23,2,0,2,{"$f":"+BD_DEP[[#This Row],[totalp]]/BD_DEP[[#This Row],[Mat Inicial]]","v":8.6956521739130432E-2},{"$f":"+BD_DEP[[#This Row],[totalr]]/BD_DEP[[#This Row],[Mat Inicial]]","v":0},{"$f":"+BD_DEP[[#This Row],[repi]]/BD_DEP[[#This Row],[Mat Inicial]]","v":8.6956521739130432E-2},"77","Dpto. Lenguas Extranjeras",22448736,"Parra Lopez Katia","CA","PR"]
[4631,"IGL4905","EXIGENCIA  INGLES IV",4,202330,23,23,1,0,1,{"$f":"+BD_DEP[[#This Row],[totalp]]/BD_DEP[[#This Row],[Mat Inicial]]","v":4.3478260869565216E-2},{"$f":"+BD_DEP[[#This Row],[totalr]]/BD_DEP[[#This Row],[Mat Inicial]]","v":0},{"$f":"+BD_DEP[[#This Row],[repi]]/BD_DEP[[#This Row],[Mat Inicial]]","v":4.3478260869565216E-2},"77","Dpto. Lenguas Extranjeras",22448736,"Parra Lopez Katia","CA","PR"]
[6743,"IGL4905","EXIGENCIA  INGLES IV",16,202330,7,6,0,1,1,{"$f":"+BD_DEP[[#This Row],[totalp]]/BD_DEP[[#This Row],[Mat Inicial]]","v":0},{"$f":"+BD_DEP[[#This Row],[totalr]]/BD_DEP[[#This Row],[Mat Inicial]]","v":0.14285714285714285},{"$f":"+BD_DEP[[#This Row],[repi]]/BD_DEP[[#This Row],[Mat Inicial]]","v":0.14285714285714285},"77","Dpto. Lenguas Extranjeras",22732473,"Daniels Coneo Viviana","CA","PR"]
[4634,"IGL4905","EXIGENCIA  INGLES IV",7,202330,23,22,1,1,2,{"$f":"+BD_DEP[[#This Row],[totalp]]/BD_DEP[[#This Row],[Mat Inicial]]","v":4.3478260869565216E-2},{"$f":"+BD_DEP[[#This Row],[totalr]]/BD_DEP[[#This Row],[Mat Inicial]]","v":4.3478260869565216E-2},{"$f":"+BD_DEP[[#This Row],[repi]]/BD_DEP[[#This Row],[Mat Inicial]]","v":8.6956521739130432E-2},"77","Dpto. Lenguas Extranjeras",32735404,"Vides Orozco Elizabeth","CA","PR"]
[4635,"IGL4905","EXIGENCIA  INGLES IV",8,202330,23,23,1,0,1,{"$f":"+BD_DEP[[#This Row],[totalp]]/BD_DEP[[#This Row],[Mat Inicial]]","v":4.3478260869565216E-2},{"$f":"+BD_DEP[[#This Row],[totalr]]/BD_DEP[[#This Row],[Mat Inicial]]","v":0},{"$f":"+BD_DEP[[#This Row],[repi]]/BD_DEP[[#This Row],[Mat Inicial]]","v":4.3478260869565216E-2},"77","Dpto. Lenguas Extranjeras",32735404,"Vides Orozco Elizabeth","CA","PR"]
[4638,"IGL4905","EXIGENCIA  INGLES IV",11,202330,23,23,1,0,1,{"$f":"+BD_DEP[[#This Row],[totalp]]/BD_DEP[[#This Row],[Mat Inicial]]","v":4.3478260869565216E-2},{"$f":"+BD_DEP[[#This Row],[totalr]]/BD_DEP[[#This Row],[Mat Inicial]]","v":0},{"$f":"+BD_DEP[[#This Row],[repi]]/BD_DEP[[#This Row],[Mat Inicial]]","v":4.3478260869565216E-2},"77","Dpto. Lenguas Extranjeras",32824260,"Martinez Ibañez Maribel","CA","PR"]
[4632,"IGL4905","EXIGENCIA  INGLES IV",5,202330,23,22,2,1,3,{"$f":"+BD_DEP[[#This Row],[totalp]]/BD_DEP[[#This Row],[Mat Inicial]]","v":8.6956521739130432E-2},{"$f":"+BD_DEP[[#This Row],[totalr]]/BD_DEP[[#This Row],[Mat Inicial]]","v":4.3478260869565216E-2},{"$f":"+BD_DEP[[#This Row],[repi]]/BD_DEP[[#This Row],[Mat Inicial]]","v":0.13043478260869565},"77","Dpto. Lenguas Extranjeras",72190633,"Iglesias Montes Rafael","CA","PR"]
[4633,"IGL4905","EXIGENCIA  INGLES IV",6,202330,23,21,0,2,2,{"$f":"+BD_DEP[[#This Row],[totalp]]/BD_DEP[[#This Row],[Mat Inicial]]","v":0},{"$f":"+BD_DEP[[#This Row],[totalr]]/BD_DEP[[#This Row],[Mat Inicial]]","v":8.6956521739130432E-2},{"$f":"+BD_DEP[[#This Row],[repi]]/BD_DEP[[#This Row],[Mat Inicial]]","v":8.6956521739130432E-2},"77","Dpto. Lenguas Extranjeras",72190633,"Iglesias Montes Rafael","CA","PR"]
[4639,"IGL4905","EXIGENCIA  INGLES IV",12,202330,21,21,2,0,2,{"$f":"+BD_DEP[[#This Row],[totalp]]/BD_DEP[[#This Row],[Mat Inicial]]","v":9.5238095238095233E-2},{"$f":"+BD_DEP[[#This Row],[totalr]]/BD_DEP[[#This Row],[Mat Inicial]]","v":0},{"$f":"+BD_DEP[[#This Row],[repi]]/BD_DEP[[#This Row],[Mat Inicial]]","v":9.5238095238095233E-2},"77","Dpto. Lenguas Extranjeras",1129530289,"Guzman Villalba Jorge","CA","PR"]
[4640,"IGL4905","EXIGENCIA  INGLES IV",13,202330,22,21,1,1,2,{"$f":"+BD_DEP[[#This Row],[totalp]]/BD_DEP[[#This Row],[Mat Inicial]]","v":4.5454545454545456E-2},{"$f":"+BD_DEP[[#This Row],[totalr]]/BD_DEP[[#This Row],[Mat Inicial]]","v":4.5454545454545456E-2},{"$f":"+BD_DEP[[#This Row],[repi]]/BD_DEP[[#This Row],[Mat Inicial]]","v":9.0909090909090912E-2},"77","Dpto. Lenguas Extranjeras",1129530289,"Guzman Villalba Jorge","CA","PR"]
[6740,"IGL4930","EXIGENCIA  INGLES NIVELATORIO",3,202330,14,12,2,2,4,{"$f":"+BD_DEP[[#This Row],[totalp]]/BD_DEP[[#This Row],[Mat Inicial]]","v":0.14285714285714285},{"$f":"+BD_DEP[[#This Row],[totalr]]/BD_DEP[[#This Row],[Mat Inicial]]","v":0.14285714285714285},{"$f":"+BD_DEP[[#This Row],[repi]]/BD_DEP[[#This Row],[Mat Inicial]]","v":0.2857142857142857},"77","Dpto. Lenguas Extranjeras",32799905,"John Tapias Patricia","CA","PR"]
[4651,"IGL4910","EXIGENCIA  INGLES V",9,202330,23,22,0,1,1,{"$f":"+BD_DEP[[#This Row],[totalp]]/BD_DEP[[#This Row],[Mat Inicial]]","v":0},{"$f":"+BD_DEP[[#This Row],[totalr]]/BD_DEP[[#This Row],[Mat Inicial]]","v":4.3478260869565216E-2},{"$f":"+BD_DEP[[#This Row],[repi]]/BD_DEP[[#This Row],[Mat Inicial]]","v":4.3478260869565216E-2},"77","Dpto. Lenguas Extranjeras",8508937,"Bermudez Puello Edgar","CA","PR"]
[4652,"IGL4910","EXIGENCIA  INGLES V",10,202330,22,21,0,1,1,{"$f":"+BD_DEP[[#This Row],[totalp]]/BD_DEP[[#This Row],[Mat Inicial]]","v":0},{"$f":"+BD_DEP[[#This Row],[totalr]]/BD_DEP[[#This Row],[Mat Inicial]]","v":4.5454545454545456E-2},{"$f":"+BD_DEP[[#This Row],[repi]]/BD_DEP[[#This Row],[Mat Inicial]]","v":4.5454545454545456E-2},"77","Dpto. Lenguas Extranjeras",8508937,"Bermudez Puello Edgar","CA","PR"]
[4653,"IGL4910","EXIGENCIA  INGLES V",11,202330,23,23,0,0,0,{"$f":"+BD_DEP[[#This Row],[totalp]]/BD_DEP[[#This Row],[Mat Inicial]]","v":0},{"$f":"+BD_DEP[[#This Row],[totalr]]/BD_DEP[[#This Row],[Mat Inicial]]","v":0},{"$f":"+BD_DEP[[#This Row],[repi]]/BD_DEP[[#This Row],[Mat Inicial]]","v":0},"77","Dpto. Lenguas Extranjeras",8508937,"Bermudez Puello Edgar","CA","PR"]
[4650,"IGL4910","EXIGENCIA  INGLES V",8,202330,23,20,0,3,3,{"$f":"+BD_DEP[[#This Row],[totalp]]/BD_DEP[[#This Row],[Mat Inicial]]","v":0},{"$f":"+BD_DEP[[#This Row],[totalr]]/BD_DEP[[#This Row],[Mat Inicial]]","v":0.13043478260869565},{"$f":"+BD_DEP[[#This Row],[repi]]/BD_DEP[[#This Row],[Mat Inicial]]","v":0.13043478260869565},"77","Dpto. Lenguas Extranjeras",32824260,"Martinez Ibañez Maribel","CA","PR"]
[4655,"IGL4910","EXIGENCIA  INGLES V",13,202330,23,21,0,2,2,{"$f":"+BD_DEP[[#This Row],[totalp]]/BD_DEP[[#This Row],[Mat Inicial]]","v":0},{"$f":"+BD_DEP[[#This Row],[totalr]]/BD_DEP[[#This Row],[Mat Inicial]]","v":8.6956521739130432E-2},{"$f":"+BD_DEP[[#This Row],[repi]]/BD_DEP[[#This Row],[Mat Inicial]]","v":8.6956521739130432E-2},"77","Dpto. Lenguas Extranjeras",41788470,"Herrera Arellana Myrna","CA","PR"]
[4656,"IGL4910","EXIGENCIA  INGLES V",14,202330,23,22,3,1,4,{"$f":"+BD_DEP[[#This Row],[totalp]]/BD_DEP[[#This Row],[Mat Inicial]]","v":0.13043478260869565},{"$f":"+BD_DEP[[#This Row],[totalr]]/BD_DEP[[#This Row],[Mat Inicial]]","v":4.3478260869565216E-2},{"$f":"+BD_DEP[[#This Row],[repi]]/BD_DEP[[#This Row],[Mat Inicial]]","v":0.17391304347826086},"77","Dpto. Lenguas Extranjeras",41788470,"Herrera Arellana Myrna","CA","PR"]
[4657,"IGL4910","EXIGENCIA  INGLES V",15,202330,22,20,2,2,4,{"$f":"+BD_DEP[[#This Row],[totalp]]/BD_DEP[[#This Row],[Mat Inicial]]","v":9.0909090909090912E-2},{"$f":"+BD_DEP[[#This Row],[totalr]]/BD_DEP[[#This Row],[Mat Inicial]]","v":9.0909090909090912E-2},{"$f":"+BD_DEP[[#This Row],[repi]]/BD_DEP[[#This Row],[Mat Inicial]]","v":0.18181818181818182},"77","Dpto. Lenguas Extranjeras",41788470,"Herrera Arellana Myrna","CA","PR"]
[4654,"IGL4910","EXIGENCIA  INGLES V",12,202330,16,16,1,0,1,{"$f":"+BD_DEP[[#This Row],[totalp]]/BD_DEP[[#This Row],[Mat Inicial]]","v":6.25E-2},{"$f":"+BD_DEP[[#This Row],[totalr]]/BD_DEP[[#This Row],[Mat Inicial]]","v":0},{"$f":"+BD_DEP[[#This Row],[repi]]/BD_DEP[[#This Row],[Mat Inicial]]","v":6.25E-2},"77","Dpto. Lenguas Extranjeras",75107553,"Londoño Alzate Juan","CA","PR"]
[4681,"IGL4915","EXIGENCIA  INGLES VI",40,202330,16,16,2,0,2,{"$f":"+BD_DEP[[#This Row],[totalp]]/BD_DEP[[#This Row],[Mat Inicial]]","v":0.125},{"$f":"+BD_DEP[[#This Row],[totalr]]/BD_DEP[[#This Row],[Mat Inicial]]","v":0},{"$f":"+BD_DEP[[#This Row],[repi]]/BD_DEP[[#This Row],[Mat Inicial]]","v":0.125},"77","Dpto. Lenguas Extranjeras",22521070,"Insignares Blanco Shirley","CA","PR"]
[4673,"IGL4915","EXIGENCIA  INGLES VI",14,202330,23,18,3,5,8,{"$f":"+BD_DEP[[#This Row],[totalp]]/BD_DEP[[#This Row],[Mat Inicial]]","v":0.13043478260869565},{"$f":"+BD_DEP[[#This Row],[totalr]]/BD_DEP[[#This Row],[Mat Inicial]]","v":0.21739130434782608},{"$f":"+BD_DEP[[#This Row],[repi]]/BD_DEP[[#This Row],[Mat Inicial]]","v":0.34782608695652173},"77","Dpto. Lenguas Extranjeras",22564482,"Alvarez Rodriguez Adriana","CA","PR"]
[4674,"IGL4915","EXIGENCIA  INGLES VI",15,202330,23,21,5,2,7,{"$f":"+BD_DEP[[#This Row],[totalp]]/BD_DEP[[#This Row],[Mat Inicial]]","v":0.21739130434782608},{"$f":"+BD_DEP[[#This Row],[totalr]]/BD_DEP[[#This Row],[Mat Inicial]]","v":8.6956521739130432E-2},{"$f":"+BD_DEP[[#This Row],[repi]]/BD_DEP[[#This Row],[Mat Inicial]]","v":0.30434782608695654},"77","Dpto. Lenguas Extranjeras",22564482,"Alvarez Rodriguez Adriana","CA","PR"]
[4671,"IGL4915","EXIGENCIA  INGLES VI",12,202330,23,21,0,2,2,{"$f":"+BD_DEP[[#This Row],[totalp]]/BD_DEP[[#This Row],[Mat Inicial]]","v":0},{"$f":"+BD_DEP[[#This Row],[totalr]]/BD_DEP[[#This Row],[Mat Inicial]]","v":8.6956521739130432E-2},{"$f":"+BD_DEP[[#This Row],[repi]]/BD_DEP[[#This Row],[Mat Inicial]]","v":8.6956521739130432E-2},"77","Dpto. Lenguas Extranjeras",22740804,"Santamaria Manotas Sandra","CA","PR"]
[4672,"IGL4915","EXIGENCIA  INGLES VI",13,202330,23,23,1,0,1,{"$f":"+BD_DEP[[#This Row],[totalp]]/BD_DEP[[#This Row],[Mat Inicial]]","v":4.3478260869565216E-2},{"$f":"+BD_DEP[[#This Row],[totalr]]/BD_DEP[[#This Row],[Mat Inicial]]","v":0},{"$f":"+BD_DEP[[#This Row],[repi]]/BD_DEP[[#This Row],[Mat Inicial]]","v":4.3478260869565216E-2},"77","Dpto. Lenguas Extranjeras",22740804,"Santamaria Manotas Sandra","CA","PR"]
[4679,"IGL4915","EXIGENCIA  INGLES VI",20,202330,23,23,1,0,1,{"$f":"+BD_DEP[[#This Row],[totalp]]/BD_DEP[[#This Row],[Mat Inicial]]","v":4.3478260869565216E-2},{"$f":"+BD_DEP[[#This Row],[totalr]]/BD_DEP[[#This Row],[Mat Inicial]]","v":0},{"$f":"+BD_DEP[[#This Row],[repi]]/BD_DEP[[#This Row],[Mat Inicial]]","v":4.3478260869565216E-2},"77","Dpto. Lenguas Extranjeras",72190385,"Angulo Spirko Fabian","CA","PR"]
[4662,"IGL4915","EXIGENCIA  INGLES VI",3,202330,23,21,2,2,4,{"$f":"+BD_DEP[[#This Row],[totalp]]/BD_DEP[[#This Row],[Mat Inicial]]","v":8.6956521739130432E-2},{"$f":"+BD_DEP[[#This Row],[totalr]]/BD_DEP[[#This Row],[Mat Inicial]]","v":8.6956521739130432E-2},{"$f":"+BD_DEP[[#This Row],[repi]]/BD_DEP[[#This Row],[Mat Inicial]]","v":0.17391304347826086},"77","Dpto. Lenguas Extranjeras",72190633,"Iglesias Montes Rafael","CA","PR"]
[4663,"IGL4915","EXIGENCIA  INGLES VI",4,202330,17,17,1,0,1,{"$f":"+BD_DEP[[#This Row],[totalp]]/BD_DEP[[#This Row],[Mat Inicial]]","v":5.8823529411764705E-2},{"$f":"+BD_DEP[[#This Row],[totalr]]/BD_DEP[[#This Row],[Mat Inicial]]","v":0},{"$f":"+BD_DEP[[#This Row],[repi]]/BD_DEP[[#This Row],[Mat Inicial]]","v":5.8823529411764705E-2},"77","Dpto. Lenguas Extranjeras",72190633,"Iglesias Montes Rafael","CA","PR"]
[4669,"IGL4915","EXIGENCIA  INGLES VI",10,202330,23,22,5,1,6,{"$f":"+BD_DEP[[#This Row],[totalp]]/BD_DEP[[#This Row],[Mat Inicial]]","v":0.21739130434782608},{"$f":"+BD_DEP[[#This Row],[totalr]]/BD_DEP[[#This Row],[Mat Inicial]]","v":4.3478260869565216E-2},{"$f":"+BD_DEP[[#This Row],[repi]]/BD_DEP[[#This Row],[Mat Inicial]]","v":0.2608695652173913},"77","Dpto. Lenguas Extranjeras",1045671424,"Camargo Diaz Aileen","CA","PR"]
[4664,"IGL4915","EXIGENCIA  INGLES VI",5,202330,23,23,5,0,5,{"$f":"+BD_DEP[[#This Row],[totalp]]/BD_DEP[[#This Row],[Mat Inicial]]","v":0.21739130434782608},{"$f":"+BD_DEP[[#This Row],[totalr]]/BD_DEP[[#This Row],[Mat Inicial]]","v":0},{"$f":"+BD_DEP[[#This Row],[repi]]/BD_DEP[[#This Row],[Mat Inicial]]","v":0.21739130434782608},"77","Dpto. Lenguas Extranjeras",1094240822,"Rodriguez Urbina Daniel","CA","PR"]
[4666,"IGL4915","EXIGENCIA  INGLES VI",7,202330,23,21,3,2,5,{"$f":"+BD_DEP[[#This Row],[totalp]]/BD_DEP[[#This Row],[Mat Inicial]]","v":0.13043478260869565},{"$f":"+BD_DEP[[#This Row],[totalr]]/BD_DEP[[#This Row],[Mat Inicial]]","v":8.6956521739130432E-2},{"$f":"+BD_DEP[[#This Row],[repi]]/BD_DEP[[#This Row],[Mat Inicial]]","v":0.21739130434782608},"77","Dpto. Lenguas Extranjeras",1094240822,"Rodriguez Urbina Daniel","CA","PR"]
[4660,"IGL4915","EXIGENCIA  INGLES VI",1,202330,23,23,4,0,4,{"$f":"+BD_DEP[[#This Row],[totalp]]/BD_DEP[[#This Row],[Mat Inicial]]","v":0.17391304347826086},{"$f":"+BD_DEP[[#This Row],[totalr]]/BD_DEP[[#This Row],[Mat Inicial]]","v":0},{"$f":"+BD_DEP[[#This Row],[repi]]/BD_DEP[[#This Row],[Mat Inicial]]","v":0.17391304347826086},"77","Dpto. Lenguas Extranjeras",1140846415,"Casimiro Cantillo Samuel","CA","PR"]
[4661,"IGL4915","EXIGENCIA  INGLES VI",2,202330,23,21,4,2,6,{"$f":"+BD_DEP[[#This Row],[totalp]]/BD_DEP[[#This Row],[Mat Inicial]]","v":0.17391304347826086},{"$f":"+BD_DEP[[#This Row],[totalr]]/BD_DEP[[#This Row],[Mat Inicial]]","v":8.6956521739130432E-2},{"$f":"+BD_DEP[[#This Row],[repi]]/BD_DEP[[#This Row],[Mat Inicial]]","v":0.2608695652173913},"77","Dpto. Lenguas Extranjeras",1140846415,"Casimiro Cantillo Samuel","CA","PR"]
[4536,"ALE7091","EXIGENCIA ALEMAN  VIII",1,202330,18,18,0,0,0,{"$f":"+BD_DEP[[#This Row],[totalp]]/BD_DEP[[#This Row],[Mat Inicial]]","v":0},{"$f":"+BD_DEP[[#This Row],[totalr]]/BD_DEP[[#This Row],[Mat Inicial]]","v":0},{"$f":"+BD_DEP[[#This Row],[repi]]/BD_DEP[[#This Row],[Mat Inicial]]","v":0},"77","Dpto. Lenguas Extranjeras",1140844034,"Ahumada Ebratt Dayson","CA","PR"]
[4537,"ALE7091","EXIGENCIA ALEMAN  VIII",2,202330,17,17,0,0,0,{"$f":"+BD_DEP[[#This Row],[totalp]]/BD_DEP[[#This Row],[Mat Inicial]]","v":0},{"$f":"+BD_DEP[[#This Row],[totalr]]/BD_DEP[[#This Row],[Mat Inicial]]","v":0},{"$f":"+BD_DEP[[#This Row],[repi]]/BD_DEP[[#This Row],[Mat Inicial]]","v":0},"77","Dpto. Lenguas Extranjeras",1140844034,"Ahumada Ebratt Dayson","CA","PR"]
[4526,"ALE4031","EXIGENCIA ALEMAN II",1,202330,20,19,0,1,1,{"$f":"+BD_DEP[[#This Row],[totalp]]/BD_DEP[[#This Row],[Mat Inicial]]","v":0},{"$f":"+BD_DEP[[#This Row],[totalr]]/BD_DEP[[#This Row],[Mat Inicial]]","v":0.05},{"$f":"+BD_DEP[[#This Row],[repi]]/BD_DEP[[#This Row],[Mat Inicial]]","v":0.05},"77","Dpto. Lenguas Extranjeras",1140844034,"Ahumada Ebratt Dayson","CA","PR"]
[4527,"ALE4031","EXIGENCIA ALEMAN II",2,202330,13,13,2,0,2,{"$f":"+BD_DEP[[#This Row],[totalp]]/BD_DEP[[#This Row],[Mat Inicial]]","v":0.15384615384615385},{"$f":"+BD_DEP[[#This Row],[totalr]]/BD_DEP[[#This Row],[Mat Inicial]]","v":0},{"$f":"+BD_DEP[[#This Row],[repi]]/BD_DEP[[#This Row],[Mat Inicial]]","v":0.15384615384615385},"77","Dpto. Lenguas Extranjeras",1140844034,"Ahumada Ebratt Dayson","CA","PR"]
[6857,"ALE4031","EXIGENCIA ALEMAN II",3,202330,1,1,0,0,0,{"$f":"+BD_DEP[[#This Row],[totalp]]/BD_DEP[[#This Row],[Mat Inicial]]","v":0},{"$f":"+BD_DEP[[#This Row],[totalr]]/BD_DEP[[#This Row],[Mat Inicial]]","v":0},{"$f":"+BD_DEP[[#This Row],[repi]]/BD_DEP[[#This Row],[Mat Inicial]]","v":0},"77","Dpto. Lenguas Extranjeras",1140844034,"Ahumada Ebratt Dayson","CA","PR"]
[4528,"ALE4041","EXIGENCIA ALEMAN III",1,202330,13,13,1,0,1,{"$f":"+BD_DEP[[#This Row],[totalp]]/BD_DEP[[#This Row],[Mat Inicial]]","v":7.6923076923076927E-2},{"$f":"+BD_DEP[[#This Row],[totalr]]/BD_DEP[[#This Row],[Mat Inicial]]","v":0},{"$f":"+BD_DEP[[#This Row],[repi]]/BD_DEP[[#This Row],[Mat Inicial]]","v":7.6923076923076927E-2},"77","Dpto. Lenguas Extranjeras",79864225,"Rojas Pion Otto","CA","PR"]
[6858,"ALE4041","EXIGENCIA ALEMAN III",2,202330,1,1,0,0,0,{"$f":"+BD_DEP[[#This Row],[totalp]]/BD_DEP[[#This Row],[Mat Inicial]]","v":0},{"$f":"+BD_DEP[[#This Row],[totalr]]/BD_DEP[[#This Row],[Mat Inicial]]","v":0},{"$f":"+BD_DEP[[#This Row],[repi]]/BD_DEP[[#This Row],[Mat Inicial]]","v":0},"77","Dpto. Lenguas Extranjeras",1140844034,"Ahumada Ebratt Dayson","CA","PR"]
[4529,"ALE4051","EXIGENCIA ALEMAN IV",1,202330,19,18,1,1,2,{"$f":"+BD_DEP[[#This Row],[totalp]]/BD_DEP[[#This Row],[Mat Inicial]]","v":5.2631578947368418E-2},{"$f":"+BD_DEP[[#This Row],[totalr]]/BD_DEP[[#This Row],[Mat Inicial]]","v":5.2631578947368418E-2},{"$f":"+BD_DEP[[#This Row],[repi]]/BD_DEP[[#This Row],[Mat Inicial]]","v":0.10526315789473684},"77","Dpto. Lenguas Extranjeras",1140824987,"Bohorquez Anaya Jose","CA","PR"]
[4531,"ALE7061","EXIGENCIA ALEMAN V",1,202330,7,7,1,0,1,{"$f":"+BD_DEP[[#This Row],[totalp]]/BD_DEP[[#This Row],[Mat Inicial]]","v":0.14285714285714285},{"$f":"+BD_DEP[[#This Row],[totalr]]/BD_DEP[[#This Row],[Mat Inicial]]","v":0},{"$f":"+BD_DEP[[#This Row],[repi]]/BD_DEP[[#This Row],[Mat Inicial]]","v":0.14285714285714285},"77","Dpto. Lenguas Extranjeras",79864225,"Rojas Pion Otto","CA","PR"]
[4532,"ALE7061","EXIGENCIA ALEMAN V",2,202330,17,17,2,0,2,{"$f":"+BD_DEP[[#This Row],[totalp]]/BD_DEP[[#This Row],[Mat Inicial]]","v":0.11764705882352941},{"$f":"+BD_DEP[[#This Row],[totalr]]/BD_DEP[[#This Row],[Mat Inicial]]","v":0},{"$f":"+BD_DEP[[#This Row],[repi]]/BD_DEP[[#This Row],[Mat Inicial]]","v":0.11764705882352941},"77","Dpto. Lenguas Extranjeras",79864225,"Rojas Pion Otto","CA","PR"]
[4533,"ALE7071","EXIGENCIA ALEMAN VI",1,202330,14,14,1,0,1,{"$f":"+BD_DEP[[#This Row],[totalp]]/BD_DEP[[#This Row],[Mat Inicial]]","v":7.1428571428571425E-2},{"$f":"+BD_DEP[[#This Row],[totalr]]/BD_DEP[[#This Row],[Mat Inicial]]","v":0},{"$f":"+BD_DEP[[#This Row],[repi]]/BD_DEP[[#This Row],[Mat Inicial]]","v":7.1428571428571425E-2},"77","Dpto. Lenguas Extranjeras",1140823288,"Segura Duran Maria","CA","PR"]
[4534,"ALE7081","EXIGENCIA ALEMAN VII",1,202330,6,6,0,0,0,{"$f":"+BD_DEP[[#This Row],[totalp]]/BD_DEP[[#This Row],[Mat Inicial]]","v":0},{"$f":"+BD_DEP[[#This Row],[totalr]]/BD_DEP[[#This Row],[Mat Inicial]]","v":0},{"$f":"+BD_DEP[[#This Row],[repi]]/BD_DEP[[#This Row],[Mat Inicial]]","v":0},"77","Dpto. Lenguas Extranjeras",1140824987,"Bohorquez Anaya Jose","CA","PR"]
[4552,"FRA1010","EXIGENCIA DE FRANCES I",4,202330,17,15,1,2,3,{"$f":"+BD_DEP[[#This Row],[totalp]]/BD_DEP[[#This Row],[Mat Inicial]]","v":5.8823529411764705E-2},{"$f":"+BD_DEP[[#This Row],[totalr]]/BD_DEP[[#This Row],[Mat Inicial]]","v":0.11764705882352941},{"$f":"+BD_DEP[[#This Row],[repi]]/BD_DEP[[#This Row],[Mat Inicial]]","v":0.17647058823529413},"77","Dpto. Lenguas Extranjeras",460307,"Homolkova Daniela","CA","PR"]
[4549,"FRA1010","EXIGENCIA DE FRANCES I",1,202330,13,11,0,2,2,{"$f":"+BD_DEP[[#This Row],[totalp]]/BD_DEP[[#This Row],[Mat Inicial]]","v":0},{"$f":"+BD_DEP[[#This Row],[totalr]]/BD_DEP[[#This Row],[Mat Inicial]]","v":0.15384615384615385},{"$f":"+BD_DEP[[#This Row],[repi]]/BD_DEP[[#This Row],[Mat Inicial]]","v":0.15384615384615385},"77","Dpto. Lenguas Extranjeras",22643929,"Alvarez Rua Adriana Teresa","CA","PR"]
[4551,"FRA1010","EXIGENCIA DE FRANCES I",3,202330,19,19,0,0,0,{"$f":"+BD_DEP[[#This Row],[totalp]]/BD_DEP[[#This Row],[Mat Inicial]]","v":0},{"$f":"+BD_DEP[[#This Row],[totalr]]/BD_DEP[[#This Row],[Mat Inicial]]","v":0},{"$f":"+BD_DEP[[#This Row],[repi]]/BD_DEP[[#This Row],[Mat Inicial]]","v":0},"77","Dpto. Lenguas Extranjeras",22643929,"Alvarez Rua Adriana Teresa","CA","PR"]
[6888,"FRA1010","EXIGENCIA DE FRANCES I",5,202330,1,0,0,1,1,{"$f":"+BD_DEP[[#This Row],[totalp]]/BD_DEP[[#This Row],[Mat Inicial]]","v":0},{"$f":"+BD_DEP[[#This Row],[totalr]]/BD_DEP[[#This Row],[Mat Inicial]]","v":1},{"$f":"+BD_DEP[[#This Row],[repi]]/BD_DEP[[#This Row],[Mat Inicial]]","v":1},"77","Dpto. Lenguas Extranjeras",22643929,"Alvarez Rua Adriana Teresa","CA","PR"]
[4550,"FRA1010","EXIGENCIA DE FRANCES I",2,202330,22,22,0,0,0,{"$f":"+BD_DEP[[#This Row],[totalp]]/BD_DEP[[#This Row],[Mat Inicial]]","v":0},{"$f":"+BD_DEP[[#This Row],[totalr]]/BD_DEP[[#This Row],[Mat Inicial]]","v":0},{"$f":"+BD_DEP[[#This Row],[repi]]/BD_DEP[[#This Row],[Mat Inicial]]","v":0},"77","Dpto. Lenguas Extranjeras",1102229332,"Castillo Tarrifa Marisela","CA","PR"]
[4554,"FRA1020","EXIGENCIA DE FRANCES II",2,202330,24,24,3,0,3,{"$f":"+BD_DEP[[#This Row],[totalp]]/BD_DEP[[#This Row],[Mat Inicial]]","v":0.125},{"$f":"+BD_DEP[[#This Row],[totalr]]/BD_DEP[[#This Row],[Mat Inicial]]","v":0},{"$f":"+BD_DEP[[#This Row],[repi]]/BD_DEP[[#This Row],[Mat Inicial]]","v":0.125},"77","Dpto. Lenguas Extranjeras",460307,"Homolkova Daniela","CA","PR"]
[4556,"FRA1020","EXIGENCIA DE FRANCES II",4,202330,24,22,1,2,3,{"$f":"+BD_DEP[[#This Row],[totalp]]/BD_DEP[[#This Row],[Mat Inicial]]","v":4.1666666666666664E-2},{"$f":"+BD_DEP[[#This Row],[totalr]]/BD_DEP[[#This Row],[Mat Inicial]]","v":8.3333333333333329E-2},{"$f":"+BD_DEP[[#This Row],[repi]]/BD_DEP[[#This Row],[Mat Inicial]]","v":0.125},"77","Dpto. Lenguas Extranjeras",460307,"Homolkova Daniela","CA","PR"]
[4553,"FRA1020","EXIGENCIA DE FRANCES II",1,202330,23,23,0,0,0,{"$f":"+BD_DEP[[#This Row],[totalp]]/BD_DEP[[#This Row],[Mat Inicial]]","v":0},{"$f":"+BD_DEP[[#This Row],[totalr]]/BD_DEP[[#This Row],[Mat Inicial]]","v":0},{"$f":"+BD_DEP[[#This Row],[repi]]/BD_DEP[[#This Row],[Mat Inicial]]","v":0},"77","Dpto. Lenguas Extranjeras",55301161,"Herrera Rodríguez Viany Patricia","CA","PR"]
[6856,"FRA1020","EXIGENCIA DE FRANCES II",5,202330,2,2,0,0,0,{"$f":"+BD_DEP[[#This Row],[totalp]]/BD_DEP[[#This Row],[Mat Inicial]]","v":0},{"$f":"+BD_DEP[[#This Row],[totalr]]/BD_DEP[[#This Row],[Mat Inicial]]","v":0},{"$f":"+BD_DEP[[#This Row],[repi]]/BD_DEP[[#This Row],[Mat Inicial]]","v":0},"77","Dpto. Lenguas Extranjeras",1049538692,"Alvear Vargas Ariel","CA","PR"]
[4560,"FRA1030","EXIGENCIA DE FRANCES III",4,202330,23,22,2,1,3,{"$f":"+BD_DEP[[#This Row],[totalp]]/BD_DEP[[#This Row],[Mat Inicial]]","v":8.6956521739130432E-2},{"$f":"+BD_DEP[[#This Row],[totalr]]/BD_DEP[[#This Row],[Mat Inicial]]","v":4.3478260869565216E-2},{"$f":"+BD_DEP[[#This Row],[repi]]/BD_DEP[[#This Row],[Mat Inicial]]","v":0.13043478260869565},"77","Dpto. Lenguas Extranjeras",460307,"Homolkova Daniela","CA","PR"]
[4559,"FRA1030","EXIGENCIA DE FRANCES III",3,202330,23,22,0,1,1,{"$f":"+BD_DEP[[#This Row],[totalp]]/BD_DEP[[#This Row],[Mat Inicial]]","v":0},{"$f":"+BD_DEP[[#This Row],[totalr]]/BD_DEP[[#This Row],[Mat Inicial]]","v":4.3478260869565216E-2},{"$f":"+BD_DEP[[#This Row],[repi]]/BD_DEP[[#This Row],[Mat Inicial]]","v":4.3478260869565216E-2},"77","Dpto. Lenguas Extranjeras",22643929,"Alvarez Rua Adriana Teresa","CA","PR"]
[4557,"FRA1030","EXIGENCIA DE FRANCES III",1,202330,24,22,0,2,2,{"$f":"+BD_DEP[[#This Row],[totalp]]/BD_DEP[[#This Row],[Mat Inicial]]","v":0},{"$f":"+BD_DEP[[#This Row],[totalr]]/BD_DEP[[#This Row],[Mat Inicial]]","v":8.3333333333333329E-2},{"$f":"+BD_DEP[[#This Row],[repi]]/BD_DEP[[#This Row],[Mat Inicial]]","v":8.3333333333333329E-2},"77","Dpto. Lenguas Extranjeras",55301161,"Herrera Rodríguez Viany Patricia","CA","PR"]
[4563,"FRA1040","EXIGENCIA DE FRANCES IV",3,202330,22,22,0,0,0,{"$f":"+BD_DEP[[#This Row],[totalp]]/BD_DEP[[#This Row],[Mat Inicial]]","v":0},{"$f":"+BD_DEP[[#This Row],[totalr]]/BD_DEP[[#This Row],[Mat Inicial]]","v":0},{"$f":"+BD_DEP[[#This Row],[repi]]/BD_DEP[[#This Row],[Mat Inicial]]","v":0},"77","Dpto. Lenguas Extranjeras",22645719,"Aycardi Coneo Olga","CA","PR"]
[4562,"FRA1040","EXIGENCIA DE FRANCES IV",2,202330,13,12,0,1,1,{"$f":"+BD_DEP[[#This Row],[totalp]]/BD_DEP[[#This Row],[Mat Inicial]]","v":0},{"$f":"+BD_DEP[[#This Row],[totalr]]/BD_DEP[[#This Row],[Mat Inicial]]","v":7.6923076923076927E-2},{"$f":"+BD_DEP[[#This Row],[repi]]/BD_DEP[[#This Row],[Mat Inicial]]","v":7.6923076923076927E-2},"77","Dpto. Lenguas Extranjeras",32637920,"Hernandez Maldonado Elpidia","CA","PR"]
[4561,"FRA1040","EXIGENCIA DE FRANCES IV",1,202330,23,23,0,0,0,{"$f":"+BD_DEP[[#This Row],[totalp]]/BD_DEP[[#This Row],[Mat Inicial]]","v":0},{"$f":"+BD_DEP[[#This Row],[totalr]]/BD_DEP[[#This Row],[Mat Inicial]]","v":0},{"$f":"+BD_DEP[[#This Row],[repi]]/BD_DEP[[#This Row],[Mat Inicial]]","v":0},"77","Dpto. Lenguas Extranjeras",55301161,"Herrera Rodríguez Viany Patricia","CA","PR"]
[4564,"FRA1040","EXIGENCIA DE FRANCES IV",4,202330,22,21,0,1,1,{"$f":"+BD_DEP[[#This Row],[totalp]]/BD_DEP[[#This Row],[Mat Inicial]]","v":0},{"$f":"+BD_DEP[[#This Row],[totalr]]/BD_DEP[[#This Row],[Mat Inicial]]","v":4.5454545454545456E-2},{"$f":"+BD_DEP[[#This Row],[repi]]/BD_DEP[[#This Row],[Mat Inicial]]","v":4.5454545454545456E-2},"77","Dpto. Lenguas Extranjeras",72252316,"Reales Pedroza Asten","CA","PR"]
[4568,"FRA4010","EXIGENCIA DE FRANCES V",3,202330,16,14,1,2,3,{"$f":"+BD_DEP[[#This Row],[totalp]]/BD_DEP[[#This Row],[Mat Inicial]]","v":6.25E-2},{"$f":"+BD_DEP[[#This Row],[totalr]]/BD_DEP[[#This Row],[Mat Inicial]]","v":0.125},{"$f":"+BD_DEP[[#This Row],[repi]]/BD_DEP[[#This Row],[Mat Inicial]]","v":0.1875},"77","Dpto. Lenguas Extranjeras",22645719,"Aycardi Coneo Olga","CA","PR"]
[4566,"FRA4010","EXIGENCIA DE FRANCES V",1,202330,15,15,2,0,2,{"$f":"+BD_DEP[[#This Row],[totalp]]/BD_DEP[[#This Row],[Mat Inicial]]","v":0.13333333333333333},{"$f":"+BD_DEP[[#This Row],[totalr]]/BD_DEP[[#This Row],[Mat Inicial]]","v":0},{"$f":"+BD_DEP[[#This Row],[repi]]/BD_DEP[[#This Row],[Mat Inicial]]","v":0.13333333333333333},"77","Dpto. Lenguas Extranjeras",32637920,"Hernandez Maldonado Elpidia","CA","PR"]
[4567,"FRA4010","EXIGENCIA DE FRANCES V",2,202330,22,22,0,0,0,{"$f":"+BD_DEP[[#This Row],[totalp]]/BD_DEP[[#This Row],[Mat Inicial]]","v":0},{"$f":"+BD_DEP[[#This Row],[totalr]]/BD_DEP[[#This Row],[Mat Inicial]]","v":0},{"$f":"+BD_DEP[[#This Row],[repi]]/BD_DEP[[#This Row],[Mat Inicial]]","v":0},"77","Dpto. Lenguas Extranjeras",72252316,"Reales Pedroza Asten","CA","PR"]
[4570,"FRA4020","EXIGENCIA DE FRANCES VI",2,202330,23,22,0,1,1,{"$f":"+BD_DEP[[#This Row],[totalp]]/BD_DEP[[#This Row],[Mat Inicial]]","v":0},{"$f":"+BD_DEP[[#This Row],[totalr]]/BD_DEP[[#This Row],[Mat Inicial]]","v":4.3478260869565216E-2},{"$f":"+BD_DEP[[#This Row],[repi]]/BD_DEP[[#This Row],[Mat Inicial]]","v":4.3478260869565216E-2},"77","Dpto. Lenguas Extranjeras",22645719,"Aycardi Coneo Olga","CA","PR"]
[4572,"FRA4020","EXIGENCIA DE FRANCES VI",4,202330,12,12,0,0,0,{"$f":"+BD_DEP[[#This Row],[totalp]]/BD_DEP[[#This Row],[Mat Inicial]]","v":0},{"$f":"+BD_DEP[[#This Row],[totalr]]/BD_DEP[[#This Row],[Mat Inicial]]","v":0},{"$f":"+BD_DEP[[#This Row],[repi]]/BD_DEP[[#This Row],[Mat Inicial]]","v":0},"77","Dpto. Lenguas Extranjeras",32637920,"Hernandez Maldonado Elpidia","CA","PR"]
[4573,"FRA7011","EXIGENCIA DE FRANCES VII",1,202330,18,17,0,1,1,{"$f":"+BD_DEP[[#This Row],[totalp]]/BD_DEP[[#This Row],[Mat Inicial]]","v":0},{"$f":"+BD_DEP[[#This Row],[totalr]]/BD_DEP[[#This Row],[Mat Inicial]]","v":5.5555555555555552E-2},{"$f":"+BD_DEP[[#This Row],[repi]]/BD_DEP[[#This Row],[Mat Inicial]]","v":5.5555555555555552E-2},"77","Dpto. Lenguas Extranjeras",735254,"Ruiz Ep Mahechabustos Laetitia","CA","PR"]
[4574,"FRA7011","EXIGENCIA DE FRANCES VII",2,202330,23,22,0,1,1,{"$f":"+BD_DEP[[#This Row],[totalp]]/BD_DEP[[#This Row],[Mat Inicial]]","v":0},{"$f":"+BD_DEP[[#This Row],[totalr]]/BD_DEP[[#This Row],[Mat Inicial]]","v":4.3478260869565216E-2},{"$f":"+BD_DEP[[#This Row],[repi]]/BD_DEP[[#This Row],[Mat Inicial]]","v":4.3478260869565216E-2},"77","Dpto. Lenguas Extranjeras",72252316,"Reales Pedroza Asten","CA","PR"]
[4577,"FRA7021","EXIGENCIA DE FRANCES VIII",3,202330,14,14,0,0,0,{"$f":"+BD_DEP[[#This Row],[totalp]]/BD_DEP[[#This Row],[Mat Inicial]]","v":0},{"$f":"+BD_DEP[[#This Row],[totalr]]/BD_DEP[[#This Row],[Mat Inicial]]","v":0},{"$f":"+BD_DEP[[#This Row],[repi]]/BD_DEP[[#This Row],[Mat Inicial]]","v":0},"77","Dpto. Lenguas Extranjeras",22643929,"Alvarez Rua Adriana Teresa","CA","PR"]
[4578,"FRA7021","EXIGENCIA DE FRANCES VIII",4,202330,21,21,0,0,0,{"$f":"+BD_DEP[[#This Row],[totalp]]/BD_DEP[[#This Row],[Mat Inicial]]","v":0},{"$f":"+BD_DEP[[#This Row],[totalr]]/BD_DEP[[#This Row],[Mat Inicial]]","v":0},{"$f":"+BD_DEP[[#This Row],[repi]]/BD_DEP[[#This Row],[Mat Inicial]]","v":0},"77","Dpto. Lenguas Extranjeras",32637920,"Hernandez Maldonado Elpidia","CA","PR"]
[4575,"FRA7021","EXIGENCIA DE FRANCES VIII",1,202330,24,24,0,0,0,{"$f":"+BD_DEP[[#This Row],[totalp]]/BD_DEP[[#This Row],[Mat Inicial]]","v":0},{"$f":"+BD_DEP[[#This Row],[totalr]]/BD_DEP[[#This Row],[Mat Inicial]]","v":0},{"$f":"+BD_DEP[[#This Row],[repi]]/BD_DEP[[#This Row],[Mat Inicial]]","v":0},"77","Dpto. Lenguas Extranjeras",72252316,"Reales Pedroza Asten","CA","PR"]
[4354,"IGL4990","EXIGENCIA INGLES NIVELATORIO",51,202330,3,3,0,0,0,{"$f":"+BD_DEP[[#This Row],[totalp]]/BD_DEP[[#This Row],[Mat Inicial]]","v":0},{"$f":"+BD_DEP[[#This Row],[totalr]]/BD_DEP[[#This Row],[Mat Inicial]]","v":0},{"$f":"+BD_DEP[[#This Row],[repi]]/BD_DEP[[#This Row],[Mat Inicial]]","v":0},"77","Dpto. Lenguas Extranjeras",22580043,"Martelo Garcia Claudia","CA","PR"]
[6603,"IGL4990","EXIGENCIA INGLES NIVELATORIO",52,202330,2,2,1,0,1,{"$f":"+BD_DEP[[#This Row],[totalp]]/BD_DEP[[#This Row],[Mat Inicial]]","v":0.5},{"$f":"+BD_DEP[[#This Row],[totalr]]/BD_DEP[[#This Row],[Mat Inicial]]","v":0},{"$f":"+BD_DEP[[#This Row],[repi]]/BD_DEP[[#This Row],[Mat Inicial]]","v":0.5},"77","Dpto. Lenguas Extranjeras",72287073,"Gil Olivera Numas","CA","PR"]
[4692,"IGL4920","EXIGENCIA INGLES VII",11,202330,23,21,0,2,2,{"$f":"+BD_DEP[[#This Row],[totalp]]/BD_DEP[[#This Row],[Mat Inicial]]","v":0},{"$f":"+BD_DEP[[#This Row],[totalr]]/BD_DEP[[#This Row],[Mat Inicial]]","v":8.6956521739130432E-2},{"$f":"+BD_DEP[[#This Row],[repi]]/BD_DEP[[#This Row],[Mat Inicial]]","v":8.6956521739130432E-2},"77","Dpto. Lenguas Extranjeras",8724781,"Cadenas Bejarano Luis","CA","PR"]
[6750,"IGL4920","EXIGENCIA INGLES VII",20,202330,12,12,2,0,2,{"$f":"+BD_DEP[[#This Row],[totalp]]/BD_DEP[[#This Row],[Mat Inicial]]","v":0.16666666666666666},{"$f":"+BD_DEP[[#This Row],[totalr]]/BD_DEP[[#This Row],[Mat Inicial]]","v":0},{"$f":"+BD_DEP[[#This Row],[repi]]/BD_DEP[[#This Row],[Mat Inicial]]","v":0.16666666666666666},"77","Dpto. Lenguas Extranjeras",8774140,"Escobar Hernandez Nixon","CA","PR"]
[4703,"IGL4920","EXIGENCIA INGLES VII",22,202330,23,23,0,0,0,{"$f":"+BD_DEP[[#This Row],[totalp]]/BD_DEP[[#This Row],[Mat Inicial]]","v":0},{"$f":"+BD_DEP[[#This Row],[totalr]]/BD_DEP[[#This Row],[Mat Inicial]]","v":0},{"$f":"+BD_DEP[[#This Row],[repi]]/BD_DEP[[#This Row],[Mat Inicial]]","v":0},"77","Dpto. Lenguas Extranjeras",32799905,"John Tapias Patricia","CA","PR"]
[4687,"IGL4920","EXIGENCIA INGLES VII",6,202330,16,16,2,0,2,{"$f":"+BD_DEP[[#This Row],[totalp]]/BD_DEP[[#This Row],[Mat Inicial]]","v":0.125},{"$f":"+BD_DEP[[#This Row],[totalr]]/BD_DEP[[#This Row],[Mat Inicial]]","v":0},{"$f":"+BD_DEP[[#This Row],[repi]]/BD_DEP[[#This Row],[Mat Inicial]]","v":0.125},"77","Dpto. Lenguas Extranjeras",72162475,"Rivaldo Marrugo Armando","CA","PR"]
[4688,"IGL4920","EXIGENCIA INGLES VII",7,202330,23,22,0,1,1,{"$f":"+BD_DEP[[#This Row],[totalp]]/BD_DEP[[#This Row],[Mat Inicial]]","v":0},{"$f":"+BD_DEP[[#This Row],[totalr]]/BD_DEP[[#This Row],[Mat Inicial]]","v":4.3478260869565216E-2},{"$f":"+BD_DEP[[#This Row],[repi]]/BD_DEP[[#This Row],[Mat Inicial]]","v":4.3478260869565216E-2},"77","Dpto. Lenguas Extranjeras",72162475,"Rivaldo Marrugo Armando","CA","PR"]
[4704,"IGL4920","EXIGENCIA INGLES VII",23,202330,22,21,0,1,1,{"$f":"+BD_DEP[[#This Row],[totalp]]/BD_DEP[[#This Row],[Mat Inicial]]","v":0},{"$f":"+BD_DEP[[#This Row],[totalr]]/BD_DEP[[#This Row],[Mat Inicial]]","v":4.5454545454545456E-2},{"$f":"+BD_DEP[[#This Row],[repi]]/BD_DEP[[#This Row],[Mat Inicial]]","v":4.5454545454545456E-2},"77","Dpto. Lenguas Extranjeras",72190385,"Angulo Spirko Fabian","CA","PR"]
[4705,"IGL4920","EXIGENCIA INGLES VII",40,202330,14,14,0,0,0,{"$f":"+BD_DEP[[#This Row],[totalp]]/BD_DEP[[#This Row],[Mat Inicial]]","v":0},{"$f":"+BD_DEP[[#This Row],[totalr]]/BD_DEP[[#This Row],[Mat Inicial]]","v":0},{"$f":"+BD_DEP[[#This Row],[repi]]/BD_DEP[[#This Row],[Mat Inicial]]","v":0},"77","Dpto. Lenguas Extranjeras",72190385,"Angulo Spirko Fabian","CA","PR"]
[4696,"IGL4920","EXIGENCIA INGLES VII",15,202330,20,18,2,2,4,{"$f":"+BD_DEP[[#This Row],[totalp]]/BD_DEP[[#This Row],[Mat Inicial]]","v":0.1},{"$f":"+BD_DEP[[#This Row],[totalr]]/BD_DEP[[#This Row],[Mat Inicial]]","v":0.1},{"$f":"+BD_DEP[[#This Row],[repi]]/BD_DEP[[#This Row],[Mat Inicial]]","v":0.2},"77","Dpto. Lenguas Extranjeras",72280623,"Orozco De la Cruz Claudio","CA","PR"]
[6801,"IGL4920","EXIGENCIA INGLES VII",42,202330,15,15,1,0,1,{"$f":"+BD_DEP[[#This Row],[totalp]]/BD_DEP[[#This Row],[Mat Inicial]]","v":6.6666666666666666E-2},{"$f":"+BD_DEP[[#This Row],[totalr]]/BD_DEP[[#This Row],[Mat Inicial]]","v":0},{"$f":"+BD_DEP[[#This Row],[repi]]/BD_DEP[[#This Row],[Mat Inicial]]","v":6.6666666666666666E-2},"77","Dpto. Lenguas Extranjeras",72280623,"Orozco De la Cruz Claudio","CA","PR"]
[4684,"IGL4920","EXIGENCIA INGLES VII",3,202330,23,21,1,2,3,{"$f":"+BD_DEP[[#This Row],[totalp]]/BD_DEP[[#This Row],[Mat Inicial]]","v":4.3478260869565216E-2},{"$f":"+BD_DEP[[#This Row],[totalr]]/BD_DEP[[#This Row],[Mat Inicial]]","v":8.6956521739130432E-2},{"$f":"+BD_DEP[[#This Row],[repi]]/BD_DEP[[#This Row],[Mat Inicial]]","v":0.13043478260869565},"77","Dpto. Lenguas Extranjeras",72287073,"Gil Olivera Numas","CA","PR"]
[4690,"IGL4920","EXIGENCIA INGLES VII",9,202330,22,22,1,0,1,{"$f":"+BD_DEP[[#This Row],[totalp]]/BD_DEP[[#This Row],[Mat Inicial]]","v":4.5454545454545456E-2},{"$f":"+BD_DEP[[#This Row],[totalr]]/BD_DEP[[#This Row],[Mat Inicial]]","v":0},{"$f":"+BD_DEP[[#This Row],[repi]]/BD_DEP[[#This Row],[Mat Inicial]]","v":4.5454545454545456E-2},"77","Dpto. Lenguas Extranjeras",79931514,"Chavarro Cabarcas Jose","CA","PR"]
[6638,"IGL4920","EXIGENCIA INGLES VII",25,202330,23,23,2,0,2,{"$f":"+BD_DEP[[#This Row],[totalp]]/BD_DEP[[#This Row],[Mat Inicial]]","v":8.6956521739130432E-2},{"$f":"+BD_DEP[[#This Row],[totalr]]/BD_DEP[[#This Row],[Mat Inicial]]","v":0},{"$f":"+BD_DEP[[#This Row],[repi]]/BD_DEP[[#This Row],[Mat Inicial]]","v":8.6956521739130432E-2},"77","Dpto. Lenguas Extranjeras",1094240822,"Rodriguez Urbina Daniel","CA","PR"]
[4712,"IGL4925","EXIGENCIA INGLES VIII",7,202330,23,22,2,1,3,{"$f":"+BD_DEP[[#This Row],[totalp]]/BD_DEP[[#This Row],[Mat Inicial]]","v":8.6956521739130432E-2},{"$f":"+BD_DEP[[#This Row],[totalr]]/BD_DEP[[#This Row],[Mat Inicial]]","v":4.3478260869565216E-2},{"$f":"+BD_DEP[[#This Row],[repi]]/BD_DEP[[#This Row],[Mat Inicial]]","v":0.13043478260869565},"77","Dpto. Lenguas Extranjeras",22656790,"Bowie Furnieles Andrea","CA","PR"]
[4713,"IGL4925","EXIGENCIA INGLES VIII",8,202330,22,19,0,3,3,{"$f":"+BD_DEP[[#This Row],[totalp]]/BD_DEP[[#This Row],[Mat Inicial]]","v":0},{"$f":"+BD_DEP[[#This Row],[totalr]]/BD_DEP[[#This Row],[Mat Inicial]]","v":0.13636363636363635},{"$f":"+BD_DEP[[#This Row],[repi]]/BD_DEP[[#This Row],[Mat Inicial]]","v":0.13636363636363635},"77","Dpto. Lenguas Extranjeras",22656790,"Bowie Furnieles Andrea","CA","PR"]
[6655,"IGL4925","EXIGENCIA INGLES VIII",16,202330,23,21,3,2,5,{"$f":"+BD_DEP[[#This Row],[totalp]]/BD_DEP[[#This Row],[Mat Inicial]]","v":0.13043478260869565},{"$f":"+BD_DEP[[#This Row],[totalr]]/BD_DEP[[#This Row],[Mat Inicial]]","v":8.6956521739130432E-2},{"$f":"+BD_DEP[[#This Row],[repi]]/BD_DEP[[#This Row],[Mat Inicial]]","v":0.21739130434782608},"77","Dpto. Lenguas Extranjeras",32756979,"Castillo Barrios Mercedes","CA","PR"]
[4719,"IGL4925","EXIGENCIA INGLES VIII",40,202330,9,9,0,0,0,{"$f":"+BD_DEP[[#This Row],[totalp]]/BD_DEP[[#This Row],[Mat Inicial]]","v":0},{"$f":"+BD_DEP[[#This Row],[totalr]]/BD_DEP[[#This Row],[Mat Inicial]]","v":0},{"$f":"+BD_DEP[[#This Row],[repi]]/BD_DEP[[#This Row],[Mat Inicial]]","v":0},"77","Dpto. Lenguas Extranjeras",72265769,"Carrillo Jimenez Steve","CA","PR"]
[4714,"IGL4925","EXIGENCIA INGLES VIII",9,202330,23,22,2,1,3,{"$f":"+BD_DEP[[#This Row],[totalp]]/BD_DEP[[#This Row],[Mat Inicial]]","v":8.6956521739130432E-2},{"$f":"+BD_DEP[[#This Row],[totalr]]/BD_DEP[[#This Row],[Mat Inicial]]","v":4.3478260869565216E-2},{"$f":"+BD_DEP[[#This Row],[repi]]/BD_DEP[[#This Row],[Mat Inicial]]","v":0.13043478260869565},"77","Dpto. Lenguas Extranjeras",72280623,"Orozco De la Cruz Claudio","CA","PR"]
[6799,"IGL4925","EXIGENCIA INGLES VIII",17,202330,7,4,1,3,4,{"$f":"+BD_DEP[[#This Row],[totalp]]/BD_DEP[[#This Row],[Mat Inicial]]","v":0.14285714285714285},{"$f":"+BD_DEP[[#This Row],[totalr]]/BD_DEP[[#This Row],[Mat Inicial]]","v":0.42857142857142855},{"$f":"+BD_DEP[[#This Row],[repi]]/BD_DEP[[#This Row],[Mat Inicial]]","v":0.5714285714285714},"77","Dpto. Lenguas Extranjeras",1094240822,"Rodriguez Urbina Daniel","CA","PR"]
[4725,"IGL4941","INGLES CIENCIAS SALUD I",51,202330,23,22,0,1,1,{"$f":"+BD_DEP[[#This Row],[totalp]]/BD_DEP[[#This Row],[Mat Inicial]]","v":0},{"$f":"+BD_DEP[[#This Row],[totalr]]/BD_DEP[[#This Row],[Mat Inicial]]","v":4.3478260869565216E-2},{"$f":"+BD_DEP[[#This Row],[repi]]/BD_DEP[[#This Row],[Mat Inicial]]","v":4.3478260869565216E-2},"77","Dpto. Lenguas Extranjeras",72287073,"Gil Olivera Numas","CA","PR"]
[4724,"IGL4941","INGLES CIENCIAS SALUD I",1,202330,22,21,0,1,1,{"$f":"+BD_DEP[[#This Row],[totalp]]/BD_DEP[[#This Row],[Mat Inicial]]","v":0},{"$f":"+BD_DEP[[#This Row],[totalr]]/BD_DEP[[#This Row],[Mat Inicial]]","v":4.5454545454545456E-2},{"$f":"+BD_DEP[[#This Row],[repi]]/BD_DEP[[#This Row],[Mat Inicial]]","v":4.5454545454545456E-2},"77","Dpto. Lenguas Extranjeras",1129537184,"Sanguino Cuello Joaquin","CA","PR"]
[4727,"IGL4942","INGLES CIENCIAS SALUD II",3,202330,23,22,0,1,1,{"$f":"+BD_DEP[[#This Row],[totalp]]/BD_DEP[[#This Row],[Mat Inicial]]","v":0},{"$f":"+BD_DEP[[#This Row],[totalr]]/BD_DEP[[#This Row],[Mat Inicial]]","v":4.3478260869565216E-2},{"$f":"+BD_DEP[[#This Row],[repi]]/BD_DEP[[#This Row],[Mat Inicial]]","v":4.3478260869565216E-2},"77","Dpto. Lenguas Extranjeras",22564482,"Alvarez Rodriguez Adriana","CA","PR"]
[4726,"IGL4942","INGLES CIENCIAS SALUD II",2,202330,22,22,0,0,0,{"$f":"+BD_DEP[[#This Row],[totalp]]/BD_DEP[[#This Row],[Mat Inicial]]","v":0},{"$f":"+BD_DEP[[#This Row],[totalr]]/BD_DEP[[#This Row],[Mat Inicial]]","v":0},{"$f":"+BD_DEP[[#This Row],[repi]]/BD_DEP[[#This Row],[Mat Inicial]]","v":0},"77","Dpto. Lenguas Extranjeras",72271094,"Lora Mercado Daneris","CA","PR"]
[6651,"IGL4940","INGLES CIENCIAS SALUD III",10,202330,13,13,0,0,0,{"$f":"+BD_DEP[[#This Row],[totalp]]/BD_DEP[[#This Row],[Mat Inicial]]","v":0},{"$f":"+BD_DEP[[#This Row],[totalr]]/BD_DEP[[#This Row],[Mat Inicial]]","v":0},{"$f":"+BD_DEP[[#This Row],[repi]]/BD_DEP[[#This Row],[Mat Inicial]]","v":0},"77","Dpto. Lenguas Extranjeras",32735404,"Vides Orozco Elizabeth","CA","PR"]
[6837,"IGL4940","INGLES CIENCIAS SALUD III",11,202330,17,17,2,0,2,{"$f":"+BD_DEP[[#This Row],[totalp]]/BD_DEP[[#This Row],[Mat Inicial]]","v":0.11764705882352941},{"$f":"+BD_DEP[[#This Row],[totalr]]/BD_DEP[[#This Row],[Mat Inicial]]","v":0},{"$f":"+BD_DEP[[#This Row],[repi]]/BD_DEP[[#This Row],[Mat Inicial]]","v":0.11764705882352941},"77","Dpto. Lenguas Extranjeras",72229313,"Salas Rojas Noldin","CA","PR"]
[4722,"IGL4940","INGLES CIENCIAS SALUD III",1,202330,18,18,2,0,2,{"$f":"+BD_DEP[[#This Row],[totalp]]/BD_DEP[[#This Row],[Mat Inicial]]","v":0.1111111111111111},{"$f":"+BD_DEP[[#This Row],[totalr]]/BD_DEP[[#This Row],[Mat Inicial]]","v":0},{"$f":"+BD_DEP[[#This Row],[repi]]/BD_DEP[[#This Row],[Mat Inicial]]","v":0.1111111111111111},"77","Dpto. Lenguas Extranjeras",1129564873,"Quintero D'souza Sebastiao","CA","PR"]
[4594,"IGL4100","INGLES CIENCIAS SALUD IV",2,202330,23,22,2,1,3,{"$f":"+BD_DEP[[#This Row],[totalp]]/BD_DEP[[#This Row],[Mat Inicial]]","v":8.6956521739130432E-2},{"$f":"+BD_DEP[[#This Row],[totalr]]/BD_DEP[[#This Row],[Mat Inicial]]","v":4.3478260869565216E-2},{"$f":"+BD_DEP[[#This Row],[repi]]/BD_DEP[[#This Row],[Mat Inicial]]","v":0.13043478260869565},"77","Dpto. Lenguas Extranjeras",8774140,"Escobar Hernandez Nixon","CA","PR"]
[4593,"IGL4100","INGLES CIENCIAS SALUD IV",1,202330,21,20,1,1,2,{"$f":"+BD_DEP[[#This Row],[totalp]]/BD_DEP[[#This Row],[Mat Inicial]]","v":4.7619047619047616E-2},{"$f":"+BD_DEP[[#This Row],[totalr]]/BD_DEP[[#This Row],[Mat Inicial]]","v":4.7619047619047616E-2},{"$f":"+BD_DEP[[#This Row],[repi]]/BD_DEP[[#This Row],[Mat Inicial]]","v":9.5238095238095233E-2},"77","Dpto. Lenguas Extranjeras",41788470,"Herrera Arellana Myrna","CA","PR"]
[4595,"IGL4100","INGLES CIENCIAS SALUD IV",51,202330,23,23,0,0,0,{"$f":"+BD_DEP[[#This Row],[totalp]]/BD_DEP[[#This Row],[Mat Inicial]]","v":0},{"$f":"+BD_DEP[[#This Row],[totalr]]/BD_DEP[[#This Row],[Mat Inicial]]","v":0},{"$f":"+BD_DEP[[#This Row],[repi]]/BD_DEP[[#This Row],[Mat Inicial]]","v":0},"77","Dpto. Lenguas Extranjeras",72154012,"Turizo Ordoñez Jorge","CA","PR"]
[4768,"IGL7090","INGLES CIENCIAS SALUD V",2,202330,21,21,0,0,0,{"$f":"+BD_DEP[[#This Row],[totalp]]/BD_DEP[[#This Row],[Mat Inicial]]","v":0},{"$f":"+BD_DEP[[#This Row],[totalr]]/BD_DEP[[#This Row],[Mat Inicial]]","v":0},{"$f":"+BD_DEP[[#This Row],[repi]]/BD_DEP[[#This Row],[Mat Inicial]]","v":0},"77","Dpto. Lenguas Extranjeras",8508937,"Bermudez Puello Edgar","CA","PR"]
[4769,"IGL7090","INGLES CIENCIAS SALUD V",3,202330,17,17,0,0,0,{"$f":"+BD_DEP[[#This Row],[totalp]]/BD_DEP[[#This Row],[Mat Inicial]]","v":0},{"$f":"+BD_DEP[[#This Row],[totalr]]/BD_DEP[[#This Row],[Mat Inicial]]","v":0},{"$f":"+BD_DEP[[#This Row],[repi]]/BD_DEP[[#This Row],[Mat Inicial]]","v":0},"77","Dpto. Lenguas Extranjeras",72223426,"Suarez Cepeda Hendrick","CA","PR"]
[4770,"IGL7090","INGLES CIENCIAS SALUD V",51,202330,15,13,0,2,2,{"$f":"+BD_DEP[[#This Row],[totalp]]/BD_DEP[[#This Row],[Mat Inicial]]","v":0},{"$f":"+BD_DEP[[#This Row],[totalr]]/BD_DEP[[#This Row],[Mat Inicial]]","v":0.13333333333333333},{"$f":"+BD_DEP[[#This Row],[repi]]/BD_DEP[[#This Row],[Mat Inicial]]","v":0.13333333333333333},"77","Dpto. Lenguas Extranjeras",1066179183,"Gonzalez Chacon Eder","CA","PR"]
[4587,"IGL0251","INGLES NIVELATORIO ENFERMERIA",1,202330,4,4,0,0,0,{"$f":"+BD_DEP[[#This Row],[totalp]]/BD_DEP[[#This Row],[Mat Inicial]]","v":0},{"$f":"+BD_DEP[[#This Row],[totalr]]/BD_DEP[[#This Row],[Mat Inicial]]","v":0},{"$f":"+BD_DEP[[#This Row],[repi]]/BD_DEP[[#This Row],[Mat Inicial]]","v":0},"77","Dpto. Lenguas Extranjeras",22580043,"Martelo Garcia Claudia","CA","PR"]
[6640,"IGL4965","INTER RELATIONS ENGLISH I",11,202330,3,3,0,0,0,{"$f":"+BD_DEP[[#This Row],[totalp]]/BD_DEP[[#This Row],[Mat Inicial]]","v":0},{"$f":"+BD_DEP[[#This Row],[totalr]]/BD_DEP[[#This Row],[Mat Inicial]]","v":0},{"$f":"+BD_DEP[[#This Row],[repi]]/BD_DEP[[#This Row],[Mat Inicial]]","v":0},"77","Dpto. Lenguas Extranjeras",1129573213,"Segura Duran Maria","CA","PR"]
[4729,"IGL4967","INTER RELATIONS ENGLISH II",1,202330,2,2,0,0,0,{"$f":"+BD_DEP[[#This Row],[totalp]]/BD_DEP[[#This Row],[Mat Inicial]]","v":0},{"$f":"+BD_DEP[[#This Row],[totalr]]/BD_DEP[[#This Row],[Mat Inicial]]","v":0},{"$f":"+BD_DEP[[#This Row],[repi]]/BD_DEP[[#This Row],[Mat Inicial]]","v":0},"77","Dpto. Lenguas Extranjeras",72287073,"Gil Olivera Numas","CA","PR"]
[4548,"FRA0008","LANGUE FRANC ET CULT FRAN VIII",2,202330,13,13,0,0,0,{"$f":"+BD_DEP[[#This Row],[totalp]]/BD_DEP[[#This Row],[Mat Inicial]]","v":0},{"$f":"+BD_DEP[[#This Row],[totalr]]/BD_DEP[[#This Row],[Mat Inicial]]","v":0},{"$f":"+BD_DEP[[#This Row],[repi]]/BD_DEP[[#This Row],[Mat Inicial]]","v":0},"77","Dpto. Lenguas Extranjeras",22643929,"Alvarez Rua Adriana Teresa","CA","PR"]
[4547,"FRA0008","LANGUE FRANC ET CULT FRAN VIII",1,202330,16,16,0,0,0,{"$f":"+BD_DEP[[#This Row],[totalp]]/BD_DEP[[#This Row],[Mat Inicial]]","v":0},{"$f":"+BD_DEP[[#This Row],[totalr]]/BD_DEP[[#This Row],[Mat Inicial]]","v":0},{"$f":"+BD_DEP[[#This Row],[repi]]/BD_DEP[[#This Row],[Mat Inicial]]","v":0},"77","Dpto. Lenguas Extranjeras",72252316,"Reales Pedroza Asten","CA","PR"]
[4540,"FRA0003","LANGUE FRANC ET CULT FRANC III",1,202330,14,13,0,1,1,{"$f":"+BD_DEP[[#This Row],[totalp]]/BD_DEP[[#This Row],[Mat Inicial]]","v":0},{"$f":"+BD_DEP[[#This Row],[totalr]]/BD_DEP[[#This Row],[Mat Inicial]]","v":7.1428571428571425E-2},{"$f":"+BD_DEP[[#This Row],[repi]]/BD_DEP[[#This Row],[Mat Inicial]]","v":7.1428571428571425E-2},"77","Dpto. Lenguas Extranjeras",1140841451,"Martelo Arias Natalia","CA","PR"]
[4542,"FRA0004","LANGUE FRANC ET CULT FRANC IV",2,202330,15,15,1,0,1,{"$f":"+BD_DEP[[#This Row],[totalp]]/BD_DEP[[#This Row],[Mat Inicial]]","v":6.6666666666666666E-2},{"$f":"+BD_DEP[[#This Row],[totalr]]/BD_DEP[[#This Row],[Mat Inicial]]","v":0},{"$f":"+BD_DEP[[#This Row],[repi]]/BD_DEP[[#This Row],[Mat Inicial]]","v":6.6666666666666666E-2},"77","Dpto. Lenguas Extranjeras",1140841451,"Martelo Arias Natalia","CA","PR"]
[4543,"FRA0005","LANGUE FRANC ET CULT FRANC V",1,202330,14,13,3,1,4,{"$f":"+BD_DEP[[#This Row],[totalp]]/BD_DEP[[#This Row],[Mat Inicial]]","v":0.21428571428571427},{"$f":"+BD_DEP[[#This Row],[totalr]]/BD_DEP[[#This Row],[Mat Inicial]]","v":7.1428571428571425E-2},{"$f":"+BD_DEP[[#This Row],[repi]]/BD_DEP[[#This Row],[Mat Inicial]]","v":0.2857142857142857},"77","Dpto. Lenguas Extranjeras",460307,"Homolkova Daniela","CA","PR"]
[4544,"FRA0006","LANGUE FRANC ET CULT FRANC VI",1,202330,14,14,0,0,0,{"$f":"+BD_DEP[[#This Row],[totalp]]/BD_DEP[[#This Row],[Mat Inicial]]","v":0},{"$f":"+BD_DEP[[#This Row],[totalr]]/BD_DEP[[#This Row],[Mat Inicial]]","v":0},{"$f":"+BD_DEP[[#This Row],[repi]]/BD_DEP[[#This Row],[Mat Inicial]]","v":0},"77","Dpto. Lenguas Extranjeras",460307,"Homolkova Daniela","CA","PR"]
[4545,"FRA0006","LANGUE FRANC ET CULT FRANC VI",2,202330,21,21,0,0,0,{"$f":"+BD_DEP[[#This Row],[totalp]]/BD_DEP[[#This Row],[Mat Inicial]]","v":0},{"$f":"+BD_DEP[[#This Row],[totalr]]/BD_DEP[[#This Row],[Mat Inicial]]","v":0},{"$f":"+BD_DEP[[#This Row],[repi]]/BD_DEP[[#This Row],[Mat Inicial]]","v":0},"77","Dpto. Lenguas Extranjeras",460307,"Homolkova Daniela","CA","PR"]
[4546,"FRA0007","LANGUE FRANC ET CULT FRANC VII",1,202330,16,16,0,0,0,{"$f":"+BD_DEP[[#This Row],[totalp]]/BD_DEP[[#This Row],[Mat Inicial]]","v":0},{"$f":"+BD_DEP[[#This Row],[totalr]]/BD_DEP[[#This Row],[Mat Inicial]]","v":0},{"$f":"+BD_DEP[[#This Row],[repi]]/BD_DEP[[#This Row],[Mat Inicial]]","v":0},"77","Dpto. Lenguas Extranjeras",1048207729,"Rolong Gaboa Monica","CA","PR"]
[2478,"ITA7080","LENGUA Y CULTURA ITALIANA A1.1",1,202330,16,15,0,1,1,{"$f":"+BD_DEP[[#This Row],[totalp]]/BD_DEP[[#This Row],[Mat Inicial]]","v":0},{"$f":"+BD_DEP[[#This Row],[totalr]]/BD_DEP[[#This Row],[Mat Inicial]]","v":6.25E-2},{"$f":"+BD_DEP[[#This Row],[repi]]/BD_DEP[[#This Row],[Mat Inicial]]","v":6.25E-2},"77","Dpto. Lenguas Extranjeras",991773,"Carta Massimiliano","CA","PR"]
[2479,"ITA7080","LENGUA Y CULTURA ITALIANA A1.1",2,202330,24,23,0,1,1,{"$f":"+BD_DEP[[#This Row],[totalp]]/BD_DEP[[#This Row],[Mat Inicial]]","v":0},{"$f":"+BD_DEP[[#This Row],[totalr]]/BD_DEP[[#This Row],[Mat Inicial]]","v":4.1666666666666664E-2},{"$f":"+BD_DEP[[#This Row],[repi]]/BD_DEP[[#This Row],[Mat Inicial]]","v":4.1666666666666664E-2},"77","Dpto. Lenguas Extranjeras",991773,"Carta Massimiliano","CA","PR"]
[2976,"POR9055","PORTUGUES 1",1,202330,23,22,0,1,1,{"$f":"+BD_DEP[[#This Row],[totalp]]/BD_DEP[[#This Row],[Mat Inicial]]","v":0},{"$f":"+BD_DEP[[#This Row],[totalr]]/BD_DEP[[#This Row],[Mat Inicial]]","v":4.3478260869565216E-2},{"$f":"+BD_DEP[[#This Row],[repi]]/BD_DEP[[#This Row],[Mat Inicial]]","v":4.3478260869565216E-2},"77","Dpto. Lenguas Extranjeras",328991,"Silva de Oliveira Vanessa","CA","PR"]
[4380,"MAT1031","ALGEBRA LINEAL",51,202330,40,37,11,3,14,{"$f":"+BD_DEP[[#This Row],[totalp]]/BD_DEP[[#This Row],[Mat Inicial]]","v":0.27500000000000002},{"$f":"+BD_DEP[[#This Row],[totalr]]/BD_DEP[[#This Row],[Mat Inicial]]","v":7.4999999999999997E-2},{"$f":"+BD_DEP[[#This Row],[repi]]/BD_DEP[[#This Row],[Mat Inicial]]","v":0.35},"61","Dpto. Matematicas y estadístic",8699579,"Castañeda Hernandez Sebastian","TC","PR"]
[4381,"MAT1031","ALGEBRA LINEAL",52,202330,40,34,3,6,9,{"$f":"+BD_DEP[[#This Row],[totalp]]/BD_DEP[[#This Row],[Mat Inicial]]","v":7.4999999999999997E-2},{"$f":"+BD_DEP[[#This Row],[totalr]]/BD_DEP[[#This Row],[Mat Inicial]]","v":0.15},{"$f":"+BD_DEP[[#This Row],[repi]]/BD_DEP[[#This Row],[Mat Inicial]]","v":0.22500000000000001},"61","Dpto. Matematicas y estadístic",8699579,"Castañeda Hernandez Sebastian","TC","PR"]
[4382,"MAT1031","ALGEBRA LINEAL",53,202330,40,37,4,3,7,{"$f":"+BD_DEP[[#This Row],[totalp]]/BD_DEP[[#This Row],[Mat Inicial]]","v":0.1},{"$f":"+BD_DEP[[#This Row],[totalr]]/BD_DEP[[#This Row],[Mat Inicial]]","v":7.4999999999999997E-2},{"$f":"+BD_DEP[[#This Row],[repi]]/BD_DEP[[#This Row],[Mat Inicial]]","v":0.17499999999999999},"61","Dpto. Matematicas y estadístic",8699579,"Castañeda Hernandez Sebastian","TC","PR"]
[4385,"MAT1031","ALGEBRA LINEAL",56,202330,40,31,4,9,13,{"$f":"+BD_DEP[[#This Row],[totalp]]/BD_DEP[[#This Row],[Mat Inicial]]","v":0.1},{"$f":"+BD_DEP[[#This Row],[totalr]]/BD_DEP[[#This Row],[Mat Inicial]]","v":0.22500000000000001},{"$f":"+BD_DEP[[#This Row],[repi]]/BD_DEP[[#This Row],[Mat Inicial]]","v":0.32500000000000001},"61","Dpto. Matematicas y estadístic",8760411,"Jimenez Blanco German","TC","PR"]
[4383,"MAT1031","ALGEBRA LINEAL",54,202330,40,36,5,4,9,{"$f":"+BD_DEP[[#This Row],[totalp]]/BD_DEP[[#This Row],[Mat Inicial]]","v":0.125},{"$f":"+BD_DEP[[#This Row],[totalr]]/BD_DEP[[#This Row],[Mat Inicial]]","v":0.1},{"$f":"+BD_DEP[[#This Row],[repi]]/BD_DEP[[#This Row],[Mat Inicial]]","v":0.22500000000000001},"61","Dpto. Matematicas y estadístic",72137168,"Ospino Portillo Jorge","TC","PR"]
[4388,"MAT1031","ALGEBRA LINEAL",59,202330,41,35,5,6,11,{"$f":"+BD_DEP[[#This Row],[totalp]]/BD_DEP[[#This Row],[Mat Inicial]]","v":0.12195121951219512},{"$f":"+BD_DEP[[#This Row],[totalr]]/BD_DEP[[#This Row],[Mat Inicial]]","v":0.14634146341463414},{"$f":"+BD_DEP[[#This Row],[repi]]/BD_DEP[[#This Row],[Mat Inicial]]","v":0.26829268292682928},"61","Dpto. Matematicas y estadístic",77185466,"Vega Fuentes Carlos","TC","PR"]
[4386,"MAT1031","ALGEBRA LINEAL",57,202330,39,38,1,1,2,{"$f":"+BD_DEP[[#This Row],[totalp]]/BD_DEP[[#This Row],[Mat Inicial]]","v":2.564102564102564E-2},{"$f":"+BD_DEP[[#This Row],[totalr]]/BD_DEP[[#This Row],[Mat Inicial]]","v":2.564102564102564E-2},{"$f":"+BD_DEP[[#This Row],[repi]]/BD_DEP[[#This Row],[Mat Inicial]]","v":5.128205128205128E-2},"61","Dpto. Matematicas y estadístic",79781992,"Uribe Jongbloed Bernardo","TC","PR"]
[2635,"MAT1031","ALGEBRA LINEAL",2,202330,33,27,2,6,8,{"$f":"+BD_DEP[[#This Row],[totalp]]/BD_DEP[[#This Row],[Mat Inicial]]","v":6.0606060606060608E-2},{"$f":"+BD_DEP[[#This Row],[totalr]]/BD_DEP[[#This Row],[Mat Inicial]]","v":0.18181818181818182},{"$f":"+BD_DEP[[#This Row],[repi]]/BD_DEP[[#This Row],[Mat Inicial]]","v":0.24242424242424243},"61","Dpto. Matematicas y estadístic",1030528193,"MEJIA CASTAÑO LUZ","TC","PR"]
[2698,"MAT8570","ALGEBRA LINEAL II",1,202330,25,19,1,6,7,{"$f":"+BD_DEP[[#This Row],[totalp]]/BD_DEP[[#This Row],[Mat Inicial]]","v":0.04},{"$f":"+BD_DEP[[#This Row],[totalr]]/BD_DEP[[#This Row],[Mat Inicial]]","v":0.24},{"$f":"+BD_DEP[[#This Row],[repi]]/BD_DEP[[#This Row],[Mat Inicial]]","v":0.28000000000000003},"61","Dpto. Matematicas y estadístic",8699579,"Castañeda Hernandez Sebastian","TC","PR"]
[1823,"EST4071","ANALISIS ESTADISTICO",1,202330,16,10,0,6,6,{"$f":"+BD_DEP[[#This Row],[totalp]]/BD_DEP[[#This Row],[Mat Inicial]]","v":0},{"$f":"+BD_DEP[[#This Row],[totalr]]/BD_DEP[[#This Row],[Mat Inicial]]","v":0.375},{"$f":"+BD_DEP[[#This Row],[repi]]/BD_DEP[[#This Row],[Mat Inicial]]","v":0.375},"61","Dpto. Matematicas y estadístic",1129509941,"Rubio Ortega Lihki","TC","PR"]
[2679,"MAT4160","ANALISIS MATEMATICO 1",1,202330,27,18,3,9,12,{"$f":"+BD_DEP[[#This Row],[totalp]]/BD_DEP[[#This Row],[Mat Inicial]]","v":0.1111111111111111},{"$f":"+BD_DEP[[#This Row],[totalr]]/BD_DEP[[#This Row],[Mat Inicial]]","v":0.33333333333333331},{"$f":"+BD_DEP[[#This Row],[repi]]/BD_DEP[[#This Row],[Mat Inicial]]","v":0.44444444444444442},"61","Dpto. Matematicas y estadístic",72280977,"Gonzalez Ospino Jonathan","TC","PR"]
[2675,"MAT4051","ANALISIS NUMERICO",1,202330,9,7,1,2,3,{"$f":"+BD_DEP[[#This Row],[totalp]]/BD_DEP[[#This Row],[Mat Inicial]]","v":0.1111111111111111},{"$f":"+BD_DEP[[#This Row],[totalr]]/BD_DEP[[#This Row],[Mat Inicial]]","v":0.22222222222222221},{"$f":"+BD_DEP[[#This Row],[repi]]/BD_DEP[[#This Row],[Mat Inicial]]","v":0.33333333333333331},"61","Dpto. Matematicas y estadístic",77185466,"Vega Fuentes Carlos","TC","PR"]
[2660,"MAT1121","CALCULO 3",6,202330,40,31,2,9,11,{"$f":"+BD_DEP[[#This Row],[totalp]]/BD_DEP[[#This Row],[Mat Inicial]]","v":0.05},{"$f":"+BD_DEP[[#This Row],[totalr]]/BD_DEP[[#This Row],[Mat Inicial]]","v":0.22500000000000001},{"$f":"+BD_DEP[[#This Row],[repi]]/BD_DEP[[#This Row],[Mat Inicial]]","v":0.27500000000000002},"61","Dpto. Matematicas y estadístic",364629,"BIEDERMANN GEORG","TC","PR"]
[2661,"MAT1121","CALCULO 3",7,202330,40,37,0,3,3,{"$f":"+BD_DEP[[#This Row],[totalp]]/BD_DEP[[#This Row],[Mat Inicial]]","v":0},{"$f":"+BD_DEP[[#This Row],[totalr]]/BD_DEP[[#This Row],[Mat Inicial]]","v":7.4999999999999997E-2},{"$f":"+BD_DEP[[#This Row],[repi]]/BD_DEP[[#This Row],[Mat Inicial]]","v":7.4999999999999997E-2},"61","Dpto. Matematicas y estadístic",364629,"BIEDERMANN GEORG","TC","PR"]
[2655,"MAT1121","CALCULO 3",1,202330,41,36,1,5,6,{"$f":"+BD_DEP[[#This Row],[totalp]]/BD_DEP[[#This Row],[Mat Inicial]]","v":2.4390243902439025E-2},{"$f":"+BD_DEP[[#This Row],[totalr]]/BD_DEP[[#This Row],[Mat Inicial]]","v":0.12195121951219512},{"$f":"+BD_DEP[[#This Row],[repi]]/BD_DEP[[#This Row],[Mat Inicial]]","v":0.14634146341463414},"61","Dpto. Matematicas y estadístic",8600934,"Barrios Sarmiento Agustin","TC","PR"]
[2656,"MAT1121","CALCULO 3",2,202330,40,35,5,5,10,{"$f":"+BD_DEP[[#This Row],[totalp]]/BD_DEP[[#This Row],[Mat Inicial]]","v":0.125},{"$f":"+BD_DEP[[#This Row],[totalr]]/BD_DEP[[#This Row],[Mat Inicial]]","v":0.125},{"$f":"+BD_DEP[[#This Row],[repi]]/BD_DEP[[#This Row],[Mat Inicial]]","v":0.25},"61","Dpto. Matematicas y estadístic",8600934,"Barrios Sarmiento Agustin","TC","PR"]
[2657,"MAT1121","CALCULO 3",3,202330,40,36,2,4,6,{"$f":"+BD_DEP[[#This Row],[totalp]]/BD_DEP[[#This Row],[Mat Inicial]]","v":0.05},{"$f":"+BD_DEP[[#This Row],[totalr]]/BD_DEP[[#This Row],[Mat Inicial]]","v":0.1},{"$f":"+BD_DEP[[#This Row],[repi]]/BD_DEP[[#This Row],[Mat Inicial]]","v":0.15},"61","Dpto. Matematicas y estadístic",8600934,"Barrios Sarmiento Agustin","TC","PR"]
[2658,"MAT1121","CALCULO 3",4,202330,40,36,3,4,7,{"$f":"+BD_DEP[[#This Row],[totalp]]/BD_DEP[[#This Row],[Mat Inicial]]","v":7.4999999999999997E-2},{"$f":"+BD_DEP[[#This Row],[totalr]]/BD_DEP[[#This Row],[Mat Inicial]]","v":0.1},{"$f":"+BD_DEP[[#This Row],[repi]]/BD_DEP[[#This Row],[Mat Inicial]]","v":0.17499999999999999},"61","Dpto. Matematicas y estadístic",8760411,"Jimenez Blanco German","TC","PR"]
[2641,"MAT1101","CALCULO I",55,202330,35,30,9,5,14,{"$f":"+BD_DEP[[#This Row],[totalp]]/BD_DEP[[#This Row],[Mat Inicial]]","v":0.25714285714285712},{"$f":"+BD_DEP[[#This Row],[totalr]]/BD_DEP[[#This Row],[Mat Inicial]]","v":0.14285714285714285},{"$f":"+BD_DEP[[#This Row],[repi]]/BD_DEP[[#This Row],[Mat Inicial]]","v":0.4},"61","Dpto. Matematicas y estadístic",408639,"GONZALEZ LIMA MARIA","TC","PR"]
[4395,"MAT1101","CALCULO I",53,202330,40,31,6,9,15,{"$f":"+BD_DEP[[#This Row],[totalp]]/BD_DEP[[#This Row],[Mat Inicial]]","v":0.15},{"$f":"+BD_DEP[[#This Row],[totalr]]/BD_DEP[[#This Row],[Mat Inicial]]","v":0.22500000000000001},{"$f":"+BD_DEP[[#This Row],[repi]]/BD_DEP[[#This Row],[Mat Inicial]]","v":0.375},"61","Dpto. Matematicas y estadístic",8760411,"Jimenez Blanco German","TC","PR"]
[4397,"MAT1101","CALCULO I",56,202330,40,32,4,8,12,{"$f":"+BD_DEP[[#This Row],[totalp]]/BD_DEP[[#This Row],[Mat Inicial]]","v":0.1},{"$f":"+BD_DEP[[#This Row],[totalr]]/BD_DEP[[#This Row],[Mat Inicial]]","v":0.2},{"$f":"+BD_DEP[[#This Row],[repi]]/BD_DEP[[#This Row],[Mat Inicial]]","v":0.3},"61","Dpto. Matematicas y estadístic",12635748,"Torresblanca Badillo Anselmo","TC","PR"]
[4396,"MAT1101","CALCULO I",54,202330,36,32,1,4,5,{"$f":"+BD_DEP[[#This Row],[totalp]]/BD_DEP[[#This Row],[Mat Inicial]]","v":2.7777777777777776E-2},{"$f":"+BD_DEP[[#This Row],[totalr]]/BD_DEP[[#This Row],[Mat Inicial]]","v":0.1111111111111111},{"$f":"+BD_DEP[[#This Row],[repi]]/BD_DEP[[#This Row],[Mat Inicial]]","v":0.1388888888888889},"61","Dpto. Matematicas y estadístic",52418994,"ALDANA DOMINGUEZ CLARA","TC","PR"]
[4394,"MAT1101","CALCULO I",52,202330,39,31,2,8,10,{"$f":"+BD_DEP[[#This Row],[totalp]]/BD_DEP[[#This Row],[Mat Inicial]]","v":5.128205128205128E-2},{"$f":"+BD_DEP[[#This Row],[totalr]]/BD_DEP[[#This Row],[Mat Inicial]]","v":0.20512820512820512},{"$f":"+BD_DEP[[#This Row],[repi]]/BD_DEP[[#This Row],[Mat Inicial]]","v":0.25641025641025639},"61","Dpto. Matematicas y estadístic",1030528193,"MEJIA CASTAÑO LUZ","TC","PR"]
[2645,"MAT1111","CALCULO II",4,202330,38,25,2,13,15,{"$f":"+BD_DEP[[#This Row],[totalp]]/BD_DEP[[#This Row],[Mat Inicial]]","v":5.2631578947368418E-2},{"$f":"+BD_DEP[[#This Row],[totalr]]/BD_DEP[[#This Row],[Mat Inicial]]","v":0.34210526315789475},{"$f":"+BD_DEP[[#This Row],[repi]]/BD_DEP[[#This Row],[Mat Inicial]]","v":0.39473684210526316},"61","Dpto. Matematicas y estadístic",408639,"GONZALEZ LIMA MARIA","TC","PR"]
[2642,"MAT1111","CALCULO II",1,202330,40,35,0,5,5,{"$f":"+BD_DEP[[#This Row],[totalp]]/BD_DEP[[#This Row],[Mat Inicial]]","v":0},{"$f":"+BD_DEP[[#This Row],[totalr]]/BD_DEP[[#This Row],[Mat Inicial]]","v":0.125},{"$f":"+BD_DEP[[#This Row],[repi]]/BD_DEP[[#This Row],[Mat Inicial]]","v":0.125},"61","Dpto. Matematicas y estadístic",7598640,"De La Cruz Cantillo Javier","TC","PR"]
[2643,"MAT1111","CALCULO II",2,202330,40,34,1,6,7,{"$f":"+BD_DEP[[#This Row],[totalp]]/BD_DEP[[#This Row],[Mat Inicial]]","v":2.5000000000000001E-2},{"$f":"+BD_DEP[[#This Row],[totalr]]/BD_DEP[[#This Row],[Mat Inicial]]","v":0.15},{"$f":"+BD_DEP[[#This Row],[repi]]/BD_DEP[[#This Row],[Mat Inicial]]","v":0.17499999999999999},"61","Dpto. Matematicas y estadístic",7598640,"De La Cruz Cantillo Javier","TC","PR"]
[2644,"MAT1111","CALCULO II",3,202330,40,33,1,7,8,{"$f":"+BD_DEP[[#This Row],[totalp]]/BD_DEP[[#This Row],[Mat Inicial]]","v":2.5000000000000001E-2},{"$f":"+BD_DEP[[#This Row],[totalr]]/BD_DEP[[#This Row],[Mat Inicial]]","v":0.17499999999999999},{"$f":"+BD_DEP[[#This Row],[repi]]/BD_DEP[[#This Row],[Mat Inicial]]","v":0.2},"61","Dpto. Matematicas y estadístic",7598640,"De La Cruz Cantillo Javier","TC","PR"]
[2648,"MAT1111","CALCULO II",7,202330,40,38,5,2,7,{"$f":"+BD_DEP[[#This Row],[totalp]]/BD_DEP[[#This Row],[Mat Inicial]]","v":0.125},{"$f":"+BD_DEP[[#This Row],[totalr]]/BD_DEP[[#This Row],[Mat Inicial]]","v":0.05},{"$f":"+BD_DEP[[#This Row],[repi]]/BD_DEP[[#This Row],[Mat Inicial]]","v":0.17499999999999999},"61","Dpto. Matematicas y estadístic",8649660,"Grau acuña Rogelio","TC","PR"]
[2649,"MAT1111","CALCULO II",8,202330,31,27,4,4,8,{"$f":"+BD_DEP[[#This Row],[totalp]]/BD_DEP[[#This Row],[Mat Inicial]]","v":0.12903225806451613},{"$f":"+BD_DEP[[#This Row],[totalr]]/BD_DEP[[#This Row],[Mat Inicial]]","v":0.12903225806451613},{"$f":"+BD_DEP[[#This Row],[repi]]/BD_DEP[[#This Row],[Mat Inicial]]","v":0.25806451612903225},"61","Dpto. Matematicas y estadístic",8649660,"Grau acuña Rogelio","TC","PR"]
[2646,"MAT1111","CALCULO II",5,202330,39,28,3,11,14,{"$f":"+BD_DEP[[#This Row],[totalp]]/BD_DEP[[#This Row],[Mat Inicial]]","v":7.6923076923076927E-2},{"$f":"+BD_DEP[[#This Row],[totalr]]/BD_DEP[[#This Row],[Mat Inicial]]","v":0.28205128205128205},{"$f":"+BD_DEP[[#This Row],[repi]]/BD_DEP[[#This Row],[Mat Inicial]]","v":0.35897435897435898},"61","Dpto. Matematicas y estadístic",72137168,"Ospino Portillo Jorge","TC","PR"]
[2654,"MAT1111","CALCULO II",13,202330,40,33,5,7,12,{"$f":"+BD_DEP[[#This Row],[totalp]]/BD_DEP[[#This Row],[Mat Inicial]]","v":0.125},{"$f":"+BD_DEP[[#This Row],[totalr]]/BD_DEP[[#This Row],[Mat Inicial]]","v":0.17499999999999999},{"$f":"+BD_DEP[[#This Row],[repi]]/BD_DEP[[#This Row],[Mat Inicial]]","v":0.3},"61","Dpto. Matematicas y estadístic",72137168,"Ospino Portillo Jorge","TC","PR"]
[2650,"MAT1111","CALCULO II",9,202330,40,35,3,5,8,{"$f":"+BD_DEP[[#This Row],[totalp]]/BD_DEP[[#This Row],[Mat Inicial]]","v":7.4999999999999997E-2},{"$f":"+BD_DEP[[#This Row],[totalr]]/BD_DEP[[#This Row],[Mat Inicial]]","v":0.125},{"$f":"+BD_DEP[[#This Row],[repi]]/BD_DEP[[#This Row],[Mat Inicial]]","v":0.2},"61","Dpto. Matematicas y estadístic",77185466,"Vega Fuentes Carlos","TC","PR"]
[2651,"MAT1111","CALCULO II",10,202330,40,28,7,12,19,{"$f":"+BD_DEP[[#This Row],[totalp]]/BD_DEP[[#This Row],[Mat Inicial]]","v":0.17499999999999999},{"$f":"+BD_DEP[[#This Row],[totalr]]/BD_DEP[[#This Row],[Mat Inicial]]","v":0.3},{"$f":"+BD_DEP[[#This Row],[repi]]/BD_DEP[[#This Row],[Mat Inicial]]","v":0.47499999999999998},"61","Dpto. Matematicas y estadístic",77185466,"Vega Fuentes Carlos","TC","PR"]
[2652,"MAT1111","CALCULO II",11,202330,32,19,3,13,16,{"$f":"+BD_DEP[[#This Row],[totalp]]/BD_DEP[[#This Row],[Mat Inicial]]","v":9.375E-2},{"$f":"+BD_DEP[[#This Row],[totalr]]/BD_DEP[[#This Row],[Mat Inicial]]","v":0.40625},{"$f":"+BD_DEP[[#This Row],[repi]]/BD_DEP[[#This Row],[Mat Inicial]]","v":0.5},"61","Dpto. Matematicas y estadístic",77185466,"Vega Fuentes Carlos","TC","PR"]
[2688,"MAT4260","CALCULO III (ANEC)",1,202330,40,28,4,12,16,{"$f":"+BD_DEP[[#This Row],[totalp]]/BD_DEP[[#This Row],[Mat Inicial]]","v":0.1},{"$f":"+BD_DEP[[#This Row],[totalr]]/BD_DEP[[#This Row],[Mat Inicial]]","v":0.3},{"$f":"+BD_DEP[[#This Row],[repi]]/BD_DEP[[#This Row],[Mat Inicial]]","v":0.4},"61","Dpto. Matematicas y estadístic",72280977,"Gonzalez Ospino Jonathan","TC","PR"]
[2662,"MAT4011","ECUACIONES DIFERENCIALES",1,202330,40,37,5,3,8,{"$f":"+BD_DEP[[#This Row],[totalp]]/BD_DEP[[#This Row],[Mat Inicial]]","v":0.125},{"$f":"+BD_DEP[[#This Row],[totalr]]/BD_DEP[[#This Row],[Mat Inicial]]","v":7.4999999999999997E-2},{"$f":"+BD_DEP[[#This Row],[repi]]/BD_DEP[[#This Row],[Mat Inicial]]","v":0.2},"61","Dpto. Matematicas y estadístic",7921302,"Alvarez Pardo Edgardo","TC","PR"]
[2666,"MAT4011","ECUACIONES DIFERENCIALES",5,202330,37,29,3,8,11,{"$f":"+BD_DEP[[#This Row],[totalp]]/BD_DEP[[#This Row],[Mat Inicial]]","v":8.1081081081081086E-2},{"$f":"+BD_DEP[[#This Row],[totalr]]/BD_DEP[[#This Row],[Mat Inicial]]","v":0.21621621621621623},{"$f":"+BD_DEP[[#This Row],[repi]]/BD_DEP[[#This Row],[Mat Inicial]]","v":0.29729729729729731},"61","Dpto. Matematicas y estadístic",52418994,"ALDANA DOMINGUEZ CLARA","TC","PR"]
[2663,"MAT4011","ECUACIONES DIFERENCIALES",2,202330,40,35,2,5,7,{"$f":"+BD_DEP[[#This Row],[totalp]]/BD_DEP[[#This Row],[Mat Inicial]]","v":0.05},{"$f":"+BD_DEP[[#This Row],[totalr]]/BD_DEP[[#This Row],[Mat Inicial]]","v":0.125},{"$f":"+BD_DEP[[#This Row],[repi]]/BD_DEP[[#This Row],[Mat Inicial]]","v":0.17499999999999999},"61","Dpto. Matematicas y estadístic",92553749,"Barraza Martinez Bienvenido","TC","PR"]
[2664,"MAT4011","ECUACIONES DIFERENCIALES",3,202330,40,32,4,8,12,{"$f":"+BD_DEP[[#This Row],[totalp]]/BD_DEP[[#This Row],[Mat Inicial]]","v":0.1},{"$f":"+BD_DEP[[#This Row],[totalr]]/BD_DEP[[#This Row],[Mat Inicial]]","v":0.2},{"$f":"+BD_DEP[[#This Row],[repi]]/BD_DEP[[#This Row],[Mat Inicial]]","v":0.3},"61","Dpto. Matematicas y estadístic",92553749,"Barraza Martinez Bienvenido","TC","PR"]
[2668,"MAT4011","ECUACIONES DIFERENCIALES",7,202330,31,23,5,8,13,{"$f":"+BD_DEP[[#This Row],[totalp]]/BD_DEP[[#This Row],[Mat Inicial]]","v":0.16129032258064516},{"$f":"+BD_DEP[[#This Row],[totalr]]/BD_DEP[[#This Row],[Mat Inicial]]","v":0.25806451612903225},{"$f":"+BD_DEP[[#This Row],[repi]]/BD_DEP[[#This Row],[Mat Inicial]]","v":0.41935483870967744},"61","Dpto. Matematicas y estadístic",92553749,"Barraza Martinez Bienvenido","TC","PR"]
[2670,"MAT4013","ECUACIONES DIFERENCIALES (MAT)",1,202330,29,23,1,6,7,{"$f":"+BD_DEP[[#This Row],[totalp]]/BD_DEP[[#This Row],[Mat Inicial]]","v":3.4482758620689655E-2},{"$f":"+BD_DEP[[#This Row],[totalr]]/BD_DEP[[#This Row],[Mat Inicial]]","v":0.20689655172413793},{"$f":"+BD_DEP[[#This Row],[repi]]/BD_DEP[[#This Row],[Mat Inicial]]","v":0.2413793103448276},"61","Dpto. Matematicas y estadístic",72150306,"Hernandez Monzon Jairo","TC","PR"]
[1824,"EST4540","ESTADISTICA CPG",1,202330,20,20,0,0,0,{"$f":"+BD_DEP[[#This Row],[totalp]]/BD_DEP[[#This Row],[Mat Inicial]]","v":0},{"$f":"+BD_DEP[[#This Row],[totalr]]/BD_DEP[[#This Row],[Mat Inicial]]","v":0},{"$f":"+BD_DEP[[#This Row],[repi]]/BD_DEP[[#This Row],[Mat Inicial]]","v":0},"61","Dpto. Matematicas y estadístic",1140814143,"Hernandez Vargas Natalia","TC","PR"]
[1805,"EST1022","ESTADISTICA I - AD",5,202330,40,38,3,2,5,{"$f":"+BD_DEP[[#This Row],[totalp]]/BD_DEP[[#This Row],[Mat Inicial]]","v":7.4999999999999997E-2},{"$f":"+BD_DEP[[#This Row],[totalr]]/BD_DEP[[#This Row],[Mat Inicial]]","v":0.05},{"$f":"+BD_DEP[[#This Row],[repi]]/BD_DEP[[#This Row],[Mat Inicial]]","v":0.125},"61","Dpto. Matematicas y estadístic",10967628,"De Oro Aguado Carlos","TC","PR"]
[1801,"EST1022","ESTADISTICA I - AD",1,202330,40,35,5,5,10,{"$f":"+BD_DEP[[#This Row],[totalp]]/BD_DEP[[#This Row],[Mat Inicial]]","v":0.125},{"$f":"+BD_DEP[[#This Row],[totalr]]/BD_DEP[[#This Row],[Mat Inicial]]","v":0.125},{"$f":"+BD_DEP[[#This Row],[repi]]/BD_DEP[[#This Row],[Mat Inicial]]","v":0.25},"61","Dpto. Matematicas y estadístic",72142284,"Alonso Cabrera Jesus","TC","PR"]
[1802,"EST1022","ESTADISTICA I - AD",2,202330,40,38,6,2,8,{"$f":"+BD_DEP[[#This Row],[totalp]]/BD_DEP[[#This Row],[Mat Inicial]]","v":0.15},{"$f":"+BD_DEP[[#This Row],[totalr]]/BD_DEP[[#This Row],[Mat Inicial]]","v":0.05},{"$f":"+BD_DEP[[#This Row],[repi]]/BD_DEP[[#This Row],[Mat Inicial]]","v":0.2},"61","Dpto. Matematicas y estadístic",72142284,"Alonso Cabrera Jesus","TC","PR"]
[1803,"EST1022","ESTADISTICA I - AD",3,202330,40,40,2,0,2,{"$f":"+BD_DEP[[#This Row],[totalp]]/BD_DEP[[#This Row],[Mat Inicial]]","v":0.05},{"$f":"+BD_DEP[[#This Row],[totalr]]/BD_DEP[[#This Row],[Mat Inicial]]","v":0},{"$f":"+BD_DEP[[#This Row],[repi]]/BD_DEP[[#This Row],[Mat Inicial]]","v":0.05},"61","Dpto. Matematicas y estadístic",72142284,"Alonso Cabrera Jesus","TC","PR"]
[1804,"EST1022","ESTADISTICA I - AD",4,202330,40,38,4,2,6,{"$f":"+BD_DEP[[#This Row],[totalp]]/BD_DEP[[#This Row],[Mat Inicial]]","v":0.1},{"$f":"+BD_DEP[[#This Row],[totalr]]/BD_DEP[[#This Row],[Mat Inicial]]","v":0.05},{"$f":"+BD_DEP[[#This Row],[repi]]/BD_DEP[[#This Row],[Mat Inicial]]","v":0.15},"61","Dpto. Matematicas y estadístic",72162769,"Llinas Solano Humberto","TC","PR"]
[1808,"EST1031","ESTADISTICA II (AD)",1,202330,24,17,2,7,9,{"$f":"+BD_DEP[[#This Row],[totalp]]/BD_DEP[[#This Row],[Mat Inicial]]","v":8.3333333333333329E-2},{"$f":"+BD_DEP[[#This Row],[totalr]]/BD_DEP[[#This Row],[Mat Inicial]]","v":0.29166666666666669},{"$f":"+BD_DEP[[#This Row],[repi]]/BD_DEP[[#This Row],[Mat Inicial]]","v":0.375},"61","Dpto. Matematicas y estadístic",8692496,"Diaz Rodriguez Martin","TC","PR"]
[1809,"EST1031","ESTADISTICA II (AD)",2,202330,39,32,1,7,8,{"$f":"+BD_DEP[[#This Row],[totalp]]/BD_DEP[[#This Row],[Mat Inicial]]","v":2.564102564102564E-2},{"$f":"+BD_DEP[[#This Row],[totalr]]/BD_DEP[[#This Row],[Mat Inicial]]","v":0.17948717948717949},{"$f":"+BD_DEP[[#This Row],[repi]]/BD_DEP[[#This Row],[Mat Inicial]]","v":0.20512820512820512},"61","Dpto. Matematicas y estadístic",8692496,"Diaz Rodriguez Martin","TC","PR"]
[1810,"EST1031","ESTADISTICA II (AD)",3,202330,31,22,2,9,11,{"$f":"+BD_DEP[[#This Row],[totalp]]/BD_DEP[[#This Row],[Mat Inicial]]","v":6.4516129032258063E-2},{"$f":"+BD_DEP[[#This Row],[totalr]]/BD_DEP[[#This Row],[Mat Inicial]]","v":0.29032258064516131},{"$f":"+BD_DEP[[#This Row],[repi]]/BD_DEP[[#This Row],[Mat Inicial]]","v":0.35483870967741937},"61","Dpto. Matematicas y estadístic",8692496,"Diaz Rodriguez Martin","TC","PR"]
[1811,"EST1031","ESTADISTICA II (AD)",4,202330,40,31,1,9,10,{"$f":"+BD_DEP[[#This Row],[totalp]]/BD_DEP[[#This Row],[Mat Inicial]]","v":2.5000000000000001E-2},{"$f":"+BD_DEP[[#This Row],[totalr]]/BD_DEP[[#This Row],[Mat Inicial]]","v":0.22500000000000001},{"$f":"+BD_DEP[[#This Row],[repi]]/BD_DEP[[#This Row],[Mat Inicial]]","v":0.25},"61","Dpto. Matematicas y estadístic",1129509941,"Rubio Ortega Lihki","TC","PR"]
[1812,"EST1050","ESTADISTICA II (ING)",1,202330,25,22,3,3,6,{"$f":"+BD_DEP[[#This Row],[totalp]]/BD_DEP[[#This Row],[Mat Inicial]]","v":0.12},{"$f":"+BD_DEP[[#This Row],[totalr]]/BD_DEP[[#This Row],[Mat Inicial]]","v":0.12},{"$f":"+BD_DEP[[#This Row],[repi]]/BD_DEP[[#This Row],[Mat Inicial]]","v":0.24},"61","Dpto. Matematicas y estadístic",8692496,"Diaz Rodriguez Martin","TC","PR"]
[1821,"EST1070","ESTADISTICA INFERENCIAL",3,202330,40,36,0,4,4,{"$f":"+BD_DEP[[#This Row],[totalp]]/BD_DEP[[#This Row],[Mat Inicial]]","v":0},{"$f":"+BD_DEP[[#This Row],[totalr]]/BD_DEP[[#This Row],[Mat Inicial]]","v":0.1},{"$f":"+BD_DEP[[#This Row],[repi]]/BD_DEP[[#This Row],[Mat Inicial]]","v":0.1},"61","Dpto. Matematicas y estadístic",22624778,"Florez Lozano Karen","TC","PR"]
[1819,"EST1070","ESTADISTICA INFERENCIAL",1,202330,21,21,0,0,0,{"$f":"+BD_DEP[[#This Row],[totalp]]/BD_DEP[[#This Row],[Mat Inicial]]","v":0},{"$f":"+BD_DEP[[#This Row],[totalr]]/BD_DEP[[#This Row],[Mat Inicial]]","v":0},{"$f":"+BD_DEP[[#This Row],[repi]]/BD_DEP[[#This Row],[Mat Inicial]]","v":0},"61","Dpto. Matematicas y estadístic",1140814143,"Hernandez Vargas Natalia","TC","PR"]
[1817,"EST1062","ESTADISTICA MATEMATICAS",1,202330,11,9,2,2,4,{"$f":"+BD_DEP[[#This Row],[totalp]]/BD_DEP[[#This Row],[Mat Inicial]]","v":0.18181818181818182},{"$f":"+BD_DEP[[#This Row],[totalr]]/BD_DEP[[#This Row],[Mat Inicial]]","v":0.18181818181818182},{"$f":"+BD_DEP[[#This Row],[repi]]/BD_DEP[[#This Row],[Mat Inicial]]","v":0.36363636363636365},"61","Dpto. Matematicas y estadístic",72162769,"Llinas Solano Humberto","TC","PR"]
[4374,"MAT0040","FUNDAMENTOS DE ESTADISTICA",51,202330,40,40,3,0,3,{"$f":"+BD_DEP[[#This Row],[totalp]]/BD_DEP[[#This Row],[Mat Inicial]]","v":7.4999999999999997E-2},{"$f":"+BD_DEP[[#This Row],[totalr]]/BD_DEP[[#This Row],[Mat Inicial]]","v":0},{"$f":"+BD_DEP[[#This Row],[repi]]/BD_DEP[[#This Row],[Mat Inicial]]","v":7.4999999999999997E-2},"61","Dpto. Matematicas y estadístic",10775518,"BRANGO GARCIA HUGO","TC","PR"]
[4375,"MAT0040","FUNDAMENTOS DE ESTADISTICA",52,202330,40,40,3,0,3,{"$f":"+BD_DEP[[#This Row],[totalp]]/BD_DEP[[#This Row],[Mat Inicial]]","v":7.4999999999999997E-2},{"$f":"+BD_DEP[[#This Row],[totalr]]/BD_DEP[[#This Row],[Mat Inicial]]","v":0},{"$f":"+BD_DEP[[#This Row],[repi]]/BD_DEP[[#This Row],[Mat Inicial]]","v":7.4999999999999997E-2},"61","Dpto. Matematicas y estadístic",10775518,"BRANGO GARCIA HUGO","TC","PR"]
[4377,"MAT0040","FUNDAMENTOS DE ESTADISTICA",54,202330,40,40,3,0,3,{"$f":"+BD_DEP[[#This Row],[totalp]]/BD_DEP[[#This Row],[Mat Inicial]]","v":7.4999999999999997E-2},{"$f":"+BD_DEP[[#This Row],[totalr]]/BD_DEP[[#This Row],[Mat Inicial]]","v":0},{"$f":"+BD_DEP[[#This Row],[repi]]/BD_DEP[[#This Row],[Mat Inicial]]","v":7.4999999999999997E-2},"61","Dpto. Matematicas y estadístic",10967628,"De Oro Aguado Carlos","TC","PR"]
[4403,"MAT8630","GEOMETRÍA 2D",51,202330,40,28,3,12,15,{"$f":"+BD_DEP[[#This Row],[totalp]]/BD_DEP[[#This Row],[Mat Inicial]]","v":7.4999999999999997E-2},{"$f":"+BD_DEP[[#This Row],[totalr]]/BD_DEP[[#This Row],[Mat Inicial]]","v":0.3},{"$f":"+BD_DEP[[#This Row],[repi]]/BD_DEP[[#This Row],[Mat Inicial]]","v":0.375},"61","Dpto. Matematicas y estadístic",72166574,"Rojas Alvarez Carlos","TC","PR"]
[2699,"MAT8635","GEOMETRIA 3D",1,202330,37,34,3,3,6,{"$f":"+BD_DEP[[#This Row],[totalp]]/BD_DEP[[#This Row],[Mat Inicial]]","v":8.1081081081081086E-2},{"$f":"+BD_DEP[[#This Row],[totalr]]/BD_DEP[[#This Row],[Mat Inicial]]","v":8.1081081081081086E-2},{"$f":"+BD_DEP[[#This Row],[repi]]/BD_DEP[[#This Row],[Mat Inicial]]","v":0.16216216216216217},"61","Dpto. Matematicas y estadístic",72166574,"Rojas Alvarez Carlos","TC","PR"]
[2700,"MAT8635","GEOMETRIA 3D",2,202330,26,22,0,4,4,{"$f":"+BD_DEP[[#This Row],[totalp]]/BD_DEP[[#This Row],[Mat Inicial]]","v":0},{"$f":"+BD_DEP[[#This Row],[totalr]]/BD_DEP[[#This Row],[Mat Inicial]]","v":0.15384615384615385},{"$f":"+BD_DEP[[#This Row],[repi]]/BD_DEP[[#This Row],[Mat Inicial]]","v":0.15384615384615385},"61","Dpto. Matematicas y estadístic",72166574,"Rojas Alvarez Carlos","TC","PR"]
[1818,"EST1063","METODOS ESTADISTICOS",1,202330,15,13,0,2,2,{"$f":"+BD_DEP[[#This Row],[totalp]]/BD_DEP[[#This Row],[Mat Inicial]]","v":0},{"$f":"+BD_DEP[[#This Row],[totalr]]/BD_DEP[[#This Row],[Mat Inicial]]","v":0.13333333333333333},{"$f":"+BD_DEP[[#This Row],[repi]]/BD_DEP[[#This Row],[Mat Inicial]]","v":0.13333333333333333},"61","Dpto. Matematicas y estadístic",22624778,"Florez Lozano Karen","TC","PR"]
[2638,"MAT1061","OPTIMIZACION MATEMATICA",1,202330,6,5,0,1,1,{"$f":"+BD_DEP[[#This Row],[totalp]]/BD_DEP[[#This Row],[Mat Inicial]]","v":0},{"$f":"+BD_DEP[[#This Row],[totalr]]/BD_DEP[[#This Row],[Mat Inicial]]","v":0.16666666666666666},{"$f":"+BD_DEP[[#This Row],[repi]]/BD_DEP[[#This Row],[Mat Inicial]]","v":0.16666666666666666},"61","Dpto. Matematicas y estadístic",408639,"GONZALEZ LIMA MARIA","TC","PR"]
[2399,"INV4571","PROYECTO DE GRADO",1,202330,16,16,2,0,2,{"$f":"+BD_DEP[[#This Row],[totalp]]/BD_DEP[[#This Row],[Mat Inicial]]","v":0.125},{"$f":"+BD_DEP[[#This Row],[totalr]]/BD_DEP[[#This Row],[Mat Inicial]]","v":0},{"$f":"+BD_DEP[[#This Row],[repi]]/BD_DEP[[#This Row],[Mat Inicial]]","v":0.125},"61","Dpto. Matematicas y estadístic",7921302,"Alvarez Pardo Edgardo","TC","PR"]
[2676,"MAT4140","TEORIA DE GRUPOS",1,202330,11,10,1,1,2,{"$f":"+BD_DEP[[#This Row],[totalp]]/BD_DEP[[#This Row],[Mat Inicial]]","v":9.0909090909090912E-2},{"$f":"+BD_DEP[[#This Row],[totalr]]/BD_DEP[[#This Row],[Mat Inicial]]","v":9.0909090909090912E-2},{"$f":"+BD_DEP[[#This Row],[repi]]/BD_DEP[[#This Row],[Mat Inicial]]","v":0.18181818181818182},"61","Dpto. Matematicas y estadístic",19516086,"Gutierrez Garcia Ismael","TC","PR"]
[2694,"MAT4263","TEORIA DE LA PROBABILIDAD",1,202330,40,38,0,2,2,{"$f":"+BD_DEP[[#This Row],[totalp]]/BD_DEP[[#This Row],[Mat Inicial]]","v":0},{"$f":"+BD_DEP[[#This Row],[totalr]]/BD_DEP[[#This Row],[Mat Inicial]]","v":0.05},{"$f":"+BD_DEP[[#This Row],[repi]]/BD_DEP[[#This Row],[Mat Inicial]]","v":0.05},"61","Dpto. Matematicas y estadístic",10775518,"BRANGO GARCIA HUGO","TC","PR"]
[2696,"MAT8540","TEORIA DE NUMEROS",1,202330,11,11,2,0,2,{"$f":"+BD_DEP[[#This Row],[totalp]]/BD_DEP[[#This Row],[Mat Inicial]]","v":0.18181818181818182},{"$f":"+BD_DEP[[#This Row],[totalr]]/BD_DEP[[#This Row],[Mat Inicial]]","v":0},{"$f":"+BD_DEP[[#This Row],[repi]]/BD_DEP[[#This Row],[Mat Inicial]]","v":0.18181818181818182},"61","Dpto. Matematicas y estadístic",19516086,"Gutierrez Garcia Ismael","TC","PR"]
[2695,"MAT4264","TOPOLOGIA",1,202330,12,9,1,3,4,{"$f":"+BD_DEP[[#This Row],[totalp]]/BD_DEP[[#This Row],[Mat Inicial]]","v":8.3333333333333329E-2},{"$f":"+BD_DEP[[#This Row],[totalr]]/BD_DEP[[#This Row],[Mat Inicial]]","v":0.25},{"$f":"+BD_DEP[[#This Row],[repi]]/BD_DEP[[#This Row],[Mat Inicial]]","v":0.33333333333333331},"61","Dpto. Matematicas y estadístic",79781992,"Uribe Jongbloed Bernardo","TC","PR"]
[2697,"MAT8550","VARIABLE COMPLEJA",1,202330,9,8,1,1,2,{"$f":"+BD_DEP[[#This Row],[totalp]]/BD_DEP[[#This Row],[Mat Inicial]]","v":0.1111111111111111},{"$f":"+BD_DEP[[#This Row],[totalr]]/BD_DEP[[#This Row],[Mat Inicial]]","v":0.1111111111111111},{"$f":"+BD_DEP[[#This Row],[repi]]/BD_DEP[[#This Row],[Mat Inicial]]","v":0.22222222222222221},"61","Dpto. Matematicas y estadístic",7921302,"Alvarez Pardo Edgardo","TC","PR"]
[4379,"MAT1011","ALGEBRA Y TRIGONOMETRIA",3,202330,32,27,2,5,7,{"$f":"+BD_DEP[[#This Row],[totalp]]/BD_DEP[[#This Row],[Mat Inicial]]","v":6.25E-2},{"$f":"+BD_DEP[[#This Row],[totalr]]/BD_DEP[[#This Row],[Mat Inicial]]","v":0.15625},{"$f":"+BD_DEP[[#This Row],[repi]]/BD_DEP[[#This Row],[Mat Inicial]]","v":0.21875},"61","Dpto. Matematicas y estadístic",7448036,"Escudero Trujillo Rafael","MT","PR"]
[4378,"MAT1011","ALGEBRA Y TRIGONOMETRIA",1,202330,30,28,1,2,3,{"$f":"+BD_DEP[[#This Row],[totalp]]/BD_DEP[[#This Row],[Mat Inicial]]","v":3.3333333333333333E-2},{"$f":"+BD_DEP[[#This Row],[totalr]]/BD_DEP[[#This Row],[Mat Inicial]]","v":6.6666666666666666E-2},{"$f":"+BD_DEP[[#This Row],[repi]]/BD_DEP[[#This Row],[Mat Inicial]]","v":0.1},"61","Dpto. Matematicas y estadístic",8705516,"CERVANTES CAMPO GUILLERMO","MT","PR"]
[4393,"MAT1101","CALCULO I",51,202330,39,36,2,3,5,{"$f":"+BD_DEP[[#This Row],[totalp]]/BD_DEP[[#This Row],[Mat Inicial]]","v":5.128205128205128E-2},{"$f":"+BD_DEP[[#This Row],[totalr]]/BD_DEP[[#This Row],[Mat Inicial]]","v":7.6923076923076927E-2},{"$f":"+BD_DEP[[#This Row],[repi]]/BD_DEP[[#This Row],[Mat Inicial]]","v":0.12820512820512819},"61","Dpto. Matematicas y estadístic",8705516,"CERVANTES CAMPO GUILLERMO","MT","PR"]
[4398,"MAT1101","CALCULO I",57,202330,40,27,6,13,19,{"$f":"+BD_DEP[[#This Row],[totalp]]/BD_DEP[[#This Row],[Mat Inicial]]","v":0.15},{"$f":"+BD_DEP[[#This Row],[totalr]]/BD_DEP[[#This Row],[Mat Inicial]]","v":0.32500000000000001},{"$f":"+BD_DEP[[#This Row],[repi]]/BD_DEP[[#This Row],[Mat Inicial]]","v":0.47499999999999998},"61","Dpto. Matematicas y estadístic",8716134,"Martinez Solano Rafael","MT","PR"]
[4399,"MAT1101","CALCULO I",58,202330,23,17,11,6,17,{"$f":"+BD_DEP[[#This Row],[totalp]]/BD_DEP[[#This Row],[Mat Inicial]]","v":0.47826086956521741},{"$f":"+BD_DEP[[#This Row],[totalr]]/BD_DEP[[#This Row],[Mat Inicial]]","v":0.2608695652173913},{"$f":"+BD_DEP[[#This Row],[repi]]/BD_DEP[[#This Row],[Mat Inicial]]","v":0.73913043478260865},"61","Dpto. Matematicas y estadístic",8716134,"Martinez Solano Rafael","MT","PR"]
[4389,"MAT1100","CALCULO I (ANEC)",51,202330,40,36,4,4,8,{"$f":"+BD_DEP[[#This Row],[totalp]]/BD_DEP[[#This Row],[Mat Inicial]]","v":0.1},{"$f":"+BD_DEP[[#This Row],[totalr]]/BD_DEP[[#This Row],[Mat Inicial]]","v":0.1},{"$f":"+BD_DEP[[#This Row],[repi]]/BD_DEP[[#This Row],[Mat Inicial]]","v":0.2},"61","Dpto. Matematicas y estadístic",7448036,"Escudero Trujillo Rafael","MT","PR"]
[4401,"MAT1190","MATEMA.Y EL MUNDO DE LA VIDA",1,202330,38,37,0,1,1,{"$f":"+BD_DEP[[#This Row],[totalp]]/BD_DEP[[#This Row],[Mat Inicial]]","v":0},{"$f":"+BD_DEP[[#This Row],[totalr]]/BD_DEP[[#This Row],[Mat Inicial]]","v":2.6315789473684209E-2},{"$f":"+BD_DEP[[#This Row],[repi]]/BD_DEP[[#This Row],[Mat Inicial]]","v":2.6315789473684209E-2},"61","Dpto. Matematicas y estadístic",8705516,"CERVANTES CAMPO GUILLERMO","MT","PR"]
[2628,"MAT0020","MATEMATICAS BASICAS",1,202330,40,37,0,3,3,{"$f":"+BD_DEP[[#This Row],[totalp]]/BD_DEP[[#This Row],[Mat Inicial]]","v":0},{"$f":"+BD_DEP[[#This Row],[totalr]]/BD_DEP[[#This Row],[Mat Inicial]]","v":7.4999999999999997E-2},{"$f":"+BD_DEP[[#This Row],[repi]]/BD_DEP[[#This Row],[Mat Inicial]]","v":7.4999999999999997E-2},"61","Dpto. Matematicas y estadístic",7448036,"Escudero Trujillo Rafael","MT","PR"]
[2629,"MAT0020","MATEMATICAS BASICAS",2,202330,40,37,0,3,3,{"$f":"+BD_DEP[[#This Row],[totalp]]/BD_DEP[[#This Row],[Mat Inicial]]","v":0},{"$f":"+BD_DEP[[#This Row],[totalr]]/BD_DEP[[#This Row],[Mat Inicial]]","v":7.4999999999999997E-2},{"$f":"+BD_DEP[[#This Row],[repi]]/BD_DEP[[#This Row],[Mat Inicial]]","v":7.4999999999999997E-2},"61","Dpto. Matematicas y estadístic",7448036,"Escudero Trujillo Rafael","MT","PR"]
[2637,"MAT1031","ALGEBRA LINEAL",4,202330,40,31,0,9,9,{"$f":"+BD_DEP[[#This Row],[totalp]]/BD_DEP[[#This Row],[Mat Inicial]]","v":0},{"$f":"+BD_DEP[[#This Row],[totalr]]/BD_DEP[[#This Row],[Mat Inicial]]","v":0.22500000000000001},{"$f":"+BD_DEP[[#This Row],[repi]]/BD_DEP[[#This Row],[Mat Inicial]]","v":0.22500000000000001},"61","Dpto. Matematicas y estadístic",72254434,"Charris Polo Harry","CA","PR"]
[2634,"MAT1031","ALGEBRA LINEAL",1,202330,38,37,3,1,4,{"$f":"+BD_DEP[[#This Row],[totalp]]/BD_DEP[[#This Row],[Mat Inicial]]","v":7.8947368421052627E-2},{"$f":"+BD_DEP[[#This Row],[totalr]]/BD_DEP[[#This Row],[Mat Inicial]]","v":2.6315789473684209E-2},{"$f":"+BD_DEP[[#This Row],[repi]]/BD_DEP[[#This Row],[Mat Inicial]]","v":0.10526315789473684},"61","Dpto. Matematicas y estadístic",73211087,"Blanco Gamarra Jaider","CA","PR"]
[2636,"MAT1031","ALGEBRA LINEAL",3,202330,40,34,3,6,9,{"$f":"+BD_DEP[[#This Row],[totalp]]/BD_DEP[[#This Row],[Mat Inicial]]","v":7.4999999999999997E-2},{"$f":"+BD_DEP[[#This Row],[totalr]]/BD_DEP[[#This Row],[Mat Inicial]]","v":0.15},{"$f":"+BD_DEP[[#This Row],[repi]]/BD_DEP[[#This Row],[Mat Inicial]]","v":0.22500000000000001},"61","Dpto. Matematicas y estadístic",77176076,"Andrade Navas Javier","CA","PR"]
[4384,"MAT1031","ALGEBRA LINEAL",55,202330,40,33,2,7,9,{"$f":"+BD_DEP[[#This Row],[totalp]]/BD_DEP[[#This Row],[Mat Inicial]]","v":0.05},{"$f":"+BD_DEP[[#This Row],[totalr]]/BD_DEP[[#This Row],[Mat Inicial]]","v":0.17499999999999999},{"$f":"+BD_DEP[[#This Row],[repi]]/BD_DEP[[#This Row],[Mat Inicial]]","v":0.22500000000000001},"61","Dpto. Matematicas y estadístic",1045673116,"Garcia Arguelles Karina","CA","PR"]
[2659,"MAT1121","CALCULO 3",5,202330,9,8,1,1,2,{"$f":"+BD_DEP[[#This Row],[totalp]]/BD_DEP[[#This Row],[Mat Inicial]]","v":0.1111111111111111},{"$f":"+BD_DEP[[#This Row],[totalr]]/BD_DEP[[#This Row],[Mat Inicial]]","v":0.1111111111111111},{"$f":"+BD_DEP[[#This Row],[repi]]/BD_DEP[[#This Row],[Mat Inicial]]","v":0.22222222222222221},"61","Dpto. Matematicas y estadístic",9020333,"Arias Dominguez Francisco","CA","PR"]
[2640,"MAT1100","CALCULO I (ANEC)",2,202330,38,28,8,10,18,{"$f":"+BD_DEP[[#This Row],[totalp]]/BD_DEP[[#This Row],[Mat Inicial]]","v":0.21052631578947367},{"$f":"+BD_DEP[[#This Row],[totalr]]/BD_DEP[[#This Row],[Mat Inicial]]","v":0.26315789473684209},{"$f":"+BD_DEP[[#This Row],[repi]]/BD_DEP[[#This Row],[Mat Inicial]]","v":0.47368421052631576},"61","Dpto. Matematicas y estadístic",55308884,"Vasquez Cassis Darling","CA","PR"]
[4390,"MAT1100","CALCULO I (ANEC)",52,202330,40,37,7,3,10,{"$f":"+BD_DEP[[#This Row],[totalp]]/BD_DEP[[#This Row],[Mat Inicial]]","v":0.17499999999999999},{"$f":"+BD_DEP[[#This Row],[totalr]]/BD_DEP[[#This Row],[Mat Inicial]]","v":7.4999999999999997E-2},{"$f":"+BD_DEP[[#This Row],[repi]]/BD_DEP[[#This Row],[Mat Inicial]]","v":0.25},"61","Dpto. Matematicas y estadístic",72256920,"Fontalvo De La Rosa Manuel","CA","PR"]
[4392,"MAT1100","CALCULO I (ANEC)",54,202330,32,30,3,2,5,{"$f":"+BD_DEP[[#This Row],[totalp]]/BD_DEP[[#This Row],[Mat Inicial]]","v":9.375E-2},{"$f":"+BD_DEP[[#This Row],[totalr]]/BD_DEP[[#This Row],[Mat Inicial]]","v":6.25E-2},{"$f":"+BD_DEP[[#This Row],[repi]]/BD_DEP[[#This Row],[Mat Inicial]]","v":0.15625},"61","Dpto. Matematicas y estadístic",72256920,"Fontalvo De La Rosa Manuel","CA","PR"]
[4391,"MAT1100","CALCULO I (ANEC)",53,202330,33,27,6,6,12,{"$f":"+BD_DEP[[#This Row],[totalp]]/BD_DEP[[#This Row],[Mat Inicial]]","v":0.18181818181818182},{"$f":"+BD_DEP[[#This Row],[totalr]]/BD_DEP[[#This Row],[Mat Inicial]]","v":0.18181818181818182},{"$f":"+BD_DEP[[#This Row],[repi]]/BD_DEP[[#This Row],[Mat Inicial]]","v":0.36363636363636365},"61","Dpto. Matematicas y estadístic",1045673116,"Garcia Arguelles Karina","CA","PR"]
[2639,"MAT1100","CALCULO I (ANEC)",1,202330,32,30,3,2,5,{"$f":"+BD_DEP[[#This Row],[totalp]]/BD_DEP[[#This Row],[Mat Inicial]]","v":9.375E-2},{"$f":"+BD_DEP[[#This Row],[totalr]]/BD_DEP[[#This Row],[Mat Inicial]]","v":6.25E-2},{"$f":"+BD_DEP[[#This Row],[repi]]/BD_DEP[[#This Row],[Mat Inicial]]","v":0.15625},"61","Dpto. Matematicas y estadístic",1045721385,"MEJIA SALAZAR DIANA","CA","PR"]
[2686,"MAT4258","CALCULO II (ANEC)",6,202330,40,35,8,5,13,{"$f":"+BD_DEP[[#This Row],[totalp]]/BD_DEP[[#This Row],[Mat Inicial]]","v":0.2},{"$f":"+BD_DEP[[#This Row],[totalr]]/BD_DEP[[#This Row],[Mat Inicial]]","v":0.125},{"$f":"+BD_DEP[[#This Row],[repi]]/BD_DEP[[#This Row],[Mat Inicial]]","v":0.32500000000000001},"61","Dpto. Matematicas y estadístic",9020333,"Arias Dominguez Francisco","CA","PR"]
[2684,"MAT4258","CALCULO II (ANEC)",4,202330,39,28,8,11,19,{"$f":"+BD_DEP[[#This Row],[totalp]]/BD_DEP[[#This Row],[Mat Inicial]]","v":0.20512820512820512},{"$f":"+BD_DEP[[#This Row],[totalr]]/BD_DEP[[#This Row],[Mat Inicial]]","v":0.28205128205128205},{"$f":"+BD_DEP[[#This Row],[repi]]/BD_DEP[[#This Row],[Mat Inicial]]","v":0.48717948717948717},"61","Dpto. Matematicas y estadístic",72253394,"Bolaño Benitez Edwin","CA","PR"]
[2685,"MAT4258","CALCULO II (ANEC)",5,202330,39,30,2,9,11,{"$f":"+BD_DEP[[#This Row],[totalp]]/BD_DEP[[#This Row],[Mat Inicial]]","v":5.128205128205128E-2},{"$f":"+BD_DEP[[#This Row],[totalr]]/BD_DEP[[#This Row],[Mat Inicial]]","v":0.23076923076923078},{"$f":"+BD_DEP[[#This Row],[repi]]/BD_DEP[[#This Row],[Mat Inicial]]","v":0.28205128205128205},"61","Dpto. Matematicas y estadístic",72253394,"Bolaño Benitez Edwin","CA","PR"]
[2687,"MAT4258","CALCULO II (ANEC)",7,202330,31,30,2,1,3,{"$f":"+BD_DEP[[#This Row],[totalp]]/BD_DEP[[#This Row],[Mat Inicial]]","v":6.4516129032258063E-2},{"$f":"+BD_DEP[[#This Row],[totalr]]/BD_DEP[[#This Row],[Mat Inicial]]","v":3.2258064516129031E-2},{"$f":"+BD_DEP[[#This Row],[repi]]/BD_DEP[[#This Row],[Mat Inicial]]","v":9.6774193548387094E-2},"61","Dpto. Matematicas y estadístic",73211087,"Blanco Gamarra Jaider","CA","PR"]
[2681,"MAT4258","CALCULO II (ANEC)",1,202330,40,33,3,7,10,{"$f":"+BD_DEP[[#This Row],[totalp]]/BD_DEP[[#This Row],[Mat Inicial]]","v":7.4999999999999997E-2},{"$f":"+BD_DEP[[#This Row],[totalr]]/BD_DEP[[#This Row],[Mat Inicial]]","v":0.17499999999999999},{"$f":"+BD_DEP[[#This Row],[repi]]/BD_DEP[[#This Row],[Mat Inicial]]","v":0.25},"61","Dpto. Matematicas y estadístic",1045673116,"Garcia Arguelles Karina","CA","PR"]
[2682,"MAT4258","CALCULO II (ANEC)",2,202330,27,21,6,6,12,{"$f":"+BD_DEP[[#This Row],[totalp]]/BD_DEP[[#This Row],[Mat Inicial]]","v":0.22222222222222221},{"$f":"+BD_DEP[[#This Row],[totalr]]/BD_DEP[[#This Row],[Mat Inicial]]","v":0.22222222222222221},{"$f":"+BD_DEP[[#This Row],[repi]]/BD_DEP[[#This Row],[Mat Inicial]]","v":0.44444444444444442},"61","Dpto. Matematicas y estadístic",1045721385,"MEJIA SALAZAR DIANA","CA","PR"]
[2689,"MAT4260","CALCULO III (ANEC)",2,202330,39,34,2,5,7,{"$f":"+BD_DEP[[#This Row],[totalp]]/BD_DEP[[#This Row],[Mat Inicial]]","v":5.128205128205128E-2},{"$f":"+BD_DEP[[#This Row],[totalr]]/BD_DEP[[#This Row],[Mat Inicial]]","v":0.12820512820512819},{"$f":"+BD_DEP[[#This Row],[repi]]/BD_DEP[[#This Row],[Mat Inicial]]","v":0.17948717948717949},"61","Dpto. Matematicas y estadístic",32823993,"Garrido Hernandez Liliana","CA","PR"]
[2690,"MAT4260","CALCULO III (ANEC)",3,202330,39,31,4,8,12,{"$f":"+BD_DEP[[#This Row],[totalp]]/BD_DEP[[#This Row],[Mat Inicial]]","v":0.10256410256410256},{"$f":"+BD_DEP[[#This Row],[totalr]]/BD_DEP[[#This Row],[Mat Inicial]]","v":0.20512820512820512},{"$f":"+BD_DEP[[#This Row],[repi]]/BD_DEP[[#This Row],[Mat Inicial]]","v":0.30769230769230771},"61","Dpto. Matematicas y estadístic",32823993,"Garrido Hernandez Liliana","CA","PR"]
[2691,"MAT4260","CALCULO III (ANEC)",4,202330,40,27,5,13,18,{"$f":"+BD_DEP[[#This Row],[totalp]]/BD_DEP[[#This Row],[Mat Inicial]]","v":0.125},{"$f":"+BD_DEP[[#This Row],[totalr]]/BD_DEP[[#This Row],[Mat Inicial]]","v":0.32500000000000001},{"$f":"+BD_DEP[[#This Row],[repi]]/BD_DEP[[#This Row],[Mat Inicial]]","v":0.45},"61","Dpto. Matematicas y estadístic",32823993,"Garrido Hernandez Liliana","CA","PR"]
[2692,"MAT4260","CALCULO III (ANEC)",5,202330,31,26,5,5,10,{"$f":"+BD_DEP[[#This Row],[totalp]]/BD_DEP[[#This Row],[Mat Inicial]]","v":0.16129032258064516},{"$f":"+BD_DEP[[#This Row],[totalr]]/BD_DEP[[#This Row],[Mat Inicial]]","v":0.16129032258064516},{"$f":"+BD_DEP[[#This Row],[repi]]/BD_DEP[[#This Row],[Mat Inicial]]","v":0.32258064516129031},"61","Dpto. Matematicas y estadístic",72176678,"Robinson Evilla Jorge","CA","PR"]
[2665,"MAT4011","ECUACIONES DIFERENCIALES",4,202330,38,32,3,6,9,{"$f":"+BD_DEP[[#This Row],[totalp]]/BD_DEP[[#This Row],[Mat Inicial]]","v":7.8947368421052627E-2},{"$f":"+BD_DEP[[#This Row],[totalr]]/BD_DEP[[#This Row],[Mat Inicial]]","v":0.15789473684210525},{"$f":"+BD_DEP[[#This Row],[repi]]/BD_DEP[[#This Row],[Mat Inicial]]","v":0.23684210526315788},"61","Dpto. Matematicas y estadístic",72176678,"Robinson Evilla Jorge","CA","PR"]
[2667,"MAT4011","ECUACIONES DIFERENCIALES",6,202330,40,34,3,6,9,{"$f":"+BD_DEP[[#This Row],[totalp]]/BD_DEP[[#This Row],[Mat Inicial]]","v":7.4999999999999997E-2},{"$f":"+BD_DEP[[#This Row],[totalr]]/BD_DEP[[#This Row],[Mat Inicial]]","v":0.15},{"$f":"+BD_DEP[[#This Row],[repi]]/BD_DEP[[#This Row],[Mat Inicial]]","v":0.22500000000000001},"61","Dpto. Matematicas y estadístic",72253394,"Bolaño Benitez Edwin","CA","PR"]
[2669,"MAT4011","ECUACIONES DIFERENCIALES",8,202330,31,26,9,5,14,{"$f":"+BD_DEP[[#This Row],[totalp]]/BD_DEP[[#This Row],[Mat Inicial]]","v":0.29032258064516131},{"$f":"+BD_DEP[[#This Row],[totalr]]/BD_DEP[[#This Row],[Mat Inicial]]","v":0.16129032258064516},{"$f":"+BD_DEP[[#This Row],[repi]]/BD_DEP[[#This Row],[Mat Inicial]]","v":0.45161290322580644},"61","Dpto. Matematicas y estadístic",72256920,"Fontalvo De La Rosa Manuel","CA","PR"]
[1806,"EST1022","ESTADISTICA I - AD",6,202330,36,35,1,1,2,{"$f":"+BD_DEP[[#This Row],[totalp]]/BD_DEP[[#This Row],[Mat Inicial]]","v":2.7777777777777776E-2},{"$f":"+BD_DEP[[#This Row],[totalr]]/BD_DEP[[#This Row],[Mat Inicial]]","v":2.7777777777777776E-2},{"$f":"+BD_DEP[[#This Row],[repi]]/BD_DEP[[#This Row],[Mat Inicial]]","v":5.5555555555555552E-2},"61","Dpto. Matematicas y estadístic",1044392373,"Alba Molina Keyla","CA","PR"]
[1820,"EST1070","ESTADISTICA INFERENCIAL",2,202330,34,34,2,0,2,{"$f":"+BD_DEP[[#This Row],[totalp]]/BD_DEP[[#This Row],[Mat Inicial]]","v":5.8823529411764705E-2},{"$f":"+BD_DEP[[#This Row],[totalr]]/BD_DEP[[#This Row],[Mat Inicial]]","v":0},{"$f":"+BD_DEP[[#This Row],[repi]]/BD_DEP[[#This Row],[Mat Inicial]]","v":5.8823529411764705E-2},"61","Dpto. Matematicas y estadístic",1042435556,"Camargo Freile Isaac","CA","PR"]
[1822,"EST1070","ESTADISTICA INFERENCIAL",4,202330,37,32,3,5,8,{"$f":"+BD_DEP[[#This Row],[totalp]]/BD_DEP[[#This Row],[Mat Inicial]]","v":8.1081081081081086E-2},{"$f":"+BD_DEP[[#This Row],[totalr]]/BD_DEP[[#This Row],[Mat Inicial]]","v":0.13513513513513514},{"$f":"+BD_DEP[[#This Row],[repi]]/BD_DEP[[#This Row],[Mat Inicial]]","v":0.21621621621621623},"61","Dpto. Matematicas y estadístic",1143134978,"Anillo Arrieta Luis","CA","PR"]
[2633,"MAT0040","FUNDAMENTOS DE ESTADISTICA",5,202330,32,30,4,2,6,{"$f":"+BD_DEP[[#This Row],[totalp]]/BD_DEP[[#This Row],[Mat Inicial]]","v":0.125},{"$f":"+BD_DEP[[#This Row],[totalr]]/BD_DEP[[#This Row],[Mat Inicial]]","v":6.25E-2},{"$f":"+BD_DEP[[#This Row],[repi]]/BD_DEP[[#This Row],[Mat Inicial]]","v":0.1875},"61","Dpto. Matematicas y estadístic",72260823,"Rodriguez Stevez Elmer","CA","PR"]
[4373,"MAT0040","FUNDAMENTOS DE ESTADISTICA",1,202330,38,37,2,1,3,{"$f":"+BD_DEP[[#This Row],[totalp]]/BD_DEP[[#This Row],[Mat Inicial]]","v":5.2631578947368418E-2},{"$f":"+BD_DEP[[#This Row],[totalr]]/BD_DEP[[#This Row],[Mat Inicial]]","v":2.6315789473684209E-2},{"$f":"+BD_DEP[[#This Row],[repi]]/BD_DEP[[#This Row],[Mat Inicial]]","v":7.8947368421052627E-2},"61","Dpto. Matematicas y estadístic",1044392373,"Alba Molina Keyla","CA","PR"]
[4376,"MAT0040","FUNDAMENTOS DE ESTADISTICA",53,202330,39,39,1,0,1,{"$f":"+BD_DEP[[#This Row],[totalp]]/BD_DEP[[#This Row],[Mat Inicial]]","v":2.564102564102564E-2},{"$f":"+BD_DEP[[#This Row],[totalr]]/BD_DEP[[#This Row],[Mat Inicial]]","v":0},{"$f":"+BD_DEP[[#This Row],[repi]]/BD_DEP[[#This Row],[Mat Inicial]]","v":2.564102564102564E-2},"61","Dpto. Matematicas y estadístic",1044392373,"Alba Molina Keyla","CA","PR"]
[2630,"MAT0040","FUNDAMENTOS DE ESTADISTICA",2,202330,39,35,3,4,7,{"$f":"+BD_DEP[[#This Row],[totalp]]/BD_DEP[[#This Row],[Mat Inicial]]","v":7.6923076923076927E-2},{"$f":"+BD_DEP[[#This Row],[totalr]]/BD_DEP[[#This Row],[Mat Inicial]]","v":0.10256410256410256},{"$f":"+BD_DEP[[#This Row],[repi]]/BD_DEP[[#This Row],[Mat Inicial]]","v":0.17948717948717949},"61","Dpto. Matematicas y estadístic",1045667421,"Orozco Bornacelli Marcela","CA","PR"]
[2631,"MAT0040","FUNDAMENTOS DE ESTADISTICA",3,202330,40,40,2,0,2,{"$f":"+BD_DEP[[#This Row],[totalp]]/BD_DEP[[#This Row],[Mat Inicial]]","v":0.05},{"$f":"+BD_DEP[[#This Row],[totalr]]/BD_DEP[[#This Row],[Mat Inicial]]","v":0},{"$f":"+BD_DEP[[#This Row],[repi]]/BD_DEP[[#This Row],[Mat Inicial]]","v":0.05},"61","Dpto. Matematicas y estadístic",1102875305,"Salon Acosta Endy","CA","PR"]
[2632,"MAT0040","FUNDAMENTOS DE ESTADISTICA",4,202330,24,18,1,6,7,{"$f":"+BD_DEP[[#This Row],[totalp]]/BD_DEP[[#This Row],[Mat Inicial]]","v":4.1666666666666664E-2},{"$f":"+BD_DEP[[#This Row],[totalr]]/BD_DEP[[#This Row],[Mat Inicial]]","v":0.25},{"$f":"+BD_DEP[[#This Row],[repi]]/BD_DEP[[#This Row],[Mat Inicial]]","v":0.29166666666666669},"61","Dpto. Matematicas y estadístic",1143119644,"Miranda Mejia Mauricio","CA","PR"]
[4404,"MAT8630","GEOMETRÍA 2D",52,202330,24,22,3,2,5,{"$f":"+BD_DEP[[#This Row],[totalp]]/BD_DEP[[#This Row],[Mat Inicial]]","v":0.125},{"$f":"+BD_DEP[[#This Row],[totalr]]/BD_DEP[[#This Row],[Mat Inicial]]","v":8.3333333333333329E-2},{"$f":"+BD_DEP[[#This Row],[repi]]/BD_DEP[[#This Row],[Mat Inicial]]","v":0.20833333333333334},"61","Dpto. Matematicas y estadístic",72256920,"Fontalvo De La Rosa Manuel","CA","PR"]
[2701,"MAT8635","GEOMETRIA 3D",3,202330,18,16,0,2,2,{"$f":"+BD_DEP[[#This Row],[totalp]]/BD_DEP[[#This Row],[Mat Inicial]]","v":0},{"$f":"+BD_DEP[[#This Row],[totalr]]/BD_DEP[[#This Row],[Mat Inicial]]","v":0.1111111111111111},{"$f":"+BD_DEP[[#This Row],[repi]]/BD_DEP[[#This Row],[Mat Inicial]]","v":0.1111111111111111},"61","Dpto. Matematicas y estadístic",72253394,"Bolaño Benitez Edwin","CA","PR"]
[2673,"MAT4021","MATEMATICAS DISCRETAS",3,202330,39,37,2,2,4,{"$f":"+BD_DEP[[#This Row],[totalp]]/BD_DEP[[#This Row],[Mat Inicial]]","v":5.128205128205128E-2},{"$f":"+BD_DEP[[#This Row],[totalr]]/BD_DEP[[#This Row],[Mat Inicial]]","v":5.128205128205128E-2},{"$f":"+BD_DEP[[#This Row],[repi]]/BD_DEP[[#This Row],[Mat Inicial]]","v":0.10256410256410256},"61","Dpto. Matematicas y estadístic",1045721385,"MEJIA SALAZAR DIANA","CA","PR"]
[2674,"MAT4021","MATEMATICAS DISCRETAS",4,202330,26,26,0,0,0,{"$f":"+BD_DEP[[#This Row],[totalp]]/BD_DEP[[#This Row],[Mat Inicial]]","v":0},{"$f":"+BD_DEP[[#This Row],[totalr]]/BD_DEP[[#This Row],[Mat Inicial]]","v":0},{"$f":"+BD_DEP[[#This Row],[repi]]/BD_DEP[[#This Row],[Mat Inicial]]","v":0},"61","Dpto. Matematicas y estadístic",1045721385,"MEJIA SALAZAR DIANA","CA","PR"]
[2671,"MAT4021","MATEMATICAS DISCRETAS",1,202330,39,34,3,5,8,{"$f":"+BD_DEP[[#This Row],[totalp]]/BD_DEP[[#This Row],[Mat Inicial]]","v":7.6923076923076927E-2},{"$f":"+BD_DEP[[#This Row],[totalr]]/BD_DEP[[#This Row],[Mat Inicial]]","v":0.12820512820512819},{"$f":"+BD_DEP[[#This Row],[repi]]/BD_DEP[[#This Row],[Mat Inicial]]","v":0.20512820512820512},"61","Dpto. Matematicas y estadístic",1129579013,"Zuleta Saldarriaga Yesneri","CA","PR"]
[2672,"MAT4021","MATEMATICAS DISCRETAS",2,202330,38,32,1,6,7,{"$f":"+BD_DEP[[#This Row],[totalp]]/BD_DEP[[#This Row],[Mat Inicial]]","v":2.6315789473684209E-2},{"$f":"+BD_DEP[[#This Row],[totalr]]/BD_DEP[[#This Row],[Mat Inicial]]","v":0.15789473684210525},{"$f":"+BD_DEP[[#This Row],[repi]]/BD_DEP[[#This Row],[Mat Inicial]]","v":0.18421052631578946},"61","Dpto. Matematicas y estadístic",1129579013,"Zuleta Saldarriaga Yesneri","CA","PR"]
[4402,"MAT4190","MATEMATICAS FUNDAMENTALES",1,202330,39,34,2,5,7,{"$f":"+BD_DEP[[#This Row],[totalp]]/BD_DEP[[#This Row],[Mat Inicial]]","v":5.128205128205128E-2},{"$f":"+BD_DEP[[#This Row],[totalr]]/BD_DEP[[#This Row],[Mat Inicial]]","v":0.12820512820512819},{"$f":"+BD_DEP[[#This Row],[repi]]/BD_DEP[[#This Row],[Mat Inicial]]","v":0.17948717948717949},"61","Dpto. Matematicas y estadístic",72176678,"Robinson Evilla Jorge","CA","PR"]
[2680,"MAT4215","TEORIA DE CODIGOS",1,202330,39,33,1,6,7,{"$f":"+BD_DEP[[#This Row],[totalp]]/BD_DEP[[#This Row],[Mat Inicial]]","v":2.564102564102564E-2},{"$f":"+BD_DEP[[#This Row],[totalr]]/BD_DEP[[#This Row],[Mat Inicial]]","v":0.15384615384615385},{"$f":"+BD_DEP[[#This Row],[repi]]/BD_DEP[[#This Row],[Mat Inicial]]","v":0.17948717948717949},"61","Dpto. Matematicas y estadístic",1140838713,"Cerpa Hernandez Mauricio","CA","PR"]
[3298,"CLI0013","CLINICAS GINECOOBSTETRAS",1,202330,8,8,0,0,0,{"$f":"+BD_DEP[[#This Row],[totalp]]/BD_DEP[[#This Row],[Mat Inicial]]","v":0},{"$f":"+BD_DEP[[#This Row],[totalr]]/BD_DEP[[#This Row],[Mat Inicial]]","v":0},{"$f":"+BD_DEP[[#This Row],[repi]]/BD_DEP[[#This Row],[Mat Inicial]]","v":0},"33","Dpto. Medicina",8744892,"Baquero Latorre Hernando","TC","PR"]
[3230,"CLI0004","CLINICAS MEDICAS I",1,202330,4,4,0,0,0,{"$f":"+BD_DEP[[#This Row],[totalp]]/BD_DEP[[#This Row],[Mat Inicial]]","v":0},{"$f":"+BD_DEP[[#This Row],[totalr]]/BD_DEP[[#This Row],[Mat Inicial]]","v":0},{"$f":"+BD_DEP[[#This Row],[repi]]/BD_DEP[[#This Row],[Mat Inicial]]","v":0},"33","Dpto. Medicina",77192107,"Padron Posteraro Rafael","TC","PR"]
[3250,"CLI0005","CLINICAS MEDICAS II Y PSIQ.",1,202330,6,6,0,0,0,{"$f":"+BD_DEP[[#This Row],[totalp]]/BD_DEP[[#This Row],[Mat Inicial]]","v":0},{"$f":"+BD_DEP[[#This Row],[totalr]]/BD_DEP[[#This Row],[Mat Inicial]]","v":0},{"$f":"+BD_DEP[[#This Row],[repi]]/BD_DEP[[#This Row],[Mat Inicial]]","v":0},"33","Dpto. Medicina",72345557,"Nuñez Ramos Jose","TC","PR"]
[3251,"CLI0005","CLINICAS MEDICAS II Y PSIQ.",2,202330,6,6,0,0,0,{"$f":"+BD_DEP[[#This Row],[totalp]]/BD_DEP[[#This Row],[Mat Inicial]]","v":0},{"$f":"+BD_DEP[[#This Row],[totalr]]/BD_DEP[[#This Row],[Mat Inicial]]","v":0},{"$f":"+BD_DEP[[#This Row],[repi]]/BD_DEP[[#This Row],[Mat Inicial]]","v":0},"33","Dpto. Medicina",72345557,"Nuñez Ramos Jose","TC","PR"]
[3252,"CLI0005","CLINICAS MEDICAS II Y PSIQ.",3,202330,6,6,0,0,0,{"$f":"+BD_DEP[[#This Row],[totalp]]/BD_DEP[[#This Row],[Mat Inicial]]","v":0},{"$f":"+BD_DEP[[#This Row],[totalr]]/BD_DEP[[#This Row],[Mat Inicial]]","v":0},{"$f":"+BD_DEP[[#This Row],[repi]]/BD_DEP[[#This Row],[Mat Inicial]]","v":0},"33","Dpto. Medicina",72345557,"Nuñez Ramos Jose","TC","PR"]
[3253,"CLI0005","CLINICAS MEDICAS II Y PSIQ.",4,202330,6,6,0,0,0,{"$f":"+BD_DEP[[#This Row],[totalp]]/BD_DEP[[#This Row],[Mat Inicial]]","v":0},{"$f":"+BD_DEP[[#This Row],[totalr]]/BD_DEP[[#This Row],[Mat Inicial]]","v":0},{"$f":"+BD_DEP[[#This Row],[repi]]/BD_DEP[[#This Row],[Mat Inicial]]","v":0},"33","Dpto. Medicina",72345557,"Nuñez Ramos Jose","TC","PR"]
[3254,"CLI0005","CLINICAS MEDICAS II Y PSIQ.",5,202330,6,6,0,0,0,{"$f":"+BD_DEP[[#This Row],[totalp]]/BD_DEP[[#This Row],[Mat Inicial]]","v":0},{"$f":"+BD_DEP[[#This Row],[totalr]]/BD_DEP[[#This Row],[Mat Inicial]]","v":0},{"$f":"+BD_DEP[[#This Row],[repi]]/BD_DEP[[#This Row],[Mat Inicial]]","v":0},"33","Dpto. Medicina",72345557,"Nuñez Ramos Jose","TC","PR"]
[3255,"CLI0005","CLINICAS MEDICAS II Y PSIQ.",6,202330,6,6,0,0,0,{"$f":"+BD_DEP[[#This Row],[totalp]]/BD_DEP[[#This Row],[Mat Inicial]]","v":0},{"$f":"+BD_DEP[[#This Row],[totalr]]/BD_DEP[[#This Row],[Mat Inicial]]","v":0},{"$f":"+BD_DEP[[#This Row],[repi]]/BD_DEP[[#This Row],[Mat Inicial]]","v":0},"33","Dpto. Medicina",72345557,"Nuñez Ramos Jose","TC","PR"]
[3256,"CLI0005","CLINICAS MEDICAS II Y PSIQ.",7,202330,7,7,0,0,0,{"$f":"+BD_DEP[[#This Row],[totalp]]/BD_DEP[[#This Row],[Mat Inicial]]","v":0},{"$f":"+BD_DEP[[#This Row],[totalr]]/BD_DEP[[#This Row],[Mat Inicial]]","v":0},{"$f":"+BD_DEP[[#This Row],[repi]]/BD_DEP[[#This Row],[Mat Inicial]]","v":0},"33","Dpto. Medicina",72345557,"Nuñez Ramos Jose","TC","PR"]
[3257,"CLI0005","CLINICAS MEDICAS II Y PSIQ.",8,202330,6,6,0,0,0,{"$f":"+BD_DEP[[#This Row],[totalp]]/BD_DEP[[#This Row],[Mat Inicial]]","v":0},{"$f":"+BD_DEP[[#This Row],[totalr]]/BD_DEP[[#This Row],[Mat Inicial]]","v":0},{"$f":"+BD_DEP[[#This Row],[repi]]/BD_DEP[[#This Row],[Mat Inicial]]","v":0},"33","Dpto. Medicina",72345557,"Nuñez Ramos Jose","TC","PR"]
[3258,"CLI0005","CLINICAS MEDICAS II Y PSIQ.",9,202330,6,6,0,0,0,{"$f":"+BD_DEP[[#This Row],[totalp]]/BD_DEP[[#This Row],[Mat Inicial]]","v":0},{"$f":"+BD_DEP[[#This Row],[totalr]]/BD_DEP[[#This Row],[Mat Inicial]]","v":0},{"$f":"+BD_DEP[[#This Row],[repi]]/BD_DEP[[#This Row],[Mat Inicial]]","v":0},"33","Dpto. Medicina",72345557,"Nuñez Ramos Jose","TC","PR"]
[3259,"CLI0005","CLINICAS MEDICAS II Y PSIQ.",10,202330,6,6,0,0,0,{"$f":"+BD_DEP[[#This Row],[totalp]]/BD_DEP[[#This Row],[Mat Inicial]]","v":0},{"$f":"+BD_DEP[[#This Row],[totalr]]/BD_DEP[[#This Row],[Mat Inicial]]","v":0},{"$f":"+BD_DEP[[#This Row],[repi]]/BD_DEP[[#This Row],[Mat Inicial]]","v":0},"33","Dpto. Medicina",72345557,"Nuñez Ramos Jose","TC","PR"]
[3260,"CLI0005","CLINICAS MEDICAS II Y PSIQ.",11,202330,6,6,0,0,0,{"$f":"+BD_DEP[[#This Row],[totalp]]/BD_DEP[[#This Row],[Mat Inicial]]","v":0},{"$f":"+BD_DEP[[#This Row],[totalr]]/BD_DEP[[#This Row],[Mat Inicial]]","v":0},{"$f":"+BD_DEP[[#This Row],[repi]]/BD_DEP[[#This Row],[Mat Inicial]]","v":0},"33","Dpto. Medicina",72345557,"Nuñez Ramos Jose","TC","PR"]
[3261,"CLI0005","CLINICAS MEDICAS II Y PSIQ.",12,202330,6,6,0,0,0,{"$f":"+BD_DEP[[#This Row],[totalp]]/BD_DEP[[#This Row],[Mat Inicial]]","v":0},{"$f":"+BD_DEP[[#This Row],[totalr]]/BD_DEP[[#This Row],[Mat Inicial]]","v":0},{"$f":"+BD_DEP[[#This Row],[repi]]/BD_DEP[[#This Row],[Mat Inicial]]","v":0},"33","Dpto. Medicina",72345557,"Nuñez Ramos Jose","TC","PR"]
[3262,"CLI0005","CLINICAS MEDICAS II Y PSIQ.",13,202330,6,6,0,0,0,{"$f":"+BD_DEP[[#This Row],[totalp]]/BD_DEP[[#This Row],[Mat Inicial]]","v":0},{"$f":"+BD_DEP[[#This Row],[totalr]]/BD_DEP[[#This Row],[Mat Inicial]]","v":0},{"$f":"+BD_DEP[[#This Row],[repi]]/BD_DEP[[#This Row],[Mat Inicial]]","v":0},"33","Dpto. Medicina",72345557,"Nuñez Ramos Jose","TC","PR"]
[3263,"CLI0005","CLINICAS MEDICAS II Y PSIQ.",14,202330,6,6,0,0,0,{"$f":"+BD_DEP[[#This Row],[totalp]]/BD_DEP[[#This Row],[Mat Inicial]]","v":0},{"$f":"+BD_DEP[[#This Row],[totalr]]/BD_DEP[[#This Row],[Mat Inicial]]","v":0},{"$f":"+BD_DEP[[#This Row],[repi]]/BD_DEP[[#This Row],[Mat Inicial]]","v":0},"33","Dpto. Medicina",72345557,"Nuñez Ramos Jose","TC","PR"]
[3264,"CLI0005","CLINICAS MEDICAS II Y PSIQ.",15,202330,6,6,0,0,0,{"$f":"+BD_DEP[[#This Row],[totalp]]/BD_DEP[[#This Row],[Mat Inicial]]","v":0},{"$f":"+BD_DEP[[#This Row],[totalr]]/BD_DEP[[#This Row],[Mat Inicial]]","v":0},{"$f":"+BD_DEP[[#This Row],[repi]]/BD_DEP[[#This Row],[Mat Inicial]]","v":0},"33","Dpto. Medicina",72345557,"Nuñez Ramos Jose","TC","PR"]
[3265,"CLI0005","CLINICAS MEDICAS II Y PSIQ.",16,202330,6,6,0,0,0,{"$f":"+BD_DEP[[#This Row],[totalp]]/BD_DEP[[#This Row],[Mat Inicial]]","v":0},{"$f":"+BD_DEP[[#This Row],[totalr]]/BD_DEP[[#This Row],[Mat Inicial]]","v":0},{"$f":"+BD_DEP[[#This Row],[repi]]/BD_DEP[[#This Row],[Mat Inicial]]","v":0},"33","Dpto. Medicina",72345557,"Nuñez Ramos Jose","TC","PR"]
[3266,"CLI0005","CLINICAS MEDICAS II Y PSIQ.",17,202330,5,5,0,0,0,{"$f":"+BD_DEP[[#This Row],[totalp]]/BD_DEP[[#This Row],[Mat Inicial]]","v":0},{"$f":"+BD_DEP[[#This Row],[totalr]]/BD_DEP[[#This Row],[Mat Inicial]]","v":0},{"$f":"+BD_DEP[[#This Row],[repi]]/BD_DEP[[#This Row],[Mat Inicial]]","v":0},"33","Dpto. Medicina",72345557,"Nuñez Ramos Jose","TC","PR"]
[3267,"CLI0005","CLINICAS MEDICAS II Y PSIQ.",18,202330,6,6,0,0,0,{"$f":"+BD_DEP[[#This Row],[totalp]]/BD_DEP[[#This Row],[Mat Inicial]]","v":0},{"$f":"+BD_DEP[[#This Row],[totalr]]/BD_DEP[[#This Row],[Mat Inicial]]","v":0},{"$f":"+BD_DEP[[#This Row],[repi]]/BD_DEP[[#This Row],[Mat Inicial]]","v":0},"33","Dpto. Medicina",72345557,"Nuñez Ramos Jose","TC","PR"]
[3268,"CLI0005","CLINICAS MEDICAS II Y PSIQ.",19,202330,7,7,0,0,0,{"$f":"+BD_DEP[[#This Row],[totalp]]/BD_DEP[[#This Row],[Mat Inicial]]","v":0},{"$f":"+BD_DEP[[#This Row],[totalr]]/BD_DEP[[#This Row],[Mat Inicial]]","v":0},{"$f":"+BD_DEP[[#This Row],[repi]]/BD_DEP[[#This Row],[Mat Inicial]]","v":0},"33","Dpto. Medicina",72345557,"Nuñez Ramos Jose","TC","PR"]
[3269,"CLI0005","CLINICAS MEDICAS II Y PSIQ.",20,202330,6,6,0,0,0,{"$f":"+BD_DEP[[#This Row],[totalp]]/BD_DEP[[#This Row],[Mat Inicial]]","v":0},{"$f":"+BD_DEP[[#This Row],[totalr]]/BD_DEP[[#This Row],[Mat Inicial]]","v":0},{"$f":"+BD_DEP[[#This Row],[repi]]/BD_DEP[[#This Row],[Mat Inicial]]","v":0},"33","Dpto. Medicina",72345557,"Nuñez Ramos Jose","TC","PR"]
[3314,"CLI0014","CLINICAS PEDIATRICAS",1,202330,7,7,0,0,0,{"$f":"+BD_DEP[[#This Row],[totalp]]/BD_DEP[[#This Row],[Mat Inicial]]","v":0},{"$f":"+BD_DEP[[#This Row],[totalr]]/BD_DEP[[#This Row],[Mat Inicial]]","v":0},{"$f":"+BD_DEP[[#This Row],[repi]]/BD_DEP[[#This Row],[Mat Inicial]]","v":0},"33","Dpto. Medicina",8744892,"Baquero Latorre Hernando","TC","PR"]
[3315,"CLI0014","CLINICAS PEDIATRICAS",2,202330,7,7,0,0,0,{"$f":"+BD_DEP[[#This Row],[totalp]]/BD_DEP[[#This Row],[Mat Inicial]]","v":0},{"$f":"+BD_DEP[[#This Row],[totalr]]/BD_DEP[[#This Row],[Mat Inicial]]","v":0},{"$f":"+BD_DEP[[#This Row],[repi]]/BD_DEP[[#This Row],[Mat Inicial]]","v":0},"33","Dpto. Medicina",8744892,"Baquero Latorre Hernando","TC","PR"]
[3316,"CLI0014","CLINICAS PEDIATRICAS",3,202330,7,7,0,0,0,{"$f":"+BD_DEP[[#This Row],[totalp]]/BD_DEP[[#This Row],[Mat Inicial]]","v":0},{"$f":"+BD_DEP[[#This Row],[totalr]]/BD_DEP[[#This Row],[Mat Inicial]]","v":0},{"$f":"+BD_DEP[[#This Row],[repi]]/BD_DEP[[#This Row],[Mat Inicial]]","v":0},"33","Dpto. Medicina",8744892,"Baquero Latorre Hernando","TC","PR"]
[3317,"CLI0014","CLINICAS PEDIATRICAS",4,202330,7,7,1,0,1,{"$f":"+BD_DEP[[#This Row],[totalp]]/BD_DEP[[#This Row],[Mat Inicial]]","v":0.14285714285714285},{"$f":"+BD_DEP[[#This Row],[totalr]]/BD_DEP[[#This Row],[Mat Inicial]]","v":0},{"$f":"+BD_DEP[[#This Row],[repi]]/BD_DEP[[#This Row],[Mat Inicial]]","v":0.14285714285714285},"33","Dpto. Medicina",8744892,"Baquero Latorre Hernando","TC","PR"]
[3318,"CLI0014","CLINICAS PEDIATRICAS",5,202330,6,6,0,0,0,{"$f":"+BD_DEP[[#This Row],[totalp]]/BD_DEP[[#This Row],[Mat Inicial]]","v":0},{"$f":"+BD_DEP[[#This Row],[totalr]]/BD_DEP[[#This Row],[Mat Inicial]]","v":0},{"$f":"+BD_DEP[[#This Row],[repi]]/BD_DEP[[#This Row],[Mat Inicial]]","v":0},"33","Dpto. Medicina",8744892,"Baquero Latorre Hernando","TC","PR"]
[3319,"CLI0014","CLINICAS PEDIATRICAS",6,202330,7,7,0,0,0,{"$f":"+BD_DEP[[#This Row],[totalp]]/BD_DEP[[#This Row],[Mat Inicial]]","v":0},{"$f":"+BD_DEP[[#This Row],[totalr]]/BD_DEP[[#This Row],[Mat Inicial]]","v":0},{"$f":"+BD_DEP[[#This Row],[repi]]/BD_DEP[[#This Row],[Mat Inicial]]","v":0},"33","Dpto. Medicina",8744892,"Baquero Latorre Hernando","TC","PR"]
[3320,"CLI0014","CLINICAS PEDIATRICAS",7,202330,7,7,1,0,1,{"$f":"+BD_DEP[[#This Row],[totalp]]/BD_DEP[[#This Row],[Mat Inicial]]","v":0.14285714285714285},{"$f":"+BD_DEP[[#This Row],[totalr]]/BD_DEP[[#This Row],[Mat Inicial]]","v":0},{"$f":"+BD_DEP[[#This Row],[repi]]/BD_DEP[[#This Row],[Mat Inicial]]","v":0.14285714285714285},"33","Dpto. Medicina",8744892,"Baquero Latorre Hernando","TC","PR"]
[3321,"CLI0014","CLINICAS PEDIATRICAS",8,202330,8,8,1,0,1,{"$f":"+BD_DEP[[#This Row],[totalp]]/BD_DEP[[#This Row],[Mat Inicial]]","v":0.125},{"$f":"+BD_DEP[[#This Row],[totalr]]/BD_DEP[[#This Row],[Mat Inicial]]","v":0},{"$f":"+BD_DEP[[#This Row],[repi]]/BD_DEP[[#This Row],[Mat Inicial]]","v":0.125},"33","Dpto. Medicina",8744892,"Baquero Latorre Hernando","TC","PR"]
[3322,"CLI0014","CLINICAS PEDIATRICAS",9,202330,7,7,0,0,0,{"$f":"+BD_DEP[[#This Row],[totalp]]/BD_DEP[[#This Row],[Mat Inicial]]","v":0},{"$f":"+BD_DEP[[#This Row],[totalr]]/BD_DEP[[#This Row],[Mat Inicial]]","v":0},{"$f":"+BD_DEP[[#This Row],[repi]]/BD_DEP[[#This Row],[Mat Inicial]]","v":0},"33","Dpto. Medicina",8744892,"Baquero Latorre Hernando","TC","PR"]
[3323,"CLI0014","CLINICAS PEDIATRICAS",10,202330,7,7,0,0,0,{"$f":"+BD_DEP[[#This Row],[totalp]]/BD_DEP[[#This Row],[Mat Inicial]]","v":0},{"$f":"+BD_DEP[[#This Row],[totalr]]/BD_DEP[[#This Row],[Mat Inicial]]","v":0},{"$f":"+BD_DEP[[#This Row],[repi]]/BD_DEP[[#This Row],[Mat Inicial]]","v":0},"33","Dpto. Medicina",8744892,"Baquero Latorre Hernando","TC","PR"]
[3324,"CLI0014","CLINICAS PEDIATRICAS",11,202330,7,7,0,0,0,{"$f":"+BD_DEP[[#This Row],[totalp]]/BD_DEP[[#This Row],[Mat Inicial]]","v":0},{"$f":"+BD_DEP[[#This Row],[totalr]]/BD_DEP[[#This Row],[Mat Inicial]]","v":0},{"$f":"+BD_DEP[[#This Row],[repi]]/BD_DEP[[#This Row],[Mat Inicial]]","v":0},"33","Dpto. Medicina",8744892,"Baquero Latorre Hernando","TC","PR"]
[3325,"CLI0014","CLINICAS PEDIATRICAS",12,202330,7,7,0,0,0,{"$f":"+BD_DEP[[#This Row],[totalp]]/BD_DEP[[#This Row],[Mat Inicial]]","v":0},{"$f":"+BD_DEP[[#This Row],[totalr]]/BD_DEP[[#This Row],[Mat Inicial]]","v":0},{"$f":"+BD_DEP[[#This Row],[repi]]/BD_DEP[[#This Row],[Mat Inicial]]","v":0},"33","Dpto. Medicina",8744892,"Baquero Latorre Hernando","TC","PR"]
[3326,"CLI0014","CLINICAS PEDIATRICAS",13,202330,7,7,0,0,0,{"$f":"+BD_DEP[[#This Row],[totalp]]/BD_DEP[[#This Row],[Mat Inicial]]","v":0},{"$f":"+BD_DEP[[#This Row],[totalr]]/BD_DEP[[#This Row],[Mat Inicial]]","v":0},{"$f":"+BD_DEP[[#This Row],[repi]]/BD_DEP[[#This Row],[Mat Inicial]]","v":0},"33","Dpto. Medicina",8744892,"Baquero Latorre Hernando","TC","PR"]
[3327,"CLI0014","CLINICAS PEDIATRICAS",14,202330,7,7,0,0,0,{"$f":"+BD_DEP[[#This Row],[totalp]]/BD_DEP[[#This Row],[Mat Inicial]]","v":0},{"$f":"+BD_DEP[[#This Row],[totalr]]/BD_DEP[[#This Row],[Mat Inicial]]","v":0},{"$f":"+BD_DEP[[#This Row],[repi]]/BD_DEP[[#This Row],[Mat Inicial]]","v":0},"33","Dpto. Medicina",8744892,"Baquero Latorre Hernando","TC","PR"]
[3328,"CLI0014","CLINICAS PEDIATRICAS",15,202330,7,7,0,0,0,{"$f":"+BD_DEP[[#This Row],[totalp]]/BD_DEP[[#This Row],[Mat Inicial]]","v":0},{"$f":"+BD_DEP[[#This Row],[totalr]]/BD_DEP[[#This Row],[Mat Inicial]]","v":0},{"$f":"+BD_DEP[[#This Row],[repi]]/BD_DEP[[#This Row],[Mat Inicial]]","v":0},"33","Dpto. Medicina",8744892,"Baquero Latorre Hernando","TC","PR"]
[3329,"CLI0014","CLINICAS PEDIATRICAS",16,202330,8,8,0,0,0,{"$f":"+BD_DEP[[#This Row],[totalp]]/BD_DEP[[#This Row],[Mat Inicial]]","v":0},{"$f":"+BD_DEP[[#This Row],[totalr]]/BD_DEP[[#This Row],[Mat Inicial]]","v":0},{"$f":"+BD_DEP[[#This Row],[repi]]/BD_DEP[[#This Row],[Mat Inicial]]","v":0},"33","Dpto. Medicina",8744892,"Baquero Latorre Hernando","TC","PR"]
[3270,"CLI0006","CLINICAS QUIRURGICAS",1,202330,4,4,0,0,0,{"$f":"+BD_DEP[[#This Row],[totalp]]/BD_DEP[[#This Row],[Mat Inicial]]","v":0},{"$f":"+BD_DEP[[#This Row],[totalr]]/BD_DEP[[#This Row],[Mat Inicial]]","v":0},{"$f":"+BD_DEP[[#This Row],[repi]]/BD_DEP[[#This Row],[Mat Inicial]]","v":0},"33","Dpto. Medicina",77192107,"Padron Posteraro Rafael","TC","PR"]
[3222,"CBM6070","FUND BIOLOG DEL CUIDADO I",1,202330,16,16,3,0,3,{"$f":"+BD_DEP[[#This Row],[totalp]]/BD_DEP[[#This Row],[Mat Inicial]]","v":0.1875},{"$f":"+BD_DEP[[#This Row],[totalr]]/BD_DEP[[#This Row],[Mat Inicial]]","v":0},{"$f":"+BD_DEP[[#This Row],[repi]]/BD_DEP[[#This Row],[Mat Inicial]]","v":0.1875},"33","Dpto. Medicina",285267,"MARTINEZ MARRERO EMILIO","TC","PR"]
[3223,"CBM6070","FUND BIOLOG DEL CUIDADO I",2,202330,18,18,0,0,0,{"$f":"+BD_DEP[[#This Row],[totalp]]/BD_DEP[[#This Row],[Mat Inicial]]","v":0},{"$f":"+BD_DEP[[#This Row],[totalr]]/BD_DEP[[#This Row],[Mat Inicial]]","v":0},{"$f":"+BD_DEP[[#This Row],[repi]]/BD_DEP[[#This Row],[Mat Inicial]]","v":0},"33","Dpto. Medicina",285267,"MARTINEZ MARRERO EMILIO","TC","PR"]
[3224,"CBM6071","FUND BIOLOG DEL CUIDADO II",1,202330,17,17,4,0,4,{"$f":"+BD_DEP[[#This Row],[totalp]]/BD_DEP[[#This Row],[Mat Inicial]]","v":0.23529411764705882},{"$f":"+BD_DEP[[#This Row],[totalr]]/BD_DEP[[#This Row],[Mat Inicial]]","v":0},{"$f":"+BD_DEP[[#This Row],[repi]]/BD_DEP[[#This Row],[Mat Inicial]]","v":0.23529411764705882},"33","Dpto. Medicina",285267,"MARTINEZ MARRERO EMILIO","TC","PR"]
[3225,"CBM6071","FUND BIOLOG DEL CUIDADO II",2,202330,15,15,1,0,1,{"$f":"+BD_DEP[[#This Row],[totalp]]/BD_DEP[[#This Row],[Mat Inicial]]","v":6.6666666666666666E-2},{"$f":"+BD_DEP[[#This Row],[totalr]]/BD_DEP[[#This Row],[Mat Inicial]]","v":0},{"$f":"+BD_DEP[[#This Row],[repi]]/BD_DEP[[#This Row],[Mat Inicial]]","v":6.6666666666666666E-2},"33","Dpto. Medicina",285267,"MARTINEZ MARRERO EMILIO","TC","PR"]
[3229,"CBM6073","FUND BIOLOG DEL CUIDADO IV",2,202330,21,21,0,0,0,{"$f":"+BD_DEP[[#This Row],[totalp]]/BD_DEP[[#This Row],[Mat Inicial]]","v":0},{"$f":"+BD_DEP[[#This Row],[totalr]]/BD_DEP[[#This Row],[Mat Inicial]]","v":0},{"$f":"+BD_DEP[[#This Row],[repi]]/BD_DEP[[#This Row],[Mat Inicial]]","v":0},"33","Dpto. Medicina",285267,"MARTINEZ MARRERO EMILIO","TC","PR"]
[3196,"CBM4030","FUNDAMENTO CIENCIAS BASICAS MD",1,202330,25,25,4,0,4,{"$f":"+BD_DEP[[#This Row],[totalp]]/BD_DEP[[#This Row],[Mat Inicial]]","v":0.16},{"$f":"+BD_DEP[[#This Row],[totalr]]/BD_DEP[[#This Row],[Mat Inicial]]","v":0},{"$f":"+BD_DEP[[#This Row],[repi]]/BD_DEP[[#This Row],[Mat Inicial]]","v":0.16},"33","Dpto. Medicina",285267,"MARTINEZ MARRERO EMILIO","TC","PR"]
[3197,"CBM4030","FUNDAMENTO CIENCIAS BASICAS MD",2,202330,25,25,5,0,5,{"$f":"+BD_DEP[[#This Row],[totalp]]/BD_DEP[[#This Row],[Mat Inicial]]","v":0.2},{"$f":"+BD_DEP[[#This Row],[totalr]]/BD_DEP[[#This Row],[Mat Inicial]]","v":0},{"$f":"+BD_DEP[[#This Row],[repi]]/BD_DEP[[#This Row],[Mat Inicial]]","v":0.2},"33","Dpto. Medicina",8276328,"Florez Arroyo Jorge","TC","PR"]
[3198,"CBM4030","FUNDAMENTO CIENCIAS BASICAS MD",3,202330,25,24,7,1,8,{"$f":"+BD_DEP[[#This Row],[totalp]]/BD_DEP[[#This Row],[Mat Inicial]]","v":0.28000000000000003},{"$f":"+BD_DEP[[#This Row],[totalr]]/BD_DEP[[#This Row],[Mat Inicial]]","v":0.04},{"$f":"+BD_DEP[[#This Row],[repi]]/BD_DEP[[#This Row],[Mat Inicial]]","v":0.32},"33","Dpto. Medicina",8276328,"Florez Arroyo Jorge","TC","PR"]
[3199,"CBM4030","FUNDAMENTO CIENCIAS BASICAS MD",4,202330,24,24,4,0,4,{"$f":"+BD_DEP[[#This Row],[totalp]]/BD_DEP[[#This Row],[Mat Inicial]]","v":0.16666666666666666},{"$f":"+BD_DEP[[#This Row],[totalr]]/BD_DEP[[#This Row],[Mat Inicial]]","v":0},{"$f":"+BD_DEP[[#This Row],[repi]]/BD_DEP[[#This Row],[Mat Inicial]]","v":0.16666666666666666},"33","Dpto. Medicina",8276328,"Florez Arroyo Jorge","TC","PR"]
[3200,"CBM4030","FUNDAMENTO CIENCIAS BASICAS MD",5,202330,25,25,1,0,1,{"$f":"+BD_DEP[[#This Row],[totalp]]/BD_DEP[[#This Row],[Mat Inicial]]","v":0.04},{"$f":"+BD_DEP[[#This Row],[totalr]]/BD_DEP[[#This Row],[Mat Inicial]]","v":0},{"$f":"+BD_DEP[[#This Row],[repi]]/BD_DEP[[#This Row],[Mat Inicial]]","v":0.04},"33","Dpto. Medicina",8276328,"Florez Arroyo Jorge","TC","PR"]
[3201,"CBM4030","FUNDAMENTO CIENCIAS BASICAS MD",6,202330,24,24,5,0,5,{"$f":"+BD_DEP[[#This Row],[totalp]]/BD_DEP[[#This Row],[Mat Inicial]]","v":0.20833333333333334},{"$f":"+BD_DEP[[#This Row],[totalr]]/BD_DEP[[#This Row],[Mat Inicial]]","v":0},{"$f":"+BD_DEP[[#This Row],[repi]]/BD_DEP[[#This Row],[Mat Inicial]]","v":0.20833333333333334},"33","Dpto. Medicina",8276328,"Florez Arroyo Jorge","TC","PR"]
[3202,"CBM4030","FUNDAMENTO CIENCIAS BASICAS MD",7,202330,20,20,3,0,3,{"$f":"+BD_DEP[[#This Row],[totalp]]/BD_DEP[[#This Row],[Mat Inicial]]","v":0.15},{"$f":"+BD_DEP[[#This Row],[totalr]]/BD_DEP[[#This Row],[Mat Inicial]]","v":0},{"$f":"+BD_DEP[[#This Row],[repi]]/BD_DEP[[#This Row],[Mat Inicial]]","v":0.15},"33","Dpto. Medicina",8276328,"Florez Arroyo Jorge","TC","PR"]
[3203,"CBM4030","FUNDAMENTO CIENCIAS BASICAS MD",8,202330,19,19,4,0,4,{"$f":"+BD_DEP[[#This Row],[totalp]]/BD_DEP[[#This Row],[Mat Inicial]]","v":0.21052631578947367},{"$f":"+BD_DEP[[#This Row],[totalr]]/BD_DEP[[#This Row],[Mat Inicial]]","v":0},{"$f":"+BD_DEP[[#This Row],[repi]]/BD_DEP[[#This Row],[Mat Inicial]]","v":0.21052631578947367},"33","Dpto. Medicina",8276328,"Florez Arroyo Jorge","TC","PR"]
[3226,"CBM6072","FUNDAMENTOS BIOLOG CUIDADO III",1,202330,23,23,2,0,2,{"$f":"+BD_DEP[[#This Row],[totalp]]/BD_DEP[[#This Row],[Mat Inicial]]","v":8.6956521739130432E-2},{"$f":"+BD_DEP[[#This Row],[totalr]]/BD_DEP[[#This Row],[Mat Inicial]]","v":0},{"$f":"+BD_DEP[[#This Row],[repi]]/BD_DEP[[#This Row],[Mat Inicial]]","v":8.6956521739130432E-2},"33","Dpto. Medicina",285267,"MARTINEZ MARRERO EMILIO","TC","PR"]
[3295,"CLI0008","GENETICA CLINICA",1,202330,66,66,0,0,0,{"$f":"+BD_DEP[[#This Row],[totalp]]/BD_DEP[[#This Row],[Mat Inicial]]","v":0},{"$f":"+BD_DEP[[#This Row],[totalr]]/BD_DEP[[#This Row],[Mat Inicial]]","v":0},{"$f":"+BD_DEP[[#This Row],[repi]]/BD_DEP[[#This Row],[Mat Inicial]]","v":0},"33","Dpto. Medicina",22461648,"Herrera Bedoya Maria","TC","PR"]
[3296,"CLI0008","GENETICA CLINICA",2,202330,66,66,0,0,0,{"$f":"+BD_DEP[[#This Row],[totalp]]/BD_DEP[[#This Row],[Mat Inicial]]","v":0},{"$f":"+BD_DEP[[#This Row],[totalr]]/BD_DEP[[#This Row],[Mat Inicial]]","v":0},{"$f":"+BD_DEP[[#This Row],[repi]]/BD_DEP[[#This Row],[Mat Inicial]]","v":0},"33","Dpto. Medicina",32712270,"Garavito Galofre Maria","TC","PR"]
[1121,"CLI0009","INTERNADO I",1,202330,36,35,0,1,1,{"$f":"+BD_DEP[[#This Row],[totalp]]/BD_DEP[[#This Row],[Mat Inicial]]","v":0},{"$f":"+BD_DEP[[#This Row],[totalr]]/BD_DEP[[#This Row],[Mat Inicial]]","v":2.7777777777777776E-2},{"$f":"+BD_DEP[[#This Row],[repi]]/BD_DEP[[#This Row],[Mat Inicial]]","v":2.7777777777777776E-2},"33","Dpto. Medicina",73086420,"De La Rosa Barranco Dereck","TC","PR"]
[1122,"CLI0009","INTERNADO I",2,202330,35,34,0,1,1,{"$f":"+BD_DEP[[#This Row],[totalp]]/BD_DEP[[#This Row],[Mat Inicial]]","v":0},{"$f":"+BD_DEP[[#This Row],[totalr]]/BD_DEP[[#This Row],[Mat Inicial]]","v":2.8571428571428571E-2},{"$f":"+BD_DEP[[#This Row],[repi]]/BD_DEP[[#This Row],[Mat Inicial]]","v":2.8571428571428571E-2},"33","Dpto. Medicina",73086420,"De La Rosa Barranco Dereck","TC","PR"]
[1123,"CLI0009","INTERNADO I",3,202330,34,33,0,1,1,{"$f":"+BD_DEP[[#This Row],[totalp]]/BD_DEP[[#This Row],[Mat Inicial]]","v":0},{"$f":"+BD_DEP[[#This Row],[totalr]]/BD_DEP[[#This Row],[Mat Inicial]]","v":2.9411764705882353E-2},{"$f":"+BD_DEP[[#This Row],[repi]]/BD_DEP[[#This Row],[Mat Inicial]]","v":2.9411764705882353E-2},"33","Dpto. Medicina",73086420,"De La Rosa Barranco Dereck","TC","PR"]
[1124,"CLI0009","INTERNADO I",4,202330,25,11,0,14,14,{"$f":"+BD_DEP[[#This Row],[totalp]]/BD_DEP[[#This Row],[Mat Inicial]]","v":0},{"$f":"+BD_DEP[[#This Row],[totalr]]/BD_DEP[[#This Row],[Mat Inicial]]","v":0.56000000000000005},{"$f":"+BD_DEP[[#This Row],[repi]]/BD_DEP[[#This Row],[Mat Inicial]]","v":0.56000000000000005},"33","Dpto. Medicina",77192107,"Padron Posteraro Rafael","TC","PR"]
[1125,"CLI0011","INTERNADO II",1,202330,29,29,0,0,0,{"$f":"+BD_DEP[[#This Row],[totalp]]/BD_DEP[[#This Row],[Mat Inicial]]","v":0},{"$f":"+BD_DEP[[#This Row],[totalr]]/BD_DEP[[#This Row],[Mat Inicial]]","v":0},{"$f":"+BD_DEP[[#This Row],[repi]]/BD_DEP[[#This Row],[Mat Inicial]]","v":0},"33","Dpto. Medicina",72345557,"Nuñez Ramos Jose","TC","PR"]
[1126,"CLI0011","INTERNADO II",2,202330,28,28,0,0,0,{"$f":"+BD_DEP[[#This Row],[totalp]]/BD_DEP[[#This Row],[Mat Inicial]]","v":0},{"$f":"+BD_DEP[[#This Row],[totalr]]/BD_DEP[[#This Row],[Mat Inicial]]","v":0},{"$f":"+BD_DEP[[#This Row],[repi]]/BD_DEP[[#This Row],[Mat Inicial]]","v":0},"33","Dpto. Medicina",72345557,"Nuñez Ramos Jose","TC","PR"]
[1127,"CLI0011","INTERNADO II",3,202330,31,31,0,0,0,{"$f":"+BD_DEP[[#This Row],[totalp]]/BD_DEP[[#This Row],[Mat Inicial]]","v":0},{"$f":"+BD_DEP[[#This Row],[totalr]]/BD_DEP[[#This Row],[Mat Inicial]]","v":0},{"$f":"+BD_DEP[[#This Row],[repi]]/BD_DEP[[#This Row],[Mat Inicial]]","v":0},"33","Dpto. Medicina",72345557,"Nuñez Ramos Jose","TC","PR"]
[1128,"CLI0011","INTERNADO II",4,202330,23,23,0,0,0,{"$f":"+BD_DEP[[#This Row],[totalp]]/BD_DEP[[#This Row],[Mat Inicial]]","v":0},{"$f":"+BD_DEP[[#This Row],[totalr]]/BD_DEP[[#This Row],[Mat Inicial]]","v":0},{"$f":"+BD_DEP[[#This Row],[repi]]/BD_DEP[[#This Row],[Mat Inicial]]","v":0},"33","Dpto. Medicina",77192107,"Padron Posteraro Rafael","TC","PR"]
[3297,"CLI0012","SEMIOLOGIA",1,202330,95,93,0,2,2,{"$f":"+BD_DEP[[#This Row],[totalp]]/BD_DEP[[#This Row],[Mat Inicial]]","v":0},{"$f":"+BD_DEP[[#This Row],[totalr]]/BD_DEP[[#This Row],[Mat Inicial]]","v":2.1052631578947368E-2},{"$f":"+BD_DEP[[#This Row],[repi]]/BD_DEP[[#This Row],[Mat Inicial]]","v":2.1052631578947368E-2},"33","Dpto. Medicina",8744892,"Baquero Latorre Hernando","TC","PR"]
[3178,"CBM0006","SISTEMA CARDIOVASCULAR",1,202330,29,29,2,0,2,{"$f":"+BD_DEP[[#This Row],[totalp]]/BD_DEP[[#This Row],[Mat Inicial]]","v":6.8965517241379309E-2},{"$f":"+BD_DEP[[#This Row],[totalr]]/BD_DEP[[#This Row],[Mat Inicial]]","v":0},{"$f":"+BD_DEP[[#This Row],[repi]]/BD_DEP[[#This Row],[Mat Inicial]]","v":6.8965517241379309E-2},"33","Dpto. Medicina",285267,"MARTINEZ MARRERO EMILIO","TC","PR"]
[3179,"CBM0006","SISTEMA CARDIOVASCULAR",2,202330,22,22,0,0,0,{"$f":"+BD_DEP[[#This Row],[totalp]]/BD_DEP[[#This Row],[Mat Inicial]]","v":0},{"$f":"+BD_DEP[[#This Row],[totalr]]/BD_DEP[[#This Row],[Mat Inicial]]","v":0},{"$f":"+BD_DEP[[#This Row],[repi]]/BD_DEP[[#This Row],[Mat Inicial]]","v":0},"33","Dpto. Medicina",285267,"MARTINEZ MARRERO EMILIO","TC","PR"]
[3180,"CBM0006","SISTEMA CARDIOVASCULAR",3,202330,28,28,1,0,1,{"$f":"+BD_DEP[[#This Row],[totalp]]/BD_DEP[[#This Row],[Mat Inicial]]","v":3.5714285714285712E-2},{"$f":"+BD_DEP[[#This Row],[totalr]]/BD_DEP[[#This Row],[Mat Inicial]]","v":0},{"$f":"+BD_DEP[[#This Row],[repi]]/BD_DEP[[#This Row],[Mat Inicial]]","v":3.5714285714285712E-2},"33","Dpto. Medicina",285267,"MARTINEZ MARRERO EMILIO","TC","PR"]
[3181,"CBM0006","SISTEMA CARDIOVASCULAR",4,202330,31,31,1,0,1,{"$f":"+BD_DEP[[#This Row],[totalp]]/BD_DEP[[#This Row],[Mat Inicial]]","v":3.2258064516129031E-2},{"$f":"+BD_DEP[[#This Row],[totalr]]/BD_DEP[[#This Row],[Mat Inicial]]","v":0},{"$f":"+BD_DEP[[#This Row],[repi]]/BD_DEP[[#This Row],[Mat Inicial]]","v":3.2258064516129031E-2},"33","Dpto. Medicina",285267,"MARTINEZ MARRERO EMILIO","TC","PR"]
[3183,"CBM0006","SISTEMA CARDIOVASCULAR",6,202330,31,30,0,1,1,{"$f":"+BD_DEP[[#This Row],[totalp]]/BD_DEP[[#This Row],[Mat Inicial]]","v":0},{"$f":"+BD_DEP[[#This Row],[totalr]]/BD_DEP[[#This Row],[Mat Inicial]]","v":3.2258064516129031E-2},{"$f":"+BD_DEP[[#This Row],[repi]]/BD_DEP[[#This Row],[Mat Inicial]]","v":3.2258064516129031E-2},"33","Dpto. Medicina",285267,"MARTINEZ MARRERO EMILIO","TC","PR"]
[3184,"CBM0007","SISTEMA DIGESTIVO",1,202330,27,25,2,2,4,{"$f":"+BD_DEP[[#This Row],[totalp]]/BD_DEP[[#This Row],[Mat Inicial]]","v":7.407407407407407E-2},{"$f":"+BD_DEP[[#This Row],[totalr]]/BD_DEP[[#This Row],[Mat Inicial]]","v":7.407407407407407E-2},{"$f":"+BD_DEP[[#This Row],[repi]]/BD_DEP[[#This Row],[Mat Inicial]]","v":0.14814814814814814},"33","Dpto. Medicina",285267,"MARTINEZ MARRERO EMILIO","TC","PR"]
[3185,"CBM0007","SISTEMA DIGESTIVO",2,202330,27,27,1,0,1,{"$f":"+BD_DEP[[#This Row],[totalp]]/BD_DEP[[#This Row],[Mat Inicial]]","v":3.7037037037037035E-2},{"$f":"+BD_DEP[[#This Row],[totalr]]/BD_DEP[[#This Row],[Mat Inicial]]","v":0},{"$f":"+BD_DEP[[#This Row],[repi]]/BD_DEP[[#This Row],[Mat Inicial]]","v":3.7037037037037035E-2},"33","Dpto. Medicina",285267,"MARTINEZ MARRERO EMILIO","TC","PR"]
[3186,"CBM0007","SISTEMA DIGESTIVO",3,202330,26,26,3,0,3,{"$f":"+BD_DEP[[#This Row],[totalp]]/BD_DEP[[#This Row],[Mat Inicial]]","v":0.11538461538461539},{"$f":"+BD_DEP[[#This Row],[totalr]]/BD_DEP[[#This Row],[Mat Inicial]]","v":0},{"$f":"+BD_DEP[[#This Row],[repi]]/BD_DEP[[#This Row],[Mat Inicial]]","v":0.11538461538461539},"33","Dpto. Medicina",285267,"MARTINEZ MARRERO EMILIO","TC","PR"]
[3187,"CBM0007","SISTEMA DIGESTIVO",4,202330,16,16,3,0,3,{"$f":"+BD_DEP[[#This Row],[totalp]]/BD_DEP[[#This Row],[Mat Inicial]]","v":0.1875},{"$f":"+BD_DEP[[#This Row],[totalr]]/BD_DEP[[#This Row],[Mat Inicial]]","v":0},{"$f":"+BD_DEP[[#This Row],[repi]]/BD_DEP[[#This Row],[Mat Inicial]]","v":0.1875},"33","Dpto. Medicina",285267,"MARTINEZ MARRERO EMILIO","TC","PR"]
[3210,"CBM4050","SISTEMA ENDOCRINO",1,202330,25,25,2,0,2,{"$f":"+BD_DEP[[#This Row],[totalp]]/BD_DEP[[#This Row],[Mat Inicial]]","v":0.08},{"$f":"+BD_DEP[[#This Row],[totalr]]/BD_DEP[[#This Row],[Mat Inicial]]","v":0},{"$f":"+BD_DEP[[#This Row],[repi]]/BD_DEP[[#This Row],[Mat Inicial]]","v":0.08},"33","Dpto. Medicina",285267,"MARTINEZ MARRERO EMILIO","TC","PR"]
[3211,"CBM4050","SISTEMA ENDOCRINO",2,202330,27,27,4,0,4,{"$f":"+BD_DEP[[#This Row],[totalp]]/BD_DEP[[#This Row],[Mat Inicial]]","v":0.14814814814814814},{"$f":"+BD_DEP[[#This Row],[totalr]]/BD_DEP[[#This Row],[Mat Inicial]]","v":0},{"$f":"+BD_DEP[[#This Row],[repi]]/BD_DEP[[#This Row],[Mat Inicial]]","v":0.14814814814814814},"33","Dpto. Medicina",285267,"MARTINEZ MARRERO EMILIO","TC","PR"]
[3212,"CBM4050","SISTEMA ENDOCRINO",3,202330,27,27,0,0,0,{"$f":"+BD_DEP[[#This Row],[totalp]]/BD_DEP[[#This Row],[Mat Inicial]]","v":0},{"$f":"+BD_DEP[[#This Row],[totalr]]/BD_DEP[[#This Row],[Mat Inicial]]","v":0},{"$f":"+BD_DEP[[#This Row],[repi]]/BD_DEP[[#This Row],[Mat Inicial]]","v":0},"33","Dpto. Medicina",285267,"MARTINEZ MARRERO EMILIO","TC","PR"]
[3213,"CBM4050","SISTEMA ENDOCRINO",4,202330,15,14,1,1,2,{"$f":"+BD_DEP[[#This Row],[totalp]]/BD_DEP[[#This Row],[Mat Inicial]]","v":6.6666666666666666E-2},{"$f":"+BD_DEP[[#This Row],[totalr]]/BD_DEP[[#This Row],[Mat Inicial]]","v":6.6666666666666666E-2},{"$f":"+BD_DEP[[#This Row],[repi]]/BD_DEP[[#This Row],[Mat Inicial]]","v":0.13333333333333333},"33","Dpto. Medicina",285267,"MARTINEZ MARRERO EMILIO","TC","PR"]
[3214,"CBM4050","SISTEMA ENDOCRINO",5,202330,27,27,3,0,3,{"$f":"+BD_DEP[[#This Row],[totalp]]/BD_DEP[[#This Row],[Mat Inicial]]","v":0.1111111111111111},{"$f":"+BD_DEP[[#This Row],[totalr]]/BD_DEP[[#This Row],[Mat Inicial]]","v":0},{"$f":"+BD_DEP[[#This Row],[repi]]/BD_DEP[[#This Row],[Mat Inicial]]","v":0.1111111111111111},"33","Dpto. Medicina",285267,"MARTINEZ MARRERO EMILIO","TC","PR"]
[3215,"CBM4050","SISTEMA ENDOCRINO",6,202330,27,26,1,1,2,{"$f":"+BD_DEP[[#This Row],[totalp]]/BD_DEP[[#This Row],[Mat Inicial]]","v":3.7037037037037035E-2},{"$f":"+BD_DEP[[#This Row],[totalr]]/BD_DEP[[#This Row],[Mat Inicial]]","v":3.7037037037037035E-2},{"$f":"+BD_DEP[[#This Row],[repi]]/BD_DEP[[#This Row],[Mat Inicial]]","v":7.407407407407407E-2},"33","Dpto. Medicina",285267,"MARTINEZ MARRERO EMILIO","TC","PR"]
[3188,"CBM0008","SISTEMA INMUNOLOGICO",1,202330,27,25,1,2,3,{"$f":"+BD_DEP[[#This Row],[totalp]]/BD_DEP[[#This Row],[Mat Inicial]]","v":3.7037037037037035E-2},{"$f":"+BD_DEP[[#This Row],[totalr]]/BD_DEP[[#This Row],[Mat Inicial]]","v":7.407407407407407E-2},{"$f":"+BD_DEP[[#This Row],[repi]]/BD_DEP[[#This Row],[Mat Inicial]]","v":0.1111111111111111},"33","Dpto. Medicina",13176071,"Bayona Pacheco Brayan","TC","PR"]
[3189,"CBM0008","SISTEMA INMUNOLOGICO",2,202330,27,27,0,0,0,{"$f":"+BD_DEP[[#This Row],[totalp]]/BD_DEP[[#This Row],[Mat Inicial]]","v":0},{"$f":"+BD_DEP[[#This Row],[totalr]]/BD_DEP[[#This Row],[Mat Inicial]]","v":0},{"$f":"+BD_DEP[[#This Row],[repi]]/BD_DEP[[#This Row],[Mat Inicial]]","v":0},"33","Dpto. Medicina",13176071,"Bayona Pacheco Brayan","TC","PR"]
[3190,"CBM0008","SISTEMA INMUNOLOGICO",3,202330,26,26,1,0,1,{"$f":"+BD_DEP[[#This Row],[totalp]]/BD_DEP[[#This Row],[Mat Inicial]]","v":3.8461538461538464E-2},{"$f":"+BD_DEP[[#This Row],[totalr]]/BD_DEP[[#This Row],[Mat Inicial]]","v":0},{"$f":"+BD_DEP[[#This Row],[repi]]/BD_DEP[[#This Row],[Mat Inicial]]","v":3.8461538461538464E-2},"33","Dpto. Medicina",13176071,"Bayona Pacheco Brayan","TC","PR"]
[3191,"CBM0008","SISTEMA INMUNOLOGICO",4,202330,15,15,1,0,1,{"$f":"+BD_DEP[[#This Row],[totalp]]/BD_DEP[[#This Row],[Mat Inicial]]","v":6.6666666666666666E-2},{"$f":"+BD_DEP[[#This Row],[totalr]]/BD_DEP[[#This Row],[Mat Inicial]]","v":0},{"$f":"+BD_DEP[[#This Row],[repi]]/BD_DEP[[#This Row],[Mat Inicial]]","v":6.6666666666666666E-2},"33","Dpto. Medicina",13176071,"Bayona Pacheco Brayan","TC","PR"]
[3216,"CBM4060","SISTEMA MUSCULOESQUELETICO",1,202330,29,29,3,0,3,{"$f":"+BD_DEP[[#This Row],[totalp]]/BD_DEP[[#This Row],[Mat Inicial]]","v":0.10344827586206896},{"$f":"+BD_DEP[[#This Row],[totalr]]/BD_DEP[[#This Row],[Mat Inicial]]","v":0},{"$f":"+BD_DEP[[#This Row],[repi]]/BD_DEP[[#This Row],[Mat Inicial]]","v":0.10344827586206896},"33","Dpto. Medicina",285267,"MARTINEZ MARRERO EMILIO","TC","PR"]
[3217,"CBM4060","SISTEMA MUSCULOESQUELETICO",2,202330,26,26,3,0,3,{"$f":"+BD_DEP[[#This Row],[totalp]]/BD_DEP[[#This Row],[Mat Inicial]]","v":0.11538461538461539},{"$f":"+BD_DEP[[#This Row],[totalr]]/BD_DEP[[#This Row],[Mat Inicial]]","v":0},{"$f":"+BD_DEP[[#This Row],[repi]]/BD_DEP[[#This Row],[Mat Inicial]]","v":0.11538461538461539},"33","Dpto. Medicina",285267,"MARTINEZ MARRERO EMILIO","TC","PR"]
[3218,"CBM4060","SISTEMA MUSCULOESQUELETICO",3,202330,27,27,1,0,1,{"$f":"+BD_DEP[[#This Row],[totalp]]/BD_DEP[[#This Row],[Mat Inicial]]","v":3.7037037037037035E-2},{"$f":"+BD_DEP[[#This Row],[totalr]]/BD_DEP[[#This Row],[Mat Inicial]]","v":0},{"$f":"+BD_DEP[[#This Row],[repi]]/BD_DEP[[#This Row],[Mat Inicial]]","v":3.7037037037037035E-2},"33","Dpto. Medicina",285267,"MARTINEZ MARRERO EMILIO","TC","PR"]
[3219,"CBM4060","SISTEMA MUSCULOESQUELETICO",4,202330,18,17,4,1,5,{"$f":"+BD_DEP[[#This Row],[totalp]]/BD_DEP[[#This Row],[Mat Inicial]]","v":0.22222222222222221},{"$f":"+BD_DEP[[#This Row],[totalr]]/BD_DEP[[#This Row],[Mat Inicial]]","v":5.5555555555555552E-2},{"$f":"+BD_DEP[[#This Row],[repi]]/BD_DEP[[#This Row],[Mat Inicial]]","v":0.27777777777777779},"33","Dpto. Medicina",285267,"MARTINEZ MARRERO EMILIO","TC","PR"]
[3220,"CBM4060","SISTEMA MUSCULOESQUELETICO",5,202330,27,27,3,0,3,{"$f":"+BD_DEP[[#This Row],[totalp]]/BD_DEP[[#This Row],[Mat Inicial]]","v":0.1111111111111111},{"$f":"+BD_DEP[[#This Row],[totalr]]/BD_DEP[[#This Row],[Mat Inicial]]","v":0},{"$f":"+BD_DEP[[#This Row],[repi]]/BD_DEP[[#This Row],[Mat Inicial]]","v":0.1111111111111111},"33","Dpto. Medicina",285267,"MARTINEZ MARRERO EMILIO","TC","PR"]
[3221,"CBM4060","SISTEMA MUSCULOESQUELETICO",6,202330,27,26,4,1,5,{"$f":"+BD_DEP[[#This Row],[totalp]]/BD_DEP[[#This Row],[Mat Inicial]]","v":0.14814814814814814},{"$f":"+BD_DEP[[#This Row],[totalr]]/BD_DEP[[#This Row],[Mat Inicial]]","v":3.7037037037037035E-2},{"$f":"+BD_DEP[[#This Row],[repi]]/BD_DEP[[#This Row],[Mat Inicial]]","v":0.18518518518518517},"33","Dpto. Medicina",285267,"MARTINEZ MARRERO EMILIO","TC","PR"]
[3204,"CBM4040","SISTEMA NERVIOSO",1,202330,27,27,2,0,2,{"$f":"+BD_DEP[[#This Row],[totalp]]/BD_DEP[[#This Row],[Mat Inicial]]","v":7.407407407407407E-2},{"$f":"+BD_DEP[[#This Row],[totalr]]/BD_DEP[[#This Row],[Mat Inicial]]","v":0},{"$f":"+BD_DEP[[#This Row],[repi]]/BD_DEP[[#This Row],[Mat Inicial]]","v":7.407407407407407E-2},"33","Dpto. Medicina",285267,"MARTINEZ MARRERO EMILIO","TC","PR"]
[3205,"CBM4040","SISTEMA NERVIOSO",2,202330,28,28,5,0,5,{"$f":"+BD_DEP[[#This Row],[totalp]]/BD_DEP[[#This Row],[Mat Inicial]]","v":0.17857142857142858},{"$f":"+BD_DEP[[#This Row],[totalr]]/BD_DEP[[#This Row],[Mat Inicial]]","v":0},{"$f":"+BD_DEP[[#This Row],[repi]]/BD_DEP[[#This Row],[Mat Inicial]]","v":0.17857142857142858},"33","Dpto. Medicina",285267,"MARTINEZ MARRERO EMILIO","TC","PR"]
[3206,"CBM4040","SISTEMA NERVIOSO",3,202330,27,27,1,0,1,{"$f":"+BD_DEP[[#This Row],[totalp]]/BD_DEP[[#This Row],[Mat Inicial]]","v":3.7037037037037035E-2},{"$f":"+BD_DEP[[#This Row],[totalr]]/BD_DEP[[#This Row],[Mat Inicial]]","v":0},{"$f":"+BD_DEP[[#This Row],[repi]]/BD_DEP[[#This Row],[Mat Inicial]]","v":3.7037037037037035E-2},"33","Dpto. Medicina",285267,"MARTINEZ MARRERO EMILIO","TC","PR"]
[3207,"CBM4040","SISTEMA NERVIOSO",4,202330,31,30,2,1,3,{"$f":"+BD_DEP[[#This Row],[totalp]]/BD_DEP[[#This Row],[Mat Inicial]]","v":6.4516129032258063E-2},{"$f":"+BD_DEP[[#This Row],[totalr]]/BD_DEP[[#This Row],[Mat Inicial]]","v":3.2258064516129031E-2},{"$f":"+BD_DEP[[#This Row],[repi]]/BD_DEP[[#This Row],[Mat Inicial]]","v":9.6774193548387094E-2},"33","Dpto. Medicina",285267,"MARTINEZ MARRERO EMILIO","TC","PR"]
[3208,"CBM4040","SISTEMA NERVIOSO",5,202330,27,27,0,0,0,{"$f":"+BD_DEP[[#This Row],[totalp]]/BD_DEP[[#This Row],[Mat Inicial]]","v":0},{"$f":"+BD_DEP[[#This Row],[totalr]]/BD_DEP[[#This Row],[Mat Inicial]]","v":0},{"$f":"+BD_DEP[[#This Row],[repi]]/BD_DEP[[#This Row],[Mat Inicial]]","v":0},"33","Dpto. Medicina",285267,"MARTINEZ MARRERO EMILIO","TC","PR"]
[3209,"CBM4040","SISTEMA NERVIOSO",6,202330,29,28,0,1,1,{"$f":"+BD_DEP[[#This Row],[totalp]]/BD_DEP[[#This Row],[Mat Inicial]]","v":0},{"$f":"+BD_DEP[[#This Row],[totalr]]/BD_DEP[[#This Row],[Mat Inicial]]","v":3.4482758620689655E-2},{"$f":"+BD_DEP[[#This Row],[repi]]/BD_DEP[[#This Row],[Mat Inicial]]","v":3.4482758620689655E-2},"33","Dpto. Medicina",285267,"MARTINEZ MARRERO EMILIO","TC","PR"]
[4504,"CBM0009","SISTEMA RENAL",1,202330,27,27,0,0,0,{"$f":"+BD_DEP[[#This Row],[totalp]]/BD_DEP[[#This Row],[Mat Inicial]]","v":0},{"$f":"+BD_DEP[[#This Row],[totalr]]/BD_DEP[[#This Row],[Mat Inicial]]","v":0},{"$f":"+BD_DEP[[#This Row],[repi]]/BD_DEP[[#This Row],[Mat Inicial]]","v":0},"33","Dpto. Medicina",285267,"MARTINEZ MARRERO EMILIO","TC","PR"]
[4505,"CBM0009","SISTEMA RENAL",2,202330,22,22,2,0,2,{"$f":"+BD_DEP[[#This Row],[totalp]]/BD_DEP[[#This Row],[Mat Inicial]]","v":9.0909090909090912E-2},{"$f":"+BD_DEP[[#This Row],[totalr]]/BD_DEP[[#This Row],[Mat Inicial]]","v":0},{"$f":"+BD_DEP[[#This Row],[repi]]/BD_DEP[[#This Row],[Mat Inicial]]","v":9.0909090909090912E-2},"33","Dpto. Medicina",285267,"MARTINEZ MARRERO EMILIO","TC","PR"]
[4506,"CBM0009","SISTEMA RENAL",3,202330,25,25,1,0,1,{"$f":"+BD_DEP[[#This Row],[totalp]]/BD_DEP[[#This Row],[Mat Inicial]]","v":0.04},{"$f":"+BD_DEP[[#This Row],[totalr]]/BD_DEP[[#This Row],[Mat Inicial]]","v":0},{"$f":"+BD_DEP[[#This Row],[repi]]/BD_DEP[[#This Row],[Mat Inicial]]","v":0.04},"33","Dpto. Medicina",285267,"MARTINEZ MARRERO EMILIO","TC","PR"]
[4507,"CBM0009","SISTEMA RENAL",4,202330,32,32,2,0,2,{"$f":"+BD_DEP[[#This Row],[totalp]]/BD_DEP[[#This Row],[Mat Inicial]]","v":6.25E-2},{"$f":"+BD_DEP[[#This Row],[totalr]]/BD_DEP[[#This Row],[Mat Inicial]]","v":0},{"$f":"+BD_DEP[[#This Row],[repi]]/BD_DEP[[#This Row],[Mat Inicial]]","v":6.25E-2},"33","Dpto. Medicina",285267,"MARTINEZ MARRERO EMILIO","TC","PR"]
[4509,"CBM0009","SISTEMA RENAL",6,202330,23,22,0,1,1,{"$f":"+BD_DEP[[#This Row],[totalp]]/BD_DEP[[#This Row],[Mat Inicial]]","v":0},{"$f":"+BD_DEP[[#This Row],[totalr]]/BD_DEP[[#This Row],[Mat Inicial]]","v":4.3478260869565216E-2},{"$f":"+BD_DEP[[#This Row],[repi]]/BD_DEP[[#This Row],[Mat Inicial]]","v":4.3478260869565216E-2},"33","Dpto. Medicina",285267,"MARTINEZ MARRERO EMILIO","TC","PR"]
[4510,"CBM0011","SISTEMA REPRODUCTOR",1,202330,28,28,2,0,2,{"$f":"+BD_DEP[[#This Row],[totalp]]/BD_DEP[[#This Row],[Mat Inicial]]","v":7.1428571428571425E-2},{"$f":"+BD_DEP[[#This Row],[totalr]]/BD_DEP[[#This Row],[Mat Inicial]]","v":0},{"$f":"+BD_DEP[[#This Row],[repi]]/BD_DEP[[#This Row],[Mat Inicial]]","v":7.1428571428571425E-2},"33","Dpto. Medicina",285267,"MARTINEZ MARRERO EMILIO","TC","PR"]
[4512,"CBM0011","SISTEMA REPRODUCTOR",3,202330,27,27,1,0,1,{"$f":"+BD_DEP[[#This Row],[totalp]]/BD_DEP[[#This Row],[Mat Inicial]]","v":3.7037037037037035E-2},{"$f":"+BD_DEP[[#This Row],[totalr]]/BD_DEP[[#This Row],[Mat Inicial]]","v":0},{"$f":"+BD_DEP[[#This Row],[repi]]/BD_DEP[[#This Row],[Mat Inicial]]","v":3.7037037037037035E-2},"33","Dpto. Medicina",285267,"MARTINEZ MARRERO EMILIO","TC","PR"]
[4513,"CBM0011","SISTEMA REPRODUCTOR",4,202330,31,31,2,0,2,{"$f":"+BD_DEP[[#This Row],[totalp]]/BD_DEP[[#This Row],[Mat Inicial]]","v":6.4516129032258063E-2},{"$f":"+BD_DEP[[#This Row],[totalr]]/BD_DEP[[#This Row],[Mat Inicial]]","v":0},{"$f":"+BD_DEP[[#This Row],[repi]]/BD_DEP[[#This Row],[Mat Inicial]]","v":6.4516129032258063E-2},"33","Dpto. Medicina",285267,"MARTINEZ MARRERO EMILIO","TC","PR"]
[4514,"CBM0011","SISTEMA REPRODUCTOR",5,202330,17,17,0,0,0,{"$f":"+BD_DEP[[#This Row],[totalp]]/BD_DEP[[#This Row],[Mat Inicial]]","v":0},{"$f":"+BD_DEP[[#This Row],[totalr]]/BD_DEP[[#This Row],[Mat Inicial]]","v":0},{"$f":"+BD_DEP[[#This Row],[repi]]/BD_DEP[[#This Row],[Mat Inicial]]","v":0},"33","Dpto. Medicina",285267,"MARTINEZ MARRERO EMILIO","TC","PR"]
[4515,"CBM0011","SISTEMA REPRODUCTOR",6,202330,27,26,0,1,1,{"$f":"+BD_DEP[[#This Row],[totalp]]/BD_DEP[[#This Row],[Mat Inicial]]","v":0},{"$f":"+BD_DEP[[#This Row],[totalr]]/BD_DEP[[#This Row],[Mat Inicial]]","v":3.7037037037037035E-2},{"$f":"+BD_DEP[[#This Row],[repi]]/BD_DEP[[#This Row],[Mat Inicial]]","v":3.7037037037037035E-2},"33","Dpto. Medicina",285267,"MARTINEZ MARRERO EMILIO","TC","PR"]
[3192,"CBM0012","SISTEMA RESPIRATORIO",1,202330,27,25,1,2,3,{"$f":"+BD_DEP[[#This Row],[totalp]]/BD_DEP[[#This Row],[Mat Inicial]]","v":3.7037037037037035E-2},{"$f":"+BD_DEP[[#This Row],[totalr]]/BD_DEP[[#This Row],[Mat Inicial]]","v":7.407407407407407E-2},{"$f":"+BD_DEP[[#This Row],[repi]]/BD_DEP[[#This Row],[Mat Inicial]]","v":0.1111111111111111},"33","Dpto. Medicina",285267,"MARTINEZ MARRERO EMILIO","TC","PR"]
[3193,"CBM0012","SISTEMA RESPIRATORIO",2,202330,27,27,0,0,0,{"$f":"+BD_DEP[[#This Row],[totalp]]/BD_DEP[[#This Row],[Mat Inicial]]","v":0},{"$f":"+BD_DEP[[#This Row],[totalr]]/BD_DEP[[#This Row],[Mat Inicial]]","v":0},{"$f":"+BD_DEP[[#This Row],[repi]]/BD_DEP[[#This Row],[Mat Inicial]]","v":0},"33","Dpto. Medicina",285267,"MARTINEZ MARRERO EMILIO","TC","PR"]
[3194,"CBM0012","SISTEMA RESPIRATORIO",3,202330,27,27,2,0,2,{"$f":"+BD_DEP[[#This Row],[totalp]]/BD_DEP[[#This Row],[Mat Inicial]]","v":7.407407407407407E-2},{"$f":"+BD_DEP[[#This Row],[totalr]]/BD_DEP[[#This Row],[Mat Inicial]]","v":0},{"$f":"+BD_DEP[[#This Row],[repi]]/BD_DEP[[#This Row],[Mat Inicial]]","v":7.407407407407407E-2},"33","Dpto. Medicina",285267,"MARTINEZ MARRERO EMILIO","TC","PR"]
[3195,"CBM0012","SISTEMA RESPIRATORIO",4,202330,16,16,2,0,2,{"$f":"+BD_DEP[[#This Row],[totalp]]/BD_DEP[[#This Row],[Mat Inicial]]","v":0.125},{"$f":"+BD_DEP[[#This Row],[totalr]]/BD_DEP[[#This Row],[Mat Inicial]]","v":0},{"$f":"+BD_DEP[[#This Row],[repi]]/BD_DEP[[#This Row],[Mat Inicial]]","v":0.125},"33","Dpto. Medicina",285267,"MARTINEZ MARRERO EMILIO","TC","PR"]
[3171,"CBM0004","SISTEMA SANGUINEO",1,202330,26,26,1,0,1,{"$f":"+BD_DEP[[#This Row],[totalp]]/BD_DEP[[#This Row],[Mat Inicial]]","v":3.8461538461538464E-2},{"$f":"+BD_DEP[[#This Row],[totalr]]/BD_DEP[[#This Row],[Mat Inicial]]","v":0},{"$f":"+BD_DEP[[#This Row],[repi]]/BD_DEP[[#This Row],[Mat Inicial]]","v":3.8461538461538464E-2},"33","Dpto. Medicina",8276328,"Florez Arroyo Jorge","TC","PR"]
[3172,"CBM0004","SISTEMA SANGUINEO",2,202330,22,22,1,0,1,{"$f":"+BD_DEP[[#This Row],[totalp]]/BD_DEP[[#This Row],[Mat Inicial]]","v":4.5454545454545456E-2},{"$f":"+BD_DEP[[#This Row],[totalr]]/BD_DEP[[#This Row],[Mat Inicial]]","v":0},{"$f":"+BD_DEP[[#This Row],[repi]]/BD_DEP[[#This Row],[Mat Inicial]]","v":4.5454545454545456E-2},"33","Dpto. Medicina",13176071,"Bayona Pacheco Brayan","TC","PR"]
[3173,"CBM0004","SISTEMA SANGUINEO",3,202330,26,26,1,0,1,{"$f":"+BD_DEP[[#This Row],[totalp]]/BD_DEP[[#This Row],[Mat Inicial]]","v":3.8461538461538464E-2},{"$f":"+BD_DEP[[#This Row],[totalr]]/BD_DEP[[#This Row],[Mat Inicial]]","v":0},{"$f":"+BD_DEP[[#This Row],[repi]]/BD_DEP[[#This Row],[Mat Inicial]]","v":3.8461538461538464E-2},"33","Dpto. Medicina",13176071,"Bayona Pacheco Brayan","TC","PR"]
[3174,"CBM0004","SISTEMA SANGUINEO",4,202330,33,33,1,0,1,{"$f":"+BD_DEP[[#This Row],[totalp]]/BD_DEP[[#This Row],[Mat Inicial]]","v":3.0303030303030304E-2},{"$f":"+BD_DEP[[#This Row],[totalr]]/BD_DEP[[#This Row],[Mat Inicial]]","v":0},{"$f":"+BD_DEP[[#This Row],[repi]]/BD_DEP[[#This Row],[Mat Inicial]]","v":3.0303030303030304E-2},"33","Dpto. Medicina",13176071,"Bayona Pacheco Brayan","TC","PR"]
[3176,"CBM0004","SISTEMA SANGUINEO",6,202330,22,21,0,1,1,{"$f":"+BD_DEP[[#This Row],[totalp]]/BD_DEP[[#This Row],[Mat Inicial]]","v":0},{"$f":"+BD_DEP[[#This Row],[totalr]]/BD_DEP[[#This Row],[Mat Inicial]]","v":4.5454545454545456E-2},{"$f":"+BD_DEP[[#This Row],[repi]]/BD_DEP[[#This Row],[Mat Inicial]]","v":4.5454545454545456E-2},"33","Dpto. Medicina",13176071,"Bayona Pacheco Brayan","TC","PR"]
[3271,"CLI0006","CLINICAS QUIRURGICAS",2,202330,3,3,0,0,0,{"$f":"+BD_DEP[[#This Row],[totalp]]/BD_DEP[[#This Row],[Mat Inicial]]","v":0},{"$f":"+BD_DEP[[#This Row],[totalr]]/BD_DEP[[#This Row],[Mat Inicial]]","v":0},{"$f":"+BD_DEP[[#This Row],[repi]]/BD_DEP[[#This Row],[Mat Inicial]]","v":0},"33","Dpto. Medicina",555398,"ROJAS BRICEÑO MONICA","NF","PR"]
[3272,"CLI0006","CLINICAS QUIRURGICAS",3,202330,5,5,0,0,0,{"$f":"+BD_DEP[[#This Row],[totalp]]/BD_DEP[[#This Row],[Mat Inicial]]","v":0},{"$f":"+BD_DEP[[#This Row],[totalr]]/BD_DEP[[#This Row],[Mat Inicial]]","v":0},{"$f":"+BD_DEP[[#This Row],[repi]]/BD_DEP[[#This Row],[Mat Inicial]]","v":0},"33","Dpto. Medicina",555398,"ROJAS BRICEÑO MONICA","NF","PR"]
[3273,"CLI0006","CLINICAS QUIRURGICAS",4,202330,4,4,0,0,0,{"$f":"+BD_DEP[[#This Row],[totalp]]/BD_DEP[[#This Row],[Mat Inicial]]","v":0},{"$f":"+BD_DEP[[#This Row],[totalr]]/BD_DEP[[#This Row],[Mat Inicial]]","v":0},{"$f":"+BD_DEP[[#This Row],[repi]]/BD_DEP[[#This Row],[Mat Inicial]]","v":0},"33","Dpto. Medicina",555398,"ROJAS BRICEÑO MONICA","NF","PR"]
[3274,"CLI0006","CLINICAS QUIRURGICAS",5,202330,3,3,0,0,0,{"$f":"+BD_DEP[[#This Row],[totalp]]/BD_DEP[[#This Row],[Mat Inicial]]","v":0},{"$f":"+BD_DEP[[#This Row],[totalr]]/BD_DEP[[#This Row],[Mat Inicial]]","v":0},{"$f":"+BD_DEP[[#This Row],[repi]]/BD_DEP[[#This Row],[Mat Inicial]]","v":0},"33","Dpto. Medicina",555398,"ROJAS BRICEÑO MONICA","NF","PR"]
[3275,"CLI0006","CLINICAS QUIRURGICAS",6,202330,4,4,0,0,0,{"$f":"+BD_DEP[[#This Row],[totalp]]/BD_DEP[[#This Row],[Mat Inicial]]","v":0},{"$f":"+BD_DEP[[#This Row],[totalr]]/BD_DEP[[#This Row],[Mat Inicial]]","v":0},{"$f":"+BD_DEP[[#This Row],[repi]]/BD_DEP[[#This Row],[Mat Inicial]]","v":0},"33","Dpto. Medicina",555398,"ROJAS BRICEÑO MONICA","NF","PR"]
[3276,"CLI0006","CLINICAS QUIRURGICAS",7,202330,4,4,0,0,0,{"$f":"+BD_DEP[[#This Row],[totalp]]/BD_DEP[[#This Row],[Mat Inicial]]","v":0},{"$f":"+BD_DEP[[#This Row],[totalr]]/BD_DEP[[#This Row],[Mat Inicial]]","v":0},{"$f":"+BD_DEP[[#This Row],[repi]]/BD_DEP[[#This Row],[Mat Inicial]]","v":0},"33","Dpto. Medicina",555398,"ROJAS BRICEÑO MONICA","NF","PR"]
[3277,"CLI0006","CLINICAS QUIRURGICAS",8,202330,4,4,0,0,0,{"$f":"+BD_DEP[[#This Row],[totalp]]/BD_DEP[[#This Row],[Mat Inicial]]","v":0},{"$f":"+BD_DEP[[#This Row],[totalr]]/BD_DEP[[#This Row],[Mat Inicial]]","v":0},{"$f":"+BD_DEP[[#This Row],[repi]]/BD_DEP[[#This Row],[Mat Inicial]]","v":0},"33","Dpto. Medicina",555398,"ROJAS BRICEÑO MONICA","NF","PR"]
[3278,"CLI0006","CLINICAS QUIRURGICAS",9,202330,5,5,0,0,0,{"$f":"+BD_DEP[[#This Row],[totalp]]/BD_DEP[[#This Row],[Mat Inicial]]","v":0},{"$f":"+BD_DEP[[#This Row],[totalr]]/BD_DEP[[#This Row],[Mat Inicial]]","v":0},{"$f":"+BD_DEP[[#This Row],[repi]]/BD_DEP[[#This Row],[Mat Inicial]]","v":0},"33","Dpto. Medicina",555398,"ROJAS BRICEÑO MONICA","NF","PR"]
[3279,"CLI0006","CLINICAS QUIRURGICAS",10,202330,4,4,0,0,0,{"$f":"+BD_DEP[[#This Row],[totalp]]/BD_DEP[[#This Row],[Mat Inicial]]","v":0},{"$f":"+BD_DEP[[#This Row],[totalr]]/BD_DEP[[#This Row],[Mat Inicial]]","v":0},{"$f":"+BD_DEP[[#This Row],[repi]]/BD_DEP[[#This Row],[Mat Inicial]]","v":0},"33","Dpto. Medicina",555398,"ROJAS BRICEÑO MONICA","NF","PR"]
[3280,"CLI0006","CLINICAS QUIRURGICAS",11,202330,3,3,0,0,0,{"$f":"+BD_DEP[[#This Row],[totalp]]/BD_DEP[[#This Row],[Mat Inicial]]","v":0},{"$f":"+BD_DEP[[#This Row],[totalr]]/BD_DEP[[#This Row],[Mat Inicial]]","v":0},{"$f":"+BD_DEP[[#This Row],[repi]]/BD_DEP[[#This Row],[Mat Inicial]]","v":0},"33","Dpto. Medicina",555398,"ROJAS BRICEÑO MONICA","NF","PR"]
[3281,"CLI0006","CLINICAS QUIRURGICAS",12,202330,2,2,0,0,0,{"$f":"+BD_DEP[[#This Row],[totalp]]/BD_DEP[[#This Row],[Mat Inicial]]","v":0},{"$f":"+BD_DEP[[#This Row],[totalr]]/BD_DEP[[#This Row],[Mat Inicial]]","v":0},{"$f":"+BD_DEP[[#This Row],[repi]]/BD_DEP[[#This Row],[Mat Inicial]]","v":0},"33","Dpto. Medicina",555398,"ROJAS BRICEÑO MONICA","NF","PR"]
[3282,"CLI0006","CLINICAS QUIRURGICAS",13,202330,4,4,0,0,0,{"$f":"+BD_DEP[[#This Row],[totalp]]/BD_DEP[[#This Row],[Mat Inicial]]","v":0},{"$f":"+BD_DEP[[#This Row],[totalr]]/BD_DEP[[#This Row],[Mat Inicial]]","v":0},{"$f":"+BD_DEP[[#This Row],[repi]]/BD_DEP[[#This Row],[Mat Inicial]]","v":0},"33","Dpto. Medicina",555398,"ROJAS BRICEÑO MONICA","NF","PR"]
[3283,"CLI0006","CLINICAS QUIRURGICAS",14,202330,4,4,0,0,0,{"$f":"+BD_DEP[[#This Row],[totalp]]/BD_DEP[[#This Row],[Mat Inicial]]","v":0},{"$f":"+BD_DEP[[#This Row],[totalr]]/BD_DEP[[#This Row],[Mat Inicial]]","v":0},{"$f":"+BD_DEP[[#This Row],[repi]]/BD_DEP[[#This Row],[Mat Inicial]]","v":0},"33","Dpto. Medicina",555398,"ROJAS BRICEÑO MONICA","NF","PR"]
[3284,"CLI0006","CLINICAS QUIRURGICAS",15,202330,5,5,0,0,0,{"$f":"+BD_DEP[[#This Row],[totalp]]/BD_DEP[[#This Row],[Mat Inicial]]","v":0},{"$f":"+BD_DEP[[#This Row],[totalr]]/BD_DEP[[#This Row],[Mat Inicial]]","v":0},{"$f":"+BD_DEP[[#This Row],[repi]]/BD_DEP[[#This Row],[Mat Inicial]]","v":0},"33","Dpto. Medicina",555398,"ROJAS BRICEÑO MONICA","NF","PR"]
[3285,"CLI0006","CLINICAS QUIRURGICAS",16,202330,5,5,0,0,0,{"$f":"+BD_DEP[[#This Row],[totalp]]/BD_DEP[[#This Row],[Mat Inicial]]","v":0},{"$f":"+BD_DEP[[#This Row],[totalr]]/BD_DEP[[#This Row],[Mat Inicial]]","v":0},{"$f":"+BD_DEP[[#This Row],[repi]]/BD_DEP[[#This Row],[Mat Inicial]]","v":0},"33","Dpto. Medicina",555398,"ROJAS BRICEÑO MONICA","NF","PR"]
[3288,"CLI0006","CLINICAS QUIRURGICAS",19,202330,5,5,0,0,0,{"$f":"+BD_DEP[[#This Row],[totalp]]/BD_DEP[[#This Row],[Mat Inicial]]","v":0},{"$f":"+BD_DEP[[#This Row],[totalr]]/BD_DEP[[#This Row],[Mat Inicial]]","v":0},{"$f":"+BD_DEP[[#This Row],[repi]]/BD_DEP[[#This Row],[Mat Inicial]]","v":0},"33","Dpto. Medicina",555398,"ROJAS BRICEÑO MONICA","NF","PR"]
[3289,"CLI0006","CLINICAS QUIRURGICAS",20,202330,5,5,0,0,0,{"$f":"+BD_DEP[[#This Row],[totalp]]/BD_DEP[[#This Row],[Mat Inicial]]","v":0},{"$f":"+BD_DEP[[#This Row],[totalr]]/BD_DEP[[#This Row],[Mat Inicial]]","v":0},{"$f":"+BD_DEP[[#This Row],[repi]]/BD_DEP[[#This Row],[Mat Inicial]]","v":0},"33","Dpto. Medicina",555398,"ROJAS BRICEÑO MONICA","NF","PR"]
[3290,"CLI0006","CLINICAS QUIRURGICAS",21,202330,5,5,0,0,0,{"$f":"+BD_DEP[[#This Row],[totalp]]/BD_DEP[[#This Row],[Mat Inicial]]","v":0},{"$f":"+BD_DEP[[#This Row],[totalr]]/BD_DEP[[#This Row],[Mat Inicial]]","v":0},{"$f":"+BD_DEP[[#This Row],[repi]]/BD_DEP[[#This Row],[Mat Inicial]]","v":0},"33","Dpto. Medicina",555398,"ROJAS BRICEÑO MONICA","NF","PR"]
[3291,"CLI0006","CLINICAS QUIRURGICAS",22,202330,5,5,0,0,0,{"$f":"+BD_DEP[[#This Row],[totalp]]/BD_DEP[[#This Row],[Mat Inicial]]","v":0},{"$f":"+BD_DEP[[#This Row],[totalr]]/BD_DEP[[#This Row],[Mat Inicial]]","v":0},{"$f":"+BD_DEP[[#This Row],[repi]]/BD_DEP[[#This Row],[Mat Inicial]]","v":0},"33","Dpto. Medicina",555398,"ROJAS BRICEÑO MONICA","NF","PR"]
[3292,"CLI0006","CLINICAS QUIRURGICAS",23,202330,5,5,0,0,0,{"$f":"+BD_DEP[[#This Row],[totalp]]/BD_DEP[[#This Row],[Mat Inicial]]","v":0},{"$f":"+BD_DEP[[#This Row],[totalr]]/BD_DEP[[#This Row],[Mat Inicial]]","v":0},{"$f":"+BD_DEP[[#This Row],[repi]]/BD_DEP[[#This Row],[Mat Inicial]]","v":0},"33","Dpto. Medicina",555398,"ROJAS BRICEÑO MONICA","NF","PR"]
[3293,"CLI0006","CLINICAS QUIRURGICAS",24,202330,5,5,0,0,0,{"$f":"+BD_DEP[[#This Row],[totalp]]/BD_DEP[[#This Row],[Mat Inicial]]","v":0},{"$f":"+BD_DEP[[#This Row],[totalr]]/BD_DEP[[#This Row],[Mat Inicial]]","v":0},{"$f":"+BD_DEP[[#This Row],[repi]]/BD_DEP[[#This Row],[Mat Inicial]]","v":0},"33","Dpto. Medicina",555398,"ROJAS BRICEÑO MONICA","NF","PR"]
[3286,"CLI0006","CLINICAS QUIRURGICAS",17,202330,5,5,0,0,0,{"$f":"+BD_DEP[[#This Row],[totalp]]/BD_DEP[[#This Row],[Mat Inicial]]","v":0},{"$f":"+BD_DEP[[#This Row],[totalr]]/BD_DEP[[#This Row],[Mat Inicial]]","v":0},{"$f":"+BD_DEP[[#This Row],[repi]]/BD_DEP[[#This Row],[Mat Inicial]]","v":0},"33","Dpto. Medicina",8172823,"Espinosa Safar Luis","NF","PR"]
[3287,"CLI0006","CLINICAS QUIRURGICAS",18,202330,5,5,0,0,0,{"$f":"+BD_DEP[[#This Row],[totalp]]/BD_DEP[[#This Row],[Mat Inicial]]","v":0},{"$f":"+BD_DEP[[#This Row],[totalr]]/BD_DEP[[#This Row],[Mat Inicial]]","v":0},{"$f":"+BD_DEP[[#This Row],[repi]]/BD_DEP[[#This Row],[Mat Inicial]]","v":0},"33","Dpto. Medicina",8172823,"Espinosa Safar Luis","NF","PR"]
[3299,"CLI0013","CLINICAS GINECOOBSTETRAS",2,202330,8,8,0,0,0,{"$f":"+BD_DEP[[#This Row],[totalp]]/BD_DEP[[#This Row],[Mat Inicial]]","v":0},{"$f":"+BD_DEP[[#This Row],[totalr]]/BD_DEP[[#This Row],[Mat Inicial]]","v":0},{"$f":"+BD_DEP[[#This Row],[repi]]/BD_DEP[[#This Row],[Mat Inicial]]","v":0},"33","Dpto. Medicina",8737688,"Ahumada Ahumada Ismael","MT","PR"]
[3300,"CLI0013","CLINICAS GINECOOBSTETRAS",3,202330,8,8,0,0,0,{"$f":"+BD_DEP[[#This Row],[totalp]]/BD_DEP[[#This Row],[Mat Inicial]]","v":0},{"$f":"+BD_DEP[[#This Row],[totalr]]/BD_DEP[[#This Row],[Mat Inicial]]","v":0},{"$f":"+BD_DEP[[#This Row],[repi]]/BD_DEP[[#This Row],[Mat Inicial]]","v":0},"33","Dpto. Medicina",8737688,"Ahumada Ahumada Ismael","MT","PR"]
[3301,"CLI0013","CLINICAS GINECOOBSTETRAS",4,202330,8,8,0,0,0,{"$f":"+BD_DEP[[#This Row],[totalp]]/BD_DEP[[#This Row],[Mat Inicial]]","v":0},{"$f":"+BD_DEP[[#This Row],[totalr]]/BD_DEP[[#This Row],[Mat Inicial]]","v":0},{"$f":"+BD_DEP[[#This Row],[repi]]/BD_DEP[[#This Row],[Mat Inicial]]","v":0},"33","Dpto. Medicina",8737688,"Ahumada Ahumada Ismael","MT","PR"]
[3302,"CLI0013","CLINICAS GINECOOBSTETRAS",5,202330,8,8,0,0,0,{"$f":"+BD_DEP[[#This Row],[totalp]]/BD_DEP[[#This Row],[Mat Inicial]]","v":0},{"$f":"+BD_DEP[[#This Row],[totalr]]/BD_DEP[[#This Row],[Mat Inicial]]","v":0},{"$f":"+BD_DEP[[#This Row],[repi]]/BD_DEP[[#This Row],[Mat Inicial]]","v":0},"33","Dpto. Medicina",8737688,"Ahumada Ahumada Ismael","MT","PR"]
[3303,"CLI0013","CLINICAS GINECOOBSTETRAS",6,202330,8,8,0,0,0,{"$f":"+BD_DEP[[#This Row],[totalp]]/BD_DEP[[#This Row],[Mat Inicial]]","v":0},{"$f":"+BD_DEP[[#This Row],[totalr]]/BD_DEP[[#This Row],[Mat Inicial]]","v":0},{"$f":"+BD_DEP[[#This Row],[repi]]/BD_DEP[[#This Row],[Mat Inicial]]","v":0},"33","Dpto. Medicina",8737688,"Ahumada Ahumada Ismael","MT","PR"]
[3304,"CLI0013","CLINICAS GINECOOBSTETRAS",7,202330,8,8,0,0,0,{"$f":"+BD_DEP[[#This Row],[totalp]]/BD_DEP[[#This Row],[Mat Inicial]]","v":0},{"$f":"+BD_DEP[[#This Row],[totalr]]/BD_DEP[[#This Row],[Mat Inicial]]","v":0},{"$f":"+BD_DEP[[#This Row],[repi]]/BD_DEP[[#This Row],[Mat Inicial]]","v":0},"33","Dpto. Medicina",8737688,"Ahumada Ahumada Ismael","MT","PR"]
[3305,"CLI0013","CLINICAS GINECOOBSTETRAS",8,202330,8,8,0,0,0,{"$f":"+BD_DEP[[#This Row],[totalp]]/BD_DEP[[#This Row],[Mat Inicial]]","v":0},{"$f":"+BD_DEP[[#This Row],[totalr]]/BD_DEP[[#This Row],[Mat Inicial]]","v":0},{"$f":"+BD_DEP[[#This Row],[repi]]/BD_DEP[[#This Row],[Mat Inicial]]","v":0},"33","Dpto. Medicina",8737688,"Ahumada Ahumada Ismael","MT","PR"]
[3306,"CLI0013","CLINICAS GINECOOBSTETRAS",9,202330,8,8,0,0,0,{"$f":"+BD_DEP[[#This Row],[totalp]]/BD_DEP[[#This Row],[Mat Inicial]]","v":0},{"$f":"+BD_DEP[[#This Row],[totalr]]/BD_DEP[[#This Row],[Mat Inicial]]","v":0},{"$f":"+BD_DEP[[#This Row],[repi]]/BD_DEP[[#This Row],[Mat Inicial]]","v":0},"33","Dpto. Medicina",8737688,"Ahumada Ahumada Ismael","MT","PR"]
[3307,"CLI0013","CLINICAS GINECOOBSTETRAS",10,202330,8,8,0,0,0,{"$f":"+BD_DEP[[#This Row],[totalp]]/BD_DEP[[#This Row],[Mat Inicial]]","v":0},{"$f":"+BD_DEP[[#This Row],[totalr]]/BD_DEP[[#This Row],[Mat Inicial]]","v":0},{"$f":"+BD_DEP[[#This Row],[repi]]/BD_DEP[[#This Row],[Mat Inicial]]","v":0},"33","Dpto. Medicina",8737688,"Ahumada Ahumada Ismael","MT","PR"]
[3308,"CLI0013","CLINICAS GINECOOBSTETRAS",11,202330,8,8,0,0,0,{"$f":"+BD_DEP[[#This Row],[totalp]]/BD_DEP[[#This Row],[Mat Inicial]]","v":0},{"$f":"+BD_DEP[[#This Row],[totalr]]/BD_DEP[[#This Row],[Mat Inicial]]","v":0},{"$f":"+BD_DEP[[#This Row],[repi]]/BD_DEP[[#This Row],[Mat Inicial]]","v":0},"33","Dpto. Medicina",8737688,"Ahumada Ahumada Ismael","MT","PR"]
[3309,"CLI0013","CLINICAS GINECOOBSTETRAS",12,202330,8,8,0,0,0,{"$f":"+BD_DEP[[#This Row],[totalp]]/BD_DEP[[#This Row],[Mat Inicial]]","v":0},{"$f":"+BD_DEP[[#This Row],[totalr]]/BD_DEP[[#This Row],[Mat Inicial]]","v":0},{"$f":"+BD_DEP[[#This Row],[repi]]/BD_DEP[[#This Row],[Mat Inicial]]","v":0},"33","Dpto. Medicina",8737688,"Ahumada Ahumada Ismael","MT","PR"]
[3310,"CLI0013","CLINICAS GINECOOBSTETRAS",13,202330,9,9,0,0,0,{"$f":"+BD_DEP[[#This Row],[totalp]]/BD_DEP[[#This Row],[Mat Inicial]]","v":0},{"$f":"+BD_DEP[[#This Row],[totalr]]/BD_DEP[[#This Row],[Mat Inicial]]","v":0},{"$f":"+BD_DEP[[#This Row],[repi]]/BD_DEP[[#This Row],[Mat Inicial]]","v":0},"33","Dpto. Medicina",8737688,"Ahumada Ahumada Ismael","MT","PR"]
[3311,"CLI0013","CLINICAS GINECOOBSTETRAS",14,202330,9,9,0,0,0,{"$f":"+BD_DEP[[#This Row],[totalp]]/BD_DEP[[#This Row],[Mat Inicial]]","v":0},{"$f":"+BD_DEP[[#This Row],[totalr]]/BD_DEP[[#This Row],[Mat Inicial]]","v":0},{"$f":"+BD_DEP[[#This Row],[repi]]/BD_DEP[[#This Row],[Mat Inicial]]","v":0},"33","Dpto. Medicina",8737688,"Ahumada Ahumada Ismael","MT","PR"]
[3312,"CLI0013","CLINICAS GINECOOBSTETRAS",15,202330,9,9,0,0,0,{"$f":"+BD_DEP[[#This Row],[totalp]]/BD_DEP[[#This Row],[Mat Inicial]]","v":0},{"$f":"+BD_DEP[[#This Row],[totalr]]/BD_DEP[[#This Row],[Mat Inicial]]","v":0},{"$f":"+BD_DEP[[#This Row],[repi]]/BD_DEP[[#This Row],[Mat Inicial]]","v":0},"33","Dpto. Medicina",8737688,"Ahumada Ahumada Ismael","MT","PR"]
[3313,"CLI0013","CLINICAS GINECOOBSTETRAS",16,202330,9,9,0,0,0,{"$f":"+BD_DEP[[#This Row],[totalp]]/BD_DEP[[#This Row],[Mat Inicial]]","v":0},{"$f":"+BD_DEP[[#This Row],[totalr]]/BD_DEP[[#This Row],[Mat Inicial]]","v":0},{"$f":"+BD_DEP[[#This Row],[repi]]/BD_DEP[[#This Row],[Mat Inicial]]","v":0},"33","Dpto. Medicina",8737688,"Ahumada Ahumada Ismael","MT","PR"]
[3231,"CLI0004","CLINICAS MEDICAS I",2,202330,4,4,0,0,0,{"$f":"+BD_DEP[[#This Row],[totalp]]/BD_DEP[[#This Row],[Mat Inicial]]","v":0},{"$f":"+BD_DEP[[#This Row],[totalr]]/BD_DEP[[#This Row],[Mat Inicial]]","v":0},{"$f":"+BD_DEP[[#This Row],[repi]]/BD_DEP[[#This Row],[Mat Inicial]]","v":0},"33","Dpto. Medicina",8682606,"Escobar Barraza Adolfo","MT","PR"]
[3232,"CLI0004","CLINICAS MEDICAS I",3,202330,4,4,0,0,0,{"$f":"+BD_DEP[[#This Row],[totalp]]/BD_DEP[[#This Row],[Mat Inicial]]","v":0},{"$f":"+BD_DEP[[#This Row],[totalr]]/BD_DEP[[#This Row],[Mat Inicial]]","v":0},{"$f":"+BD_DEP[[#This Row],[repi]]/BD_DEP[[#This Row],[Mat Inicial]]","v":0},"33","Dpto. Medicina",8682606,"Escobar Barraza Adolfo","MT","PR"]
[3233,"CLI0004","CLINICAS MEDICAS I",4,202330,4,4,0,0,0,{"$f":"+BD_DEP[[#This Row],[totalp]]/BD_DEP[[#This Row],[Mat Inicial]]","v":0},{"$f":"+BD_DEP[[#This Row],[totalr]]/BD_DEP[[#This Row],[Mat Inicial]]","v":0},{"$f":"+BD_DEP[[#This Row],[repi]]/BD_DEP[[#This Row],[Mat Inicial]]","v":0},"33","Dpto. Medicina",8682606,"Escobar Barraza Adolfo","MT","PR"]
[3234,"CLI0004","CLINICAS MEDICAS I",5,202330,4,4,0,0,0,{"$f":"+BD_DEP[[#This Row],[totalp]]/BD_DEP[[#This Row],[Mat Inicial]]","v":0},{"$f":"+BD_DEP[[#This Row],[totalr]]/BD_DEP[[#This Row],[Mat Inicial]]","v":0},{"$f":"+BD_DEP[[#This Row],[repi]]/BD_DEP[[#This Row],[Mat Inicial]]","v":0},"33","Dpto. Medicina",8682606,"Escobar Barraza Adolfo","MT","PR"]
[3235,"CLI0004","CLINICAS MEDICAS I",6,202330,4,4,0,0,0,{"$f":"+BD_DEP[[#This Row],[totalp]]/BD_DEP[[#This Row],[Mat Inicial]]","v":0},{"$f":"+BD_DEP[[#This Row],[totalr]]/BD_DEP[[#This Row],[Mat Inicial]]","v":0},{"$f":"+BD_DEP[[#This Row],[repi]]/BD_DEP[[#This Row],[Mat Inicial]]","v":0},"33","Dpto. Medicina",8682606,"Escobar Barraza Adolfo","MT","PR"]
[3242,"CLI0004","CLINICAS MEDICAS I",13,202330,4,4,1,0,1,{"$f":"+BD_DEP[[#This Row],[totalp]]/BD_DEP[[#This Row],[Mat Inicial]]","v":0.25},{"$f":"+BD_DEP[[#This Row],[totalr]]/BD_DEP[[#This Row],[Mat Inicial]]","v":0},{"$f":"+BD_DEP[[#This Row],[repi]]/BD_DEP[[#This Row],[Mat Inicial]]","v":0.25},"33","Dpto. Medicina",8682606,"Escobar Barraza Adolfo","MT","PR"]
[3246,"CLI0004","CLINICAS MEDICAS I",17,202330,4,4,0,0,0,{"$f":"+BD_DEP[[#This Row],[totalp]]/BD_DEP[[#This Row],[Mat Inicial]]","v":0},{"$f":"+BD_DEP[[#This Row],[totalr]]/BD_DEP[[#This Row],[Mat Inicial]]","v":0},{"$f":"+BD_DEP[[#This Row],[repi]]/BD_DEP[[#This Row],[Mat Inicial]]","v":0},"33","Dpto. Medicina",8682606,"Escobar Barraza Adolfo","MT","PR"]
[3236,"CLI0004","CLINICAS MEDICAS I",7,202330,4,4,0,0,0,{"$f":"+BD_DEP[[#This Row],[totalp]]/BD_DEP[[#This Row],[Mat Inicial]]","v":0},{"$f":"+BD_DEP[[#This Row],[totalr]]/BD_DEP[[#This Row],[Mat Inicial]]","v":0},{"$f":"+BD_DEP[[#This Row],[repi]]/BD_DEP[[#This Row],[Mat Inicial]]","v":0},"33","Dpto. Medicina",8738383,"Forero Illera Elias","MT","PR"]
[3237,"CLI0004","CLINICAS MEDICAS I",8,202330,4,4,1,0,1,{"$f":"+BD_DEP[[#This Row],[totalp]]/BD_DEP[[#This Row],[Mat Inicial]]","v":0.25},{"$f":"+BD_DEP[[#This Row],[totalr]]/BD_DEP[[#This Row],[Mat Inicial]]","v":0},{"$f":"+BD_DEP[[#This Row],[repi]]/BD_DEP[[#This Row],[Mat Inicial]]","v":0.25},"33","Dpto. Medicina",22464148,"Mendoza Rosales Carmen","MT","PR"]
[3241,"CLI0004","CLINICAS MEDICAS I",12,202330,4,4,0,0,0,{"$f":"+BD_DEP[[#This Row],[totalp]]/BD_DEP[[#This Row],[Mat Inicial]]","v":0},{"$f":"+BD_DEP[[#This Row],[totalr]]/BD_DEP[[#This Row],[Mat Inicial]]","v":0},{"$f":"+BD_DEP[[#This Row],[repi]]/BD_DEP[[#This Row],[Mat Inicial]]","v":0},"33","Dpto. Medicina",22464148,"Mendoza Rosales Carmen","MT","PR"]
[3245,"CLI0004","CLINICAS MEDICAS I",16,202330,4,4,0,0,0,{"$f":"+BD_DEP[[#This Row],[totalp]]/BD_DEP[[#This Row],[Mat Inicial]]","v":0},{"$f":"+BD_DEP[[#This Row],[totalr]]/BD_DEP[[#This Row],[Mat Inicial]]","v":0},{"$f":"+BD_DEP[[#This Row],[repi]]/BD_DEP[[#This Row],[Mat Inicial]]","v":0},"33","Dpto. Medicina",22464148,"Mendoza Rosales Carmen","MT","PR"]
[3249,"CLI0004","CLINICAS MEDICAS I",20,202330,3,3,0,0,0,{"$f":"+BD_DEP[[#This Row],[totalp]]/BD_DEP[[#This Row],[Mat Inicial]]","v":0},{"$f":"+BD_DEP[[#This Row],[totalr]]/BD_DEP[[#This Row],[Mat Inicial]]","v":0},{"$f":"+BD_DEP[[#This Row],[repi]]/BD_DEP[[#This Row],[Mat Inicial]]","v":0},"33","Dpto. Medicina",22464148,"Mendoza Rosales Carmen","MT","PR"]
[3238,"CLI0004","CLINICAS MEDICAS I",9,202330,4,4,0,0,0,{"$f":"+BD_DEP[[#This Row],[totalp]]/BD_DEP[[#This Row],[Mat Inicial]]","v":0},{"$f":"+BD_DEP[[#This Row],[totalr]]/BD_DEP[[#This Row],[Mat Inicial]]","v":0},{"$f":"+BD_DEP[[#This Row],[repi]]/BD_DEP[[#This Row],[Mat Inicial]]","v":0},"33","Dpto. Medicina",55224576,"Mendoza Barrios Elizabeth","MT","PR"]
[3239,"CLI0004","CLINICAS MEDICAS I",10,202330,4,4,1,0,1,{"$f":"+BD_DEP[[#This Row],[totalp]]/BD_DEP[[#This Row],[Mat Inicial]]","v":0.25},{"$f":"+BD_DEP[[#This Row],[totalr]]/BD_DEP[[#This Row],[Mat Inicial]]","v":0},{"$f":"+BD_DEP[[#This Row],[repi]]/BD_DEP[[#This Row],[Mat Inicial]]","v":0.25},"33","Dpto. Medicina",72269449,"HERNANDEZ RUIZ EDER","MT","PR"]
[3240,"CLI0004","CLINICAS MEDICAS I",11,202330,4,4,0,0,0,{"$f":"+BD_DEP[[#This Row],[totalp]]/BD_DEP[[#This Row],[Mat Inicial]]","v":0},{"$f":"+BD_DEP[[#This Row],[totalr]]/BD_DEP[[#This Row],[Mat Inicial]]","v":0},{"$f":"+BD_DEP[[#This Row],[repi]]/BD_DEP[[#This Row],[Mat Inicial]]","v":0},"33","Dpto. Medicina",72269449,"HERNANDEZ RUIZ EDER","MT","PR"]
[3243,"CLI0004","CLINICAS MEDICAS I",14,202330,4,4,2,0,2,{"$f":"+BD_DEP[[#This Row],[totalp]]/BD_DEP[[#This Row],[Mat Inicial]]","v":0.5},{"$f":"+BD_DEP[[#This Row],[totalr]]/BD_DEP[[#This Row],[Mat Inicial]]","v":0},{"$f":"+BD_DEP[[#This Row],[repi]]/BD_DEP[[#This Row],[Mat Inicial]]","v":0.5},"33","Dpto. Medicina",72269449,"HERNANDEZ RUIZ EDER","MT","PR"]
[3244,"CLI0004","CLINICAS MEDICAS I",15,202330,4,4,0,0,0,{"$f":"+BD_DEP[[#This Row],[totalp]]/BD_DEP[[#This Row],[Mat Inicial]]","v":0},{"$f":"+BD_DEP[[#This Row],[totalr]]/BD_DEP[[#This Row],[Mat Inicial]]","v":0},{"$f":"+BD_DEP[[#This Row],[repi]]/BD_DEP[[#This Row],[Mat Inicial]]","v":0},"33","Dpto. Medicina",72269449,"HERNANDEZ RUIZ EDER","MT","PR"]
[3247,"CLI0004","CLINICAS MEDICAS I",18,202330,4,4,0,0,0,{"$f":"+BD_DEP[[#This Row],[totalp]]/BD_DEP[[#This Row],[Mat Inicial]]","v":0},{"$f":"+BD_DEP[[#This Row],[totalr]]/BD_DEP[[#This Row],[Mat Inicial]]","v":0},{"$f":"+BD_DEP[[#This Row],[repi]]/BD_DEP[[#This Row],[Mat Inicial]]","v":0},"33","Dpto. Medicina",72269449,"HERNANDEZ RUIZ EDER","MT","PR"]
[3248,"CLI0004","CLINICAS MEDICAS I",19,202330,4,4,1,0,1,{"$f":"+BD_DEP[[#This Row],[totalp]]/BD_DEP[[#This Row],[Mat Inicial]]","v":0.25},{"$f":"+BD_DEP[[#This Row],[totalr]]/BD_DEP[[#This Row],[Mat Inicial]]","v":0},{"$f":"+BD_DEP[[#This Row],[repi]]/BD_DEP[[#This Row],[Mat Inicial]]","v":0.25},"33","Dpto. Medicina",72269449,"HERNANDEZ RUIZ EDER","MT","PR"]
[3330,"CLI7040","INT A LA SEMIOLOGIA Y LA PRACT",1,202330,70,70,1,0,1,{"$f":"+BD_DEP[[#This Row],[totalp]]/BD_DEP[[#This Row],[Mat Inicial]]","v":1.4285714285714285E-2},{"$f":"+BD_DEP[[#This Row],[totalr]]/BD_DEP[[#This Row],[Mat Inicial]]","v":0},{"$f":"+BD_DEP[[#This Row],[repi]]/BD_DEP[[#This Row],[Mat Inicial]]","v":1.4285714285714285E-2},"33","Dpto. Medicina",36667570,"ESPITIA NIETO SANDRA","MT","PR"]
[3332,"CLI7040","INT A LA SEMIOLOGIA Y LA PRACT",3,202330,18,18,1,0,1,{"$f":"+BD_DEP[[#This Row],[totalp]]/BD_DEP[[#This Row],[Mat Inicial]]","v":5.5555555555555552E-2},{"$f":"+BD_DEP[[#This Row],[totalr]]/BD_DEP[[#This Row],[Mat Inicial]]","v":0},{"$f":"+BD_DEP[[#This Row],[repi]]/BD_DEP[[#This Row],[Mat Inicial]]","v":5.5555555555555552E-2},"33","Dpto. Medicina",36667570,"ESPITIA NIETO SANDRA","MT","PR"]
[1421,"CLI9970","DONACION Y TRASPLANTE",1,202330,25,25,0,0,0,{"$f":"+BD_DEP[[#This Row],[totalp]]/BD_DEP[[#This Row],[Mat Inicial]]","v":0},{"$f":"+BD_DEP[[#This Row],[totalr]]/BD_DEP[[#This Row],[Mat Inicial]]","v":0},{"$f":"+BD_DEP[[#This Row],[repi]]/BD_DEP[[#This Row],[Mat Inicial]]","v":0},"33","Dpto. Medicina",22464928,"Orellano Salas Milena","CA","PR"]
[1422,"CLI9970","DONACION Y TRASPLANTE",2,202330,32,32,0,0,0,{"$f":"+BD_DEP[[#This Row],[totalp]]/BD_DEP[[#This Row],[Mat Inicial]]","v":0},{"$f":"+BD_DEP[[#This Row],[totalr]]/BD_DEP[[#This Row],[Mat Inicial]]","v":0},{"$f":"+BD_DEP[[#This Row],[repi]]/BD_DEP[[#This Row],[Mat Inicial]]","v":0},"33","Dpto. Medicina",92533250,"Del Castillo Gomez Rafael","CA","PR"]
[3331,"CLI7040","INT A LA SEMIOLOGIA Y LA PRACT",2,202330,63,61,0,2,2,{"$f":"+BD_DEP[[#This Row],[totalp]]/BD_DEP[[#This Row],[Mat Inicial]]","v":0},{"$f":"+BD_DEP[[#This Row],[totalr]]/BD_DEP[[#This Row],[Mat Inicial]]","v":3.1746031746031744E-2},{"$f":"+BD_DEP[[#This Row],[repi]]/BD_DEP[[#This Row],[Mat Inicial]]","v":3.1746031746031744E-2},"33","Dpto. Medicina",44155810,"Pacheco Cano Carmen","CA","PR"]
[1417,"CLI6680","MEDICINA DEL DOLOR",1,202330,27,27,0,0,0,{"$f":"+BD_DEP[[#This Row],[totalp]]/BD_DEP[[#This Row],[Mat Inicial]]","v":0},{"$f":"+BD_DEP[[#This Row],[totalr]]/BD_DEP[[#This Row],[Mat Inicial]]","v":0},{"$f":"+BD_DEP[[#This Row],[repi]]/BD_DEP[[#This Row],[Mat Inicial]]","v":0},"33","Dpto. Medicina",72311424,"Imaz Navarro Luis","CA","PR"]
[3334,"CLI7120","MEDICINA FORENSE",1,202330,103,103,0,0,0,{"$f":"+BD_DEP[[#This Row],[totalp]]/BD_DEP[[#This Row],[Mat Inicial]]","v":0},{"$f":"+BD_DEP[[#This Row],[totalr]]/BD_DEP[[#This Row],[Mat Inicial]]","v":0},{"$f":"+BD_DEP[[#This Row],[repi]]/BD_DEP[[#This Row],[Mat Inicial]]","v":0},"33","Dpto. Medicina",32635978,"Marthe Manjarres Alexandra","CA","PR"]
[1418,"CLI7150","NUTRICIÓN",1,202330,31,31,0,0,0,{"$f":"+BD_DEP[[#This Row],[totalp]]/BD_DEP[[#This Row],[Mat Inicial]]","v":0},{"$f":"+BD_DEP[[#This Row],[totalr]]/BD_DEP[[#This Row],[Mat Inicial]]","v":0},{"$f":"+BD_DEP[[#This Row],[repi]]/BD_DEP[[#This Row],[Mat Inicial]]","v":0},"33","Dpto. Medicina",6880883,"Ayola Anaya Francisco","CA","PR"]
[1419,"CLI7160","TERAPEUTICA ANTIMICROBIANA",1,202330,31,31,0,0,0,{"$f":"+BD_DEP[[#This Row],[totalp]]/BD_DEP[[#This Row],[Mat Inicial]]","v":0},{"$f":"+BD_DEP[[#This Row],[totalr]]/BD_DEP[[#This Row],[Mat Inicial]]","v":0},{"$f":"+BD_DEP[[#This Row],[repi]]/BD_DEP[[#This Row],[Mat Inicial]]","v":0},"33","Dpto. Medicina",22517677,"Baquero Mejia Ingrid","CA","PR"]
[1420,"CLI7160","TERAPEUTICA ANTIMICROBIANA",2,202330,31,31,0,0,0,{"$f":"+BD_DEP[[#This Row],[totalp]]/BD_DEP[[#This Row],[Mat Inicial]]","v":0},{"$f":"+BD_DEP[[#This Row],[totalr]]/BD_DEP[[#This Row],[Mat Inicial]]","v":0},{"$f":"+BD_DEP[[#This Row],[repi]]/BD_DEP[[#This Row],[Mat Inicial]]","v":0},"33","Dpto. Medicina",22517677,"Baquero Mejia Ingrid","CA","PR"]
[1414,"CBM4150","TOXICOLOGíA",1,202330,24,24,0,0,0,{"$f":"+BD_DEP[[#This Row],[totalp]]/BD_DEP[[#This Row],[Mat Inicial]]","v":0},{"$f":"+BD_DEP[[#This Row],[totalr]]/BD_DEP[[#This Row],[Mat Inicial]]","v":0},{"$f":"+BD_DEP[[#This Row],[repi]]/BD_DEP[[#This Row],[Mat Inicial]]","v":0},"33","Dpto. Medicina",57431697,"Elias Guerrero Rosana","CA","PR"]
[1415,"CBM4150","TOXICOLOGíA",2,202330,33,33,0,0,0,{"$f":"+BD_DEP[[#This Row],[totalp]]/BD_DEP[[#This Row],[Mat Inicial]]","v":0},{"$f":"+BD_DEP[[#This Row],[totalr]]/BD_DEP[[#This Row],[Mat Inicial]]","v":0},{"$f":"+BD_DEP[[#This Row],[repi]]/BD_DEP[[#This Row],[Mat Inicial]]","v":0},"33","Dpto. Medicina",57431697,"Elias Guerrero Rosana","CA","PR"]
[2707,"MDO0022","COMSUMPTION CULTURE",1,202330,24,24,0,0,0,{"$f":"+BD_DEP[[#This Row],[totalp]]/BD_DEP[[#This Row],[Mat Inicial]]","v":0},{"$f":"+BD_DEP[[#This Row],[totalr]]/BD_DEP[[#This Row],[Mat Inicial]]","v":0},{"$f":"+BD_DEP[[#This Row],[repi]]/BD_DEP[[#This Row],[Mat Inicial]]","v":0},"15","Dpto. Mercadeo y Neg. Internac",22584184,"Arevalo Silva Erika","TC","PR"]
[1220,"ADM0054","DISTRIBUCION FISICA INTER.",1,202330,21,20,0,1,1,{"$f":"+BD_DEP[[#This Row],[totalp]]/BD_DEP[[#This Row],[Mat Inicial]]","v":0},{"$f":"+BD_DEP[[#This Row],[totalr]]/BD_DEP[[#This Row],[Mat Inicial]]","v":4.7619047619047616E-2},{"$f":"+BD_DEP[[#This Row],[repi]]/BD_DEP[[#This Row],[Mat Inicial]]","v":4.7619047619047616E-2},"15","Dpto. Mercadeo y Neg. Internac",19339024,"Castellanos Ramirez Andres","TC","PR"]
[1221,"ADM0054","DISTRIBUCION FISICA INTER.",2,202330,22,22,0,0,0,{"$f":"+BD_DEP[[#This Row],[totalp]]/BD_DEP[[#This Row],[Mat Inicial]]","v":0},{"$f":"+BD_DEP[[#This Row],[totalr]]/BD_DEP[[#This Row],[Mat Inicial]]","v":0},{"$f":"+BD_DEP[[#This Row],[repi]]/BD_DEP[[#This Row],[Mat Inicial]]","v":0},"15","Dpto. Mercadeo y Neg. Internac",19339024,"Castellanos Ramirez Andres","TC","PR"]
[2716,"MDO4090","FUNDAMENTOS DE MERCADEO",2,202330,33,33,2,0,2,{"$f":"+BD_DEP[[#This Row],[totalp]]/BD_DEP[[#This Row],[Mat Inicial]]","v":6.0606060606060608E-2},{"$f":"+BD_DEP[[#This Row],[totalr]]/BD_DEP[[#This Row],[Mat Inicial]]","v":0},{"$f":"+BD_DEP[[#This Row],[repi]]/BD_DEP[[#This Row],[Mat Inicial]]","v":6.0606060606060608E-2},"15","Dpto. Mercadeo y Neg. Internac",14225040,"Paramo Morales Dagoberto","TC","PR"]
[2717,"MDO4090","FUNDAMENTOS DE MERCADEO",3,202330,40,40,1,0,1,{"$f":"+BD_DEP[[#This Row],[totalp]]/BD_DEP[[#This Row],[Mat Inicial]]","v":2.5000000000000001E-2},{"$f":"+BD_DEP[[#This Row],[totalr]]/BD_DEP[[#This Row],[Mat Inicial]]","v":0},{"$f":"+BD_DEP[[#This Row],[repi]]/BD_DEP[[#This Row],[Mat Inicial]]","v":2.5000000000000001E-2},"15","Dpto. Mercadeo y Neg. Internac",14225040,"Paramo Morales Dagoberto","TC","PR"]
[2719,"MDO4090","FUNDAMENTOS DE MERCADEO",5,202330,26,25,0,1,1,{"$f":"+BD_DEP[[#This Row],[totalp]]/BD_DEP[[#This Row],[Mat Inicial]]","v":0},{"$f":"+BD_DEP[[#This Row],[totalr]]/BD_DEP[[#This Row],[Mat Inicial]]","v":3.8461538461538464E-2},{"$f":"+BD_DEP[[#This Row],[repi]]/BD_DEP[[#This Row],[Mat Inicial]]","v":3.8461538461538464E-2},"15","Dpto. Mercadeo y Neg. Internac",14225040,"Paramo Morales Dagoberto","TC","PR"]
[2720,"MDO4090","FUNDAMENTOS DE MERCADEO",6,202330,20,19,2,1,3,{"$f":"+BD_DEP[[#This Row],[totalp]]/BD_DEP[[#This Row],[Mat Inicial]]","v":0.1},{"$f":"+BD_DEP[[#This Row],[totalr]]/BD_DEP[[#This Row],[Mat Inicial]]","v":0.05},{"$f":"+BD_DEP[[#This Row],[repi]]/BD_DEP[[#This Row],[Mat Inicial]]","v":0.15},"15","Dpto. Mercadeo y Neg. Internac",14225040,"Paramo Morales Dagoberto","TC","PR"]
[1269,"ADM7420","INTELIGENCIA MERCAD INTERNALES",2,202330,30,29,0,1,1,{"$f":"+BD_DEP[[#This Row],[totalp]]/BD_DEP[[#This Row],[Mat Inicial]]","v":0},{"$f":"+BD_DEP[[#This Row],[totalr]]/BD_DEP[[#This Row],[Mat Inicial]]","v":3.3333333333333333E-2},{"$f":"+BD_DEP[[#This Row],[repi]]/BD_DEP[[#This Row],[Mat Inicial]]","v":3.3333333333333333E-2},"15","Dpto. Mercadeo y Neg. Internac",1140831966,"CERVANTES GALVAN LISETTE","TC","PR"]
[1230,"ADM0059","INTERNATIONAL EXPORT PLAN",1,202330,29,29,0,0,0,{"$f":"+BD_DEP[[#This Row],[totalp]]/BD_DEP[[#This Row],[Mat Inicial]]","v":0},{"$f":"+BD_DEP[[#This Row],[totalr]]/BD_DEP[[#This Row],[Mat Inicial]]","v":0},{"$f":"+BD_DEP[[#This Row],[repi]]/BD_DEP[[#This Row],[Mat Inicial]]","v":0},"15","Dpto. Mercadeo y Neg. Internac",1140831966,"CERVANTES GALVAN LISETTE","TC","PR"]
[1231,"ADM0059","INTERNATIONAL EXPORT PLAN",2,202330,39,37,0,2,2,{"$f":"+BD_DEP[[#This Row],[totalp]]/BD_DEP[[#This Row],[Mat Inicial]]","v":0},{"$f":"+BD_DEP[[#This Row],[totalr]]/BD_DEP[[#This Row],[Mat Inicial]]","v":5.128205128205128E-2},{"$f":"+BD_DEP[[#This Row],[repi]]/BD_DEP[[#This Row],[Mat Inicial]]","v":5.128205128205128E-2},"15","Dpto. Mercadeo y Neg. Internac",1140831966,"CERVANTES GALVAN LISETTE","TC","PR"]
[1232,"ADM0059","INTERNATIONAL EXPORT PLAN",3,202330,30,30,0,0,0,{"$f":"+BD_DEP[[#This Row],[totalp]]/BD_DEP[[#This Row],[Mat Inicial]]","v":0},{"$f":"+BD_DEP[[#This Row],[totalr]]/BD_DEP[[#This Row],[Mat Inicial]]","v":0},{"$f":"+BD_DEP[[#This Row],[repi]]/BD_DEP[[#This Row],[Mat Inicial]]","v":0},"15","Dpto. Mercadeo y Neg. Internac",1140831966,"CERVANTES GALVAN LISETTE","TC","PR"]
[2721,"MDO8340","INTERNATIONAL MARKETING",1,202330,20,20,0,0,0,{"$f":"+BD_DEP[[#This Row],[totalp]]/BD_DEP[[#This Row],[Mat Inicial]]","v":0},{"$f":"+BD_DEP[[#This Row],[totalr]]/BD_DEP[[#This Row],[Mat Inicial]]","v":0},{"$f":"+BD_DEP[[#This Row],[repi]]/BD_DEP[[#This Row],[Mat Inicial]]","v":0},"15","Dpto. Mercadeo y Neg. Internac",72164491,"Ibarra Consuegra Octavio","TC","PR"]
[2722,"MDO8340","INTERNATIONAL MARKETING",2,202330,29,29,0,0,0,{"$f":"+BD_DEP[[#This Row],[totalp]]/BD_DEP[[#This Row],[Mat Inicial]]","v":0},{"$f":"+BD_DEP[[#This Row],[totalr]]/BD_DEP[[#This Row],[Mat Inicial]]","v":0},{"$f":"+BD_DEP[[#This Row],[repi]]/BD_DEP[[#This Row],[Mat Inicial]]","v":0},"15","Dpto. Mercadeo y Neg. Internac",72164491,"Ibarra Consuegra Octavio","TC","PR"]
[1215,"ADM0052","LOGISTICA Y DISTRIBUCION",1,202330,29,29,0,0,0,{"$f":"+BD_DEP[[#This Row],[totalp]]/BD_DEP[[#This Row],[Mat Inicial]]","v":0},{"$f":"+BD_DEP[[#This Row],[totalr]]/BD_DEP[[#This Row],[Mat Inicial]]","v":0},{"$f":"+BD_DEP[[#This Row],[repi]]/BD_DEP[[#This Row],[Mat Inicial]]","v":0},"15","Dpto. Mercadeo y Neg. Internac",19339024,"Castellanos Ramirez Andres","TC","PR"]
[1216,"ADM0052","LOGISTICA Y DISTRIBUCION",2,202330,21,21,0,0,0,{"$f":"+BD_DEP[[#This Row],[totalp]]/BD_DEP[[#This Row],[Mat Inicial]]","v":0},{"$f":"+BD_DEP[[#This Row],[totalr]]/BD_DEP[[#This Row],[Mat Inicial]]","v":0},{"$f":"+BD_DEP[[#This Row],[repi]]/BD_DEP[[#This Row],[Mat Inicial]]","v":0},"15","Dpto. Mercadeo y Neg. Internac",19339024,"Castellanos Ramirez Andres","TC","PR"]
[1217,"ADM0052","LOGISTICA Y DISTRIBUCION",3,202330,34,34,0,0,0,{"$f":"+BD_DEP[[#This Row],[totalp]]/BD_DEP[[#This Row],[Mat Inicial]]","v":0},{"$f":"+BD_DEP[[#This Row],[totalr]]/BD_DEP[[#This Row],[Mat Inicial]]","v":0},{"$f":"+BD_DEP[[#This Row],[repi]]/BD_DEP[[#This Row],[Mat Inicial]]","v":0},"15","Dpto. Mercadeo y Neg. Internac",19339024,"Castellanos Ramirez Andres","TC","PR"]
[2709,"MDO0024","MANAGEMENT OF INT. SERVICES",1,202330,23,23,0,0,0,{"$f":"+BD_DEP[[#This Row],[totalp]]/BD_DEP[[#This Row],[Mat Inicial]]","v":0},{"$f":"+BD_DEP[[#This Row],[totalr]]/BD_DEP[[#This Row],[Mat Inicial]]","v":0},{"$f":"+BD_DEP[[#This Row],[repi]]/BD_DEP[[#This Row],[Mat Inicial]]","v":0},"15","Dpto. Mercadeo y Neg. Internac",79630656,"Giraldo Oliveros Mario","TC","PR"]
[2703,"MDO0011","MARKETING  MANAGEMENT",2,202330,24,23,0,1,1,{"$f":"+BD_DEP[[#This Row],[totalp]]/BD_DEP[[#This Row],[Mat Inicial]]","v":0},{"$f":"+BD_DEP[[#This Row],[totalr]]/BD_DEP[[#This Row],[Mat Inicial]]","v":4.1666666666666664E-2},{"$f":"+BD_DEP[[#This Row],[repi]]/BD_DEP[[#This Row],[Mat Inicial]]","v":4.1666666666666664E-2},"15","Dpto. Mercadeo y Neg. Internac",22584184,"Arevalo Silva Erika","TC","PR"]
[2704,"MDO0011","MARKETING  MANAGEMENT",3,202330,25,24,0,1,1,{"$f":"+BD_DEP[[#This Row],[totalp]]/BD_DEP[[#This Row],[Mat Inicial]]","v":0},{"$f":"+BD_DEP[[#This Row],[totalr]]/BD_DEP[[#This Row],[Mat Inicial]]","v":0.04},{"$f":"+BD_DEP[[#This Row],[repi]]/BD_DEP[[#This Row],[Mat Inicial]]","v":0.04},"15","Dpto. Mercadeo y Neg. Internac",22584184,"Arevalo Silva Erika","TC","PR"]
[2702,"MDO0011","MARKETING  MANAGEMENT",1,202330,15,12,0,3,3,{"$f":"+BD_DEP[[#This Row],[totalp]]/BD_DEP[[#This Row],[Mat Inicial]]","v":0},{"$f":"+BD_DEP[[#This Row],[totalr]]/BD_DEP[[#This Row],[Mat Inicial]]","v":0.2},{"$f":"+BD_DEP[[#This Row],[repi]]/BD_DEP[[#This Row],[Mat Inicial]]","v":0.2},"15","Dpto. Mercadeo y Neg. Internac",79630656,"Giraldo Oliveros Mario","TC","PR"]
[1274,"ADM7510","NEG INTERNALES/COMPETITIVIDAD",1,202330,29,28,2,1,3,{"$f":"+BD_DEP[[#This Row],[totalp]]/BD_DEP[[#This Row],[Mat Inicial]]","v":6.8965517241379309E-2},{"$f":"+BD_DEP[[#This Row],[totalr]]/BD_DEP[[#This Row],[Mat Inicial]]","v":3.4482758620689655E-2},{"$f":"+BD_DEP[[#This Row],[repi]]/BD_DEP[[#This Row],[Mat Inicial]]","v":0.10344827586206896},"15","Dpto. Mercadeo y Neg. Internac",79758197,"LOMBANA COY JAHIR","TC","PR"]
[1275,"ADM7510","NEG INTERNALES/COMPETITIVIDAD",2,202330,20,20,1,0,1,{"$f":"+BD_DEP[[#This Row],[totalp]]/BD_DEP[[#This Row],[Mat Inicial]]","v":0.05},{"$f":"+BD_DEP[[#This Row],[totalr]]/BD_DEP[[#This Row],[Mat Inicial]]","v":0},{"$f":"+BD_DEP[[#This Row],[repi]]/BD_DEP[[#This Row],[Mat Inicial]]","v":0.05},"15","Dpto. Mercadeo y Neg. Internac",79758197,"LOMBANA COY JAHIR","TC","PR"]
[1276,"ADM7510","NEG INTERNALES/COMPETITIVIDAD",3,202330,30,29,0,1,1,{"$f":"+BD_DEP[[#This Row],[totalp]]/BD_DEP[[#This Row],[Mat Inicial]]","v":0},{"$f":"+BD_DEP[[#This Row],[totalr]]/BD_DEP[[#This Row],[Mat Inicial]]","v":3.3333333333333333E-2},{"$f":"+BD_DEP[[#This Row],[repi]]/BD_DEP[[#This Row],[Mat Inicial]]","v":3.3333333333333333E-2},"15","Dpto. Mercadeo y Neg. Internac",79758197,"LOMBANA COY JAHIR","TC","PR"]
[4405,"MDO0031","NEGOCIOS INTERNACIONALES",1,202330,38,38,0,0,0,{"$f":"+BD_DEP[[#This Row],[totalp]]/BD_DEP[[#This Row],[Mat Inicial]]","v":0},{"$f":"+BD_DEP[[#This Row],[totalr]]/BD_DEP[[#This Row],[Mat Inicial]]","v":0},{"$f":"+BD_DEP[[#This Row],[repi]]/BD_DEP[[#This Row],[Mat Inicial]]","v":0},"15","Dpto. Mercadeo y Neg. Internac",72178067,"Ortiz Velasquez Mauricio","TC","PR"]
[4406,"MDO0031","NEGOCIOS INTERNACIONALES",2,202330,45,45,1,0,1,{"$f":"+BD_DEP[[#This Row],[totalp]]/BD_DEP[[#This Row],[Mat Inicial]]","v":2.2222222222222223E-2},{"$f":"+BD_DEP[[#This Row],[totalr]]/BD_DEP[[#This Row],[Mat Inicial]]","v":0},{"$f":"+BD_DEP[[#This Row],[repi]]/BD_DEP[[#This Row],[Mat Inicial]]","v":2.2222222222222223E-2},"15","Dpto. Mercadeo y Neg. Internac",72178067,"Ortiz Velasquez Mauricio","TC","PR"]
[1272,"ADM7490","NEGOCIOS Y CULTURAS GLOBALES",2,202330,30,30,0,0,0,{"$f":"+BD_DEP[[#This Row],[totalp]]/BD_DEP[[#This Row],[Mat Inicial]]","v":0},{"$f":"+BD_DEP[[#This Row],[totalr]]/BD_DEP[[#This Row],[Mat Inicial]]","v":0},{"$f":"+BD_DEP[[#This Row],[repi]]/BD_DEP[[#This Row],[Mat Inicial]]","v":0},"15","Dpto. Mercadeo y Neg. Internac",72178067,"Ortiz Velasquez Mauricio","TC","PR"]
[1273,"ADM7490","NEGOCIOS Y CULTURAS GLOBALES",3,202330,27,26,0,1,1,{"$f":"+BD_DEP[[#This Row],[totalp]]/BD_DEP[[#This Row],[Mat Inicial]]","v":0},{"$f":"+BD_DEP[[#This Row],[totalr]]/BD_DEP[[#This Row],[Mat Inicial]]","v":3.7037037037037035E-2},{"$f":"+BD_DEP[[#This Row],[repi]]/BD_DEP[[#This Row],[Mat Inicial]]","v":3.7037037037037035E-2},"15","Dpto. Mercadeo y Neg. Internac",72178067,"Ortiz Velasquez Mauricio","TC","PR"]
[1271,"ADM7490","NEGOCIOS Y CULTURAS GLOBALES",1,202330,30,29,0,1,1,{"$f":"+BD_DEP[[#This Row],[totalp]]/BD_DEP[[#This Row],[Mat Inicial]]","v":0},{"$f":"+BD_DEP[[#This Row],[totalr]]/BD_DEP[[#This Row],[Mat Inicial]]","v":3.3333333333333333E-2},{"$f":"+BD_DEP[[#This Row],[repi]]/BD_DEP[[#This Row],[Mat Inicial]]","v":3.3333333333333333E-2},"15","Dpto. Mercadeo y Neg. Internac",1140831966,"CERVANTES GALVAN LISETTE","TC","PR"]
[1268,"ADM7420","INTELIGENCIA MERCAD INTERNALES",1,202330,17,17,0,0,0,{"$f":"+BD_DEP[[#This Row],[totalp]]/BD_DEP[[#This Row],[Mat Inicial]]","v":0},{"$f":"+BD_DEP[[#This Row],[totalr]]/BD_DEP[[#This Row],[Mat Inicial]]","v":0},{"$f":"+BD_DEP[[#This Row],[repi]]/BD_DEP[[#This Row],[Mat Inicial]]","v":0},"15","Dpto. Mercadeo y Neg. Internac",7473661,"MARTINEZ MARTELO DORIAN","MT","PR"]
[2710,"MDO4010","INVESTIGACION DE MERCADOS",1,202330,22,22,0,0,0,{"$f":"+BD_DEP[[#This Row],[totalp]]/BD_DEP[[#This Row],[Mat Inicial]]","v":0},{"$f":"+BD_DEP[[#This Row],[totalr]]/BD_DEP[[#This Row],[Mat Inicial]]","v":0},{"$f":"+BD_DEP[[#This Row],[repi]]/BD_DEP[[#This Row],[Mat Inicial]]","v":0},"15","Dpto. Mercadeo y Neg. Internac",19304189,"Martinez Diaz Domingo","MT","PR"]
[2711,"MDO4010","INVESTIGACION DE MERCADOS",2,202330,14,14,0,0,0,{"$f":"+BD_DEP[[#This Row],[totalp]]/BD_DEP[[#This Row],[Mat Inicial]]","v":0},{"$f":"+BD_DEP[[#This Row],[totalr]]/BD_DEP[[#This Row],[Mat Inicial]]","v":0},{"$f":"+BD_DEP[[#This Row],[repi]]/BD_DEP[[#This Row],[Mat Inicial]]","v":0},"15","Dpto. Mercadeo y Neg. Internac",19304189,"Martinez Diaz Domingo","MT","PR"]
[2712,"MDO4010","INVESTIGACION DE MERCADOS",3,202330,31,31,0,0,0,{"$f":"+BD_DEP[[#This Row],[totalp]]/BD_DEP[[#This Row],[Mat Inicial]]","v":0},{"$f":"+BD_DEP[[#This Row],[totalr]]/BD_DEP[[#This Row],[Mat Inicial]]","v":0},{"$f":"+BD_DEP[[#This Row],[repi]]/BD_DEP[[#This Row],[Mat Inicial]]","v":0},"15","Dpto. Mercadeo y Neg. Internac",19304189,"Martinez Diaz Domingo","MT","PR"]
[2706,"MDO0021","BRANDING",1,202330,24,24,0,0,0,{"$f":"+BD_DEP[[#This Row],[totalp]]/BD_DEP[[#This Row],[Mat Inicial]]","v":0},{"$f":"+BD_DEP[[#This Row],[totalr]]/BD_DEP[[#This Row],[Mat Inicial]]","v":0},{"$f":"+BD_DEP[[#This Row],[repi]]/BD_DEP[[#This Row],[Mat Inicial]]","v":0},"15","Dpto. Mercadeo y Neg. Internac",22461155,"DEL VECCHIO MERCADO FLAVIA","CA","PR"]
[2705,"MDO0012","DISTRIBUTION CHANNELS",1,202330,25,25,0,0,0,{"$f":"+BD_DEP[[#This Row],[totalp]]/BD_DEP[[#This Row],[Mat Inicial]]","v":0},{"$f":"+BD_DEP[[#This Row],[totalr]]/BD_DEP[[#This Row],[Mat Inicial]]","v":0},{"$f":"+BD_DEP[[#This Row],[repi]]/BD_DEP[[#This Row],[Mat Inicial]]","v":0},"15","Dpto. Mercadeo y Neg. Internac",79786689,"GARCIA CUELLO JAIME","CA","PR"]
[1224,"ADM0057","GLOBAL BUSINESS PROTOCOL",1,202330,31,30,0,1,1,{"$f":"+BD_DEP[[#This Row],[totalp]]/BD_DEP[[#This Row],[Mat Inicial]]","v":0},{"$f":"+BD_DEP[[#This Row],[totalr]]/BD_DEP[[#This Row],[Mat Inicial]]","v":3.2258064516129031E-2},{"$f":"+BD_DEP[[#This Row],[repi]]/BD_DEP[[#This Row],[Mat Inicial]]","v":3.2258064516129031E-2},"15","Dpto. Mercadeo y Neg. Internac",1129569807,"Toncel Duarte Jesus","CA","PR"]
[1225,"ADM0057","GLOBAL BUSINESS PROTOCOL",2,202330,28,28,0,0,0,{"$f":"+BD_DEP[[#This Row],[totalp]]/BD_DEP[[#This Row],[Mat Inicial]]","v":0},{"$f":"+BD_DEP[[#This Row],[totalr]]/BD_DEP[[#This Row],[Mat Inicial]]","v":0},{"$f":"+BD_DEP[[#This Row],[repi]]/BD_DEP[[#This Row],[Mat Inicial]]","v":0},"15","Dpto. Mercadeo y Neg. Internac",1129569807,"Toncel Duarte Jesus","CA","PR"]
[1226,"ADM0057","GLOBAL BUSINESS PROTOCOL",3,202330,30,30,0,0,0,{"$f":"+BD_DEP[[#This Row],[totalp]]/BD_DEP[[#This Row],[Mat Inicial]]","v":0},{"$f":"+BD_DEP[[#This Row],[totalr]]/BD_DEP[[#This Row],[Mat Inicial]]","v":0},{"$f":"+BD_DEP[[#This Row],[repi]]/BD_DEP[[#This Row],[Mat Inicial]]","v":0},"15","Dpto. Mercadeo y Neg. Internac",1129569807,"Toncel Duarte Jesus","CA","PR"]
[1218,"ADM0053","INT. CONTEMPORARY ANALYSIS",1,202330,30,30,0,0,0,{"$f":"+BD_DEP[[#This Row],[totalp]]/BD_DEP[[#This Row],[Mat Inicial]]","v":0},{"$f":"+BD_DEP[[#This Row],[totalr]]/BD_DEP[[#This Row],[Mat Inicial]]","v":0},{"$f":"+BD_DEP[[#This Row],[repi]]/BD_DEP[[#This Row],[Mat Inicial]]","v":0},"15","Dpto. Mercadeo y Neg. Internac",72302871,"Eusse Bovea Dorian","CA","PR"]
[1219,"ADM0053","INT. CONTEMPORARY ANALYSIS",2,202330,9,9,0,0,0,{"$f":"+BD_DEP[[#This Row],[totalp]]/BD_DEP[[#This Row],[Mat Inicial]]","v":0},{"$f":"+BD_DEP[[#This Row],[totalr]]/BD_DEP[[#This Row],[Mat Inicial]]","v":0},{"$f":"+BD_DEP[[#This Row],[repi]]/BD_DEP[[#This Row],[Mat Inicial]]","v":0},"15","Dpto. Mercadeo y Neg. Internac",72302871,"Eusse Bovea Dorian","CA","PR"]
[1233,"ADM0061","INT. STRATEGIC NEGOTIATION",1,202330,20,19,0,1,1,{"$f":"+BD_DEP[[#This Row],[totalp]]/BD_DEP[[#This Row],[Mat Inicial]]","v":0},{"$f":"+BD_DEP[[#This Row],[totalr]]/BD_DEP[[#This Row],[Mat Inicial]]","v":0.05},{"$f":"+BD_DEP[[#This Row],[repi]]/BD_DEP[[#This Row],[Mat Inicial]]","v":0.05},"15","Dpto. Mercadeo y Neg. Internac",187111,"Renaud Lantier Patrice","CA","PR"]
[1234,"ADM0061","INT. STRATEGIC NEGOTIATION",2,202330,15,15,0,0,0,{"$f":"+BD_DEP[[#This Row],[totalp]]/BD_DEP[[#This Row],[Mat Inicial]]","v":0},{"$f":"+BD_DEP[[#This Row],[totalr]]/BD_DEP[[#This Row],[Mat Inicial]]","v":0},{"$f":"+BD_DEP[[#This Row],[repi]]/BD_DEP[[#This Row],[Mat Inicial]]","v":0},"15","Dpto. Mercadeo y Neg. Internac",187111,"Renaud Lantier Patrice","CA","PR"]
[2713,"MDO4015","INTER BUSINESS SEMINAR",1,202330,37,37,0,0,0,{"$f":"+BD_DEP[[#This Row],[totalp]]/BD_DEP[[#This Row],[Mat Inicial]]","v":0},{"$f":"+BD_DEP[[#This Row],[totalr]]/BD_DEP[[#This Row],[Mat Inicial]]","v":0},{"$f":"+BD_DEP[[#This Row],[repi]]/BD_DEP[[#This Row],[Mat Inicial]]","v":0},"15","Dpto. Mercadeo y Neg. Internac",1140816433,"Cantillo Concha Diana","CA","PR"]
[2708,"MDO0023","INTERNATIONAL BRAND MANAGEMENT",1,202330,22,22,0,0,0,{"$f":"+BD_DEP[[#This Row],[totalp]]/BD_DEP[[#This Row],[Mat Inicial]]","v":0},{"$f":"+BD_DEP[[#This Row],[totalr]]/BD_DEP[[#This Row],[Mat Inicial]]","v":0},{"$f":"+BD_DEP[[#This Row],[repi]]/BD_DEP[[#This Row],[Mat Inicial]]","v":0},"15","Dpto. Mercadeo y Neg. Internac",1129569807,"Toncel Duarte Jesus","CA","PR"]
[1222,"ADM0056","INTERNATIONAL INTEGRATION",1,202330,12,11,0,1,1,{"$f":"+BD_DEP[[#This Row],[totalp]]/BD_DEP[[#This Row],[Mat Inicial]]","v":0},{"$f":"+BD_DEP[[#This Row],[totalr]]/BD_DEP[[#This Row],[Mat Inicial]]","v":8.3333333333333329E-2},{"$f":"+BD_DEP[[#This Row],[repi]]/BD_DEP[[#This Row],[Mat Inicial]]","v":8.3333333333333329E-2},"15","Dpto. Mercadeo y Neg. Internac",1140816433,"Cantillo Concha Diana","CA","PR"]
[1223,"ADM0056","INTERNATIONAL INTEGRATION",2,202330,25,25,0,0,0,{"$f":"+BD_DEP[[#This Row],[totalp]]/BD_DEP[[#This Row],[Mat Inicial]]","v":0},{"$f":"+BD_DEP[[#This Row],[totalr]]/BD_DEP[[#This Row],[Mat Inicial]]","v":0},{"$f":"+BD_DEP[[#This Row],[repi]]/BD_DEP[[#This Row],[Mat Inicial]]","v":0},"15","Dpto. Mercadeo y Neg. Internac",1140816433,"Cantillo Concha Diana","CA","PR"]
[2723,"MDO8340","INTERNATIONAL MARKETING",3,202330,23,23,0,0,0,{"$f":"+BD_DEP[[#This Row],[totalp]]/BD_DEP[[#This Row],[Mat Inicial]]","v":0},{"$f":"+BD_DEP[[#This Row],[totalr]]/BD_DEP[[#This Row],[Mat Inicial]]","v":0},{"$f":"+BD_DEP[[#This Row],[repi]]/BD_DEP[[#This Row],[Mat Inicial]]","v":0},"15","Dpto. Mercadeo y Neg. Internac",72302871,"Eusse Bovea Dorian","CA","PR"]
[1277,"ADM8795","INTERNATIONAL SALES MANAGEMENT",1,202330,22,22,0,0,0,{"$f":"+BD_DEP[[#This Row],[totalp]]/BD_DEP[[#This Row],[Mat Inicial]]","v":0},{"$f":"+BD_DEP[[#This Row],[totalr]]/BD_DEP[[#This Row],[Mat Inicial]]","v":0},{"$f":"+BD_DEP[[#This Row],[repi]]/BD_DEP[[#This Row],[Mat Inicial]]","v":0},"15","Dpto. Mercadeo y Neg. Internac",187111,"Renaud Lantier Patrice","CA","PR"]
[1278,"ADM8800","INTERNATIONAL TRADE MANAGEMENT",1,202330,34,33,0,1,1,{"$f":"+BD_DEP[[#This Row],[totalp]]/BD_DEP[[#This Row],[Mat Inicial]]","v":0},{"$f":"+BD_DEP[[#This Row],[totalr]]/BD_DEP[[#This Row],[Mat Inicial]]","v":2.9411764705882353E-2},{"$f":"+BD_DEP[[#This Row],[repi]]/BD_DEP[[#This Row],[Mat Inicial]]","v":2.9411764705882353E-2},"15","Dpto. Mercadeo y Neg. Internac",8531482,"Siman Jacir Belfor","CA","PR"]
[1279,"ADM8800","INTERNATIONAL TRADE MANAGEMENT",2,202330,28,27,0,1,1,{"$f":"+BD_DEP[[#This Row],[totalp]]/BD_DEP[[#This Row],[Mat Inicial]]","v":0},{"$f":"+BD_DEP[[#This Row],[totalr]]/BD_DEP[[#This Row],[Mat Inicial]]","v":3.5714285714285712E-2},{"$f":"+BD_DEP[[#This Row],[repi]]/BD_DEP[[#This Row],[Mat Inicial]]","v":3.5714285714285712E-2},"15","Dpto. Mercadeo y Neg. Internac",8531482,"Siman Jacir Belfor","CA","PR"]
[1280,"ADM8800","INTERNATIONAL TRADE MANAGEMENT",3,202330,30,30,0,0,0,{"$f":"+BD_DEP[[#This Row],[totalp]]/BD_DEP[[#This Row],[Mat Inicial]]","v":0},{"$f":"+BD_DEP[[#This Row],[totalr]]/BD_DEP[[#This Row],[Mat Inicial]]","v":0},{"$f":"+BD_DEP[[#This Row],[repi]]/BD_DEP[[#This Row],[Mat Inicial]]","v":0},"15","Dpto. Mercadeo y Neg. Internac",72150559,"Saenz Breton Juan","CA","PR"]
[1191,"ADM0017","LOGISTICS AND DISTRIBUTION",1,202330,20,19,0,1,1,{"$f":"+BD_DEP[[#This Row],[totalp]]/BD_DEP[[#This Row],[Mat Inicial]]","v":0},{"$f":"+BD_DEP[[#This Row],[totalr]]/BD_DEP[[#This Row],[Mat Inicial]]","v":0.05},{"$f":"+BD_DEP[[#This Row],[repi]]/BD_DEP[[#This Row],[Mat Inicial]]","v":0.05},"15","Dpto. Mercadeo y Neg. Internac",72167774,"Redondo Fajardo Javier","CA","PR"]
[1192,"ADM0017","LOGISTICS AND DISTRIBUTION",2,202330,17,14,0,3,3,{"$f":"+BD_DEP[[#This Row],[totalp]]/BD_DEP[[#This Row],[Mat Inicial]]","v":0},{"$f":"+BD_DEP[[#This Row],[totalr]]/BD_DEP[[#This Row],[Mat Inicial]]","v":0.17647058823529413},{"$f":"+BD_DEP[[#This Row],[repi]]/BD_DEP[[#This Row],[Mat Inicial]]","v":0.17647058823529413},"15","Dpto. Mercadeo y Neg. Internac",72167774,"Redondo Fajardo Javier","CA","PR"]
[1193,"ADM0017","LOGISTICS AND DISTRIBUTION",3,202330,30,30,0,0,0,{"$f":"+BD_DEP[[#This Row],[totalp]]/BD_DEP[[#This Row],[Mat Inicial]]","v":0},{"$f":"+BD_DEP[[#This Row],[totalr]]/BD_DEP[[#This Row],[Mat Inicial]]","v":0},{"$f":"+BD_DEP[[#This Row],[repi]]/BD_DEP[[#This Row],[Mat Inicial]]","v":0},"15","Dpto. Mercadeo y Neg. Internac",72167774,"Redondo Fajardo Javier","CA","PR"]
[1227,"ADM0058","PORT MANAGEMENT",1,202330,32,31,0,1,1,{"$f":"+BD_DEP[[#This Row],[totalp]]/BD_DEP[[#This Row],[Mat Inicial]]","v":0},{"$f":"+BD_DEP[[#This Row],[totalr]]/BD_DEP[[#This Row],[Mat Inicial]]","v":3.125E-2},{"$f":"+BD_DEP[[#This Row],[repi]]/BD_DEP[[#This Row],[Mat Inicial]]","v":3.125E-2},"15","Dpto. Mercadeo y Neg. Internac",72005392,"Ariza Buitrago Lucas","CA","PR"]
[1228,"ADM0058","PORT MANAGEMENT",2,202330,30,30,0,0,0,{"$f":"+BD_DEP[[#This Row],[totalp]]/BD_DEP[[#This Row],[Mat Inicial]]","v":0},{"$f":"+BD_DEP[[#This Row],[totalr]]/BD_DEP[[#This Row],[Mat Inicial]]","v":0},{"$f":"+BD_DEP[[#This Row],[repi]]/BD_DEP[[#This Row],[Mat Inicial]]","v":0},"15","Dpto. Mercadeo y Neg. Internac",72005392,"Ariza Buitrago Lucas","CA","PR"]
[1229,"ADM0058","PORT MANAGEMENT",3,202330,28,28,0,0,0,{"$f":"+BD_DEP[[#This Row],[totalp]]/BD_DEP[[#This Row],[Mat Inicial]]","v":0},{"$f":"+BD_DEP[[#This Row],[totalr]]/BD_DEP[[#This Row],[Mat Inicial]]","v":0},{"$f":"+BD_DEP[[#This Row],[repi]]/BD_DEP[[#This Row],[Mat Inicial]]","v":0},"15","Dpto. Mercadeo y Neg. Internac",72005392,"Ariza Buitrago Lucas","CA","PR"]
[6080,"MUS7000","CANTO I",1,202330,1,1,0,0,0,{"$f":"+BD_DEP[[#This Row],[totalp]]/BD_DEP[[#This Row],[Mat Inicial]]","v":0},{"$f":"+BD_DEP[[#This Row],[totalr]]/BD_DEP[[#This Row],[Mat Inicial]]","v":0},{"$f":"+BD_DEP[[#This Row],[repi]]/BD_DEP[[#This Row],[Mat Inicial]]","v":0},"52","Dpto. Música",362164,"Lara Iser Jhany","TC","PR"]
[2787,"MUS7005","CANTO II",1,202330,1,1,0,0,0,{"$f":"+BD_DEP[[#This Row],[totalp]]/BD_DEP[[#This Row],[Mat Inicial]]","v":0},{"$f":"+BD_DEP[[#This Row],[totalr]]/BD_DEP[[#This Row],[Mat Inicial]]","v":0},{"$f":"+BD_DEP[[#This Row],[repi]]/BD_DEP[[#This Row],[Mat Inicial]]","v":0},"52","Dpto. Música",362164,"Lara Iser Jhany","TC","PR"]
[2788,"MUS7010","CANTO III",1,202330,1,1,0,0,0,{"$f":"+BD_DEP[[#This Row],[totalp]]/BD_DEP[[#This Row],[Mat Inicial]]","v":0},{"$f":"+BD_DEP[[#This Row],[totalr]]/BD_DEP[[#This Row],[Mat Inicial]]","v":0},{"$f":"+BD_DEP[[#This Row],[repi]]/BD_DEP[[#This Row],[Mat Inicial]]","v":0},"52","Dpto. Música",362164,"Lara Iser Jhany","TC","PR"]
[2790,"MUS7015","CANTO IV",1,202330,1,1,0,0,0,{"$f":"+BD_DEP[[#This Row],[totalp]]/BD_DEP[[#This Row],[Mat Inicial]]","v":0},{"$f":"+BD_DEP[[#This Row],[totalr]]/BD_DEP[[#This Row],[Mat Inicial]]","v":0},{"$f":"+BD_DEP[[#This Row],[repi]]/BD_DEP[[#This Row],[Mat Inicial]]","v":0},"52","Dpto. Música",362164,"Lara Iser Jhany","TC","PR"]
[2791,"MUS7020","CANTO V",1,202330,1,1,0,0,0,{"$f":"+BD_DEP[[#This Row],[totalp]]/BD_DEP[[#This Row],[Mat Inicial]]","v":0},{"$f":"+BD_DEP[[#This Row],[totalr]]/BD_DEP[[#This Row],[Mat Inicial]]","v":0},{"$f":"+BD_DEP[[#This Row],[repi]]/BD_DEP[[#This Row],[Mat Inicial]]","v":0},"52","Dpto. Música",362164,"Lara Iser Jhany","TC","PR"]
[2792,"MUS7025","CANTO VI",1,202330,1,1,0,0,0,{"$f":"+BD_DEP[[#This Row],[totalp]]/BD_DEP[[#This Row],[Mat Inicial]]","v":0},{"$f":"+BD_DEP[[#This Row],[totalr]]/BD_DEP[[#This Row],[Mat Inicial]]","v":0},{"$f":"+BD_DEP[[#This Row],[repi]]/BD_DEP[[#This Row],[Mat Inicial]]","v":0},"52","Dpto. Música",362164,"Lara Iser Jhany","TC","PR"]
[2793,"MUS7035","CANTO VIII",1,202330,1,1,0,0,0,{"$f":"+BD_DEP[[#This Row],[totalp]]/BD_DEP[[#This Row],[Mat Inicial]]","v":0},{"$f":"+BD_DEP[[#This Row],[totalr]]/BD_DEP[[#This Row],[Mat Inicial]]","v":0},{"$f":"+BD_DEP[[#This Row],[repi]]/BD_DEP[[#This Row],[Mat Inicial]]","v":0},"52","Dpto. Música",362164,"Lara Iser Jhany","TC","PR"]
[2816,"MUS7418","CLARINETE IV",1,202330,1,1,0,0,0,{"$f":"+BD_DEP[[#This Row],[totalp]]/BD_DEP[[#This Row],[Mat Inicial]]","v":0},{"$f":"+BD_DEP[[#This Row],[totalr]]/BD_DEP[[#This Row],[Mat Inicial]]","v":0},{"$f":"+BD_DEP[[#This Row],[repi]]/BD_DEP[[#This Row],[Mat Inicial]]","v":0},"52","Dpto. Música",362164,"Lara Iser Jhany","TC","PR"]
[2786,"MUS4180","CONTRAPUNTO Y ARMONIA II",1,202330,8,8,0,0,0,{"$f":"+BD_DEP[[#This Row],[totalp]]/BD_DEP[[#This Row],[Mat Inicial]]","v":0},{"$f":"+BD_DEP[[#This Row],[totalr]]/BD_DEP[[#This Row],[Mat Inicial]]","v":0},{"$f":"+BD_DEP[[#This Row],[repi]]/BD_DEP[[#This Row],[Mat Inicial]]","v":0},"52","Dpto. Música",72004072,"Donado Sarmiento Leonardo","TC","PR"]
[6769,"HIS0050","DE LA ANTIGUEDAD AL BARROCO",1,202330,15,15,0,0,0,{"$f":"+BD_DEP[[#This Row],[totalp]]/BD_DEP[[#This Row],[Mat Inicial]]","v":0},{"$f":"+BD_DEP[[#This Row],[totalr]]/BD_DEP[[#This Row],[Mat Inicial]]","v":0},{"$f":"+BD_DEP[[#This Row],[repi]]/BD_DEP[[#This Row],[Mat Inicial]]","v":0},"52","Dpto. Música",79149999,"GOMEZ GIRALDO NELSON","TC","PR"]
[4408,"MUS4030","ENTRENAMIENTO AUDITIVO I",50,202330,9,7,1,2,3,{"$f":"+BD_DEP[[#This Row],[totalp]]/BD_DEP[[#This Row],[Mat Inicial]]","v":0.1111111111111111},{"$f":"+BD_DEP[[#This Row],[totalr]]/BD_DEP[[#This Row],[Mat Inicial]]","v":0.22222222222222221},{"$f":"+BD_DEP[[#This Row],[repi]]/BD_DEP[[#This Row],[Mat Inicial]]","v":0.33333333333333331},"52","Dpto. Música",80063583,"VARGAS ROJAS JOSE","TC","PR"]
[2729,"MUS4035","ENTRENAMIENTO AUDITIVO II",1,202330,14,14,4,0,4,{"$f":"+BD_DEP[[#This Row],[totalp]]/BD_DEP[[#This Row],[Mat Inicial]]","v":0.2857142857142857},{"$f":"+BD_DEP[[#This Row],[totalr]]/BD_DEP[[#This Row],[Mat Inicial]]","v":0},{"$f":"+BD_DEP[[#This Row],[repi]]/BD_DEP[[#This Row],[Mat Inicial]]","v":0.2857142857142857},"52","Dpto. Música",80063583,"VARGAS ROJAS JOSE","TC","PR"]
[2730,"MUS4040","ENTRENAMIENTO AUDITIVO III",1,202330,8,8,0,0,0,{"$f":"+BD_DEP[[#This Row],[totalp]]/BD_DEP[[#This Row],[Mat Inicial]]","v":0},{"$f":"+BD_DEP[[#This Row],[totalr]]/BD_DEP[[#This Row],[Mat Inicial]]","v":0},{"$f":"+BD_DEP[[#This Row],[repi]]/BD_DEP[[#This Row],[Mat Inicial]]","v":0},"52","Dpto. Música",79149999,"GOMEZ GIRALDO NELSON","TC","PR"]
[2731,"MUS4045","ENTRENAMIENTO AUDITIVO IV",1,202330,14,13,0,1,1,{"$f":"+BD_DEP[[#This Row],[totalp]]/BD_DEP[[#This Row],[Mat Inicial]]","v":0},{"$f":"+BD_DEP[[#This Row],[totalr]]/BD_DEP[[#This Row],[Mat Inicial]]","v":7.1428571428571425E-2},{"$f":"+BD_DEP[[#This Row],[repi]]/BD_DEP[[#This Row],[Mat Inicial]]","v":7.1428571428571425E-2},"52","Dpto. Música",72286792,"Calderon Jimenez Leopoldo","TC","PR"]
[2732,"MUS4050","FORMA Y ANALISIS I",1,202330,14,14,3,0,3,{"$f":"+BD_DEP[[#This Row],[totalp]]/BD_DEP[[#This Row],[Mat Inicial]]","v":0.21428571428571427},{"$f":"+BD_DEP[[#This Row],[totalr]]/BD_DEP[[#This Row],[Mat Inicial]]","v":0},{"$f":"+BD_DEP[[#This Row],[repi]]/BD_DEP[[#This Row],[Mat Inicial]]","v":0.21428571428571427},"52","Dpto. Música",72287359,"Puche Perneth Camilo","TC","PR"]
[4409,"MUS4060","FUNDAMENTOS DE TEORIA",50,202330,11,9,4,2,6,{"$f":"+BD_DEP[[#This Row],[totalp]]/BD_DEP[[#This Row],[Mat Inicial]]","v":0.36363636363636365},{"$f":"+BD_DEP[[#This Row],[totalr]]/BD_DEP[[#This Row],[Mat Inicial]]","v":0.18181818181818182},{"$f":"+BD_DEP[[#This Row],[repi]]/BD_DEP[[#This Row],[Mat Inicial]]","v":0.54545454545454541},"52","Dpto. Música",80063583,"VARGAS ROJAS JOSE","TC","PR"]
[2734,"MUS4065","GESTION DE PROYECTOS MUSICALES",1,202330,10,9,2,1,3,{"$f":"+BD_DEP[[#This Row],[totalp]]/BD_DEP[[#This Row],[Mat Inicial]]","v":0.2},{"$f":"+BD_DEP[[#This Row],[totalr]]/BD_DEP[[#This Row],[Mat Inicial]]","v":0.1},{"$f":"+BD_DEP[[#This Row],[repi]]/BD_DEP[[#This Row],[Mat Inicial]]","v":0.3},"52","Dpto. Música",72287359,"Puche Perneth Camilo","TC","PR"]
[2794,"MUS7045","GUITARRA II",1,202330,1,0,0,1,1,{"$f":"+BD_DEP[[#This Row],[totalp]]/BD_DEP[[#This Row],[Mat Inicial]]","v":0},{"$f":"+BD_DEP[[#This Row],[totalr]]/BD_DEP[[#This Row],[Mat Inicial]]","v":1},{"$f":"+BD_DEP[[#This Row],[repi]]/BD_DEP[[#This Row],[Mat Inicial]]","v":1},"52","Dpto. Música",72286792,"Calderon Jimenez Leopoldo","TC","PR"]
[2795,"MUS7070","GUITARRA VII",1,202330,1,1,0,0,0,{"$f":"+BD_DEP[[#This Row],[totalp]]/BD_DEP[[#This Row],[Mat Inicial]]","v":0},{"$f":"+BD_DEP[[#This Row],[totalr]]/BD_DEP[[#This Row],[Mat Inicial]]","v":0},{"$f":"+BD_DEP[[#This Row],[repi]]/BD_DEP[[#This Row],[Mat Inicial]]","v":0},"52","Dpto. Música",72286792,"Calderon Jimenez Leopoldo","TC","PR"]
[2796,"MUS7075","GUITARRA VIII",1,202330,1,1,0,0,0,{"$f":"+BD_DEP[[#This Row],[totalp]]/BD_DEP[[#This Row],[Mat Inicial]]","v":0},{"$f":"+BD_DEP[[#This Row],[totalr]]/BD_DEP[[#This Row],[Mat Inicial]]","v":0},{"$f":"+BD_DEP[[#This Row],[repi]]/BD_DEP[[#This Row],[Mat Inicial]]","v":0},"52","Dpto. Música",72286792,"Calderon Jimenez Leopoldo","TC","PR"]
[2021,"HIS7095","HISTORIA DE LA MUSICA I",1,202330,15,15,0,0,0,{"$f":"+BD_DEP[[#This Row],[totalp]]/BD_DEP[[#This Row],[Mat Inicial]]","v":0},{"$f":"+BD_DEP[[#This Row],[totalr]]/BD_DEP[[#This Row],[Mat Inicial]]","v":0},{"$f":"+BD_DEP[[#This Row],[repi]]/BD_DEP[[#This Row],[Mat Inicial]]","v":0},"52","Dpto. Música",79149999,"GOMEZ GIRALDO NELSON","TC","PR"]
[6084,"MUS7448","JAZZ Y MUSICA POPULAR I",9,202330,1,1,0,0,0,{"$f":"+BD_DEP[[#This Row],[totalp]]/BD_DEP[[#This Row],[Mat Inicial]]","v":0},{"$f":"+BD_DEP[[#This Row],[totalr]]/BD_DEP[[#This Row],[Mat Inicial]]","v":0},{"$f":"+BD_DEP[[#This Row],[repi]]/BD_DEP[[#This Row],[Mat Inicial]]","v":0},"52","Dpto. Música",362164,"Lara Iser Jhany","TC","PR"]
[2817,"MUS7448","JAZZ Y MUSICA POPULAR I",1,202330,1,1,0,0,0,{"$f":"+BD_DEP[[#This Row],[totalp]]/BD_DEP[[#This Row],[Mat Inicial]]","v":0},{"$f":"+BD_DEP[[#This Row],[totalr]]/BD_DEP[[#This Row],[Mat Inicial]]","v":0},{"$f":"+BD_DEP[[#This Row],[repi]]/BD_DEP[[#This Row],[Mat Inicial]]","v":0},"52","Dpto. Música",44157639,"Bornacelli Garcia Zeidy","TC","PR"]
[2819,"MUS7448","JAZZ Y MUSICA POPULAR I",3,202330,1,1,0,0,0,{"$f":"+BD_DEP[[#This Row],[totalp]]/BD_DEP[[#This Row],[Mat Inicial]]","v":0},{"$f":"+BD_DEP[[#This Row],[totalr]]/BD_DEP[[#This Row],[Mat Inicial]]","v":0},{"$f":"+BD_DEP[[#This Row],[repi]]/BD_DEP[[#This Row],[Mat Inicial]]","v":0},"52","Dpto. Música",44157639,"Bornacelli Garcia Zeidy","TC","PR"]
[6083,"MUS7448","JAZZ Y MUSICA POPULAR I",8,202330,1,1,0,0,0,{"$f":"+BD_DEP[[#This Row],[totalp]]/BD_DEP[[#This Row],[Mat Inicial]]","v":0},{"$f":"+BD_DEP[[#This Row],[totalr]]/BD_DEP[[#This Row],[Mat Inicial]]","v":0},{"$f":"+BD_DEP[[#This Row],[repi]]/BD_DEP[[#This Row],[Mat Inicial]]","v":0},"52","Dpto. Música",44157639,"Bornacelli Garcia Zeidy","TC","PR"]
[2820,"MUS7448","JAZZ Y MUSICA POPULAR I",4,202330,1,1,0,0,0,{"$f":"+BD_DEP[[#This Row],[totalp]]/BD_DEP[[#This Row],[Mat Inicial]]","v":0},{"$f":"+BD_DEP[[#This Row],[totalr]]/BD_DEP[[#This Row],[Mat Inicial]]","v":0},{"$f":"+BD_DEP[[#This Row],[repi]]/BD_DEP[[#This Row],[Mat Inicial]]","v":0},"52","Dpto. Música",72286792,"Calderon Jimenez Leopoldo","TC","PR"]
[2824,"MUS7450","JAZZ Y MUSICA POPULAR II",1,202330,1,1,0,0,0,{"$f":"+BD_DEP[[#This Row],[totalp]]/BD_DEP[[#This Row],[Mat Inicial]]","v":0},{"$f":"+BD_DEP[[#This Row],[totalr]]/BD_DEP[[#This Row],[Mat Inicial]]","v":0},{"$f":"+BD_DEP[[#This Row],[repi]]/BD_DEP[[#This Row],[Mat Inicial]]","v":0},"52","Dpto. Música",44157639,"Bornacelli Garcia Zeidy","TC","PR"]
[2825,"MUS7450","JAZZ Y MUSICA POPULAR II",2,202330,1,1,0,0,0,{"$f":"+BD_DEP[[#This Row],[totalp]]/BD_DEP[[#This Row],[Mat Inicial]]","v":0},{"$f":"+BD_DEP[[#This Row],[totalr]]/BD_DEP[[#This Row],[Mat Inicial]]","v":0},{"$f":"+BD_DEP[[#This Row],[repi]]/BD_DEP[[#This Row],[Mat Inicial]]","v":0},"52","Dpto. Música",44157639,"Bornacelli Garcia Zeidy","TC","PR"]
[2826,"MUS7450","JAZZ Y MUSICA POPULAR II",3,202330,1,1,1,0,1,{"$f":"+BD_DEP[[#This Row],[totalp]]/BD_DEP[[#This Row],[Mat Inicial]]","v":1},{"$f":"+BD_DEP[[#This Row],[totalr]]/BD_DEP[[#This Row],[Mat Inicial]]","v":0},{"$f":"+BD_DEP[[#This Row],[repi]]/BD_DEP[[#This Row],[Mat Inicial]]","v":1},"52","Dpto. Música",44157639,"Bornacelli Garcia Zeidy","TC","PR"]
[2829,"MUS7452","JAZZ Y MUSICA POPULAR III",1,202330,1,1,0,0,0,{"$f":"+BD_DEP[[#This Row],[totalp]]/BD_DEP[[#This Row],[Mat Inicial]]","v":0},{"$f":"+BD_DEP[[#This Row],[totalr]]/BD_DEP[[#This Row],[Mat Inicial]]","v":0},{"$f":"+BD_DEP[[#This Row],[repi]]/BD_DEP[[#This Row],[Mat Inicial]]","v":0},"52","Dpto. Música",362164,"Lara Iser Jhany","TC","PR"]
[2831,"MUS7452","JAZZ Y MUSICA POPULAR III",3,202330,1,1,0,0,0,{"$f":"+BD_DEP[[#This Row],[totalp]]/BD_DEP[[#This Row],[Mat Inicial]]","v":0},{"$f":"+BD_DEP[[#This Row],[totalr]]/BD_DEP[[#This Row],[Mat Inicial]]","v":0},{"$f":"+BD_DEP[[#This Row],[repi]]/BD_DEP[[#This Row],[Mat Inicial]]","v":0},"52","Dpto. Música",72286792,"Calderon Jimenez Leopoldo","TC","PR"]
[2832,"MUS7454","JAZZ Y MUSICA POPULAR IV",1,202330,1,1,0,0,0,{"$f":"+BD_DEP[[#This Row],[totalp]]/BD_DEP[[#This Row],[Mat Inicial]]","v":0},{"$f":"+BD_DEP[[#This Row],[totalr]]/BD_DEP[[#This Row],[Mat Inicial]]","v":0},{"$f":"+BD_DEP[[#This Row],[repi]]/BD_DEP[[#This Row],[Mat Inicial]]","v":0},"52","Dpto. Música",44157639,"Bornacelli Garcia Zeidy","TC","PR"]
[2833,"MUS7454","JAZZ Y MUSICA POPULAR IV",2,202330,1,1,0,0,0,{"$f":"+BD_DEP[[#This Row],[totalp]]/BD_DEP[[#This Row],[Mat Inicial]]","v":0},{"$f":"+BD_DEP[[#This Row],[totalr]]/BD_DEP[[#This Row],[Mat Inicial]]","v":0},{"$f":"+BD_DEP[[#This Row],[repi]]/BD_DEP[[#This Row],[Mat Inicial]]","v":0},"52","Dpto. Música",44157639,"Bornacelli Garcia Zeidy","TC","PR"]
[2834,"MUS7454","JAZZ Y MUSICA POPULAR IV",3,202330,1,1,0,0,0,{"$f":"+BD_DEP[[#This Row],[totalp]]/BD_DEP[[#This Row],[Mat Inicial]]","v":0},{"$f":"+BD_DEP[[#This Row],[totalr]]/BD_DEP[[#This Row],[Mat Inicial]]","v":0},{"$f":"+BD_DEP[[#This Row],[repi]]/BD_DEP[[#This Row],[Mat Inicial]]","v":0},"52","Dpto. Música",44157639,"Bornacelli Garcia Zeidy","TC","PR"]
[2835,"MUS7454","JAZZ Y MUSICA POPULAR IV",4,202330,1,1,0,0,0,{"$f":"+BD_DEP[[#This Row],[totalp]]/BD_DEP[[#This Row],[Mat Inicial]]","v":0},{"$f":"+BD_DEP[[#This Row],[totalr]]/BD_DEP[[#This Row],[Mat Inicial]]","v":0},{"$f":"+BD_DEP[[#This Row],[repi]]/BD_DEP[[#This Row],[Mat Inicial]]","v":0},"52","Dpto. Música",72286792,"Calderon Jimenez Leopoldo","TC","PR"]
[2836,"MUS7454","JAZZ Y MUSICA POPULAR IV",5,202330,1,1,0,0,0,{"$f":"+BD_DEP[[#This Row],[totalp]]/BD_DEP[[#This Row],[Mat Inicial]]","v":0},{"$f":"+BD_DEP[[#This Row],[totalr]]/BD_DEP[[#This Row],[Mat Inicial]]","v":0},{"$f":"+BD_DEP[[#This Row],[repi]]/BD_DEP[[#This Row],[Mat Inicial]]","v":0},"52","Dpto. Música",72286792,"Calderon Jimenez Leopoldo","TC","PR"]
[2844,"MUS7456","JAZZ Y MUSICA POPULAR V",4,202330,1,1,0,0,0,{"$f":"+BD_DEP[[#This Row],[totalp]]/BD_DEP[[#This Row],[Mat Inicial]]","v":0},{"$f":"+BD_DEP[[#This Row],[totalr]]/BD_DEP[[#This Row],[Mat Inicial]]","v":0},{"$f":"+BD_DEP[[#This Row],[repi]]/BD_DEP[[#This Row],[Mat Inicial]]","v":0},"52","Dpto. Música",362164,"Lara Iser Jhany","TC","PR"]
[2845,"MUS7456","JAZZ Y MUSICA POPULAR V",5,202330,1,1,0,0,0,{"$f":"+BD_DEP[[#This Row],[totalp]]/BD_DEP[[#This Row],[Mat Inicial]]","v":0},{"$f":"+BD_DEP[[#This Row],[totalr]]/BD_DEP[[#This Row],[Mat Inicial]]","v":0},{"$f":"+BD_DEP[[#This Row],[repi]]/BD_DEP[[#This Row],[Mat Inicial]]","v":0},"52","Dpto. Música",362164,"Lara Iser Jhany","TC","PR"]
[2841,"MUS7456","JAZZ Y MUSICA POPULAR V",1,202330,1,1,0,0,0,{"$f":"+BD_DEP[[#This Row],[totalp]]/BD_DEP[[#This Row],[Mat Inicial]]","v":0},{"$f":"+BD_DEP[[#This Row],[totalr]]/BD_DEP[[#This Row],[Mat Inicial]]","v":0},{"$f":"+BD_DEP[[#This Row],[repi]]/BD_DEP[[#This Row],[Mat Inicial]]","v":0},"52","Dpto. Música",44157639,"Bornacelli Garcia Zeidy","TC","PR"]
[2842,"MUS7456","JAZZ Y MUSICA POPULAR V",2,202330,1,1,0,0,0,{"$f":"+BD_DEP[[#This Row],[totalp]]/BD_DEP[[#This Row],[Mat Inicial]]","v":0},{"$f":"+BD_DEP[[#This Row],[totalr]]/BD_DEP[[#This Row],[Mat Inicial]]","v":0},{"$f":"+BD_DEP[[#This Row],[repi]]/BD_DEP[[#This Row],[Mat Inicial]]","v":0},"52","Dpto. Música",44157639,"Bornacelli Garcia Zeidy","TC","PR"]
[2843,"MUS7456","JAZZ Y MUSICA POPULAR V",3,202330,1,1,0,0,0,{"$f":"+BD_DEP[[#This Row],[totalp]]/BD_DEP[[#This Row],[Mat Inicial]]","v":0},{"$f":"+BD_DEP[[#This Row],[totalr]]/BD_DEP[[#This Row],[Mat Inicial]]","v":0},{"$f":"+BD_DEP[[#This Row],[repi]]/BD_DEP[[#This Row],[Mat Inicial]]","v":0},"52","Dpto. Música",44157639,"Bornacelli Garcia Zeidy","TC","PR"]
[2847,"MUS7456","JAZZ Y MUSICA POPULAR V",7,202330,1,1,0,0,0,{"$f":"+BD_DEP[[#This Row],[totalp]]/BD_DEP[[#This Row],[Mat Inicial]]","v":0},{"$f":"+BD_DEP[[#This Row],[totalr]]/BD_DEP[[#This Row],[Mat Inicial]]","v":0},{"$f":"+BD_DEP[[#This Row],[repi]]/BD_DEP[[#This Row],[Mat Inicial]]","v":0},"52","Dpto. Música",72286792,"Calderon Jimenez Leopoldo","TC","PR"]
[2848,"MUS7456","JAZZ Y MUSICA POPULAR V",8,202330,1,1,0,0,0,{"$f":"+BD_DEP[[#This Row],[totalp]]/BD_DEP[[#This Row],[Mat Inicial]]","v":0},{"$f":"+BD_DEP[[#This Row],[totalr]]/BD_DEP[[#This Row],[Mat Inicial]]","v":0},{"$f":"+BD_DEP[[#This Row],[repi]]/BD_DEP[[#This Row],[Mat Inicial]]","v":0},"52","Dpto. Música",72286792,"Calderon Jimenez Leopoldo","TC","PR"]
[2854,"MUS7458","JAZZ Y MUSICA POPULAR VI",3,202330,1,1,0,0,0,{"$f":"+BD_DEP[[#This Row],[totalp]]/BD_DEP[[#This Row],[Mat Inicial]]","v":0},{"$f":"+BD_DEP[[#This Row],[totalr]]/BD_DEP[[#This Row],[Mat Inicial]]","v":0},{"$f":"+BD_DEP[[#This Row],[repi]]/BD_DEP[[#This Row],[Mat Inicial]]","v":0},"52","Dpto. Música",362164,"Lara Iser Jhany","TC","PR"]
[2855,"MUS7458","JAZZ Y MUSICA POPULAR VI",4,202330,1,1,0,0,0,{"$f":"+BD_DEP[[#This Row],[totalp]]/BD_DEP[[#This Row],[Mat Inicial]]","v":0},{"$f":"+BD_DEP[[#This Row],[totalr]]/BD_DEP[[#This Row],[Mat Inicial]]","v":0},{"$f":"+BD_DEP[[#This Row],[repi]]/BD_DEP[[#This Row],[Mat Inicial]]","v":0},"52","Dpto. Música",362164,"Lara Iser Jhany","TC","PR"]
[2856,"MUS7458","JAZZ Y MUSICA POPULAR VI",5,202330,1,1,0,0,0,{"$f":"+BD_DEP[[#This Row],[totalp]]/BD_DEP[[#This Row],[Mat Inicial]]","v":0},{"$f":"+BD_DEP[[#This Row],[totalr]]/BD_DEP[[#This Row],[Mat Inicial]]","v":0},{"$f":"+BD_DEP[[#This Row],[repi]]/BD_DEP[[#This Row],[Mat Inicial]]","v":0},"52","Dpto. Música",362164,"Lara Iser Jhany","TC","PR"]
[2857,"MUS7458","JAZZ Y MUSICA POPULAR VI",6,202330,1,1,0,0,0,{"$f":"+BD_DEP[[#This Row],[totalp]]/BD_DEP[[#This Row],[Mat Inicial]]","v":0},{"$f":"+BD_DEP[[#This Row],[totalr]]/BD_DEP[[#This Row],[Mat Inicial]]","v":0},{"$f":"+BD_DEP[[#This Row],[repi]]/BD_DEP[[#This Row],[Mat Inicial]]","v":0},"52","Dpto. Música",362164,"Lara Iser Jhany","TC","PR"]
[2852,"MUS7458","JAZZ Y MUSICA POPULAR VI",1,202330,1,1,0,0,0,{"$f":"+BD_DEP[[#This Row],[totalp]]/BD_DEP[[#This Row],[Mat Inicial]]","v":0},{"$f":"+BD_DEP[[#This Row],[totalr]]/BD_DEP[[#This Row],[Mat Inicial]]","v":0},{"$f":"+BD_DEP[[#This Row],[repi]]/BD_DEP[[#This Row],[Mat Inicial]]","v":0},"52","Dpto. Música",44157639,"Bornacelli Garcia Zeidy","TC","PR"]
[2853,"MUS7458","JAZZ Y MUSICA POPULAR VI",2,202330,1,1,0,0,0,{"$f":"+BD_DEP[[#This Row],[totalp]]/BD_DEP[[#This Row],[Mat Inicial]]","v":0},{"$f":"+BD_DEP[[#This Row],[totalr]]/BD_DEP[[#This Row],[Mat Inicial]]","v":0},{"$f":"+BD_DEP[[#This Row],[repi]]/BD_DEP[[#This Row],[Mat Inicial]]","v":0},"52","Dpto. Música",44157639,"Bornacelli Garcia Zeidy","TC","PR"]
[2858,"MUS7458","JAZZ Y MUSICA POPULAR VI",7,202330,1,1,0,0,0,{"$f":"+BD_DEP[[#This Row],[totalp]]/BD_DEP[[#This Row],[Mat Inicial]]","v":0},{"$f":"+BD_DEP[[#This Row],[totalr]]/BD_DEP[[#This Row],[Mat Inicial]]","v":0},{"$f":"+BD_DEP[[#This Row],[repi]]/BD_DEP[[#This Row],[Mat Inicial]]","v":0},"52","Dpto. Música",72286792,"Calderon Jimenez Leopoldo","TC","PR"]
[2861,"MUS7458","JAZZ Y MUSICA POPULAR VI",10,202330,1,1,0,0,0,{"$f":"+BD_DEP[[#This Row],[totalp]]/BD_DEP[[#This Row],[Mat Inicial]]","v":0},{"$f":"+BD_DEP[[#This Row],[totalr]]/BD_DEP[[#This Row],[Mat Inicial]]","v":0},{"$f":"+BD_DEP[[#This Row],[repi]]/BD_DEP[[#This Row],[Mat Inicial]]","v":0},"52","Dpto. Música",72286792,"Calderon Jimenez Leopoldo","TC","PR"]
[2864,"MUS7460","JAZZ Y MUSICA POPULAR VII",3,202330,1,1,0,0,0,{"$f":"+BD_DEP[[#This Row],[totalp]]/BD_DEP[[#This Row],[Mat Inicial]]","v":0},{"$f":"+BD_DEP[[#This Row],[totalr]]/BD_DEP[[#This Row],[Mat Inicial]]","v":0},{"$f":"+BD_DEP[[#This Row],[repi]]/BD_DEP[[#This Row],[Mat Inicial]]","v":0},"52","Dpto. Música",362164,"Lara Iser Jhany","TC","PR"]
[2865,"MUS7460","JAZZ Y MUSICA POPULAR VII",4,202330,1,1,0,0,0,{"$f":"+BD_DEP[[#This Row],[totalp]]/BD_DEP[[#This Row],[Mat Inicial]]","v":0},{"$f":"+BD_DEP[[#This Row],[totalr]]/BD_DEP[[#This Row],[Mat Inicial]]","v":0},{"$f":"+BD_DEP[[#This Row],[repi]]/BD_DEP[[#This Row],[Mat Inicial]]","v":0},"52","Dpto. Música",362164,"Lara Iser Jhany","TC","PR"]
[2862,"MUS7460","JAZZ Y MUSICA POPULAR VII",1,202330,1,1,0,0,0,{"$f":"+BD_DEP[[#This Row],[totalp]]/BD_DEP[[#This Row],[Mat Inicial]]","v":0},{"$f":"+BD_DEP[[#This Row],[totalr]]/BD_DEP[[#This Row],[Mat Inicial]]","v":0},{"$f":"+BD_DEP[[#This Row],[repi]]/BD_DEP[[#This Row],[Mat Inicial]]","v":0},"52","Dpto. Música",44157639,"Bornacelli Garcia Zeidy","TC","PR"]
[2863,"MUS7460","JAZZ Y MUSICA POPULAR VII",2,202330,1,1,0,0,0,{"$f":"+BD_DEP[[#This Row],[totalp]]/BD_DEP[[#This Row],[Mat Inicial]]","v":0},{"$f":"+BD_DEP[[#This Row],[totalr]]/BD_DEP[[#This Row],[Mat Inicial]]","v":0},{"$f":"+BD_DEP[[#This Row],[repi]]/BD_DEP[[#This Row],[Mat Inicial]]","v":0},"52","Dpto. Música",44157639,"Bornacelli Garcia Zeidy","TC","PR"]
[6731,"MUS7460","JAZZ Y MUSICA POPULAR VII",9,202330,1,1,0,0,0,{"$f":"+BD_DEP[[#This Row],[totalp]]/BD_DEP[[#This Row],[Mat Inicial]]","v":0},{"$f":"+BD_DEP[[#This Row],[totalr]]/BD_DEP[[#This Row],[Mat Inicial]]","v":0},{"$f":"+BD_DEP[[#This Row],[repi]]/BD_DEP[[#This Row],[Mat Inicial]]","v":0},"52","Dpto. Música",44157639,"Bornacelli Garcia Zeidy","TC","PR"]
[2866,"MUS7460","JAZZ Y MUSICA POPULAR VII",5,202330,1,1,0,0,0,{"$f":"+BD_DEP[[#This Row],[totalp]]/BD_DEP[[#This Row],[Mat Inicial]]","v":0},{"$f":"+BD_DEP[[#This Row],[totalr]]/BD_DEP[[#This Row],[Mat Inicial]]","v":0},{"$f":"+BD_DEP[[#This Row],[repi]]/BD_DEP[[#This Row],[Mat Inicial]]","v":0},"52","Dpto. Música",72286792,"Calderon Jimenez Leopoldo","TC","PR"]
[2868,"MUS7460","JAZZ Y MUSICA POPULAR VII",7,202330,1,1,0,0,0,{"$f":"+BD_DEP[[#This Row],[totalp]]/BD_DEP[[#This Row],[Mat Inicial]]","v":0},{"$f":"+BD_DEP[[#This Row],[totalr]]/BD_DEP[[#This Row],[Mat Inicial]]","v":0},{"$f":"+BD_DEP[[#This Row],[repi]]/BD_DEP[[#This Row],[Mat Inicial]]","v":0},"52","Dpto. Música",72286792,"Calderon Jimenez Leopoldo","TC","PR"]
[2869,"MUS7462","JAZZ Y MUSICA POPULAR VIII",1,202330,1,1,0,0,0,{"$f":"+BD_DEP[[#This Row],[totalp]]/BD_DEP[[#This Row],[Mat Inicial]]","v":0},{"$f":"+BD_DEP[[#This Row],[totalr]]/BD_DEP[[#This Row],[Mat Inicial]]","v":0},{"$f":"+BD_DEP[[#This Row],[repi]]/BD_DEP[[#This Row],[Mat Inicial]]","v":0},"52","Dpto. Música",44157639,"Bornacelli Garcia Zeidy","TC","PR"]
[2735,"MUS4070","MUSICA DE CAMARA I",1,202330,5,5,0,0,0,{"$f":"+BD_DEP[[#This Row],[totalp]]/BD_DEP[[#This Row],[Mat Inicial]]","v":0},{"$f":"+BD_DEP[[#This Row],[totalr]]/BD_DEP[[#This Row],[Mat Inicial]]","v":0},{"$f":"+BD_DEP[[#This Row],[repi]]/BD_DEP[[#This Row],[Mat Inicial]]","v":0},"52","Dpto. Música",362164,"Lara Iser Jhany","TC","PR"]
[6774,"MUS4070","MUSICA DE CAMARA I",2,202330,5,5,0,0,0,{"$f":"+BD_DEP[[#This Row],[totalp]]/BD_DEP[[#This Row],[Mat Inicial]]","v":0},{"$f":"+BD_DEP[[#This Row],[totalr]]/BD_DEP[[#This Row],[Mat Inicial]]","v":0},{"$f":"+BD_DEP[[#This Row],[repi]]/BD_DEP[[#This Row],[Mat Inicial]]","v":0},"52","Dpto. Música",1140857869,"Martin Isoza Sergio","TC","PR"]
[6654,"MUS4075","MUSICA DE CAMARA II",2,202330,5,5,0,0,0,{"$f":"+BD_DEP[[#This Row],[totalp]]/BD_DEP[[#This Row],[Mat Inicial]]","v":0},{"$f":"+BD_DEP[[#This Row],[totalr]]/BD_DEP[[#This Row],[Mat Inicial]]","v":0},{"$f":"+BD_DEP[[#This Row],[repi]]/BD_DEP[[#This Row],[Mat Inicial]]","v":0},"52","Dpto. Música",362164,"Lara Iser Jhany","TC","PR"]
[2736,"MUS4075","MUSICA DE CAMARA II",1,202330,6,6,0,0,0,{"$f":"+BD_DEP[[#This Row],[totalp]]/BD_DEP[[#This Row],[Mat Inicial]]","v":0},{"$f":"+BD_DEP[[#This Row],[totalr]]/BD_DEP[[#This Row],[Mat Inicial]]","v":0},{"$f":"+BD_DEP[[#This Row],[repi]]/BD_DEP[[#This Row],[Mat Inicial]]","v":0},"52","Dpto. Música",72286792,"Calderon Jimenez Leopoldo","TC","PR"]
[6082,"MUS7446","NIVELAT JAZZ Y MUSICA POPULAR",50,202330,1,1,0,0,0,{"$f":"+BD_DEP[[#This Row],[totalp]]/BD_DEP[[#This Row],[Mat Inicial]]","v":0},{"$f":"+BD_DEP[[#This Row],[totalr]]/BD_DEP[[#This Row],[Mat Inicial]]","v":0},{"$f":"+BD_DEP[[#This Row],[repi]]/BD_DEP[[#This Row],[Mat Inicial]]","v":0},"52","Dpto. Música",44157639,"Bornacelli Garcia Zeidy","TC","PR"]
[6380,"MUS7446","NIVELAT JAZZ Y MUSICA POPULAR",52,202330,1,1,0,0,0,{"$f":"+BD_DEP[[#This Row],[totalp]]/BD_DEP[[#This Row],[Mat Inicial]]","v":0},{"$f":"+BD_DEP[[#This Row],[totalr]]/BD_DEP[[#This Row],[Mat Inicial]]","v":0},{"$f":"+BD_DEP[[#This Row],[repi]]/BD_DEP[[#This Row],[Mat Inicial]]","v":0},"52","Dpto. Música",44157639,"Bornacelli Garcia Zeidy","TC","PR"]
[6619,"MUS7446","NIVELAT JAZZ Y MUSICA POPULAR",53,202330,1,1,0,0,0,{"$f":"+BD_DEP[[#This Row],[totalp]]/BD_DEP[[#This Row],[Mat Inicial]]","v":0},{"$f":"+BD_DEP[[#This Row],[totalr]]/BD_DEP[[#This Row],[Mat Inicial]]","v":0},{"$f":"+BD_DEP[[#This Row],[repi]]/BD_DEP[[#This Row],[Mat Inicial]]","v":0},"52","Dpto. Música",44157639,"Bornacelli Garcia Zeidy","TC","PR"]
[6290,"MUS7446","NIVELAT JAZZ Y MUSICA POPULAR",51,202330,1,1,0,0,0,{"$f":"+BD_DEP[[#This Row],[totalp]]/BD_DEP[[#This Row],[Mat Inicial]]","v":0},{"$f":"+BD_DEP[[#This Row],[totalr]]/BD_DEP[[#This Row],[Mat Inicial]]","v":0},{"$f":"+BD_DEP[[#This Row],[repi]]/BD_DEP[[#This Row],[Mat Inicial]]","v":0},"52","Dpto. Música",72286792,"Calderon Jimenez Leopoldo","TC","PR"]
[4411,"MUS4090","PIANO / GUITARRA FUNCIONAL I",51,202330,8,7,1,1,2,{"$f":"+BD_DEP[[#This Row],[totalp]]/BD_DEP[[#This Row],[Mat Inicial]]","v":0.125},{"$f":"+BD_DEP[[#This Row],[totalr]]/BD_DEP[[#This Row],[Mat Inicial]]","v":0.125},{"$f":"+BD_DEP[[#This Row],[repi]]/BD_DEP[[#This Row],[Mat Inicial]]","v":0.25},"52","Dpto. Música",80074618,"Garcia Castillo Cristian","TC","PR"]
[2738,"MUS4095","PIANO / GUITARRA FUNCIONAL II",1,202330,7,7,0,0,0,{"$f":"+BD_DEP[[#This Row],[totalp]]/BD_DEP[[#This Row],[Mat Inicial]]","v":0},{"$f":"+BD_DEP[[#This Row],[totalr]]/BD_DEP[[#This Row],[Mat Inicial]]","v":0},{"$f":"+BD_DEP[[#This Row],[repi]]/BD_DEP[[#This Row],[Mat Inicial]]","v":0},"52","Dpto. Música",80074618,"Garcia Castillo Cristian","TC","PR"]
[2742,"MUS4100","PIANO / GUITARRA FUNCIONAL III",2,202330,5,4,0,1,1,{"$f":"+BD_DEP[[#This Row],[totalp]]/BD_DEP[[#This Row],[Mat Inicial]]","v":0},{"$f":"+BD_DEP[[#This Row],[totalr]]/BD_DEP[[#This Row],[Mat Inicial]]","v":0.2},{"$f":"+BD_DEP[[#This Row],[repi]]/BD_DEP[[#This Row],[Mat Inicial]]","v":0.2},"52","Dpto. Música",80074618,"Garcia Castillo Cristian","TC","PR"]
[2743,"MUS4105","PIANO / GUITARRA FUNCIONAL IV",1,202330,5,5,0,0,0,{"$f":"+BD_DEP[[#This Row],[totalp]]/BD_DEP[[#This Row],[Mat Inicial]]","v":0},{"$f":"+BD_DEP[[#This Row],[totalr]]/BD_DEP[[#This Row],[Mat Inicial]]","v":0},{"$f":"+BD_DEP[[#This Row],[repi]]/BD_DEP[[#This Row],[Mat Inicial]]","v":0},"52","Dpto. Música",362164,"Lara Iser Jhany","TC","PR"]
[2797,"MUS7080","PIANO I",1,202330,1,1,0,0,0,{"$f":"+BD_DEP[[#This Row],[totalp]]/BD_DEP[[#This Row],[Mat Inicial]]","v":0},{"$f":"+BD_DEP[[#This Row],[totalr]]/BD_DEP[[#This Row],[Mat Inicial]]","v":0},{"$f":"+BD_DEP[[#This Row],[repi]]/BD_DEP[[#This Row],[Mat Inicial]]","v":0},"52","Dpto. Música",362164,"Lara Iser Jhany","TC","PR"]
[2798,"MUS7110","PIANO VII",1,202330,1,1,0,0,0,{"$f":"+BD_DEP[[#This Row],[totalp]]/BD_DEP[[#This Row],[Mat Inicial]]","v":0},{"$f":"+BD_DEP[[#This Row],[totalr]]/BD_DEP[[#This Row],[Mat Inicial]]","v":0},{"$f":"+BD_DEP[[#This Row],[repi]]/BD_DEP[[#This Row],[Mat Inicial]]","v":0},"52","Dpto. Música",362164,"Lara Iser Jhany","TC","PR"]
[4412,"MUS4110","PRACTICA DE CONJUNTO I",50,202330,7,7,0,0,0,{"$f":"+BD_DEP[[#This Row],[totalp]]/BD_DEP[[#This Row],[Mat Inicial]]","v":0},{"$f":"+BD_DEP[[#This Row],[totalr]]/BD_DEP[[#This Row],[Mat Inicial]]","v":0},{"$f":"+BD_DEP[[#This Row],[repi]]/BD_DEP[[#This Row],[Mat Inicial]]","v":0},"52","Dpto. Música",79149999,"GOMEZ GIRALDO NELSON","TC","PR"]
[2744,"MUS4115","PRACTICA EN CONJUNTO II",1,202330,16,16,0,0,0,{"$f":"+BD_DEP[[#This Row],[totalp]]/BD_DEP[[#This Row],[Mat Inicial]]","v":0},{"$f":"+BD_DEP[[#This Row],[totalr]]/BD_DEP[[#This Row],[Mat Inicial]]","v":0},{"$f":"+BD_DEP[[#This Row],[repi]]/BD_DEP[[#This Row],[Mat Inicial]]","v":0},"52","Dpto. Música",79149999,"GOMEZ GIRALDO NELSON","TC","PR"]
[2745,"MUS4120","PRACTICA EN CONJUNTO III",1,202330,9,9,0,0,0,{"$f":"+BD_DEP[[#This Row],[totalp]]/BD_DEP[[#This Row],[Mat Inicial]]","v":0},{"$f":"+BD_DEP[[#This Row],[totalr]]/BD_DEP[[#This Row],[Mat Inicial]]","v":0},{"$f":"+BD_DEP[[#This Row],[repi]]/BD_DEP[[#This Row],[Mat Inicial]]","v":0},"52","Dpto. Música",79149999,"GOMEZ GIRALDO NELSON","TC","PR"]
[6492,"MUS4120","PRACTICA EN CONJUNTO III",2,202330,1,1,0,0,0,{"$f":"+BD_DEP[[#This Row],[totalp]]/BD_DEP[[#This Row],[Mat Inicial]]","v":0},{"$f":"+BD_DEP[[#This Row],[totalr]]/BD_DEP[[#This Row],[Mat Inicial]]","v":0},{"$f":"+BD_DEP[[#This Row],[repi]]/BD_DEP[[#This Row],[Mat Inicial]]","v":0},"52","Dpto. Música",79512168,"TREJOS SAAVEDRA ALEXIS","TC","PR"]
[2751,"MUS4125","PRACTICA EN CONJUNTO IV",6,202330,1,1,0,0,0,{"$f":"+BD_DEP[[#This Row],[totalp]]/BD_DEP[[#This Row],[Mat Inicial]]","v":0},{"$f":"+BD_DEP[[#This Row],[totalr]]/BD_DEP[[#This Row],[Mat Inicial]]","v":0},{"$f":"+BD_DEP[[#This Row],[repi]]/BD_DEP[[#This Row],[Mat Inicial]]","v":0},"52","Dpto. Música",72287359,"Puche Perneth Camilo","TC","PR"]
[2748,"MUS4125","PRACTICA EN CONJUNTO IV",3,202330,1,1,0,0,0,{"$f":"+BD_DEP[[#This Row],[totalp]]/BD_DEP[[#This Row],[Mat Inicial]]","v":0},{"$f":"+BD_DEP[[#This Row],[totalr]]/BD_DEP[[#This Row],[Mat Inicial]]","v":0},{"$f":"+BD_DEP[[#This Row],[repi]]/BD_DEP[[#This Row],[Mat Inicial]]","v":0},"52","Dpto. Música",1140857869,"Martin Isoza Sergio","TC","PR"]
[2749,"MUS4125","PRACTICA EN CONJUNTO IV",4,202330,1,1,0,0,0,{"$f":"+BD_DEP[[#This Row],[totalp]]/BD_DEP[[#This Row],[Mat Inicial]]","v":0},{"$f":"+BD_DEP[[#This Row],[totalr]]/BD_DEP[[#This Row],[Mat Inicial]]","v":0},{"$f":"+BD_DEP[[#This Row],[repi]]/BD_DEP[[#This Row],[Mat Inicial]]","v":0},"52","Dpto. Música",1140857869,"Martin Isoza Sergio","TC","PR"]
[2752,"MUS4125","PRACTICA EN CONJUNTO IV",7,202330,1,1,0,0,0,{"$f":"+BD_DEP[[#This Row],[totalp]]/BD_DEP[[#This Row],[Mat Inicial]]","v":0},{"$f":"+BD_DEP[[#This Row],[totalr]]/BD_DEP[[#This Row],[Mat Inicial]]","v":0},{"$f":"+BD_DEP[[#This Row],[repi]]/BD_DEP[[#This Row],[Mat Inicial]]","v":0},"52","Dpto. Música",1140857869,"Martin Isoza Sergio","TC","PR"]
[2754,"MUS4130","PRACTICA EN CONJUNTO V",2,202330,1,1,0,0,0,{"$f":"+BD_DEP[[#This Row],[totalp]]/BD_DEP[[#This Row],[Mat Inicial]]","v":0},{"$f":"+BD_DEP[[#This Row],[totalr]]/BD_DEP[[#This Row],[Mat Inicial]]","v":0},{"$f":"+BD_DEP[[#This Row],[repi]]/BD_DEP[[#This Row],[Mat Inicial]]","v":0},"52","Dpto. Música",72286792,"Calderon Jimenez Leopoldo","TC","PR"]
[2753,"MUS4130","PRACTICA EN CONJUNTO V",1,202330,2,2,0,0,0,{"$f":"+BD_DEP[[#This Row],[totalp]]/BD_DEP[[#This Row],[Mat Inicial]]","v":0},{"$f":"+BD_DEP[[#This Row],[totalr]]/BD_DEP[[#This Row],[Mat Inicial]]","v":0},{"$f":"+BD_DEP[[#This Row],[repi]]/BD_DEP[[#This Row],[Mat Inicial]]","v":0},"52","Dpto. Música",79512168,"TREJOS SAAVEDRA ALEXIS","TC","PR"]
[2755,"MUS4130","PRACTICA EN CONJUNTO V",3,202330,2,2,0,0,0,{"$f":"+BD_DEP[[#This Row],[totalp]]/BD_DEP[[#This Row],[Mat Inicial]]","v":0},{"$f":"+BD_DEP[[#This Row],[totalr]]/BD_DEP[[#This Row],[Mat Inicial]]","v":0},{"$f":"+BD_DEP[[#This Row],[repi]]/BD_DEP[[#This Row],[Mat Inicial]]","v":0},"52","Dpto. Música",1140857869,"Martin Isoza Sergio","TC","PR"]
[2756,"MUS4130","PRACTICA EN CONJUNTO V",4,202330,2,2,0,0,0,{"$f":"+BD_DEP[[#This Row],[totalp]]/BD_DEP[[#This Row],[Mat Inicial]]","v":0},{"$f":"+BD_DEP[[#This Row],[totalr]]/BD_DEP[[#This Row],[Mat Inicial]]","v":0},{"$f":"+BD_DEP[[#This Row],[repi]]/BD_DEP[[#This Row],[Mat Inicial]]","v":0},"52","Dpto. Música",1140857869,"Martin Isoza Sergio","TC","PR"]
[2759,"MUS4130","PRACTICA EN CONJUNTO V",7,202330,2,2,0,0,0,{"$f":"+BD_DEP[[#This Row],[totalp]]/BD_DEP[[#This Row],[Mat Inicial]]","v":0},{"$f":"+BD_DEP[[#This Row],[totalr]]/BD_DEP[[#This Row],[Mat Inicial]]","v":0},{"$f":"+BD_DEP[[#This Row],[repi]]/BD_DEP[[#This Row],[Mat Inicial]]","v":0},"52","Dpto. Música",1140857869,"Martin Isoza Sergio","TC","PR"]
[2761,"MUS4135","PRACTICA EN CONJUNTO VI",2,202330,1,1,0,0,0,{"$f":"+BD_DEP[[#This Row],[totalp]]/BD_DEP[[#This Row],[Mat Inicial]]","v":0},{"$f":"+BD_DEP[[#This Row],[totalr]]/BD_DEP[[#This Row],[Mat Inicial]]","v":0},{"$f":"+BD_DEP[[#This Row],[repi]]/BD_DEP[[#This Row],[Mat Inicial]]","v":0},"52","Dpto. Música",72286792,"Calderon Jimenez Leopoldo","TC","PR"]
[2760,"MUS4135","PRACTICA EN CONJUNTO VI",1,202330,2,2,0,0,0,{"$f":"+BD_DEP[[#This Row],[totalp]]/BD_DEP[[#This Row],[Mat Inicial]]","v":0},{"$f":"+BD_DEP[[#This Row],[totalr]]/BD_DEP[[#This Row],[Mat Inicial]]","v":0},{"$f":"+BD_DEP[[#This Row],[repi]]/BD_DEP[[#This Row],[Mat Inicial]]","v":0},"52","Dpto. Música",79512168,"TREJOS SAAVEDRA ALEXIS","TC","PR"]
[2762,"MUS4135","PRACTICA EN CONJUNTO VI",3,202330,4,4,0,0,0,{"$f":"+BD_DEP[[#This Row],[totalp]]/BD_DEP[[#This Row],[Mat Inicial]]","v":0},{"$f":"+BD_DEP[[#This Row],[totalr]]/BD_DEP[[#This Row],[Mat Inicial]]","v":0},{"$f":"+BD_DEP[[#This Row],[repi]]/BD_DEP[[#This Row],[Mat Inicial]]","v":0},"52","Dpto. Música",1140857869,"Martin Isoza Sergio","TC","PR"]
[2763,"MUS4135","PRACTICA EN CONJUNTO VI",4,202330,1,1,0,0,0,{"$f":"+BD_DEP[[#This Row],[totalp]]/BD_DEP[[#This Row],[Mat Inicial]]","v":0},{"$f":"+BD_DEP[[#This Row],[totalr]]/BD_DEP[[#This Row],[Mat Inicial]]","v":0},{"$f":"+BD_DEP[[#This Row],[repi]]/BD_DEP[[#This Row],[Mat Inicial]]","v":0},"52","Dpto. Música",1140857869,"Martin Isoza Sergio","TC","PR"]
[2766,"MUS4135","PRACTICA EN CONJUNTO VI",7,202330,1,1,0,0,0,{"$f":"+BD_DEP[[#This Row],[totalp]]/BD_DEP[[#This Row],[Mat Inicial]]","v":0},{"$f":"+BD_DEP[[#This Row],[totalr]]/BD_DEP[[#This Row],[Mat Inicial]]","v":0},{"$f":"+BD_DEP[[#This Row],[repi]]/BD_DEP[[#This Row],[Mat Inicial]]","v":0},"52","Dpto. Música",1140857869,"Martin Isoza Sergio","TC","PR"]
[2768,"MUS4140","PRACTICA EN CONJUNTO VII",2,202330,1,1,0,0,0,{"$f":"+BD_DEP[[#This Row],[totalp]]/BD_DEP[[#This Row],[Mat Inicial]]","v":0},{"$f":"+BD_DEP[[#This Row],[totalr]]/BD_DEP[[#This Row],[Mat Inicial]]","v":0},{"$f":"+BD_DEP[[#This Row],[repi]]/BD_DEP[[#This Row],[Mat Inicial]]","v":0},"52","Dpto. Música",72286792,"Calderon Jimenez Leopoldo","TC","PR"]
[2772,"MUS4140","PRACTICA EN CONJUNTO VII",6,202330,3,3,0,0,0,{"$f":"+BD_DEP[[#This Row],[totalp]]/BD_DEP[[#This Row],[Mat Inicial]]","v":0},{"$f":"+BD_DEP[[#This Row],[totalr]]/BD_DEP[[#This Row],[Mat Inicial]]","v":0},{"$f":"+BD_DEP[[#This Row],[repi]]/BD_DEP[[#This Row],[Mat Inicial]]","v":0},"52","Dpto. Música",72287359,"Puche Perneth Camilo","TC","PR"]
[2767,"MUS4140","PRACTICA EN CONJUNTO VII",1,202330,1,1,0,0,0,{"$f":"+BD_DEP[[#This Row],[totalp]]/BD_DEP[[#This Row],[Mat Inicial]]","v":0},{"$f":"+BD_DEP[[#This Row],[totalr]]/BD_DEP[[#This Row],[Mat Inicial]]","v":0},{"$f":"+BD_DEP[[#This Row],[repi]]/BD_DEP[[#This Row],[Mat Inicial]]","v":0},"52","Dpto. Música",79149999,"GOMEZ GIRALDO NELSON","TC","PR"]
[2770,"MUS4140","PRACTICA EN CONJUNTO VII",4,202330,2,2,0,0,0,{"$f":"+BD_DEP[[#This Row],[totalp]]/BD_DEP[[#This Row],[Mat Inicial]]","v":0},{"$f":"+BD_DEP[[#This Row],[totalr]]/BD_DEP[[#This Row],[Mat Inicial]]","v":0},{"$f":"+BD_DEP[[#This Row],[repi]]/BD_DEP[[#This Row],[Mat Inicial]]","v":0},"52","Dpto. Música",1140857869,"Martin Isoza Sergio","TC","PR"]
[2773,"MUS4140","PRACTICA EN CONJUNTO VII",7,202330,3,3,0,0,0,{"$f":"+BD_DEP[[#This Row],[totalp]]/BD_DEP[[#This Row],[Mat Inicial]]","v":0},{"$f":"+BD_DEP[[#This Row],[totalr]]/BD_DEP[[#This Row],[Mat Inicial]]","v":0},{"$f":"+BD_DEP[[#This Row],[repi]]/BD_DEP[[#This Row],[Mat Inicial]]","v":0},"52","Dpto. Música",1140857869,"Martin Isoza Sergio","TC","PR"]
[2775,"MUS4145","PRACTICA EN CONJUNTO VIII",2,202330,2,2,0,0,0,{"$f":"+BD_DEP[[#This Row],[totalp]]/BD_DEP[[#This Row],[Mat Inicial]]","v":0},{"$f":"+BD_DEP[[#This Row],[totalr]]/BD_DEP[[#This Row],[Mat Inicial]]","v":0},{"$f":"+BD_DEP[[#This Row],[repi]]/BD_DEP[[#This Row],[Mat Inicial]]","v":0},"52","Dpto. Música",72286792,"Calderon Jimenez Leopoldo","TC","PR"]
[2779,"MUS4145","PRACTICA EN CONJUNTO VIII",6,202330,1,1,0,0,0,{"$f":"+BD_DEP[[#This Row],[totalp]]/BD_DEP[[#This Row],[Mat Inicial]]","v":0},{"$f":"+BD_DEP[[#This Row],[totalr]]/BD_DEP[[#This Row],[Mat Inicial]]","v":0},{"$f":"+BD_DEP[[#This Row],[repi]]/BD_DEP[[#This Row],[Mat Inicial]]","v":0},"52","Dpto. Música",72287359,"Puche Perneth Camilo","TC","PR"]
[2774,"MUS4145","PRACTICA EN CONJUNTO VIII",1,202330,3,3,0,0,0,{"$f":"+BD_DEP[[#This Row],[totalp]]/BD_DEP[[#This Row],[Mat Inicial]]","v":0},{"$f":"+BD_DEP[[#This Row],[totalr]]/BD_DEP[[#This Row],[Mat Inicial]]","v":0},{"$f":"+BD_DEP[[#This Row],[repi]]/BD_DEP[[#This Row],[Mat Inicial]]","v":0},"52","Dpto. Música",79149999,"GOMEZ GIRALDO NELSON","TC","PR"]
[2776,"MUS4145","PRACTICA EN CONJUNTO VIII",3,202330,1,1,0,0,0,{"$f":"+BD_DEP[[#This Row],[totalp]]/BD_DEP[[#This Row],[Mat Inicial]]","v":0},{"$f":"+BD_DEP[[#This Row],[totalr]]/BD_DEP[[#This Row],[Mat Inicial]]","v":0},{"$f":"+BD_DEP[[#This Row],[repi]]/BD_DEP[[#This Row],[Mat Inicial]]","v":0},"52","Dpto. Música",1140857869,"Martin Isoza Sergio","TC","PR"]
[2777,"MUS4145","PRACTICA EN CONJUNTO VIII",4,202330,1,1,0,0,0,{"$f":"+BD_DEP[[#This Row],[totalp]]/BD_DEP[[#This Row],[Mat Inicial]]","v":0},{"$f":"+BD_DEP[[#This Row],[totalr]]/BD_DEP[[#This Row],[Mat Inicial]]","v":0},{"$f":"+BD_DEP[[#This Row],[repi]]/BD_DEP[[#This Row],[Mat Inicial]]","v":0},"52","Dpto. Música",1140857869,"Martin Isoza Sergio","TC","PR"]
[2780,"MUS4145","PRACTICA EN CONJUNTO VIII",7,202330,1,1,0,0,0,{"$f":"+BD_DEP[[#This Row],[totalp]]/BD_DEP[[#This Row],[Mat Inicial]]","v":0},{"$f":"+BD_DEP[[#This Row],[totalr]]/BD_DEP[[#This Row],[Mat Inicial]]","v":0},{"$f":"+BD_DEP[[#This Row],[repi]]/BD_DEP[[#This Row],[Mat Inicial]]","v":0},"52","Dpto. Música",1140857869,"Martin Isoza Sergio","TC","PR"]
[2781,"MUS4150","PRINCIPIOS DE ARMONIA Y FORMA",1,202330,19,19,5,0,5,{"$f":"+BD_DEP[[#This Row],[totalp]]/BD_DEP[[#This Row],[Mat Inicial]]","v":0.26315789473684209},{"$f":"+BD_DEP[[#This Row],[totalr]]/BD_DEP[[#This Row],[Mat Inicial]]","v":0},{"$f":"+BD_DEP[[#This Row],[repi]]/BD_DEP[[#This Row],[Mat Inicial]]","v":0.26315789473684209},"52","Dpto. Música",80063583,"VARGAS ROJAS JOSE","TC","PR"]
[2802,"MUS7155","RECITAL CANTO IV",1,202330,1,1,0,0,0,{"$f":"+BD_DEP[[#This Row],[totalp]]/BD_DEP[[#This Row],[Mat Inicial]]","v":0},{"$f":"+BD_DEP[[#This Row],[totalr]]/BD_DEP[[#This Row],[Mat Inicial]]","v":0},{"$f":"+BD_DEP[[#This Row],[repi]]/BD_DEP[[#This Row],[Mat Inicial]]","v":0},"52","Dpto. Música",79512168,"TREJOS SAAVEDRA ALEXIS","TC","PR"]
[2879,"MUS7558","RECITAL JAZZ Y MUSICA POPUL IV",1,202330,1,1,0,0,0,{"$f":"+BD_DEP[[#This Row],[totalp]]/BD_DEP[[#This Row],[Mat Inicial]]","v":0},{"$f":"+BD_DEP[[#This Row],[totalr]]/BD_DEP[[#This Row],[Mat Inicial]]","v":0},{"$f":"+BD_DEP[[#This Row],[repi]]/BD_DEP[[#This Row],[Mat Inicial]]","v":0},"52","Dpto. Música",79512168,"TREJOS SAAVEDRA ALEXIS","TC","PR"]
[2885,"MUS7590","RECITAL VIOLIN IV",1,202330,1,1,0,0,0,{"$f":"+BD_DEP[[#This Row],[totalp]]/BD_DEP[[#This Row],[Mat Inicial]]","v":0},{"$f":"+BD_DEP[[#This Row],[totalr]]/BD_DEP[[#This Row],[Mat Inicial]]","v":0},{"$f":"+BD_DEP[[#This Row],[repi]]/BD_DEP[[#This Row],[Mat Inicial]]","v":0},"52","Dpto. Música",1018431476,"RAMIREZ MEZA HUMBERTO","TC","PR"]
[4413,"MUS4155","SOLFEO I",50,202330,10,8,1,2,3,{"$f":"+BD_DEP[[#This Row],[totalp]]/BD_DEP[[#This Row],[Mat Inicial]]","v":0.1},{"$f":"+BD_DEP[[#This Row],[totalr]]/BD_DEP[[#This Row],[Mat Inicial]]","v":0.2},{"$f":"+BD_DEP[[#This Row],[repi]]/BD_DEP[[#This Row],[Mat Inicial]]","v":0.3},"52","Dpto. Música",80074618,"Garcia Castillo Cristian","TC","PR"]
[2783,"MUS4165","SOLFEO III",1,202330,7,7,0,0,0,{"$f":"+BD_DEP[[#This Row],[totalp]]/BD_DEP[[#This Row],[Mat Inicial]]","v":0},{"$f":"+BD_DEP[[#This Row],[totalr]]/BD_DEP[[#This Row],[Mat Inicial]]","v":0},{"$f":"+BD_DEP[[#This Row],[repi]]/BD_DEP[[#This Row],[Mat Inicial]]","v":0},"52","Dpto. Música",79149999,"GOMEZ GIRALDO NELSON","TC","PR"]
[2811,"MUS7353","TECNICAS DE COMPOSICION I",1,202330,8,8,0,0,0,{"$f":"+BD_DEP[[#This Row],[totalp]]/BD_DEP[[#This Row],[Mat Inicial]]","v":0},{"$f":"+BD_DEP[[#This Row],[totalr]]/BD_DEP[[#This Row],[Mat Inicial]]","v":0},{"$f":"+BD_DEP[[#This Row],[repi]]/BD_DEP[[#This Row],[Mat Inicial]]","v":0},"52","Dpto. Música",72004072,"Donado Sarmiento Leonardo","TC","PR"]
[2812,"MUS7354","TECNICAS DE COMPOSICION II",1,202330,7,7,0,0,0,{"$f":"+BD_DEP[[#This Row],[totalp]]/BD_DEP[[#This Row],[Mat Inicial]]","v":0},{"$f":"+BD_DEP[[#This Row],[totalr]]/BD_DEP[[#This Row],[Mat Inicial]]","v":0},{"$f":"+BD_DEP[[#This Row],[repi]]/BD_DEP[[#This Row],[Mat Inicial]]","v":0},"52","Dpto. Música",72004072,"Donado Sarmiento Leonardo","TC","PR"]
[2813,"MUS7361","TECNICAS DE GRABACION I",1,202330,6,6,0,0,0,{"$f":"+BD_DEP[[#This Row],[totalp]]/BD_DEP[[#This Row],[Mat Inicial]]","v":0},{"$f":"+BD_DEP[[#This Row],[totalr]]/BD_DEP[[#This Row],[Mat Inicial]]","v":0},{"$f":"+BD_DEP[[#This Row],[repi]]/BD_DEP[[#This Row],[Mat Inicial]]","v":0},"52","Dpto. Música",1140857869,"Martin Isoza Sergio","TC","PR"]
[2815,"MUS7373","TECNOLOGIA MUSICAL",1,202330,9,9,0,0,0,{"$f":"+BD_DEP[[#This Row],[totalp]]/BD_DEP[[#This Row],[Mat Inicial]]","v":0},{"$f":"+BD_DEP[[#This Row],[totalr]]/BD_DEP[[#This Row],[Mat Inicial]]","v":0},{"$f":"+BD_DEP[[#This Row],[repi]]/BD_DEP[[#This Row],[Mat Inicial]]","v":0},"52","Dpto. Música",1140857869,"Martin Isoza Sergio","TC","PR"]
[2870,"MUS7496","VIOLA VII",1,202330,1,1,0,0,0,{"$f":"+BD_DEP[[#This Row],[totalp]]/BD_DEP[[#This Row],[Mat Inicial]]","v":0},{"$f":"+BD_DEP[[#This Row],[totalr]]/BD_DEP[[#This Row],[Mat Inicial]]","v":0},{"$f":"+BD_DEP[[#This Row],[repi]]/BD_DEP[[#This Row],[Mat Inicial]]","v":0},"52","Dpto. Música",80074618,"Garcia Castillo Cristian","TC","PR"]
[2872,"MUS7520","VIOLIN I",1,202330,1,1,0,0,0,{"$f":"+BD_DEP[[#This Row],[totalp]]/BD_DEP[[#This Row],[Mat Inicial]]","v":0},{"$f":"+BD_DEP[[#This Row],[totalr]]/BD_DEP[[#This Row],[Mat Inicial]]","v":0},{"$f":"+BD_DEP[[#This Row],[repi]]/BD_DEP[[#This Row],[Mat Inicial]]","v":0},"52","Dpto. Música",80074618,"Garcia Castillo Cristian","TC","PR"]
[2873,"MUS7532","VIOLIN VII",1,202330,1,1,0,0,0,{"$f":"+BD_DEP[[#This Row],[totalp]]/BD_DEP[[#This Row],[Mat Inicial]]","v":0},{"$f":"+BD_DEP[[#This Row],[totalr]]/BD_DEP[[#This Row],[Mat Inicial]]","v":0},{"$f":"+BD_DEP[[#This Row],[repi]]/BD_DEP[[#This Row],[Mat Inicial]]","v":0},"52","Dpto. Música",80074618,"Garcia Castillo Cristian","TC","PR"]
[2874,"MUS7534","VIOLIN VIII",1,202330,1,1,0,0,0,{"$f":"+BD_DEP[[#This Row],[totalp]]/BD_DEP[[#This Row],[Mat Inicial]]","v":0},{"$f":"+BD_DEP[[#This Row],[totalr]]/BD_DEP[[#This Row],[Mat Inicial]]","v":0},{"$f":"+BD_DEP[[#This Row],[repi]]/BD_DEP[[#This Row],[Mat Inicial]]","v":0},"52","Dpto. Música",80074618,"Garcia Castillo Cristian","TC","PR"]
[2871,"MUS7514","VIOLONCHELO VII",1,202330,1,1,0,0,0,{"$f":"+BD_DEP[[#This Row],[totalp]]/BD_DEP[[#This Row],[Mat Inicial]]","v":0},{"$f":"+BD_DEP[[#This Row],[totalr]]/BD_DEP[[#This Row],[Mat Inicial]]","v":0},{"$f":"+BD_DEP[[#This Row],[repi]]/BD_DEP[[#This Row],[Mat Inicial]]","v":0},"52","Dpto. Música",80074618,"Garcia Castillo Cristian","TC","PR"]
[2727,"MUS4005","CONCEP MUSICA SIGL XX Y XXI II",1,202330,10,10,0,0,0,{"$f":"+BD_DEP[[#This Row],[totalp]]/BD_DEP[[#This Row],[Mat Inicial]]","v":0},{"$f":"+BD_DEP[[#This Row],[totalr]]/BD_DEP[[#This Row],[Mat Inicial]]","v":0},{"$f":"+BD_DEP[[#This Row],[repi]]/BD_DEP[[#This Row],[Mat Inicial]]","v":0},"52","Dpto. Música",72336565,"RIOS REDONDO JUAN","CA","PR"]
[2726,"MUS4000","CONCEP MUSICA SIGLO XX Y XXI I",1,202330,7,7,0,0,0,{"$f":"+BD_DEP[[#This Row],[totalp]]/BD_DEP[[#This Row],[Mat Inicial]]","v":0},{"$f":"+BD_DEP[[#This Row],[totalr]]/BD_DEP[[#This Row],[Mat Inicial]]","v":0},{"$f":"+BD_DEP[[#This Row],[repi]]/BD_DEP[[#This Row],[Mat Inicial]]","v":0},"52","Dpto. Música",72336565,"RIOS REDONDO JUAN","CA","PR"]
[2785,"MUS4175","CONTRAPUNTO Y ARMONIA I",1,202330,8,7,0,1,1,{"$f":"+BD_DEP[[#This Row],[totalp]]/BD_DEP[[#This Row],[Mat Inicial]]","v":0},{"$f":"+BD_DEP[[#This Row],[totalr]]/BD_DEP[[#This Row],[Mat Inicial]]","v":0.125},{"$f":"+BD_DEP[[#This Row],[repi]]/BD_DEP[[#This Row],[Mat Inicial]]","v":0.125},"52","Dpto. Música",72336565,"RIOS REDONDO JUAN","CA","PR"]
[2728,"MUS4025","DEL CLASICISMO AL IMPRESIONISM",1,202330,3,2,1,1,2,{"$f":"+BD_DEP[[#This Row],[totalp]]/BD_DEP[[#This Row],[Mat Inicial]]","v":0.33333333333333331},{"$f":"+BD_DEP[[#This Row],[totalr]]/BD_DEP[[#This Row],[Mat Inicial]]","v":0.33333333333333331},{"$f":"+BD_DEP[[#This Row],[repi]]/BD_DEP[[#This Row],[Mat Inicial]]","v":0.66666666666666663},"52","Dpto. Música",79484759,"Navarro Gonzalez Julian","CA","PR"]
[2733,"MUS4055","FORMA Y ANALISIS II",1,202330,12,12,0,0,0,{"$f":"+BD_DEP[[#This Row],[totalp]]/BD_DEP[[#This Row],[Mat Inicial]]","v":0},{"$f":"+BD_DEP[[#This Row],[totalr]]/BD_DEP[[#This Row],[Mat Inicial]]","v":0},{"$f":"+BD_DEP[[#This Row],[repi]]/BD_DEP[[#This Row],[Mat Inicial]]","v":0},"52","Dpto. Música",73139099,"Rodriguez Pernett Alonso","CA","PR"]
[2808,"MUS7311","HISTORIA DE LA MUSICA II",1,202330,5,4,0,1,1,{"$f":"+BD_DEP[[#This Row],[totalp]]/BD_DEP[[#This Row],[Mat Inicial]]","v":0},{"$f":"+BD_DEP[[#This Row],[totalr]]/BD_DEP[[#This Row],[Mat Inicial]]","v":0.2},{"$f":"+BD_DEP[[#This Row],[repi]]/BD_DEP[[#This Row],[Mat Inicial]]","v":0.2},"52","Dpto. Música",79484759,"Navarro Gonzalez Julian","CA","PR"]
[2809,"MUS7312","HISTORIA DE LA MUSICA III",1,202330,3,3,0,0,0,{"$f":"+BD_DEP[[#This Row],[totalp]]/BD_DEP[[#This Row],[Mat Inicial]]","v":0},{"$f":"+BD_DEP[[#This Row],[totalr]]/BD_DEP[[#This Row],[Mat Inicial]]","v":0},{"$f":"+BD_DEP[[#This Row],[repi]]/BD_DEP[[#This Row],[Mat Inicial]]","v":0},"52","Dpto. Música",79484759,"Navarro Gonzalez Julian","CA","PR"]
[2821,"MUS7448","JAZZ Y MUSICA POPULAR I",5,202330,1,1,0,0,0,{"$f":"+BD_DEP[[#This Row],[totalp]]/BD_DEP[[#This Row],[Mat Inicial]]","v":0},{"$f":"+BD_DEP[[#This Row],[totalr]]/BD_DEP[[#This Row],[Mat Inicial]]","v":0},{"$f":"+BD_DEP[[#This Row],[repi]]/BD_DEP[[#This Row],[Mat Inicial]]","v":0},"52","Dpto. Música",72170596,"NIETO BUSTILLO JAIME","CA","PR"]
[2822,"MUS7448","JAZZ Y MUSICA POPULAR I",6,202330,1,1,0,0,0,{"$f":"+BD_DEP[[#This Row],[totalp]]/BD_DEP[[#This Row],[Mat Inicial]]","v":0},{"$f":"+BD_DEP[[#This Row],[totalr]]/BD_DEP[[#This Row],[Mat Inicial]]","v":0},{"$f":"+BD_DEP[[#This Row],[repi]]/BD_DEP[[#This Row],[Mat Inicial]]","v":0},"52","Dpto. Música",72170596,"NIETO BUSTILLO JAIME","CA","PR"]
[2823,"MUS7448","JAZZ Y MUSICA POPULAR I",7,202330,1,1,0,0,0,{"$f":"+BD_DEP[[#This Row],[totalp]]/BD_DEP[[#This Row],[Mat Inicial]]","v":0},{"$f":"+BD_DEP[[#This Row],[totalr]]/BD_DEP[[#This Row],[Mat Inicial]]","v":0},{"$f":"+BD_DEP[[#This Row],[repi]]/BD_DEP[[#This Row],[Mat Inicial]]","v":0},"52","Dpto. Música",72313910,"ARTUZ SILVA LUIS","CA","PR"]
[2828,"MUS7450","JAZZ Y MUSICA POPULAR II",5,202330,1,1,0,0,0,{"$f":"+BD_DEP[[#This Row],[totalp]]/BD_DEP[[#This Row],[Mat Inicial]]","v":0},{"$f":"+BD_DEP[[#This Row],[totalr]]/BD_DEP[[#This Row],[Mat Inicial]]","v":0},{"$f":"+BD_DEP[[#This Row],[repi]]/BD_DEP[[#This Row],[Mat Inicial]]","v":0},"52","Dpto. Música",72170596,"NIETO BUSTILLO JAIME","CA","PR"]
[2830,"MUS7452","JAZZ Y MUSICA POPULAR III",2,202330,1,1,0,0,0,{"$f":"+BD_DEP[[#This Row],[totalp]]/BD_DEP[[#This Row],[Mat Inicial]]","v":0},{"$f":"+BD_DEP[[#This Row],[totalr]]/BD_DEP[[#This Row],[Mat Inicial]]","v":0},{"$f":"+BD_DEP[[#This Row],[repi]]/BD_DEP[[#This Row],[Mat Inicial]]","v":0},"52","Dpto. Música",72170596,"NIETO BUSTILLO JAIME","CA","PR"]
[2837,"MUS7454","JAZZ Y MUSICA POPULAR IV",6,202330,1,1,0,0,0,{"$f":"+BD_DEP[[#This Row],[totalp]]/BD_DEP[[#This Row],[Mat Inicial]]","v":0},{"$f":"+BD_DEP[[#This Row],[totalr]]/BD_DEP[[#This Row],[Mat Inicial]]","v":0},{"$f":"+BD_DEP[[#This Row],[repi]]/BD_DEP[[#This Row],[Mat Inicial]]","v":0},"52","Dpto. Música",72170596,"NIETO BUSTILLO JAIME","CA","PR"]
[2838,"MUS7454","JAZZ Y MUSICA POPULAR IV",7,202330,1,1,0,0,0,{"$f":"+BD_DEP[[#This Row],[totalp]]/BD_DEP[[#This Row],[Mat Inicial]]","v":0},{"$f":"+BD_DEP[[#This Row],[totalr]]/BD_DEP[[#This Row],[Mat Inicial]]","v":0},{"$f":"+BD_DEP[[#This Row],[repi]]/BD_DEP[[#This Row],[Mat Inicial]]","v":0},"52","Dpto. Música",72170596,"NIETO BUSTILLO JAIME","CA","PR"]
[2839,"MUS7454","JAZZ Y MUSICA POPULAR IV",8,202330,1,1,0,0,0,{"$f":"+BD_DEP[[#This Row],[totalp]]/BD_DEP[[#This Row],[Mat Inicial]]","v":0},{"$f":"+BD_DEP[[#This Row],[totalr]]/BD_DEP[[#This Row],[Mat Inicial]]","v":0},{"$f":"+BD_DEP[[#This Row],[repi]]/BD_DEP[[#This Row],[Mat Inicial]]","v":0},"52","Dpto. Música",72313910,"ARTUZ SILVA LUIS","CA","PR"]
[2849,"MUS7456","JAZZ Y MUSICA POPULAR V",9,202330,1,1,0,0,0,{"$f":"+BD_DEP[[#This Row],[totalp]]/BD_DEP[[#This Row],[Mat Inicial]]","v":0},{"$f":"+BD_DEP[[#This Row],[totalr]]/BD_DEP[[#This Row],[Mat Inicial]]","v":0},{"$f":"+BD_DEP[[#This Row],[repi]]/BD_DEP[[#This Row],[Mat Inicial]]","v":0},"52","Dpto. Música",72170596,"NIETO BUSTILLO JAIME","CA","PR"]
[2850,"MUS7456","JAZZ Y MUSICA POPULAR V",10,202330,1,1,0,0,0,{"$f":"+BD_DEP[[#This Row],[totalp]]/BD_DEP[[#This Row],[Mat Inicial]]","v":0},{"$f":"+BD_DEP[[#This Row],[totalr]]/BD_DEP[[#This Row],[Mat Inicial]]","v":0},{"$f":"+BD_DEP[[#This Row],[repi]]/BD_DEP[[#This Row],[Mat Inicial]]","v":0},"52","Dpto. Música",72313910,"ARTUZ SILVA LUIS","CA","PR"]
[2859,"MUS7458","JAZZ Y MUSICA POPULAR VI",8,202330,1,1,0,0,0,{"$f":"+BD_DEP[[#This Row],[totalp]]/BD_DEP[[#This Row],[Mat Inicial]]","v":0},{"$f":"+BD_DEP[[#This Row],[totalr]]/BD_DEP[[#This Row],[Mat Inicial]]","v":0},{"$f":"+BD_DEP[[#This Row],[repi]]/BD_DEP[[#This Row],[Mat Inicial]]","v":0},"52","Dpto. Música",72170596,"NIETO BUSTILLO JAIME","CA","PR"]
[2860,"MUS7458","JAZZ Y MUSICA POPULAR VI",9,202330,1,1,0,0,0,{"$f":"+BD_DEP[[#This Row],[totalp]]/BD_DEP[[#This Row],[Mat Inicial]]","v":0},{"$f":"+BD_DEP[[#This Row],[totalr]]/BD_DEP[[#This Row],[Mat Inicial]]","v":0},{"$f":"+BD_DEP[[#This Row],[repi]]/BD_DEP[[#This Row],[Mat Inicial]]","v":0},"52","Dpto. Música",72170596,"NIETO BUSTILLO JAIME","CA","PR"]
[2867,"MUS7460","JAZZ Y MUSICA POPULAR VII",6,202330,1,1,0,0,0,{"$f":"+BD_DEP[[#This Row],[totalp]]/BD_DEP[[#This Row],[Mat Inicial]]","v":0},{"$f":"+BD_DEP[[#This Row],[totalr]]/BD_DEP[[#This Row],[Mat Inicial]]","v":0},{"$f":"+BD_DEP[[#This Row],[repi]]/BD_DEP[[#This Row],[Mat Inicial]]","v":0},"52","Dpto. Música",72170596,"NIETO BUSTILLO JAIME","CA","PR"]
[1679,"ECA0065","MUSICA DE COLOMBIA Y DEL CAR",1,202330,26,18,4,8,12,{"$f":"+BD_DEP[[#This Row],[totalp]]/BD_DEP[[#This Row],[Mat Inicial]]","v":0.15384615384615385},{"$f":"+BD_DEP[[#This Row],[totalr]]/BD_DEP[[#This Row],[Mat Inicial]]","v":0.30769230769230771},{"$f":"+BD_DEP[[#This Row],[repi]]/BD_DEP[[#This Row],[Mat Inicial]]","v":0.46153846153846156},"52","Dpto. Música",32729701,"Marin Niebles Angela","CA","PR"]
[2737,"MUS4085","MUSICA DEL SIGLO XX Y XXI",1,202330,12,12,0,0,0,{"$f":"+BD_DEP[[#This Row],[totalp]]/BD_DEP[[#This Row],[Mat Inicial]]","v":0},{"$f":"+BD_DEP[[#This Row],[totalr]]/BD_DEP[[#This Row],[Mat Inicial]]","v":0},{"$f":"+BD_DEP[[#This Row],[repi]]/BD_DEP[[#This Row],[Mat Inicial]]","v":0},"52","Dpto. Música",79484759,"Navarro Gonzalez Julian","CA","PR"]
[6620,"MUS7446","NIVELAT JAZZ Y MUSICA POPULAR",54,202330,1,1,0,0,0,{"$f":"+BD_DEP[[#This Row],[totalp]]/BD_DEP[[#This Row],[Mat Inicial]]","v":0},{"$f":"+BD_DEP[[#This Row],[totalr]]/BD_DEP[[#This Row],[Mat Inicial]]","v":0},{"$f":"+BD_DEP[[#This Row],[repi]]/BD_DEP[[#This Row],[Mat Inicial]]","v":0},"52","Dpto. Música",72170596,"NIETO BUSTILLO JAIME","CA","PR"]
[6897,"MUS7446","NIVELAT JAZZ Y MUSICA POPULAR",1,202330,1,1,0,0,0,{"$f":"+BD_DEP[[#This Row],[totalp]]/BD_DEP[[#This Row],[Mat Inicial]]","v":0},{"$f":"+BD_DEP[[#This Row],[totalr]]/BD_DEP[[#This Row],[Mat Inicial]]","v":0},{"$f":"+BD_DEP[[#This Row],[repi]]/BD_DEP[[#This Row],[Mat Inicial]]","v":0},"52","Dpto. Música",72170596,"NIETO BUSTILLO JAIME","CA","PR"]
[2739,"MUS4095","PIANO / GUITARRA FUNCIONAL II",2,202330,5,5,0,0,0,{"$f":"+BD_DEP[[#This Row],[totalp]]/BD_DEP[[#This Row],[Mat Inicial]]","v":0},{"$f":"+BD_DEP[[#This Row],[totalr]]/BD_DEP[[#This Row],[Mat Inicial]]","v":0},{"$f":"+BD_DEP[[#This Row],[repi]]/BD_DEP[[#This Row],[Mat Inicial]]","v":0},"52","Dpto. Música",1045724756,"Florez Oyaga Luz","CA","PR"]
[2740,"MUS4095","PIANO / GUITARRA FUNCIONAL II",3,202330,5,5,0,0,0,{"$f":"+BD_DEP[[#This Row],[totalp]]/BD_DEP[[#This Row],[Mat Inicial]]","v":0},{"$f":"+BD_DEP[[#This Row],[totalr]]/BD_DEP[[#This Row],[Mat Inicial]]","v":0},{"$f":"+BD_DEP[[#This Row],[repi]]/BD_DEP[[#This Row],[Mat Inicial]]","v":0},"52","Dpto. Música",1045724756,"Florez Oyaga Luz","CA","PR"]
[2741,"MUS4100","PIANO / GUITARRA FUNCIONAL III",1,202330,6,6,0,0,0,{"$f":"+BD_DEP[[#This Row],[totalp]]/BD_DEP[[#This Row],[Mat Inicial]]","v":0},{"$f":"+BD_DEP[[#This Row],[totalr]]/BD_DEP[[#This Row],[Mat Inicial]]","v":0},{"$f":"+BD_DEP[[#This Row],[repi]]/BD_DEP[[#This Row],[Mat Inicial]]","v":0},"52","Dpto. Música",1045724756,"Florez Oyaga Luz","CA","PR"]
[2750,"MUS4125","PRACTICA EN CONJUNTO IV",5,202330,2,2,0,0,0,{"$f":"+BD_DEP[[#This Row],[totalp]]/BD_DEP[[#This Row],[Mat Inicial]]","v":0},{"$f":"+BD_DEP[[#This Row],[totalr]]/BD_DEP[[#This Row],[Mat Inicial]]","v":0},{"$f":"+BD_DEP[[#This Row],[repi]]/BD_DEP[[#This Row],[Mat Inicial]]","v":0},"52","Dpto. Música",73155901,"Teheran  Salgado Tomas","CA","PR"]
[2757,"MUS4130","PRACTICA EN CONJUNTO V",5,202330,2,2,0,0,0,{"$f":"+BD_DEP[[#This Row],[totalp]]/BD_DEP[[#This Row],[Mat Inicial]]","v":0},{"$f":"+BD_DEP[[#This Row],[totalr]]/BD_DEP[[#This Row],[Mat Inicial]]","v":0},{"$f":"+BD_DEP[[#This Row],[repi]]/BD_DEP[[#This Row],[Mat Inicial]]","v":0},"52","Dpto. Música",73155901,"Teheran  Salgado Tomas","CA","PR"]
[2771,"MUS4140","PRACTICA EN CONJUNTO VII",5,202330,2,2,0,0,0,{"$f":"+BD_DEP[[#This Row],[totalp]]/BD_DEP[[#This Row],[Mat Inicial]]","v":0},{"$f":"+BD_DEP[[#This Row],[totalr]]/BD_DEP[[#This Row],[Mat Inicial]]","v":0},{"$f":"+BD_DEP[[#This Row],[repi]]/BD_DEP[[#This Row],[Mat Inicial]]","v":0},"52","Dpto. Música",73155901,"Teheran  Salgado Tomas","CA","PR"]
[2778,"MUS4145","PRACTICA EN CONJUNTO VIII",5,202330,2,2,0,0,0,{"$f":"+BD_DEP[[#This Row],[totalp]]/BD_DEP[[#This Row],[Mat Inicial]]","v":0},{"$f":"+BD_DEP[[#This Row],[totalr]]/BD_DEP[[#This Row],[Mat Inicial]]","v":0},{"$f":"+BD_DEP[[#This Row],[repi]]/BD_DEP[[#This Row],[Mat Inicial]]","v":0},"52","Dpto. Música",73155901,"Teheran  Salgado Tomas","CA","PR"]
[2875,"MUS7538","RECITAL CLARINETE II",1,202330,1,0,0,1,1,{"$f":"+BD_DEP[[#This Row],[totalp]]/BD_DEP[[#This Row],[Mat Inicial]]","v":0},{"$f":"+BD_DEP[[#This Row],[totalr]]/BD_DEP[[#This Row],[Mat Inicial]]","v":1},{"$f":"+BD_DEP[[#This Row],[repi]]/BD_DEP[[#This Row],[Mat Inicial]]","v":1},"52","Dpto. Música",14219122,"Reina Tovar Fernando","CA","PR"]
[2804,"MUS7175","RECITAL GUITARRA IV",1,202330,1,1,0,0,0,{"$f":"+BD_DEP[[#This Row],[totalp]]/BD_DEP[[#This Row],[Mat Inicial]]","v":0},{"$f":"+BD_DEP[[#This Row],[totalr]]/BD_DEP[[#This Row],[Mat Inicial]]","v":0},{"$f":"+BD_DEP[[#This Row],[repi]]/BD_DEP[[#This Row],[Mat Inicial]]","v":0},"52","Dpto. Música",79484759,"Navarro Gonzalez Julian","CA","PR"]
[2880,"MUS7558","RECITAL JAZZ Y MUSICA POPUL IV",2,202330,1,1,0,0,0,{"$f":"+BD_DEP[[#This Row],[totalp]]/BD_DEP[[#This Row],[Mat Inicial]]","v":0},{"$f":"+BD_DEP[[#This Row],[totalr]]/BD_DEP[[#This Row],[Mat Inicial]]","v":0},{"$f":"+BD_DEP[[#This Row],[repi]]/BD_DEP[[#This Row],[Mat Inicial]]","v":0},"52","Dpto. Música",1065610789,"MILLAN RODRIGUEZ LEONARDO","CA","PR"]
[2881,"MUS7558","RECITAL JAZZ Y MUSICA POPUL IV",3,202330,1,1,0,0,0,{"$f":"+BD_DEP[[#This Row],[totalp]]/BD_DEP[[#This Row],[Mat Inicial]]","v":0},{"$f":"+BD_DEP[[#This Row],[totalr]]/BD_DEP[[#This Row],[Mat Inicial]]","v":0},{"$f":"+BD_DEP[[#This Row],[repi]]/BD_DEP[[#This Row],[Mat Inicial]]","v":0},"52","Dpto. Música",1065610789,"MILLAN RODRIGUEZ LEONARDO","CA","PR"]
[2782,"MUS4160","SOLFEO II",1,202330,17,17,0,0,0,{"$f":"+BD_DEP[[#This Row],[totalp]]/BD_DEP[[#This Row],[Mat Inicial]]","v":0},{"$f":"+BD_DEP[[#This Row],[totalr]]/BD_DEP[[#This Row],[Mat Inicial]]","v":0},{"$f":"+BD_DEP[[#This Row],[repi]]/BD_DEP[[#This Row],[Mat Inicial]]","v":0},"52","Dpto. Música",1140867933,"BULA QUEVEDO ANGIE","CA","PR"]
[2784,"MUS4170","SOLFEO IV",1,202330,8,7,0,1,1,{"$f":"+BD_DEP[[#This Row],[totalp]]/BD_DEP[[#This Row],[Mat Inicial]]","v":0},{"$f":"+BD_DEP[[#This Row],[totalr]]/BD_DEP[[#This Row],[Mat Inicial]]","v":0.125},{"$f":"+BD_DEP[[#This Row],[repi]]/BD_DEP[[#This Row],[Mat Inicial]]","v":0.125},"52","Dpto. Música",63540647,"FLOREZ SANCHEZ DIANA","CA","PR"]
[3528,"ODO4175","SISTEMA ESTOMATOGNATICO I",1,202330,21,21,1,0,1,{"$f":"+BD_DEP[[#This Row],[totalp]]/BD_DEP[[#This Row],[Mat Inicial]]","v":4.7619047619047616E-2},{"$f":"+BD_DEP[[#This Row],[totalr]]/BD_DEP[[#This Row],[Mat Inicial]]","v":0},{"$f":"+BD_DEP[[#This Row],[repi]]/BD_DEP[[#This Row],[Mat Inicial]]","v":4.7619047619047616E-2},"36","Dpto. Odontología",285267,"MARTINEZ MARRERO EMILIO","TC","PR"]
[3529,"ODO4180","SISTEMA ESTOMATOGNATICO II",1,202330,15,15,1,0,1,{"$f":"+BD_DEP[[#This Row],[totalp]]/BD_DEP[[#This Row],[Mat Inicial]]","v":6.6666666666666666E-2},{"$f":"+BD_DEP[[#This Row],[totalr]]/BD_DEP[[#This Row],[Mat Inicial]]","v":0},{"$f":"+BD_DEP[[#This Row],[repi]]/BD_DEP[[#This Row],[Mat Inicial]]","v":6.6666666666666666E-2},"36","Dpto. Odontología",8276328,"Florez Arroyo Jorge","TC","PR"]
[3455,"ODO4005","BIOESTRUCTURA DENTAL  OCLUS I",1,202330,16,16,0,0,0,{"$f":"+BD_DEP[[#This Row],[totalp]]/BD_DEP[[#This Row],[Mat Inicial]]","v":0},{"$f":"+BD_DEP[[#This Row],[totalr]]/BD_DEP[[#This Row],[Mat Inicial]]","v":0},{"$f":"+BD_DEP[[#This Row],[repi]]/BD_DEP[[#This Row],[Mat Inicial]]","v":0},"36","Dpto. Odontología",1020731459,"DIAZ VIZCAINO LILIANA","MT","PR"]
[3456,"ODO4005","BIOESTRUCTURA DENTAL  OCLUS I",2,202330,20,20,1,0,1,{"$f":"+BD_DEP[[#This Row],[totalp]]/BD_DEP[[#This Row],[Mat Inicial]]","v":0.05},{"$f":"+BD_DEP[[#This Row],[totalr]]/BD_DEP[[#This Row],[Mat Inicial]]","v":0},{"$f":"+BD_DEP[[#This Row],[repi]]/BD_DEP[[#This Row],[Mat Inicial]]","v":0.05},"36","Dpto. Odontología",1020731459,"DIAZ VIZCAINO LILIANA","MT","PR"]
[3459,"ODO4015","CARIOLOGIA",1,202330,13,13,0,0,0,{"$f":"+BD_DEP[[#This Row],[totalp]]/BD_DEP[[#This Row],[Mat Inicial]]","v":0},{"$f":"+BD_DEP[[#This Row],[totalr]]/BD_DEP[[#This Row],[Mat Inicial]]","v":0},{"$f":"+BD_DEP[[#This Row],[repi]]/BD_DEP[[#This Row],[Mat Inicial]]","v":0},"36","Dpto. Odontología",22479314,"Casas Anillo Yojaima","MT","PR"]
[3469,"ODO4035","CLINICA CIRUGIA ORAL I",1,202330,23,23,4,0,4,{"$f":"+BD_DEP[[#This Row],[totalp]]/BD_DEP[[#This Row],[Mat Inicial]]","v":0.17391304347826086},{"$f":"+BD_DEP[[#This Row],[totalr]]/BD_DEP[[#This Row],[Mat Inicial]]","v":0},{"$f":"+BD_DEP[[#This Row],[repi]]/BD_DEP[[#This Row],[Mat Inicial]]","v":0.17391304347826086},"36","Dpto. Odontología",36667570,"ESPITIA NIETO SANDRA","MT","PR"]
[3472,"ODO4045","CLINICA DE ENDODONCIA I",2,202330,2,2,0,0,0,{"$f":"+BD_DEP[[#This Row],[totalp]]/BD_DEP[[#This Row],[Mat Inicial]]","v":0},{"$f":"+BD_DEP[[#This Row],[totalr]]/BD_DEP[[#This Row],[Mat Inicial]]","v":0},{"$f":"+BD_DEP[[#This Row],[repi]]/BD_DEP[[#This Row],[Mat Inicial]]","v":0},"36","Dpto. Odontología",72097636,"De La Cruz Rocha Edwin","MT","PR"]
[3478,"ODO4050","CLINICA DE ENDODONCIA II",2,202330,4,4,0,0,0,{"$f":"+BD_DEP[[#This Row],[totalp]]/BD_DEP[[#This Row],[Mat Inicial]]","v":0},{"$f":"+BD_DEP[[#This Row],[totalr]]/BD_DEP[[#This Row],[Mat Inicial]]","v":0},{"$f":"+BD_DEP[[#This Row],[repi]]/BD_DEP[[#This Row],[Mat Inicial]]","v":0},"36","Dpto. Odontología",72097636,"De La Cruz Rocha Edwin","MT","PR"]
[3502,"ODO4075","CLINICA INTEGRAL DEL ADULTO I",1,202330,8,8,1,0,1,{"$f":"+BD_DEP[[#This Row],[totalp]]/BD_DEP[[#This Row],[Mat Inicial]]","v":0.125},{"$f":"+BD_DEP[[#This Row],[totalr]]/BD_DEP[[#This Row],[Mat Inicial]]","v":0},{"$f":"+BD_DEP[[#This Row],[repi]]/BD_DEP[[#This Row],[Mat Inicial]]","v":0.125},"36","Dpto. Odontología",72097636,"De La Cruz Rocha Edwin","MT","PR"]
[3503,"ODO4080","CLINICA INTEGRAL DEL ADULTO II",1,202330,12,12,1,0,1,{"$f":"+BD_DEP[[#This Row],[totalp]]/BD_DEP[[#This Row],[Mat Inicial]]","v":8.3333333333333329E-2},{"$f":"+BD_DEP[[#This Row],[totalr]]/BD_DEP[[#This Row],[Mat Inicial]]","v":0},{"$f":"+BD_DEP[[#This Row],[repi]]/BD_DEP[[#This Row],[Mat Inicial]]","v":8.3333333333333329E-2},"36","Dpto. Odontología",94377263,"Meyer Duque Erich","MT","PR"]
[3504,"ODO4080","CLINICA INTEGRAL DEL ADULTO II",2,202330,14,14,0,0,0,{"$f":"+BD_DEP[[#This Row],[totalp]]/BD_DEP[[#This Row],[Mat Inicial]]","v":0},{"$f":"+BD_DEP[[#This Row],[totalr]]/BD_DEP[[#This Row],[Mat Inicial]]","v":0},{"$f":"+BD_DEP[[#This Row],[repi]]/BD_DEP[[#This Row],[Mat Inicial]]","v":0},"36","Dpto. Odontología",94377263,"Meyer Duque Erich","MT","PR"]
[3506,"ODO4090","CLINICA OPERATORIA DENTAL",1,202330,18,18,3,0,3,{"$f":"+BD_DEP[[#This Row],[totalp]]/BD_DEP[[#This Row],[Mat Inicial]]","v":0.16666666666666666},{"$f":"+BD_DEP[[#This Row],[totalr]]/BD_DEP[[#This Row],[Mat Inicial]]","v":0},{"$f":"+BD_DEP[[#This Row],[repi]]/BD_DEP[[#This Row],[Mat Inicial]]","v":0.16666666666666666},"36","Dpto. Odontología",22667118,"Pacini Solano Cynthia","MT","PR"]
[3507,"ODO4090","CLINICA OPERATORIA DENTAL",2,202330,6,6,2,0,2,{"$f":"+BD_DEP[[#This Row],[totalp]]/BD_DEP[[#This Row],[Mat Inicial]]","v":0.33333333333333331},{"$f":"+BD_DEP[[#This Row],[totalr]]/BD_DEP[[#This Row],[Mat Inicial]]","v":0},{"$f":"+BD_DEP[[#This Row],[repi]]/BD_DEP[[#This Row],[Mat Inicial]]","v":0.33333333333333331},"36","Dpto. Odontología",22667118,"Pacini Solano Cynthia","MT","PR"]
[3508,"ODO4095","CRECIMIENTO Y DESARROLLO",1,202330,15,15,0,0,0,{"$f":"+BD_DEP[[#This Row],[totalp]]/BD_DEP[[#This Row],[Mat Inicial]]","v":0},{"$f":"+BD_DEP[[#This Row],[totalr]]/BD_DEP[[#This Row],[Mat Inicial]]","v":0},{"$f":"+BD_DEP[[#This Row],[repi]]/BD_DEP[[#This Row],[Mat Inicial]]","v":0},"36","Dpto. Odontología",1020737613,"URIBE CALLE ANDREA","MT","PR"]
[3509,"ODO4100","ENDODONCIA",1,202330,14,14,1,0,1,{"$f":"+BD_DEP[[#This Row],[totalp]]/BD_DEP[[#This Row],[Mat Inicial]]","v":7.1428571428571425E-2},{"$f":"+BD_DEP[[#This Row],[totalr]]/BD_DEP[[#This Row],[Mat Inicial]]","v":0},{"$f":"+BD_DEP[[#This Row],[repi]]/BD_DEP[[#This Row],[Mat Inicial]]","v":7.1428571428571425E-2},"36","Dpto. Odontología",72097636,"De La Cruz Rocha Edwin","MT","PR"]
[6186,"ODO4100","ENDODONCIA",2,202330,13,13,5,0,5,{"$f":"+BD_DEP[[#This Row],[totalp]]/BD_DEP[[#This Row],[Mat Inicial]]","v":0.38461538461538464},{"$f":"+BD_DEP[[#This Row],[totalr]]/BD_DEP[[#This Row],[Mat Inicial]]","v":0},{"$f":"+BD_DEP[[#This Row],[repi]]/BD_DEP[[#This Row],[Mat Inicial]]","v":0.38461538461538464},"36","Dpto. Odontología",72097636,"De La Cruz Rocha Edwin","MT","PR"]
[4414,"ODO4105","INTRODUCCION A LA ODONTOLOGIA",1,202330,29,29,1,0,1,{"$f":"+BD_DEP[[#This Row],[totalp]]/BD_DEP[[#This Row],[Mat Inicial]]","v":3.4482758620689655E-2},{"$f":"+BD_DEP[[#This Row],[totalr]]/BD_DEP[[#This Row],[Mat Inicial]]","v":0},{"$f":"+BD_DEP[[#This Row],[repi]]/BD_DEP[[#This Row],[Mat Inicial]]","v":3.4482758620689655E-2},"36","Dpto. Odontología",22479314,"Casas Anillo Yojaima","MT","PR"]
[3512,"ODO4115","MATERIALES DENTALES II",1,202330,13,13,0,0,0,{"$f":"+BD_DEP[[#This Row],[totalp]]/BD_DEP[[#This Row],[Mat Inicial]]","v":0},{"$f":"+BD_DEP[[#This Row],[totalr]]/BD_DEP[[#This Row],[Mat Inicial]]","v":0},{"$f":"+BD_DEP[[#This Row],[repi]]/BD_DEP[[#This Row],[Mat Inicial]]","v":0},"36","Dpto. Odontología",94377263,"Meyer Duque Erich","MT","PR"]
[3514,"ODO4125","ODONTOPEDIATRIA",1,202330,10,10,0,0,0,{"$f":"+BD_DEP[[#This Row],[totalp]]/BD_DEP[[#This Row],[Mat Inicial]]","v":0},{"$f":"+BD_DEP[[#This Row],[totalr]]/BD_DEP[[#This Row],[Mat Inicial]]","v":0},{"$f":"+BD_DEP[[#This Row],[repi]]/BD_DEP[[#This Row],[Mat Inicial]]","v":0},"36","Dpto. Odontología",22479314,"Casas Anillo Yojaima","MT","PR"]
[3515,"ODO4130","OPERATORIA DENTAL",1,202330,11,11,0,0,0,{"$f":"+BD_DEP[[#This Row],[totalp]]/BD_DEP[[#This Row],[Mat Inicial]]","v":0},{"$f":"+BD_DEP[[#This Row],[totalr]]/BD_DEP[[#This Row],[Mat Inicial]]","v":0},{"$f":"+BD_DEP[[#This Row],[repi]]/BD_DEP[[#This Row],[Mat Inicial]]","v":0},"36","Dpto. Odontología",1020731459,"DIAZ VIZCAINO LILIANA","MT","PR"]
[3517,"ODO4135","ORTOPEDIA MAXILAR Y ORTODONCIA",1,202330,18,18,0,0,0,{"$f":"+BD_DEP[[#This Row],[totalp]]/BD_DEP[[#This Row],[Mat Inicial]]","v":0},{"$f":"+BD_DEP[[#This Row],[totalr]]/BD_DEP[[#This Row],[Mat Inicial]]","v":0},{"$f":"+BD_DEP[[#This Row],[repi]]/BD_DEP[[#This Row],[Mat Inicial]]","v":0},"36","Dpto. Odontología",1020737613,"URIBE CALLE ANDREA","MT","PR"]
[3522,"ODO4155","PREVENCION Y CLINICA DEL SANO",1,202330,23,23,3,0,3,{"$f":"+BD_DEP[[#This Row],[totalp]]/BD_DEP[[#This Row],[Mat Inicial]]","v":0.13043478260869565},{"$f":"+BD_DEP[[#This Row],[totalr]]/BD_DEP[[#This Row],[Mat Inicial]]","v":0},{"$f":"+BD_DEP[[#This Row],[repi]]/BD_DEP[[#This Row],[Mat Inicial]]","v":0.13043478260869565},"36","Dpto. Odontología",22479314,"Casas Anillo Yojaima","MT","PR"]
[3523,"ODO4160","RADIOLOGIA ORAL E IMAGENOLOGIA",1,202330,13,13,1,0,1,{"$f":"+BD_DEP[[#This Row],[totalp]]/BD_DEP[[#This Row],[Mat Inicial]]","v":7.6923076923076927E-2},{"$f":"+BD_DEP[[#This Row],[totalr]]/BD_DEP[[#This Row],[Mat Inicial]]","v":0},{"$f":"+BD_DEP[[#This Row],[repi]]/BD_DEP[[#This Row],[Mat Inicial]]","v":7.6923076923076927E-2},"36","Dpto. Odontología",72097636,"De La Cruz Rocha Edwin","MT","PR"]
[3527,"ODO4170","SEMIOLOGIA CABEZA Y CUELLO",1,202330,23,23,5,0,5,{"$f":"+BD_DEP[[#This Row],[totalp]]/BD_DEP[[#This Row],[Mat Inicial]]","v":0.21739130434782608},{"$f":"+BD_DEP[[#This Row],[totalr]]/BD_DEP[[#This Row],[Mat Inicial]]","v":0},{"$f":"+BD_DEP[[#This Row],[repi]]/BD_DEP[[#This Row],[Mat Inicial]]","v":0.21739130434782608},"36","Dpto. Odontología",36667570,"ESPITIA NIETO SANDRA","MT","PR"]
[3453,"ODO4000","ANASTESIOLOGIA  ORAL",1,202330,12,12,0,0,0,{"$f":"+BD_DEP[[#This Row],[totalp]]/BD_DEP[[#This Row],[Mat Inicial]]","v":0},{"$f":"+BD_DEP[[#This Row],[totalr]]/BD_DEP[[#This Row],[Mat Inicial]]","v":0},{"$f":"+BD_DEP[[#This Row],[repi]]/BD_DEP[[#This Row],[Mat Inicial]]","v":0},"36","Dpto. Odontología",84077717,"Elneser Elneser Nadin","CA","PR"]
[3454,"ODO4000","ANASTESIOLOGIA  ORAL",2,202330,12,12,0,0,0,{"$f":"+BD_DEP[[#This Row],[totalp]]/BD_DEP[[#This Row],[Mat Inicial]]","v":0},{"$f":"+BD_DEP[[#This Row],[totalr]]/BD_DEP[[#This Row],[Mat Inicial]]","v":0},{"$f":"+BD_DEP[[#This Row],[repi]]/BD_DEP[[#This Row],[Mat Inicial]]","v":0},"36","Dpto. Odontología",84077717,"Elneser Elneser Nadin","CA","PR"]
[3457,"ODO4010","BIOESTRUCTURA DENTAL OCLUS II",1,202330,17,17,4,0,4,{"$f":"+BD_DEP[[#This Row],[totalp]]/BD_DEP[[#This Row],[Mat Inicial]]","v":0.23529411764705882},{"$f":"+BD_DEP[[#This Row],[totalr]]/BD_DEP[[#This Row],[Mat Inicial]]","v":0},{"$f":"+BD_DEP[[#This Row],[repi]]/BD_DEP[[#This Row],[Mat Inicial]]","v":0.23529411764705882},"36","Dpto. Odontología",36311713,"Estupinan Aristizabal Dora","CA","PR"]
[3467,"ODO4025","CIRUGIA ORAL Y MAXILOFACIAL",1,202330,12,12,0,0,0,{"$f":"+BD_DEP[[#This Row],[totalp]]/BD_DEP[[#This Row],[Mat Inicial]]","v":0},{"$f":"+BD_DEP[[#This Row],[totalr]]/BD_DEP[[#This Row],[Mat Inicial]]","v":0},{"$f":"+BD_DEP[[#This Row],[repi]]/BD_DEP[[#This Row],[Mat Inicial]]","v":0},"36","Dpto. Odontología",1127951007,"Elias Nader Nawel","CA","PR"]
[3499,"ODO4070","CLI  DE REHABILITACION ORAL II",4,202330,4,4,0,0,0,{"$f":"+BD_DEP[[#This Row],[totalp]]/BD_DEP[[#This Row],[Mat Inicial]]","v":0},{"$f":"+BD_DEP[[#This Row],[totalr]]/BD_DEP[[#This Row],[Mat Inicial]]","v":0},{"$f":"+BD_DEP[[#This Row],[repi]]/BD_DEP[[#This Row],[Mat Inicial]]","v":0},"36","Dpto. Odontología",8644946,"BERDUGO DE LA CRUZ HAROLD","CA","PR"]
[3497,"ODO4070","CLI  DE REHABILITACION ORAL II",2,202330,4,4,1,0,1,{"$f":"+BD_DEP[[#This Row],[totalp]]/BD_DEP[[#This Row],[Mat Inicial]]","v":0.25},{"$f":"+BD_DEP[[#This Row],[totalr]]/BD_DEP[[#This Row],[Mat Inicial]]","v":0},{"$f":"+BD_DEP[[#This Row],[repi]]/BD_DEP[[#This Row],[Mat Inicial]]","v":0.25},"36","Dpto. Odontología",22522804,"FLOREZ ESLAIT ROSSANA","CA","PR"]
[3498,"ODO4070","CLI  DE REHABILITACION ORAL II",3,202330,3,3,0,0,0,{"$f":"+BD_DEP[[#This Row],[totalp]]/BD_DEP[[#This Row],[Mat Inicial]]","v":0},{"$f":"+BD_DEP[[#This Row],[totalr]]/BD_DEP[[#This Row],[Mat Inicial]]","v":0},{"$f":"+BD_DEP[[#This Row],[repi]]/BD_DEP[[#This Row],[Mat Inicial]]","v":0},"36","Dpto. Odontología",22522804,"FLOREZ ESLAIT ROSSANA","CA","PR"]
[3501,"ODO4070","CLI  DE REHABILITACION ORAL II",6,202330,3,3,0,0,0,{"$f":"+BD_DEP[[#This Row],[totalp]]/BD_DEP[[#This Row],[Mat Inicial]]","v":0},{"$f":"+BD_DEP[[#This Row],[totalr]]/BD_DEP[[#This Row],[Mat Inicial]]","v":0},{"$f":"+BD_DEP[[#This Row],[repi]]/BD_DEP[[#This Row],[Mat Inicial]]","v":0},"36","Dpto. Odontología",32791861,"PACHECO ARRIETA VANESSA","CA","PR"]
[3500,"ODO4070","CLI  DE REHABILITACION ORAL II",5,202330,3,3,3,0,3,{"$f":"+BD_DEP[[#This Row],[totalp]]/BD_DEP[[#This Row],[Mat Inicial]]","v":1},{"$f":"+BD_DEP[[#This Row],[totalr]]/BD_DEP[[#This Row],[Mat Inicial]]","v":0},{"$f":"+BD_DEP[[#This Row],[repi]]/BD_DEP[[#This Row],[Mat Inicial]]","v":1},"36","Dpto. Odontología",44006627,"MELO GUZMAN LAURA","CA","PR"]
[3496,"ODO4070","CLI  DE REHABILITACION ORAL II",1,202330,4,4,0,0,0,{"$f":"+BD_DEP[[#This Row],[totalp]]/BD_DEP[[#This Row],[Mat Inicial]]","v":0},{"$f":"+BD_DEP[[#This Row],[totalr]]/BD_DEP[[#This Row],[Mat Inicial]]","v":0},{"$f":"+BD_DEP[[#This Row],[repi]]/BD_DEP[[#This Row],[Mat Inicial]]","v":0},"36","Dpto. Odontología",55312623,"MONROY GOMEZ MARIA","CA","PR"]
[3493,"ODO4065","CLI DE REHABILITACION ORAL I",4,202330,2,2,0,0,0,{"$f":"+BD_DEP[[#This Row],[totalp]]/BD_DEP[[#This Row],[Mat Inicial]]","v":0},{"$f":"+BD_DEP[[#This Row],[totalr]]/BD_DEP[[#This Row],[Mat Inicial]]","v":0},{"$f":"+BD_DEP[[#This Row],[repi]]/BD_DEP[[#This Row],[Mat Inicial]]","v":0},"36","Dpto. Odontología",8644946,"BERDUGO DE LA CRUZ HAROLD","CA","PR"]
[3491,"ODO4065","CLI DE REHABILITACION ORAL I",2,202330,2,2,0,0,0,{"$f":"+BD_DEP[[#This Row],[totalp]]/BD_DEP[[#This Row],[Mat Inicial]]","v":0},{"$f":"+BD_DEP[[#This Row],[totalr]]/BD_DEP[[#This Row],[Mat Inicial]]","v":0},{"$f":"+BD_DEP[[#This Row],[repi]]/BD_DEP[[#This Row],[Mat Inicial]]","v":0},"36","Dpto. Odontología",22522804,"FLOREZ ESLAIT ROSSANA","CA","PR"]
[3492,"ODO4065","CLI DE REHABILITACION ORAL I",3,202330,2,2,1,0,1,{"$f":"+BD_DEP[[#This Row],[totalp]]/BD_DEP[[#This Row],[Mat Inicial]]","v":0.5},{"$f":"+BD_DEP[[#This Row],[totalr]]/BD_DEP[[#This Row],[Mat Inicial]]","v":0},{"$f":"+BD_DEP[[#This Row],[repi]]/BD_DEP[[#This Row],[Mat Inicial]]","v":0.5},"36","Dpto. Odontología",22522804,"FLOREZ ESLAIT ROSSANA","CA","PR"]
[3495,"ODO4065","CLI DE REHABILITACION ORAL I",6,202330,2,2,0,0,0,{"$f":"+BD_DEP[[#This Row],[totalp]]/BD_DEP[[#This Row],[Mat Inicial]]","v":0},{"$f":"+BD_DEP[[#This Row],[totalr]]/BD_DEP[[#This Row],[Mat Inicial]]","v":0},{"$f":"+BD_DEP[[#This Row],[repi]]/BD_DEP[[#This Row],[Mat Inicial]]","v":0},"36","Dpto. Odontología",32791861,"PACHECO ARRIETA VANESSA","CA","PR"]
[3494,"ODO4065","CLI DE REHABILITACION ORAL I",5,202330,1,1,0,0,0,{"$f":"+BD_DEP[[#This Row],[totalp]]/BD_DEP[[#This Row],[Mat Inicial]]","v":0},{"$f":"+BD_DEP[[#This Row],[totalr]]/BD_DEP[[#This Row],[Mat Inicial]]","v":0},{"$f":"+BD_DEP[[#This Row],[repi]]/BD_DEP[[#This Row],[Mat Inicial]]","v":0},"36","Dpto. Odontología",44006627,"MELO GUZMAN LAURA","CA","PR"]
[3490,"ODO4065","CLI DE REHABILITACION ORAL I",1,202330,2,2,1,0,1,{"$f":"+BD_DEP[[#This Row],[totalp]]/BD_DEP[[#This Row],[Mat Inicial]]","v":0.5},{"$f":"+BD_DEP[[#This Row],[totalr]]/BD_DEP[[#This Row],[Mat Inicial]]","v":0},{"$f":"+BD_DEP[[#This Row],[repi]]/BD_DEP[[#This Row],[Mat Inicial]]","v":0.5},"36","Dpto. Odontología",55312623,"MONROY GOMEZ MARIA","CA","PR"]
[3468,"ODO4030","CLINICA CIRUGIA ORAL III",1,202330,25,25,1,0,1,{"$f":"+BD_DEP[[#This Row],[totalp]]/BD_DEP[[#This Row],[Mat Inicial]]","v":0.04},{"$f":"+BD_DEP[[#This Row],[totalr]]/BD_DEP[[#This Row],[Mat Inicial]]","v":0},{"$f":"+BD_DEP[[#This Row],[repi]]/BD_DEP[[#This Row],[Mat Inicial]]","v":0.04},"36","Dpto. Odontología",8715258,"ACOSTA PEÑA MIGUEL","CA","PR"]
[3470,"ODO4040","CLINICA DE CIRUGIA ORAL II",1,202330,9,9,0,0,0,{"$f":"+BD_DEP[[#This Row],[totalp]]/BD_DEP[[#This Row],[Mat Inicial]]","v":0},{"$f":"+BD_DEP[[#This Row],[totalr]]/BD_DEP[[#This Row],[Mat Inicial]]","v":0},{"$f":"+BD_DEP[[#This Row],[repi]]/BD_DEP[[#This Row],[Mat Inicial]]","v":0},"36","Dpto. Odontología",53012586,"Bueno Torres Andrea","CA","PR"]
[3473,"ODO4045","CLINICA DE ENDODONCIA I",3,202330,3,3,0,0,0,{"$f":"+BD_DEP[[#This Row],[totalp]]/BD_DEP[[#This Row],[Mat Inicial]]","v":0},{"$f":"+BD_DEP[[#This Row],[totalr]]/BD_DEP[[#This Row],[Mat Inicial]]","v":0},{"$f":"+BD_DEP[[#This Row],[repi]]/BD_DEP[[#This Row],[Mat Inicial]]","v":0},"36","Dpto. Odontología",8740560,"SANTIAGO MUÑOZ EDGAR","CA","PR"]
[3474,"ODO4045","CLINICA DE ENDODONCIA I",4,202330,2,2,0,0,0,{"$f":"+BD_DEP[[#This Row],[totalp]]/BD_DEP[[#This Row],[Mat Inicial]]","v":0},{"$f":"+BD_DEP[[#This Row],[totalr]]/BD_DEP[[#This Row],[Mat Inicial]]","v":0},{"$f":"+BD_DEP[[#This Row],[repi]]/BD_DEP[[#This Row],[Mat Inicial]]","v":0},"36","Dpto. Odontología",8740560,"SANTIAGO MUÑOZ EDGAR","CA","PR"]
[3476,"ODO4045","CLINICA DE ENDODONCIA I",6,202330,2,2,0,0,0,{"$f":"+BD_DEP[[#This Row],[totalp]]/BD_DEP[[#This Row],[Mat Inicial]]","v":0},{"$f":"+BD_DEP[[#This Row],[totalr]]/BD_DEP[[#This Row],[Mat Inicial]]","v":0},{"$f":"+BD_DEP[[#This Row],[repi]]/BD_DEP[[#This Row],[Mat Inicial]]","v":0},"36","Dpto. Odontología",22563048,"MARTINEZ DAZA ESPERANZA","CA","PR"]
[3471,"ODO4045","CLINICA DE ENDODONCIA I",1,202330,2,2,0,0,0,{"$f":"+BD_DEP[[#This Row],[totalp]]/BD_DEP[[#This Row],[Mat Inicial]]","v":0},{"$f":"+BD_DEP[[#This Row],[totalr]]/BD_DEP[[#This Row],[Mat Inicial]]","v":0},{"$f":"+BD_DEP[[#This Row],[repi]]/BD_DEP[[#This Row],[Mat Inicial]]","v":0},"36","Dpto. Odontología",32700787,"FORERO SANCHEZ LUZ","CA","PR"]
[3475,"ODO4045","CLINICA DE ENDODONCIA I",5,202330,3,3,0,0,0,{"$f":"+BD_DEP[[#This Row],[totalp]]/BD_DEP[[#This Row],[Mat Inicial]]","v":0},{"$f":"+BD_DEP[[#This Row],[totalr]]/BD_DEP[[#This Row],[Mat Inicial]]","v":0},{"$f":"+BD_DEP[[#This Row],[repi]]/BD_DEP[[#This Row],[Mat Inicial]]","v":0},"36","Dpto. Odontología",32700787,"FORERO SANCHEZ LUZ","CA","PR"]
[3479,"ODO4050","CLINICA DE ENDODONCIA II",3,202330,3,3,0,0,0,{"$f":"+BD_DEP[[#This Row],[totalp]]/BD_DEP[[#This Row],[Mat Inicial]]","v":0},{"$f":"+BD_DEP[[#This Row],[totalr]]/BD_DEP[[#This Row],[Mat Inicial]]","v":0},{"$f":"+BD_DEP[[#This Row],[repi]]/BD_DEP[[#This Row],[Mat Inicial]]","v":0},"36","Dpto. Odontología",8740560,"SANTIAGO MUÑOZ EDGAR","CA","PR"]
[3480,"ODO4050","CLINICA DE ENDODONCIA II",4,202330,3,3,0,0,0,{"$f":"+BD_DEP[[#This Row],[totalp]]/BD_DEP[[#This Row],[Mat Inicial]]","v":0},{"$f":"+BD_DEP[[#This Row],[totalr]]/BD_DEP[[#This Row],[Mat Inicial]]","v":0},{"$f":"+BD_DEP[[#This Row],[repi]]/BD_DEP[[#This Row],[Mat Inicial]]","v":0},"36","Dpto. Odontología",8740560,"SANTIAGO MUÑOZ EDGAR","CA","PR"]
[3482,"ODO4050","CLINICA DE ENDODONCIA II",6,202330,3,3,0,0,0,{"$f":"+BD_DEP[[#This Row],[totalp]]/BD_DEP[[#This Row],[Mat Inicial]]","v":0},{"$f":"+BD_DEP[[#This Row],[totalr]]/BD_DEP[[#This Row],[Mat Inicial]]","v":0},{"$f":"+BD_DEP[[#This Row],[repi]]/BD_DEP[[#This Row],[Mat Inicial]]","v":0},"36","Dpto. Odontología",22563048,"MARTINEZ DAZA ESPERANZA","CA","PR"]
[3477,"ODO4050","CLINICA DE ENDODONCIA II",1,202330,4,4,0,0,0,{"$f":"+BD_DEP[[#This Row],[totalp]]/BD_DEP[[#This Row],[Mat Inicial]]","v":0},{"$f":"+BD_DEP[[#This Row],[totalr]]/BD_DEP[[#This Row],[Mat Inicial]]","v":0},{"$f":"+BD_DEP[[#This Row],[repi]]/BD_DEP[[#This Row],[Mat Inicial]]","v":0},"36","Dpto. Odontología",32700787,"FORERO SANCHEZ LUZ","CA","PR"]
[3481,"ODO4050","CLINICA DE ENDODONCIA II",5,202330,4,4,2,0,2,{"$f":"+BD_DEP[[#This Row],[totalp]]/BD_DEP[[#This Row],[Mat Inicial]]","v":0.5},{"$f":"+BD_DEP[[#This Row],[totalr]]/BD_DEP[[#This Row],[Mat Inicial]]","v":0},{"$f":"+BD_DEP[[#This Row],[repi]]/BD_DEP[[#This Row],[Mat Inicial]]","v":0.5},"36","Dpto. Odontología",32700787,"FORERO SANCHEZ LUZ","CA","PR"]
[3483,"ODO4055","CLINICA DE ODONTOPEDIATRIA",1,202330,10,10,0,0,0,{"$f":"+BD_DEP[[#This Row],[totalp]]/BD_DEP[[#This Row],[Mat Inicial]]","v":0},{"$f":"+BD_DEP[[#This Row],[totalr]]/BD_DEP[[#This Row],[Mat Inicial]]","v":0},{"$f":"+BD_DEP[[#This Row],[repi]]/BD_DEP[[#This Row],[Mat Inicial]]","v":0},"36","Dpto. Odontología",32783390,"Arteta Coronell Maria","CA","PR"]
[6473,"ODO4055","CLINICA DE ODONTOPEDIATRIA",2,202330,10,10,1,0,1,{"$f":"+BD_DEP[[#This Row],[totalp]]/BD_DEP[[#This Row],[Mat Inicial]]","v":0.1},{"$f":"+BD_DEP[[#This Row],[totalr]]/BD_DEP[[#This Row],[Mat Inicial]]","v":0},{"$f":"+BD_DEP[[#This Row],[repi]]/BD_DEP[[#This Row],[Mat Inicial]]","v":0.1},"36","Dpto. Odontología",32783390,"Arteta Coronell Maria","CA","PR"]
[3461,"ODO4020","CLINICA DE PERIODONCIA I",1,202330,2,2,0,0,0,{"$f":"+BD_DEP[[#This Row],[totalp]]/BD_DEP[[#This Row],[Mat Inicial]]","v":0},{"$f":"+BD_DEP[[#This Row],[totalr]]/BD_DEP[[#This Row],[Mat Inicial]]","v":0},{"$f":"+BD_DEP[[#This Row],[repi]]/BD_DEP[[#This Row],[Mat Inicial]]","v":0},"36","Dpto. Odontología",72000697,"PALACIO BLANCO HUGO","CA","PR"]
[3465,"ODO4020","CLINICA DE PERIODONCIA I",5,202330,2,2,0,0,0,{"$f":"+BD_DEP[[#This Row],[totalp]]/BD_DEP[[#This Row],[Mat Inicial]]","v":0},{"$f":"+BD_DEP[[#This Row],[totalr]]/BD_DEP[[#This Row],[Mat Inicial]]","v":0},{"$f":"+BD_DEP[[#This Row],[repi]]/BD_DEP[[#This Row],[Mat Inicial]]","v":0},"36","Dpto. Odontología",72000697,"PALACIO BLANCO HUGO","CA","PR"]
[3462,"ODO4020","CLINICA DE PERIODONCIA I",2,202330,2,2,0,0,0,{"$f":"+BD_DEP[[#This Row],[totalp]]/BD_DEP[[#This Row],[Mat Inicial]]","v":0},{"$f":"+BD_DEP[[#This Row],[totalr]]/BD_DEP[[#This Row],[Mat Inicial]]","v":0},{"$f":"+BD_DEP[[#This Row],[repi]]/BD_DEP[[#This Row],[Mat Inicial]]","v":0},"36","Dpto. Odontología",72312289,"Fontalvo Navarro Carlos","CA","PR"]
[3463,"ODO4020","CLINICA DE PERIODONCIA I",3,202330,2,2,0,0,0,{"$f":"+BD_DEP[[#This Row],[totalp]]/BD_DEP[[#This Row],[Mat Inicial]]","v":0},{"$f":"+BD_DEP[[#This Row],[totalr]]/BD_DEP[[#This Row],[Mat Inicial]]","v":0},{"$f":"+BD_DEP[[#This Row],[repi]]/BD_DEP[[#This Row],[Mat Inicial]]","v":0},"36","Dpto. Odontología",72312289,"Fontalvo Navarro Carlos","CA","PR"]
[3464,"ODO4020","CLINICA DE PERIODONCIA I",4,202330,2,2,0,0,0,{"$f":"+BD_DEP[[#This Row],[totalp]]/BD_DEP[[#This Row],[Mat Inicial]]","v":0},{"$f":"+BD_DEP[[#This Row],[totalr]]/BD_DEP[[#This Row],[Mat Inicial]]","v":0},{"$f":"+BD_DEP[[#This Row],[repi]]/BD_DEP[[#This Row],[Mat Inicial]]","v":0},"36","Dpto. Odontología",72312289,"Fontalvo Navarro Carlos","CA","PR"]
[3466,"ODO4020","CLINICA DE PERIODONCIA I",6,202330,2,2,0,0,0,{"$f":"+BD_DEP[[#This Row],[totalp]]/BD_DEP[[#This Row],[Mat Inicial]]","v":0},{"$f":"+BD_DEP[[#This Row],[totalr]]/BD_DEP[[#This Row],[Mat Inicial]]","v":0},{"$f":"+BD_DEP[[#This Row],[repi]]/BD_DEP[[#This Row],[Mat Inicial]]","v":0},"36","Dpto. Odontología",79912448,"DELHGANS RIVAS HECTOR","CA","PR"]
[3484,"ODO4060","CLINICA DE PERIODONCIA II",1,202330,4,4,0,0,0,{"$f":"+BD_DEP[[#This Row],[totalp]]/BD_DEP[[#This Row],[Mat Inicial]]","v":0},{"$f":"+BD_DEP[[#This Row],[totalr]]/BD_DEP[[#This Row],[Mat Inicial]]","v":0},{"$f":"+BD_DEP[[#This Row],[repi]]/BD_DEP[[#This Row],[Mat Inicial]]","v":0},"36","Dpto. Odontología",72000697,"PALACIO BLANCO HUGO","CA","PR"]
[3488,"ODO4060","CLINICA DE PERIODONCIA II",5,202330,4,4,1,0,1,{"$f":"+BD_DEP[[#This Row],[totalp]]/BD_DEP[[#This Row],[Mat Inicial]]","v":0.25},{"$f":"+BD_DEP[[#This Row],[totalr]]/BD_DEP[[#This Row],[Mat Inicial]]","v":0},{"$f":"+BD_DEP[[#This Row],[repi]]/BD_DEP[[#This Row],[Mat Inicial]]","v":0.25},"36","Dpto. Odontología",72000697,"PALACIO BLANCO HUGO","CA","PR"]
[3485,"ODO4060","CLINICA DE PERIODONCIA II",2,202330,3,3,0,0,0,{"$f":"+BD_DEP[[#This Row],[totalp]]/BD_DEP[[#This Row],[Mat Inicial]]","v":0},{"$f":"+BD_DEP[[#This Row],[totalr]]/BD_DEP[[#This Row],[Mat Inicial]]","v":0},{"$f":"+BD_DEP[[#This Row],[repi]]/BD_DEP[[#This Row],[Mat Inicial]]","v":0},"36","Dpto. Odontología",72312289,"Fontalvo Navarro Carlos","CA","PR"]
[3486,"ODO4060","CLINICA DE PERIODONCIA II",3,202330,3,3,0,0,0,{"$f":"+BD_DEP[[#This Row],[totalp]]/BD_DEP[[#This Row],[Mat Inicial]]","v":0},{"$f":"+BD_DEP[[#This Row],[totalr]]/BD_DEP[[#This Row],[Mat Inicial]]","v":0},{"$f":"+BD_DEP[[#This Row],[repi]]/BD_DEP[[#This Row],[Mat Inicial]]","v":0},"36","Dpto. Odontología",72312289,"Fontalvo Navarro Carlos","CA","PR"]
[3487,"ODO4060","CLINICA DE PERIODONCIA II",4,202330,4,4,0,0,0,{"$f":"+BD_DEP[[#This Row],[totalp]]/BD_DEP[[#This Row],[Mat Inicial]]","v":0},{"$f":"+BD_DEP[[#This Row],[totalr]]/BD_DEP[[#This Row],[Mat Inicial]]","v":0},{"$f":"+BD_DEP[[#This Row],[repi]]/BD_DEP[[#This Row],[Mat Inicial]]","v":0},"36","Dpto. Odontología",72312289,"Fontalvo Navarro Carlos","CA","PR"]
[3489,"ODO4060","CLINICA DE PERIODONCIA II",6,202330,4,4,0,0,0,{"$f":"+BD_DEP[[#This Row],[totalp]]/BD_DEP[[#This Row],[Mat Inicial]]","v":0},{"$f":"+BD_DEP[[#This Row],[totalr]]/BD_DEP[[#This Row],[Mat Inicial]]","v":0},{"$f":"+BD_DEP[[#This Row],[repi]]/BD_DEP[[#This Row],[Mat Inicial]]","v":0},"36","Dpto. Odontología",79912448,"DELHGANS RIVAS HECTOR","CA","PR"]
[3505,"ODO4085","CLINICA INTEGRAL DEL NIÑO",1,202330,11,11,0,0,0,{"$f":"+BD_DEP[[#This Row],[totalp]]/BD_DEP[[#This Row],[Mat Inicial]]","v":0},{"$f":"+BD_DEP[[#This Row],[totalr]]/BD_DEP[[#This Row],[Mat Inicial]]","v":0},{"$f":"+BD_DEP[[#This Row],[repi]]/BD_DEP[[#This Row],[Mat Inicial]]","v":0},"36","Dpto. Odontología",45480264,"GIAIMO CHAVES CLAUDIA","CA","PR"]
[3530,"ODO4185","LAB DE DESTREZAS CLINICAS",1,202330,11,11,0,0,0,{"$f":"+BD_DEP[[#This Row],[totalp]]/BD_DEP[[#This Row],[Mat Inicial]]","v":0},{"$f":"+BD_DEP[[#This Row],[totalr]]/BD_DEP[[#This Row],[Mat Inicial]]","v":0},{"$f":"+BD_DEP[[#This Row],[repi]]/BD_DEP[[#This Row],[Mat Inicial]]","v":0},"36","Dpto. Odontología",1140860369,"Barrera Perdomo Jesus","CA","PR"]
[3510,"ODO4110","MATERIALES DENTALES I",1,202330,19,19,0,0,0,{"$f":"+BD_DEP[[#This Row],[totalp]]/BD_DEP[[#This Row],[Mat Inicial]]","v":0},{"$f":"+BD_DEP[[#This Row],[totalr]]/BD_DEP[[#This Row],[Mat Inicial]]","v":0},{"$f":"+BD_DEP[[#This Row],[repi]]/BD_DEP[[#This Row],[Mat Inicial]]","v":0},"36","Dpto. Odontología",55312623,"MONROY GOMEZ MARIA","CA","PR"]
[3513,"ODO4120","ODONTOLOGIA LEGAL Y FORENSE",1,202330,18,18,0,0,0,{"$f":"+BD_DEP[[#This Row],[totalp]]/BD_DEP[[#This Row],[Mat Inicial]]","v":0},{"$f":"+BD_DEP[[#This Row],[totalr]]/BD_DEP[[#This Row],[Mat Inicial]]","v":0},{"$f":"+BD_DEP[[#This Row],[repi]]/BD_DEP[[#This Row],[Mat Inicial]]","v":0},"36","Dpto. Odontología",32700786,"Barraza Salcedo Maria","CA","PR"]
[3516,"ODO4130","OPERATORIA DENTAL",2,202330,11,11,1,0,1,{"$f":"+BD_DEP[[#This Row],[totalp]]/BD_DEP[[#This Row],[Mat Inicial]]","v":9.0909090909090912E-2},{"$f":"+BD_DEP[[#This Row],[totalr]]/BD_DEP[[#This Row],[Mat Inicial]]","v":0},{"$f":"+BD_DEP[[#This Row],[repi]]/BD_DEP[[#This Row],[Mat Inicial]]","v":9.0909090909090912E-2},"36","Dpto. Odontología",21533231,"ESTRADA GONZALEZ CAROLINA","CA","PR"]
[3519,"ODO4140","OSEOINTEGRACION",1,202330,28,28,0,0,0,{"$f":"+BD_DEP[[#This Row],[totalp]]/BD_DEP[[#This Row],[Mat Inicial]]","v":0},{"$f":"+BD_DEP[[#This Row],[totalr]]/BD_DEP[[#This Row],[Mat Inicial]]","v":0},{"$f":"+BD_DEP[[#This Row],[repi]]/BD_DEP[[#This Row],[Mat Inicial]]","v":0},"36","Dpto. Odontología",32767895,"BARON RENJIFO ALEXANDRA","CA","PR"]
[3520,"ODO4145","PATOLOGIA ORAL",1,202330,26,26,7,0,7,{"$f":"+BD_DEP[[#This Row],[totalp]]/BD_DEP[[#This Row],[Mat Inicial]]","v":0.26923076923076922},{"$f":"+BD_DEP[[#This Row],[totalr]]/BD_DEP[[#This Row],[Mat Inicial]]","v":0},{"$f":"+BD_DEP[[#This Row],[repi]]/BD_DEP[[#This Row],[Mat Inicial]]","v":0.26923076923076922},"36","Dpto. Odontología",45458251,"Carmona Lorduy Martha","CA","PR"]
[3521,"ODO4150","PERIODONCIA Y CLINICA DE PERIO",1,202330,24,23,4,1,5,{"$f":"+BD_DEP[[#This Row],[totalp]]/BD_DEP[[#This Row],[Mat Inicial]]","v":0.16666666666666666},{"$f":"+BD_DEP[[#This Row],[totalr]]/BD_DEP[[#This Row],[Mat Inicial]]","v":4.1666666666666664E-2},{"$f":"+BD_DEP[[#This Row],[repi]]/BD_DEP[[#This Row],[Mat Inicial]]","v":0.20833333333333334},"36","Dpto. Odontología",32767895,"BARON RENJIFO ALEXANDRA","CA","PR"]
[3525,"ODO4165","REHABILITACION ORAL",1,202330,16,16,3,0,3,{"$f":"+BD_DEP[[#This Row],[totalp]]/BD_DEP[[#This Row],[Mat Inicial]]","v":0.1875},{"$f":"+BD_DEP[[#This Row],[totalr]]/BD_DEP[[#This Row],[Mat Inicial]]","v":0},{"$f":"+BD_DEP[[#This Row],[repi]]/BD_DEP[[#This Row],[Mat Inicial]]","v":0.1875},"36","Dpto. Odontología",21533231,"ESTRADA GONZALEZ CAROLINA","CA","PR"]
[3526,"ODO4165","REHABILITACION ORAL",2,202330,11,11,3,0,3,{"$f":"+BD_DEP[[#This Row],[totalp]]/BD_DEP[[#This Row],[Mat Inicial]]","v":0.27272727272727271},{"$f":"+BD_DEP[[#This Row],[totalr]]/BD_DEP[[#This Row],[Mat Inicial]]","v":0},{"$f":"+BD_DEP[[#This Row],[repi]]/BD_DEP[[#This Row],[Mat Inicial]]","v":0.27272727272727271},"36","Dpto. Odontología",21533231,"ESTRADA GONZALEZ CAROLINA","CA","PR"]
[3072,"PSI3075","APLIC EN PSICOLOGIA EDUCATIVA",1,202330,14,13,0,1,1,{"$f":"+BD_DEP[[#This Row],[totalp]]/BD_DEP[[#This Row],[Mat Inicial]]","v":0},{"$f":"+BD_DEP[[#This Row],[totalr]]/BD_DEP[[#This Row],[Mat Inicial]]","v":7.1428571428571425E-2},{"$f":"+BD_DEP[[#This Row],[repi]]/BD_DEP[[#This Row],[Mat Inicial]]","v":7.1428571428571425E-2},"42","Dpto. Psicología",14399645,"Gutierrez Carvajal Oscar","TC","PR"]
[3073,"PSI3075","APLIC EN PSICOLOGIA EDUCATIVA",2,202330,13,13,0,0,0,{"$f":"+BD_DEP[[#This Row],[totalp]]/BD_DEP[[#This Row],[Mat Inicial]]","v":0},{"$f":"+BD_DEP[[#This Row],[totalr]]/BD_DEP[[#This Row],[Mat Inicial]]","v":0},{"$f":"+BD_DEP[[#This Row],[repi]]/BD_DEP[[#This Row],[Mat Inicial]]","v":0},"42","Dpto. Psicología",14399645,"Gutierrez Carvajal Oscar","TC","PR"]
[3074,"PSI3075","APLIC EN PSICOLOGIA EDUCATIVA",3,202330,25,24,0,1,1,{"$f":"+BD_DEP[[#This Row],[totalp]]/BD_DEP[[#This Row],[Mat Inicial]]","v":0},{"$f":"+BD_DEP[[#This Row],[totalr]]/BD_DEP[[#This Row],[Mat Inicial]]","v":0.04},{"$f":"+BD_DEP[[#This Row],[repi]]/BD_DEP[[#This Row],[Mat Inicial]]","v":0.04},"42","Dpto. Psicología",14399645,"Gutierrez Carvajal Oscar","TC","PR"]
[3078,"PSI4080","APLIC EN PSICOLOGIA SOCIAL",1,202330,25,25,0,0,0,{"$f":"+BD_DEP[[#This Row],[totalp]]/BD_DEP[[#This Row],[Mat Inicial]]","v":0},{"$f":"+BD_DEP[[#This Row],[totalr]]/BD_DEP[[#This Row],[Mat Inicial]]","v":0},{"$f":"+BD_DEP[[#This Row],[repi]]/BD_DEP[[#This Row],[Mat Inicial]]","v":0},"42","Dpto. Psicología",157859,"Amar Amar Jose","TC","PR"]
[3079,"PSI4080","APLIC EN PSICOLOGIA SOCIAL",2,202330,11,11,0,0,0,{"$f":"+BD_DEP[[#This Row],[totalp]]/BD_DEP[[#This Row],[Mat Inicial]]","v":0},{"$f":"+BD_DEP[[#This Row],[totalr]]/BD_DEP[[#This Row],[Mat Inicial]]","v":0},{"$f":"+BD_DEP[[#This Row],[repi]]/BD_DEP[[#This Row],[Mat Inicial]]","v":0},"42","Dpto. Psicología",32686233,"Amaris Macias Maria","TC","PR"]
[3108,"PSI7440","APLIC PSICOLOGIA ORGANIZACONAL",1,202330,24,24,0,0,0,{"$f":"+BD_DEP[[#This Row],[totalp]]/BD_DEP[[#This Row],[Mat Inicial]]","v":0},{"$f":"+BD_DEP[[#This Row],[totalr]]/BD_DEP[[#This Row],[Mat Inicial]]","v":0},{"$f":"+BD_DEP[[#This Row],[repi]]/BD_DEP[[#This Row],[Mat Inicial]]","v":0},"42","Dpto. Psicología",72266978,"Muñoz Alvis Andres","TC","PR"]
[3109,"PSI7440","APLIC PSICOLOGIA ORGANIZACONAL",2,202330,12,12,0,0,0,{"$f":"+BD_DEP[[#This Row],[totalp]]/BD_DEP[[#This Row],[Mat Inicial]]","v":0},{"$f":"+BD_DEP[[#This Row],[totalr]]/BD_DEP[[#This Row],[Mat Inicial]]","v":0},{"$f":"+BD_DEP[[#This Row],[repi]]/BD_DEP[[#This Row],[Mat Inicial]]","v":0},"42","Dpto. Psicología",72266978,"Muñoz Alvis Andres","TC","PR"]
[3110,"PSI7440","APLIC PSICOLOGIA ORGANIZACONAL",3,202330,23,22,0,1,1,{"$f":"+BD_DEP[[#This Row],[totalp]]/BD_DEP[[#This Row],[Mat Inicial]]","v":0},{"$f":"+BD_DEP[[#This Row],[totalr]]/BD_DEP[[#This Row],[Mat Inicial]]","v":4.3478260869565216E-2},{"$f":"+BD_DEP[[#This Row],[repi]]/BD_DEP[[#This Row],[Mat Inicial]]","v":4.3478260869565216E-2},"42","Dpto. Psicología",72266978,"Muñoz Alvis Andres","TC","PR"]
[3114,"PSI7460","APLIC PSICOLOGIA Y SALUD",1,202330,12,12,0,0,0,{"$f":"+BD_DEP[[#This Row],[totalp]]/BD_DEP[[#This Row],[Mat Inicial]]","v":0},{"$f":"+BD_DEP[[#This Row],[totalr]]/BD_DEP[[#This Row],[Mat Inicial]]","v":0},{"$f":"+BD_DEP[[#This Row],[repi]]/BD_DEP[[#This Row],[Mat Inicial]]","v":0},"42","Dpto. Psicología",1129578472,"Chamorro Coneo Ana","TC","PR"]
[3115,"PSI7460","APLIC PSICOLOGIA Y SALUD",2,202330,25,25,0,0,0,{"$f":"+BD_DEP[[#This Row],[totalp]]/BD_DEP[[#This Row],[Mat Inicial]]","v":0},{"$f":"+BD_DEP[[#This Row],[totalr]]/BD_DEP[[#This Row],[Mat Inicial]]","v":0},{"$f":"+BD_DEP[[#This Row],[repi]]/BD_DEP[[#This Row],[Mat Inicial]]","v":0},"42","Dpto. Psicología",1129578472,"Chamorro Coneo Ana","TC","PR"]
[3116,"PSI7460","APLIC PSICOLOGIA Y SALUD",3,202330,25,24,0,1,1,{"$f":"+BD_DEP[[#This Row],[totalp]]/BD_DEP[[#This Row],[Mat Inicial]]","v":0},{"$f":"+BD_DEP[[#This Row],[totalr]]/BD_DEP[[#This Row],[Mat Inicial]]","v":0.04},{"$f":"+BD_DEP[[#This Row],[repi]]/BD_DEP[[#This Row],[Mat Inicial]]","v":0.04},"42","Dpto. Psicología",1129578472,"Chamorro Coneo Ana","TC","PR"]
[2977,"PSI0001","FUND SOC DE LA PSICOLOGIA",1,202330,23,23,1,0,1,{"$f":"+BD_DEP[[#This Row],[totalp]]/BD_DEP[[#This Row],[Mat Inicial]]","v":4.3478260869565216E-2},{"$f":"+BD_DEP[[#This Row],[totalr]]/BD_DEP[[#This Row],[Mat Inicial]]","v":0},{"$f":"+BD_DEP[[#This Row],[repi]]/BD_DEP[[#This Row],[Mat Inicial]]","v":4.3478260869565216E-2},"42","Dpto. Psicología",32686233,"Amaris Macias Maria","TC","PR"]
[2978,"PSI0001","FUND SOC DE LA PSICOLOGIA",2,202330,43,43,0,0,0,{"$f":"+BD_DEP[[#This Row],[totalp]]/BD_DEP[[#This Row],[Mat Inicial]]","v":0},{"$f":"+BD_DEP[[#This Row],[totalr]]/BD_DEP[[#This Row],[Mat Inicial]]","v":0},{"$f":"+BD_DEP[[#This Row],[repi]]/BD_DEP[[#This Row],[Mat Inicial]]","v":0},"42","Dpto. Psicología",32686233,"Amaris Macias Maria","TC","PR"]
[2979,"PSI0001","FUND SOC DE LA PSICOLOGIA",3,202330,16,16,0,0,0,{"$f":"+BD_DEP[[#This Row],[totalp]]/BD_DEP[[#This Row],[Mat Inicial]]","v":0},{"$f":"+BD_DEP[[#This Row],[totalr]]/BD_DEP[[#This Row],[Mat Inicial]]","v":0},{"$f":"+BD_DEP[[#This Row],[repi]]/BD_DEP[[#This Row],[Mat Inicial]]","v":0},"42","Dpto. Psicología",32686233,"Amaris Macias Maria","TC","PR"]
[3088,"PSI4210","FUNDAMENTOS/TEORIAS PS SOCIAL",1,202330,1,1,0,0,0,{"$f":"+BD_DEP[[#This Row],[totalp]]/BD_DEP[[#This Row],[Mat Inicial]]","v":0},{"$f":"+BD_DEP[[#This Row],[totalr]]/BD_DEP[[#This Row],[Mat Inicial]]","v":0},{"$f":"+BD_DEP[[#This Row],[repi]]/BD_DEP[[#This Row],[Mat Inicial]]","v":0},"42","Dpto. Psicología",32686233,"Amaris Macias Maria","TC","PR"]
[3089,"PSI4210","FUNDAMENTOS/TEORIAS PS SOCIAL",2,202330,2,2,0,0,0,{"$f":"+BD_DEP[[#This Row],[totalp]]/BD_DEP[[#This Row],[Mat Inicial]]","v":0},{"$f":"+BD_DEP[[#This Row],[totalr]]/BD_DEP[[#This Row],[Mat Inicial]]","v":0},{"$f":"+BD_DEP[[#This Row],[repi]]/BD_DEP[[#This Row],[Mat Inicial]]","v":0},"42","Dpto. Psicología",32686233,"Amaris Macias Maria","TC","PR"]
[4481,"PSI1160","INTRODUCCIÓN A LA PSICOLOGIA",1,202330,36,34,1,2,3,{"$f":"+BD_DEP[[#This Row],[totalp]]/BD_DEP[[#This Row],[Mat Inicial]]","v":2.7777777777777776E-2},{"$f":"+BD_DEP[[#This Row],[totalr]]/BD_DEP[[#This Row],[Mat Inicial]]","v":5.5555555555555552E-2},{"$f":"+BD_DEP[[#This Row],[repi]]/BD_DEP[[#This Row],[Mat Inicial]]","v":8.3333333333333329E-2},"42","Dpto. Psicología",8713724,"Cervantes Mendoza Marco","TC","PR"]
[4482,"PSI1160","INTRODUCCIÓN A LA PSICOLOGIA",2,202330,24,24,0,0,0,{"$f":"+BD_DEP[[#This Row],[totalp]]/BD_DEP[[#This Row],[Mat Inicial]]","v":0},{"$f":"+BD_DEP[[#This Row],[totalr]]/BD_DEP[[#This Row],[Mat Inicial]]","v":0},{"$f":"+BD_DEP[[#This Row],[repi]]/BD_DEP[[#This Row],[Mat Inicial]]","v":0},"42","Dpto. Psicología",8713724,"Cervantes Mendoza Marco","TC","PR"]
[3012,"PSI0111","INV EN CIENCIAS SOCIALES",1,202330,35,34,1,1,2,{"$f":"+BD_DEP[[#This Row],[totalp]]/BD_DEP[[#This Row],[Mat Inicial]]","v":2.8571428571428571E-2},{"$f":"+BD_DEP[[#This Row],[totalr]]/BD_DEP[[#This Row],[Mat Inicial]]","v":2.8571428571428571E-2},{"$f":"+BD_DEP[[#This Row],[repi]]/BD_DEP[[#This Row],[Mat Inicial]]","v":5.7142857142857141E-2},"42","Dpto. Psicología",716423,"MILLAN DE LANGE ANTHONY","TC","PR"]
[3013,"PSI0111","INV EN CIENCIAS SOCIALES",2,202330,29,27,3,2,5,{"$f":"+BD_DEP[[#This Row],[totalp]]/BD_DEP[[#This Row],[Mat Inicial]]","v":0.10344827586206896},{"$f":"+BD_DEP[[#This Row],[totalr]]/BD_DEP[[#This Row],[Mat Inicial]]","v":6.8965517241379309E-2},{"$f":"+BD_DEP[[#This Row],[repi]]/BD_DEP[[#This Row],[Mat Inicial]]","v":0.17241379310344829},"42","Dpto. Psicología",716423,"MILLAN DE LANGE ANTHONY","TC","PR"]
[3014,"PSI0111","INV EN CIENCIAS SOCIALES",3,202330,46,43,2,3,5,{"$f":"+BD_DEP[[#This Row],[totalp]]/BD_DEP[[#This Row],[Mat Inicial]]","v":4.3478260869565216E-2},{"$f":"+BD_DEP[[#This Row],[totalr]]/BD_DEP[[#This Row],[Mat Inicial]]","v":6.5217391304347824E-2},{"$f":"+BD_DEP[[#This Row],[repi]]/BD_DEP[[#This Row],[Mat Inicial]]","v":0.10869565217391304},"42","Dpto. Psicología",716423,"MILLAN DE LANGE ANTHONY","TC","PR"]
[3093,"PSI4230","MEDICIÓN Y EVALUACIÓN",2,202330,4,4,0,0,0,{"$f":"+BD_DEP[[#This Row],[totalp]]/BD_DEP[[#This Row],[Mat Inicial]]","v":0},{"$f":"+BD_DEP[[#This Row],[totalr]]/BD_DEP[[#This Row],[Mat Inicial]]","v":0},{"$f":"+BD_DEP[[#This Row],[repi]]/BD_DEP[[#This Row],[Mat Inicial]]","v":0},"42","Dpto. Psicología",1047457845,"Kleber Espinosa Javier","TC","PR"]
[3094,"PSI4230","MEDICIÓN Y EVALUACIÓN",3,202330,2,2,0,0,0,{"$f":"+BD_DEP[[#This Row],[totalp]]/BD_DEP[[#This Row],[Mat Inicial]]","v":0},{"$f":"+BD_DEP[[#This Row],[totalr]]/BD_DEP[[#This Row],[Mat Inicial]]","v":0},{"$f":"+BD_DEP[[#This Row],[repi]]/BD_DEP[[#This Row],[Mat Inicial]]","v":0},"42","Dpto. Psicología",1047457845,"Kleber Espinosa Javier","TC","PR"]
[3021,"PSI0114","MEMORIA Y APRENDIZAJE",1,202330,30,29,4,1,5,{"$f":"+BD_DEP[[#This Row],[totalp]]/BD_DEP[[#This Row],[Mat Inicial]]","v":0.13333333333333333},{"$f":"+BD_DEP[[#This Row],[totalr]]/BD_DEP[[#This Row],[Mat Inicial]]","v":3.3333333333333333E-2},{"$f":"+BD_DEP[[#This Row],[repi]]/BD_DEP[[#This Row],[Mat Inicial]]","v":0.16666666666666666},"42","Dpto. Psicología",1129583057,"Monroy Agamez Ernesto","TC","PR"]
[3022,"PSI0114","MEMORIA Y APRENDIZAJE",2,202330,29,28,3,1,4,{"$f":"+BD_DEP[[#This Row],[totalp]]/BD_DEP[[#This Row],[Mat Inicial]]","v":0.10344827586206896},{"$f":"+BD_DEP[[#This Row],[totalr]]/BD_DEP[[#This Row],[Mat Inicial]]","v":3.4482758620689655E-2},{"$f":"+BD_DEP[[#This Row],[repi]]/BD_DEP[[#This Row],[Mat Inicial]]","v":0.13793103448275862},"42","Dpto. Psicología",1129583057,"Monroy Agamez Ernesto","TC","PR"]
[3023,"PSI0114","MEMORIA Y APRENDIZAJE",3,202330,23,22,0,1,1,{"$f":"+BD_DEP[[#This Row],[totalp]]/BD_DEP[[#This Row],[Mat Inicial]]","v":0},{"$f":"+BD_DEP[[#This Row],[totalr]]/BD_DEP[[#This Row],[Mat Inicial]]","v":4.3478260869565216E-2},{"$f":"+BD_DEP[[#This Row],[repi]]/BD_DEP[[#This Row],[Mat Inicial]]","v":4.3478260869565216E-2},"42","Dpto. Psicología",1129583057,"Monroy Agamez Ernesto","TC","PR"]
[2386,"INV4131","MODELOS DE INV. -C. SOCIALES-5",1,202330,5,5,0,0,0,{"$f":"+BD_DEP[[#This Row],[totalp]]/BD_DEP[[#This Row],[Mat Inicial]]","v":0},{"$f":"+BD_DEP[[#This Row],[totalr]]/BD_DEP[[#This Row],[Mat Inicial]]","v":0},{"$f":"+BD_DEP[[#This Row],[repi]]/BD_DEP[[#This Row],[Mat Inicial]]","v":0},"42","Dpto. Psicología",716423,"MILLAN DE LANGE ANTHONY","TC","PR"]
[2387,"INV4131","MODELOS DE INV. -C. SOCIALES-5",2,202330,10,10,0,0,0,{"$f":"+BD_DEP[[#This Row],[totalp]]/BD_DEP[[#This Row],[Mat Inicial]]","v":0},{"$f":"+BD_DEP[[#This Row],[totalr]]/BD_DEP[[#This Row],[Mat Inicial]]","v":0},{"$f":"+BD_DEP[[#This Row],[repi]]/BD_DEP[[#This Row],[Mat Inicial]]","v":0},"42","Dpto. Psicología",716423,"MILLAN DE LANGE ANTHONY","TC","PR"]
[2388,"INV4131","MODELOS DE INV. -C. SOCIALES-5",3,202330,4,4,0,0,0,{"$f":"+BD_DEP[[#This Row],[totalp]]/BD_DEP[[#This Row],[Mat Inicial]]","v":0},{"$f":"+BD_DEP[[#This Row],[totalr]]/BD_DEP[[#This Row],[Mat Inicial]]","v":0},{"$f":"+BD_DEP[[#This Row],[repi]]/BD_DEP[[#This Row],[Mat Inicial]]","v":0},"42","Dpto. Psicología",716423,"MILLAN DE LANGE ANTHONY","TC","PR"]
[3053,"PSI1260","NEUROPSICOLOGÍA",1,202330,40,39,0,1,1,{"$f":"+BD_DEP[[#This Row],[totalp]]/BD_DEP[[#This Row],[Mat Inicial]]","v":0},{"$f":"+BD_DEP[[#This Row],[totalr]]/BD_DEP[[#This Row],[Mat Inicial]]","v":2.5000000000000001E-2},{"$f":"+BD_DEP[[#This Row],[repi]]/BD_DEP[[#This Row],[Mat Inicial]]","v":2.5000000000000001E-2},"42","Dpto. Psicología",72253061,"De Los Reyes Aragon Carlos","TC","PR"]
[3054,"PSI1260","NEUROPSICOLOGÍA",2,202330,40,39,0,1,1,{"$f":"+BD_DEP[[#This Row],[totalp]]/BD_DEP[[#This Row],[Mat Inicial]]","v":0},{"$f":"+BD_DEP[[#This Row],[totalr]]/BD_DEP[[#This Row],[Mat Inicial]]","v":2.5000000000000001E-2},{"$f":"+BD_DEP[[#This Row],[repi]]/BD_DEP[[#This Row],[Mat Inicial]]","v":2.5000000000000001E-2},"42","Dpto. Psicología",72253061,"De Los Reyes Aragon Carlos","TC","PR"]
[3055,"PSI1260","NEUROPSICOLOGÍA",3,202330,20,20,1,0,1,{"$f":"+BD_DEP[[#This Row],[totalp]]/BD_DEP[[#This Row],[Mat Inicial]]","v":0.05},{"$f":"+BD_DEP[[#This Row],[totalr]]/BD_DEP[[#This Row],[Mat Inicial]]","v":0},{"$f":"+BD_DEP[[#This Row],[repi]]/BD_DEP[[#This Row],[Mat Inicial]]","v":0.05},"42","Dpto. Psicología",72253061,"De Los Reyes Aragon Carlos","TC","PR"]
[3000,"PSI0055","PENSAMIENTO Y LENGUAJE",1,202330,1,1,0,0,0,{"$f":"+BD_DEP[[#This Row],[totalp]]/BD_DEP[[#This Row],[Mat Inicial]]","v":0},{"$f":"+BD_DEP[[#This Row],[totalr]]/BD_DEP[[#This Row],[Mat Inicial]]","v":0},{"$f":"+BD_DEP[[#This Row],[repi]]/BD_DEP[[#This Row],[Mat Inicial]]","v":0},"42","Dpto. Psicología",56084913,"Moreno Torres Mayilin","TC","PR"]
[3001,"PSI0055","PENSAMIENTO Y LENGUAJE",2,202330,1,0,0,1,1,{"$f":"+BD_DEP[[#This Row],[totalp]]/BD_DEP[[#This Row],[Mat Inicial]]","v":0},{"$f":"+BD_DEP[[#This Row],[totalr]]/BD_DEP[[#This Row],[Mat Inicial]]","v":1},{"$f":"+BD_DEP[[#This Row],[repi]]/BD_DEP[[#This Row],[Mat Inicial]]","v":1},"42","Dpto. Psicología",56084913,"Moreno Torres Mayilin","TC","PR"]
[3024,"PSI0115","PENSAMIENTO Y LENGUAJE",1,202330,26,25,2,1,3,{"$f":"+BD_DEP[[#This Row],[totalp]]/BD_DEP[[#This Row],[Mat Inicial]]","v":7.6923076923076927E-2},{"$f":"+BD_DEP[[#This Row],[totalr]]/BD_DEP[[#This Row],[Mat Inicial]]","v":3.8461538461538464E-2},{"$f":"+BD_DEP[[#This Row],[repi]]/BD_DEP[[#This Row],[Mat Inicial]]","v":0.11538461538461539},"42","Dpto. Psicología",56084913,"Moreno Torres Mayilin","TC","PR"]
[3025,"PSI0115","PENSAMIENTO Y LENGUAJE",2,202330,21,21,1,0,1,{"$f":"+BD_DEP[[#This Row],[totalp]]/BD_DEP[[#This Row],[Mat Inicial]]","v":4.7619047619047616E-2},{"$f":"+BD_DEP[[#This Row],[totalr]]/BD_DEP[[#This Row],[Mat Inicial]]","v":0},{"$f":"+BD_DEP[[#This Row],[repi]]/BD_DEP[[#This Row],[Mat Inicial]]","v":4.7619047619047616E-2},"42","Dpto. Psicología",56084913,"Moreno Torres Mayilin","TC","PR"]
[3026,"PSI0115","PENSAMIENTO Y LENGUAJE",3,202330,25,24,1,1,2,{"$f":"+BD_DEP[[#This Row],[totalp]]/BD_DEP[[#This Row],[Mat Inicial]]","v":0.04},{"$f":"+BD_DEP[[#This Row],[totalr]]/BD_DEP[[#This Row],[Mat Inicial]]","v":0.04},{"$f":"+BD_DEP[[#This Row],[repi]]/BD_DEP[[#This Row],[Mat Inicial]]","v":0.08},"42","Dpto. Psicología",56084913,"Moreno Torres Mayilin","TC","PR"]
[3030,"PSI0117","PERCEPCION Y ATENCION",1,202330,36,34,0,2,2,{"$f":"+BD_DEP[[#This Row],[totalp]]/BD_DEP[[#This Row],[Mat Inicial]]","v":0},{"$f":"+BD_DEP[[#This Row],[totalr]]/BD_DEP[[#This Row],[Mat Inicial]]","v":5.5555555555555552E-2},{"$f":"+BD_DEP[[#This Row],[repi]]/BD_DEP[[#This Row],[Mat Inicial]]","v":5.5555555555555552E-2},"42","Dpto. Psicología",1083453799,"Cortes Campo Orlando","TC","PR"]
[3031,"PSI0117","PERCEPCION Y ATENCION",2,202330,30,30,0,0,0,{"$f":"+BD_DEP[[#This Row],[totalp]]/BD_DEP[[#This Row],[Mat Inicial]]","v":0},{"$f":"+BD_DEP[[#This Row],[totalr]]/BD_DEP[[#This Row],[Mat Inicial]]","v":0},{"$f":"+BD_DEP[[#This Row],[repi]]/BD_DEP[[#This Row],[Mat Inicial]]","v":0},"42","Dpto. Psicología",1083453799,"Cortes Campo Orlando","TC","PR"]
[2997,"PSI0017","PROY  CULT PROB RELEV CONTEX",2,202330,25,25,0,0,0,{"$f":"+BD_DEP[[#This Row],[totalp]]/BD_DEP[[#This Row],[Mat Inicial]]","v":0},{"$f":"+BD_DEP[[#This Row],[totalr]]/BD_DEP[[#This Row],[Mat Inicial]]","v":0},{"$f":"+BD_DEP[[#This Row],[repi]]/BD_DEP[[#This Row],[Mat Inicial]]","v":0},"42","Dpto. Psicología",8681263,"MADARIAGA OROZCO CAMILO","TC","PR"]
[2995,"PSI0016","PROY CULT PROCESOS PSICOLOGIC",2,202330,40,39,1,1,2,{"$f":"+BD_DEP[[#This Row],[totalp]]/BD_DEP[[#This Row],[Mat Inicial]]","v":2.5000000000000001E-2},{"$f":"+BD_DEP[[#This Row],[totalr]]/BD_DEP[[#This Row],[Mat Inicial]]","v":2.5000000000000001E-2},{"$f":"+BD_DEP[[#This Row],[repi]]/BD_DEP[[#This Row],[Mat Inicial]]","v":0.05},"42","Dpto. Psicología",14399645,"Gutierrez Carvajal Oscar","TC","PR"]
[2994,"PSI0016","PROY CULT PROCESOS PSICOLOGIC",1,202330,11,11,1,0,1,{"$f":"+BD_DEP[[#This Row],[totalp]]/BD_DEP[[#This Row],[Mat Inicial]]","v":9.0909090909090912E-2},{"$f":"+BD_DEP[[#This Row],[totalr]]/BD_DEP[[#This Row],[Mat Inicial]]","v":0},{"$f":"+BD_DEP[[#This Row],[repi]]/BD_DEP[[#This Row],[Mat Inicial]]","v":9.0909090909090912E-2},"42","Dpto. Psicología",79950373,"LA ROTTA AMAYA GUSTAVO","TC","PR"]
[2981,"PSI0009","PROYECTOS Y SERVIC PROG PREV",1,202330,11,11,0,0,0,{"$f":"+BD_DEP[[#This Row],[totalp]]/BD_DEP[[#This Row],[Mat Inicial]]","v":0},{"$f":"+BD_DEP[[#This Row],[totalr]]/BD_DEP[[#This Row],[Mat Inicial]]","v":0},{"$f":"+BD_DEP[[#This Row],[repi]]/BD_DEP[[#This Row],[Mat Inicial]]","v":0},"42","Dpto. Psicología",42897466,"Aristizabal Diaz-Granados Edith","TC","PR"]
[2982,"PSI0009","PROYECTOS Y SERVIC PROG PREV",2,202330,18,17,0,1,1,{"$f":"+BD_DEP[[#This Row],[totalp]]/BD_DEP[[#This Row],[Mat Inicial]]","v":0},{"$f":"+BD_DEP[[#This Row],[totalr]]/BD_DEP[[#This Row],[Mat Inicial]]","v":5.5555555555555552E-2},{"$f":"+BD_DEP[[#This Row],[repi]]/BD_DEP[[#This Row],[Mat Inicial]]","v":5.5555555555555552E-2},"42","Dpto. Psicología",1129578472,"Chamorro Coneo Ana","TC","PR"]
[3047,"PSI1061","PSICOFISIOLOGIA",1,202330,53,53,2,0,2,{"$f":"+BD_DEP[[#This Row],[totalp]]/BD_DEP[[#This Row],[Mat Inicial]]","v":3.7735849056603772E-2},{"$f":"+BD_DEP[[#This Row],[totalr]]/BD_DEP[[#This Row],[Mat Inicial]]","v":0},{"$f":"+BD_DEP[[#This Row],[repi]]/BD_DEP[[#This Row],[Mat Inicial]]","v":3.7735849056603772E-2},"42","Dpto. Psicología",7479758,"Zapata Yance Luis","TC","PR"]
[3048,"PSI1061","PSICOFISIOLOGIA",2,202330,53,50,10,3,13,{"$f":"+BD_DEP[[#This Row],[totalp]]/BD_DEP[[#This Row],[Mat Inicial]]","v":0.18867924528301888},{"$f":"+BD_DEP[[#This Row],[totalr]]/BD_DEP[[#This Row],[Mat Inicial]]","v":5.6603773584905662E-2},{"$f":"+BD_DEP[[#This Row],[repi]]/BD_DEP[[#This Row],[Mat Inicial]]","v":0.24528301886792453},"42","Dpto. Psicología",7479758,"Zapata Yance Luis","TC","PR"]
[3049,"PSI1061","PSICOFISIOLOGIA",3,202330,59,58,0,1,1,{"$f":"+BD_DEP[[#This Row],[totalp]]/BD_DEP[[#This Row],[Mat Inicial]]","v":0},{"$f":"+BD_DEP[[#This Row],[totalr]]/BD_DEP[[#This Row],[Mat Inicial]]","v":1.6949152542372881E-2},{"$f":"+BD_DEP[[#This Row],[repi]]/BD_DEP[[#This Row],[Mat Inicial]]","v":1.6949152542372881E-2},"42","Dpto. Psicología",1083453799,"Cortes Campo Orlando","TC","PR"]
[3102,"PSI7400","PSICOLOGÍA COMUNITARIA",1,202330,41,41,2,0,2,{"$f":"+BD_DEP[[#This Row],[totalp]]/BD_DEP[[#This Row],[Mat Inicial]]","v":4.878048780487805E-2},{"$f":"+BD_DEP[[#This Row],[totalr]]/BD_DEP[[#This Row],[Mat Inicial]]","v":0},{"$f":"+BD_DEP[[#This Row],[repi]]/BD_DEP[[#This Row],[Mat Inicial]]","v":4.878048780487805E-2},"42","Dpto. Psicología",72142614,"Palacio Sañudo Jorge","TC","PR"]
[3103,"PSI7400","PSICOLOGÍA COMUNITARIA",2,202330,24,24,0,0,0,{"$f":"+BD_DEP[[#This Row],[totalp]]/BD_DEP[[#This Row],[Mat Inicial]]","v":0},{"$f":"+BD_DEP[[#This Row],[totalr]]/BD_DEP[[#This Row],[Mat Inicial]]","v":0},{"$f":"+BD_DEP[[#This Row],[repi]]/BD_DEP[[#This Row],[Mat Inicial]]","v":0},"42","Dpto. Psicología",72142614,"Palacio Sañudo Jorge","TC","PR"]
[3104,"PSI7400","PSICOLOGÍA COMUNITARIA",3,202330,29,28,1,1,2,{"$f":"+BD_DEP[[#This Row],[totalp]]/BD_DEP[[#This Row],[Mat Inicial]]","v":3.4482758620689655E-2},{"$f":"+BD_DEP[[#This Row],[totalr]]/BD_DEP[[#This Row],[Mat Inicial]]","v":3.4482758620689655E-2},{"$f":"+BD_DEP[[#This Row],[repi]]/BD_DEP[[#This Row],[Mat Inicial]]","v":6.8965517241379309E-2},"42","Dpto. Psicología",72142614,"Palacio Sañudo Jorge","TC","PR"]
[3020,"PSI0113","PSICOLOGIA DEL DESARROLLO I",2,202330,35,35,1,0,1,{"$f":"+BD_DEP[[#This Row],[totalp]]/BD_DEP[[#This Row],[Mat Inicial]]","v":2.8571428571428571E-2},{"$f":"+BD_DEP[[#This Row],[totalr]]/BD_DEP[[#This Row],[Mat Inicial]]","v":0},{"$f":"+BD_DEP[[#This Row],[repi]]/BD_DEP[[#This Row],[Mat Inicial]]","v":2.8571428571428571E-2},"42","Dpto. Psicología",32846120,"Hoyos De Los Rios Olga","TC","PR"]
[3082,"PSI4130","PSICOLOGIA EDUCATIVA",2,202330,34,33,1,1,2,{"$f":"+BD_DEP[[#This Row],[totalp]]/BD_DEP[[#This Row],[Mat Inicial]]","v":2.9411764705882353E-2},{"$f":"+BD_DEP[[#This Row],[totalr]]/BD_DEP[[#This Row],[Mat Inicial]]","v":2.9411764705882353E-2},{"$f":"+BD_DEP[[#This Row],[repi]]/BD_DEP[[#This Row],[Mat Inicial]]","v":5.8823529411764705E-2},"42","Dpto. Psicología",79950373,"LA ROTTA AMAYA GUSTAVO","TC","PR"]
[3083,"PSI4130","PSICOLOGIA EDUCATIVA",3,202330,28,28,1,0,1,{"$f":"+BD_DEP[[#This Row],[totalp]]/BD_DEP[[#This Row],[Mat Inicial]]","v":3.5714285714285712E-2},{"$f":"+BD_DEP[[#This Row],[totalr]]/BD_DEP[[#This Row],[Mat Inicial]]","v":0},{"$f":"+BD_DEP[[#This Row],[repi]]/BD_DEP[[#This Row],[Mat Inicial]]","v":3.5714285714285712E-2},"42","Dpto. Psicología",79950373,"LA ROTTA AMAYA GUSTAVO","TC","PR"]
[3081,"PSI4130","PSICOLOGIA EDUCATIVA",1,202330,40,40,0,0,0,{"$f":"+BD_DEP[[#This Row],[totalp]]/BD_DEP[[#This Row],[Mat Inicial]]","v":0},{"$f":"+BD_DEP[[#This Row],[totalr]]/BD_DEP[[#This Row],[Mat Inicial]]","v":0},{"$f":"+BD_DEP[[#This Row],[repi]]/BD_DEP[[#This Row],[Mat Inicial]]","v":0},"42","Dpto. Psicología",1047457845,"Kleber Espinosa Javier","TC","PR"]
[3050,"PSI1090","PSICOLOGIA EVOLUTIVA",1,202330,31,31,0,0,0,{"$f":"+BD_DEP[[#This Row],[totalp]]/BD_DEP[[#This Row],[Mat Inicial]]","v":0},{"$f":"+BD_DEP[[#This Row],[totalr]]/BD_DEP[[#This Row],[Mat Inicial]]","v":0},{"$f":"+BD_DEP[[#This Row],[repi]]/BD_DEP[[#This Row],[Mat Inicial]]","v":0},"42","Dpto. Psicología",1129583057,"Monroy Agamez Ernesto","TC","PR"]
[3105,"PSI7420","PSICOLOGÍA ORGANIZACIONAL",1,202330,29,26,2,3,5,{"$f":"+BD_DEP[[#This Row],[totalp]]/BD_DEP[[#This Row],[Mat Inicial]]","v":6.8965517241379309E-2},{"$f":"+BD_DEP[[#This Row],[totalr]]/BD_DEP[[#This Row],[Mat Inicial]]","v":0.10344827586206896},{"$f":"+BD_DEP[[#This Row],[repi]]/BD_DEP[[#This Row],[Mat Inicial]]","v":0.17241379310344829},"42","Dpto. Psicología",72232469,"Polo Vargas Jean","TC","PR"]
[3107,"PSI7420","PSICOLOGÍA ORGANIZACIONAL",3,202330,30,28,2,2,4,{"$f":"+BD_DEP[[#This Row],[totalp]]/BD_DEP[[#This Row],[Mat Inicial]]","v":6.6666666666666666E-2},{"$f":"+BD_DEP[[#This Row],[totalr]]/BD_DEP[[#This Row],[Mat Inicial]]","v":6.6666666666666666E-2},{"$f":"+BD_DEP[[#This Row],[repi]]/BD_DEP[[#This Row],[Mat Inicial]]","v":0.13333333333333333},"42","Dpto. Psicología",72266978,"Muñoz Alvis Andres","TC","PR"]
[3112,"PSI7450","PSICOLOGIA Y SALUD",2,202330,37,37,3,0,3,{"$f":"+BD_DEP[[#This Row],[totalp]]/BD_DEP[[#This Row],[Mat Inicial]]","v":8.1081081081081086E-2},{"$f":"+BD_DEP[[#This Row],[totalr]]/BD_DEP[[#This Row],[Mat Inicial]]","v":0},{"$f":"+BD_DEP[[#This Row],[repi]]/BD_DEP[[#This Row],[Mat Inicial]]","v":8.1081081081081086E-2},"42","Dpto. Psicología",55220683,"Trejos Herrera Ana","TC","PR"]
[3113,"PSI7450","PSICOLOGIA Y SALUD",3,202330,51,51,0,0,0,{"$f":"+BD_DEP[[#This Row],[totalp]]/BD_DEP[[#This Row],[Mat Inicial]]","v":0},{"$f":"+BD_DEP[[#This Row],[totalr]]/BD_DEP[[#This Row],[Mat Inicial]]","v":0},{"$f":"+BD_DEP[[#This Row],[repi]]/BD_DEP[[#This Row],[Mat Inicial]]","v":0},"42","Dpto. Psicología",55220683,"Trejos Herrera Ana","TC","PR"]
[3084,"PSI4140","PSICOPATOLOGIA",1,202330,25,25,0,0,0,{"$f":"+BD_DEP[[#This Row],[totalp]]/BD_DEP[[#This Row],[Mat Inicial]]","v":0},{"$f":"+BD_DEP[[#This Row],[totalr]]/BD_DEP[[#This Row],[Mat Inicial]]","v":0},{"$f":"+BD_DEP[[#This Row],[repi]]/BD_DEP[[#This Row],[Mat Inicial]]","v":0},"42","Dpto. Psicología",42897466,"Aristizabal Diaz-Granados Edith","TC","PR"]
[3085,"PSI4140","PSICOPATOLOGIA",2,202330,29,29,1,0,1,{"$f":"+BD_DEP[[#This Row],[totalp]]/BD_DEP[[#This Row],[Mat Inicial]]","v":3.4482758620689655E-2},{"$f":"+BD_DEP[[#This Row],[totalr]]/BD_DEP[[#This Row],[Mat Inicial]]","v":0},{"$f":"+BD_DEP[[#This Row],[repi]]/BD_DEP[[#This Row],[Mat Inicial]]","v":3.4482758620689655E-2},"42","Dpto. Psicología",42897466,"Aristizabal Diaz-Granados Edith","TC","PR"]
[3086,"PSI4140","PSICOPATOLOGIA",3,202330,12,12,1,0,1,{"$f":"+BD_DEP[[#This Row],[totalp]]/BD_DEP[[#This Row],[Mat Inicial]]","v":8.3333333333333329E-2},{"$f":"+BD_DEP[[#This Row],[totalr]]/BD_DEP[[#This Row],[Mat Inicial]]","v":0},{"$f":"+BD_DEP[[#This Row],[repi]]/BD_DEP[[#This Row],[Mat Inicial]]","v":8.3333333333333329E-2},"42","Dpto. Psicología",42897466,"Aristizabal Diaz-Granados Edith","TC","PR"]
[3016,"PSI0112","TECNICAS E INSTRUMENTOS I",1,202330,45,45,2,0,2,{"$f":"+BD_DEP[[#This Row],[totalp]]/BD_DEP[[#This Row],[Mat Inicial]]","v":4.4444444444444446E-2},{"$f":"+BD_DEP[[#This Row],[totalr]]/BD_DEP[[#This Row],[Mat Inicial]]","v":0},{"$f":"+BD_DEP[[#This Row],[repi]]/BD_DEP[[#This Row],[Mat Inicial]]","v":4.4444444444444446E-2},"42","Dpto. Psicología",1047457845,"Kleber Espinosa Javier","TC","PR"]
[3017,"PSI0112","TECNICAS E INSTRUMENTOS I",2,202330,46,46,3,0,3,{"$f":"+BD_DEP[[#This Row],[totalp]]/BD_DEP[[#This Row],[Mat Inicial]]","v":6.5217391304347824E-2},{"$f":"+BD_DEP[[#This Row],[totalr]]/BD_DEP[[#This Row],[Mat Inicial]]","v":0},{"$f":"+BD_DEP[[#This Row],[repi]]/BD_DEP[[#This Row],[Mat Inicial]]","v":6.5217391304347824E-2},"42","Dpto. Psicología",1047457845,"Kleber Espinosa Javier","TC","PR"]
[3018,"PSI0112","TECNICAS E INSTRUMENTOS I",3,202330,56,55,2,1,3,{"$f":"+BD_DEP[[#This Row],[totalp]]/BD_DEP[[#This Row],[Mat Inicial]]","v":3.5714285714285712E-2},{"$f":"+BD_DEP[[#This Row],[totalr]]/BD_DEP[[#This Row],[Mat Inicial]]","v":1.7857142857142856E-2},{"$f":"+BD_DEP[[#This Row],[repi]]/BD_DEP[[#This Row],[Mat Inicial]]","v":5.3571428571428568E-2},"42","Dpto. Psicología",1047457845,"Kleber Espinosa Javier","TC","PR"]
[3070,"PSI1320","TEND AUTOR FENOMENOL/ EXISTENC",1,202330,1,1,0,0,0,{"$f":"+BD_DEP[[#This Row],[totalp]]/BD_DEP[[#This Row],[Mat Inicial]]","v":0},{"$f":"+BD_DEP[[#This Row],[totalr]]/BD_DEP[[#This Row],[Mat Inicial]]","v":0},{"$f":"+BD_DEP[[#This Row],[repi]]/BD_DEP[[#This Row],[Mat Inicial]]","v":0},"42","Dpto. Psicología",72192337,"De Castro Correa Alberto","TC","PR"]
[3071,"PSI1320","TEND AUTOR FENOMENOL/ EXISTENC",2,202330,4,4,0,0,0,{"$f":"+BD_DEP[[#This Row],[totalp]]/BD_DEP[[#This Row],[Mat Inicial]]","v":0},{"$f":"+BD_DEP[[#This Row],[totalr]]/BD_DEP[[#This Row],[Mat Inicial]]","v":0},{"$f":"+BD_DEP[[#This Row],[repi]]/BD_DEP[[#This Row],[Mat Inicial]]","v":0},"42","Dpto. Psicología",72192337,"De Castro Correa Alberto","TC","PR"]
[3037,"PSI0120","TEND Y AUTORES CONDUCTUALES",1,202330,29,29,0,0,0,{"$f":"+BD_DEP[[#This Row],[totalp]]/BD_DEP[[#This Row],[Mat Inicial]]","v":0},{"$f":"+BD_DEP[[#This Row],[totalr]]/BD_DEP[[#This Row],[Mat Inicial]]","v":0},{"$f":"+BD_DEP[[#This Row],[repi]]/BD_DEP[[#This Row],[Mat Inicial]]","v":0},"42","Dpto. Psicología",8713724,"Cervantes Mendoza Marco","TC","PR"]
[3038,"PSI0120","TEND Y AUTORES CONDUCTUALES",2,202330,30,26,0,4,4,{"$f":"+BD_DEP[[#This Row],[totalp]]/BD_DEP[[#This Row],[Mat Inicial]]","v":0},{"$f":"+BD_DEP[[#This Row],[totalr]]/BD_DEP[[#This Row],[Mat Inicial]]","v":0.13333333333333333},{"$f":"+BD_DEP[[#This Row],[repi]]/BD_DEP[[#This Row],[Mat Inicial]]","v":0.13333333333333333},"42","Dpto. Psicología",8713724,"Cervantes Mendoza Marco","TC","PR"]
[3039,"PSI0120","TEND Y AUTORES CONDUCTUALES",3,202330,22,22,1,0,1,{"$f":"+BD_DEP[[#This Row],[totalp]]/BD_DEP[[#This Row],[Mat Inicial]]","v":4.5454545454545456E-2},{"$f":"+BD_DEP[[#This Row],[totalr]]/BD_DEP[[#This Row],[Mat Inicial]]","v":0},{"$f":"+BD_DEP[[#This Row],[repi]]/BD_DEP[[#This Row],[Mat Inicial]]","v":4.5454545454545456E-2},"42","Dpto. Psicología",8713724,"Cervantes Mendoza Marco","TC","PR"]
[3032,"PSI0118","TEND Y AUTORES FEN EXISTENCIAL",1,202330,28,27,0,1,1,{"$f":"+BD_DEP[[#This Row],[totalp]]/BD_DEP[[#This Row],[Mat Inicial]]","v":0},{"$f":"+BD_DEP[[#This Row],[totalr]]/BD_DEP[[#This Row],[Mat Inicial]]","v":3.5714285714285712E-2},{"$f":"+BD_DEP[[#This Row],[repi]]/BD_DEP[[#This Row],[Mat Inicial]]","v":3.5714285714285712E-2},"42","Dpto. Psicología",72192337,"De Castro Correa Alberto","TC","PR"]
[3033,"PSI0118","TEND Y AUTORES FEN EXISTENCIAL",2,202330,38,35,1,3,4,{"$f":"+BD_DEP[[#This Row],[totalp]]/BD_DEP[[#This Row],[Mat Inicial]]","v":2.6315789473684209E-2},{"$f":"+BD_DEP[[#This Row],[totalr]]/BD_DEP[[#This Row],[Mat Inicial]]","v":7.8947368421052627E-2},{"$f":"+BD_DEP[[#This Row],[repi]]/BD_DEP[[#This Row],[Mat Inicial]]","v":0.10526315789473684},"42","Dpto. Psicología",72192337,"De Castro Correa Alberto","TC","PR"]
[3061,"PSI1290","TEND. Y AUTORES COGNITIVOS",1,202330,1,1,0,0,0,{"$f":"+BD_DEP[[#This Row],[totalp]]/BD_DEP[[#This Row],[Mat Inicial]]","v":0},{"$f":"+BD_DEP[[#This Row],[totalr]]/BD_DEP[[#This Row],[Mat Inicial]]","v":0},{"$f":"+BD_DEP[[#This Row],[repi]]/BD_DEP[[#This Row],[Mat Inicial]]","v":0},"42","Dpto. Psicología",32846120,"Hoyos De Los Rios Olga","TC","PR"]
[3063,"PSI1290","TEND. Y AUTORES COGNITIVOS",3,202330,1,1,0,0,0,{"$f":"+BD_DEP[[#This Row],[totalp]]/BD_DEP[[#This Row],[Mat Inicial]]","v":0},{"$f":"+BD_DEP[[#This Row],[totalr]]/BD_DEP[[#This Row],[Mat Inicial]]","v":0},{"$f":"+BD_DEP[[#This Row],[repi]]/BD_DEP[[#This Row],[Mat Inicial]]","v":0},"42","Dpto. Psicología",32846120,"Hoyos De Los Rios Olga","TC","PR"]
[3064,"PSI1300","TEND. Y AUTORES CONDUCTUALES",1,202330,1,0,0,1,1,{"$f":"+BD_DEP[[#This Row],[totalp]]/BD_DEP[[#This Row],[Mat Inicial]]","v":0},{"$f":"+BD_DEP[[#This Row],[totalr]]/BD_DEP[[#This Row],[Mat Inicial]]","v":1},{"$f":"+BD_DEP[[#This Row],[repi]]/BD_DEP[[#This Row],[Mat Inicial]]","v":1},"42","Dpto. Psicología",8713724,"Cervantes Mendoza Marco","TC","PR"]
[3034,"PSI0119","TENDENCIAS Y AUTORES COGNITIVO",1,202330,33,33,5,0,5,{"$f":"+BD_DEP[[#This Row],[totalp]]/BD_DEP[[#This Row],[Mat Inicial]]","v":0.15151515151515152},{"$f":"+BD_DEP[[#This Row],[totalr]]/BD_DEP[[#This Row],[Mat Inicial]]","v":0},{"$f":"+BD_DEP[[#This Row],[repi]]/BD_DEP[[#This Row],[Mat Inicial]]","v":0.15151515151515152},"42","Dpto. Psicología",32846120,"Hoyos De Los Rios Olga","TC","PR"]
[3036,"PSI0119","TENDENCIAS Y AUTORES COGNITIVO",3,202330,30,30,3,0,3,{"$f":"+BD_DEP[[#This Row],[totalp]]/BD_DEP[[#This Row],[Mat Inicial]]","v":0.1},{"$f":"+BD_DEP[[#This Row],[totalr]]/BD_DEP[[#This Row],[Mat Inicial]]","v":0},{"$f":"+BD_DEP[[#This Row],[repi]]/BD_DEP[[#This Row],[Mat Inicial]]","v":0.1},"42","Dpto. Psicología",32846120,"Hoyos De Los Rios Olga","TC","PR"]
[3075,"PSI4070","TEORIA DE LA PERSONALIDAD",1,202330,22,22,0,0,0,{"$f":"+BD_DEP[[#This Row],[totalp]]/BD_DEP[[#This Row],[Mat Inicial]]","v":0},{"$f":"+BD_DEP[[#This Row],[totalr]]/BD_DEP[[#This Row],[Mat Inicial]]","v":0},{"$f":"+BD_DEP[[#This Row],[repi]]/BD_DEP[[#This Row],[Mat Inicial]]","v":0},"42","Dpto. Psicología",72225017,"Mebarak Chams Moises","TC","PR"]
[3076,"PSI4070","TEORIA DE LA PERSONALIDAD",2,202330,25,25,0,0,0,{"$f":"+BD_DEP[[#This Row],[totalp]]/BD_DEP[[#This Row],[Mat Inicial]]","v":0},{"$f":"+BD_DEP[[#This Row],[totalr]]/BD_DEP[[#This Row],[Mat Inicial]]","v":0},{"$f":"+BD_DEP[[#This Row],[repi]]/BD_DEP[[#This Row],[Mat Inicial]]","v":0},"42","Dpto. Psicología",72225017,"Mebarak Chams Moises","TC","PR"]
[3077,"PSI4070","TEORIA DE LA PERSONALIDAD",3,202330,9,9,0,0,0,{"$f":"+BD_DEP[[#This Row],[totalp]]/BD_DEP[[#This Row],[Mat Inicial]]","v":0},{"$f":"+BD_DEP[[#This Row],[totalr]]/BD_DEP[[#This Row],[Mat Inicial]]","v":0},{"$f":"+BD_DEP[[#This Row],[repi]]/BD_DEP[[#This Row],[Mat Inicial]]","v":0},"42","Dpto. Psicología",72225017,"Mebarak Chams Moises","TC","PR"]
[3087,"PSI4152","VOLUNTARIADO Y TRANSF. SOCIAL",1,202330,5,5,0,0,0,{"$f":"+BD_DEP[[#This Row],[totalp]]/BD_DEP[[#This Row],[Mat Inicial]]","v":0},{"$f":"+BD_DEP[[#This Row],[totalr]]/BD_DEP[[#This Row],[Mat Inicial]]","v":0},{"$f":"+BD_DEP[[#This Row],[repi]]/BD_DEP[[#This Row],[Mat Inicial]]","v":0},"42","Dpto. Psicología",55220683,"Trejos Herrera Ana","TC","PR"]
[2985,"PSI0012","ENTREVISTA",3,202330,25,25,0,0,0,{"$f":"+BD_DEP[[#This Row],[totalp]]/BD_DEP[[#This Row],[Mat Inicial]]","v":0},{"$f":"+BD_DEP[[#This Row],[totalr]]/BD_DEP[[#This Row],[Mat Inicial]]","v":0},{"$f":"+BD_DEP[[#This Row],[repi]]/BD_DEP[[#This Row],[Mat Inicial]]","v":0},"42","Dpto. Psicología",32812061,"Reatiga Hernandez Maria","MT","PR"]
[3051,"PSI1170","LAB. DE MOTIVACIÓN Y EMOCIÓN",1,202330,1,1,0,0,0,{"$f":"+BD_DEP[[#This Row],[totalp]]/BD_DEP[[#This Row],[Mat Inicial]]","v":0},{"$f":"+BD_DEP[[#This Row],[totalr]]/BD_DEP[[#This Row],[Mat Inicial]]","v":0},{"$f":"+BD_DEP[[#This Row],[repi]]/BD_DEP[[#This Row],[Mat Inicial]]","v":0},"42","Dpto. Psicología",52619791,"Iglesias Rodriguez Tania","MT","PR"]
[3028,"PSI0116","MOTIVACION Y EMOCION",2,202330,30,29,0,1,1,{"$f":"+BD_DEP[[#This Row],[totalp]]/BD_DEP[[#This Row],[Mat Inicial]]","v":0},{"$f":"+BD_DEP[[#This Row],[totalr]]/BD_DEP[[#This Row],[Mat Inicial]]","v":3.3333333333333333E-2},{"$f":"+BD_DEP[[#This Row],[repi]]/BD_DEP[[#This Row],[Mat Inicial]]","v":3.3333333333333333E-2},"42","Dpto. Psicología",52619791,"Iglesias Rodriguez Tania","MT","PR"]
[3029,"PSI0116","MOTIVACION Y EMOCION",3,202330,33,33,0,0,0,{"$f":"+BD_DEP[[#This Row],[totalp]]/BD_DEP[[#This Row],[Mat Inicial]]","v":0},{"$f":"+BD_DEP[[#This Row],[totalr]]/BD_DEP[[#This Row],[Mat Inicial]]","v":0},{"$f":"+BD_DEP[[#This Row],[repi]]/BD_DEP[[#This Row],[Mat Inicial]]","v":0},"42","Dpto. Psicología",52619791,"Iglesias Rodriguez Tania","MT","PR"]
[3040,"PSI0121","TEND Y AUTORES PSICODINAMICOS",1,202330,40,40,0,0,0,{"$f":"+BD_DEP[[#This Row],[totalp]]/BD_DEP[[#This Row],[Mat Inicial]]","v":0},{"$f":"+BD_DEP[[#This Row],[totalr]]/BD_DEP[[#This Row],[Mat Inicial]]","v":0},{"$f":"+BD_DEP[[#This Row],[repi]]/BD_DEP[[#This Row],[Mat Inicial]]","v":0},"42","Dpto. Psicología",32812061,"Reatiga Hernandez Maria","MT","PR"]
[3041,"PSI0121","TEND Y AUTORES PSICODINAMICOS",2,202330,27,26,0,1,1,{"$f":"+BD_DEP[[#This Row],[totalp]]/BD_DEP[[#This Row],[Mat Inicial]]","v":0},{"$f":"+BD_DEP[[#This Row],[totalr]]/BD_DEP[[#This Row],[Mat Inicial]]","v":3.7037037037037035E-2},{"$f":"+BD_DEP[[#This Row],[repi]]/BD_DEP[[#This Row],[Mat Inicial]]","v":3.7037037037037035E-2},"42","Dpto. Psicología",32812061,"Reatiga Hernandez Maria","MT","PR"]
[3042,"PSI0121","TEND Y AUTORES PSICODINAMICOS",3,202330,50,49,0,1,1,{"$f":"+BD_DEP[[#This Row],[totalp]]/BD_DEP[[#This Row],[Mat Inicial]]","v":0},{"$f":"+BD_DEP[[#This Row],[totalr]]/BD_DEP[[#This Row],[Mat Inicial]]","v":0.02},{"$f":"+BD_DEP[[#This Row],[repi]]/BD_DEP[[#This Row],[Mat Inicial]]","v":0.02},"42","Dpto. Psicología",32812061,"Reatiga Hernandez Maria","MT","PR"]
[3067,"PSI1310","TEND. Y AUTORES PSICODINAMICOS",1,202330,1,1,0,0,0,{"$f":"+BD_DEP[[#This Row],[totalp]]/BD_DEP[[#This Row],[Mat Inicial]]","v":0},{"$f":"+BD_DEP[[#This Row],[totalr]]/BD_DEP[[#This Row],[Mat Inicial]]","v":0},{"$f":"+BD_DEP[[#This Row],[repi]]/BD_DEP[[#This Row],[Mat Inicial]]","v":0},"42","Dpto. Psicología",32812061,"Reatiga Hernandez Maria","MT","PR"]
[3080,"PSI4080","APLIC EN PSICOLOGIA SOCIAL",3,202330,20,19,0,1,1,{"$f":"+BD_DEP[[#This Row],[totalp]]/BD_DEP[[#This Row],[Mat Inicial]]","v":0},{"$f":"+BD_DEP[[#This Row],[totalr]]/BD_DEP[[#This Row],[Mat Inicial]]","v":0.05},{"$f":"+BD_DEP[[#This Row],[repi]]/BD_DEP[[#This Row],[Mat Inicial]]","v":0.05},"42","Dpto. Psicología",55302646,"QUINTERO GONZALEZ SANDRA","CA","PR"]
[2984,"PSI0012","ENTREVISTA",2,202330,25,25,0,0,0,{"$f":"+BD_DEP[[#This Row],[totalp]]/BD_DEP[[#This Row],[Mat Inicial]]","v":0},{"$f":"+BD_DEP[[#This Row],[totalr]]/BD_DEP[[#This Row],[Mat Inicial]]","v":0},{"$f":"+BD_DEP[[#This Row],[repi]]/BD_DEP[[#This Row],[Mat Inicial]]","v":0},"42","Dpto. Psicología",1140851297,"Ali Nieto Alejandra","CA","PR"]
[2987,"PSI0013","EVALUACION PSICOLOGICA",2,202330,26,25,0,1,1,{"$f":"+BD_DEP[[#This Row],[totalp]]/BD_DEP[[#This Row],[Mat Inicial]]","v":0},{"$f":"+BD_DEP[[#This Row],[totalr]]/BD_DEP[[#This Row],[Mat Inicial]]","v":3.8461538461538464E-2},{"$f":"+BD_DEP[[#This Row],[repi]]/BD_DEP[[#This Row],[Mat Inicial]]","v":3.8461538461538464E-2},"42","Dpto. Psicología",22433773,"Mesa Gomez Fabiola","CA","PR"]
[2988,"PSI0013","EVALUACION PSICOLOGICA",3,202330,32,31,3,1,4,{"$f":"+BD_DEP[[#This Row],[totalp]]/BD_DEP[[#This Row],[Mat Inicial]]","v":9.375E-2},{"$f":"+BD_DEP[[#This Row],[totalr]]/BD_DEP[[#This Row],[Mat Inicial]]","v":3.125E-2},{"$f":"+BD_DEP[[#This Row],[repi]]/BD_DEP[[#This Row],[Mat Inicial]]","v":0.125},"42","Dpto. Psicología",22433773,"Mesa Gomez Fabiola","CA","PR"]
[2980,"PSI0001","FUND SOC DE LA PSICOLOGIA",4,202330,30,30,2,0,2,{"$f":"+BD_DEP[[#This Row],[totalp]]/BD_DEP[[#This Row],[Mat Inicial]]","v":6.6666666666666666E-2},{"$f":"+BD_DEP[[#This Row],[totalr]]/BD_DEP[[#This Row],[Mat Inicial]]","v":0},{"$f":"+BD_DEP[[#This Row],[repi]]/BD_DEP[[#This Row],[Mat Inicial]]","v":6.6666666666666666E-2},"42","Dpto. Psicología",1044422645,"Valle Amaris Marcela","CA","PR"]
[3091,"PSI4210","FUNDAMENTOS/TEORIAS PS SOCIAL",4,202330,1,1,0,0,0,{"$f":"+BD_DEP[[#This Row],[totalp]]/BD_DEP[[#This Row],[Mat Inicial]]","v":0},{"$f":"+BD_DEP[[#This Row],[totalr]]/BD_DEP[[#This Row],[Mat Inicial]]","v":0},{"$f":"+BD_DEP[[#This Row],[repi]]/BD_DEP[[#This Row],[Mat Inicial]]","v":0},"42","Dpto. Psicología",1044422645,"Valle Amaris Marcela","CA","PR"]
[3015,"PSI0111","INV EN CIENCIAS SOCIALES",4,202330,29,29,0,0,0,{"$f":"+BD_DEP[[#This Row],[totalp]]/BD_DEP[[#This Row],[Mat Inicial]]","v":0},{"$f":"+BD_DEP[[#This Row],[totalr]]/BD_DEP[[#This Row],[Mat Inicial]]","v":0},{"$f":"+BD_DEP[[#This Row],[repi]]/BD_DEP[[#This Row],[Mat Inicial]]","v":0},"42","Dpto. Psicología",1192768148,"Bolivar Pimiento Daniel","CA","PR"]
[2389,"INV4131","MODELOS DE INV. -C. SOCIALES-5",4,202330,10,10,0,0,0,{"$f":"+BD_DEP[[#This Row],[totalp]]/BD_DEP[[#This Row],[Mat Inicial]]","v":0},{"$f":"+BD_DEP[[#This Row],[totalr]]/BD_DEP[[#This Row],[Mat Inicial]]","v":0},{"$f":"+BD_DEP[[#This Row],[repi]]/BD_DEP[[#This Row],[Mat Inicial]]","v":0},"42","Dpto. Psicología",1192768148,"Bolivar Pimiento Daniel","CA","PR"]
[3027,"PSI0116","MOTIVACION Y EMOCION",1,202330,33,33,0,0,0,{"$f":"+BD_DEP[[#This Row],[totalp]]/BD_DEP[[#This Row],[Mat Inicial]]","v":0},{"$f":"+BD_DEP[[#This Row],[totalr]]/BD_DEP[[#This Row],[Mat Inicial]]","v":0},{"$f":"+BD_DEP[[#This Row],[repi]]/BD_DEP[[#This Row],[Mat Inicial]]","v":0},"42","Dpto. Psicología",1140849115,"Gonzalez Ternera Ricardo","CA","PR"]
[2996,"PSI0017","PROY  CULT PROB RELEV CONTEX",1,202330,24,24,0,0,0,{"$f":"+BD_DEP[[#This Row],[totalp]]/BD_DEP[[#This Row],[Mat Inicial]]","v":0},{"$f":"+BD_DEP[[#This Row],[totalr]]/BD_DEP[[#This Row],[Mat Inicial]]","v":0},{"$f":"+BD_DEP[[#This Row],[repi]]/BD_DEP[[#This Row],[Mat Inicial]]","v":0},"42","Dpto. Psicología",1140835191,"Filomena Palacio Karla","CA","PR"]
[2990,"PSI0014","PROY SERV DIAGN DISEÑO INTERV",2,202330,22,22,0,0,0,{"$f":"+BD_DEP[[#This Row],[totalp]]/BD_DEP[[#This Row],[Mat Inicial]]","v":0},{"$f":"+BD_DEP[[#This Row],[totalr]]/BD_DEP[[#This Row],[Mat Inicial]]","v":0},{"$f":"+BD_DEP[[#This Row],[repi]]/BD_DEP[[#This Row],[Mat Inicial]]","v":0},"42","Dpto. Psicología",79313551,"Zapata Valderrama Javier","CA","PR"]
[3009,"PSI0109","PSICOINMUNOLOGIA",1,202330,15,15,0,0,0,{"$f":"+BD_DEP[[#This Row],[totalp]]/BD_DEP[[#This Row],[Mat Inicial]]","v":0},{"$f":"+BD_DEP[[#This Row],[totalr]]/BD_DEP[[#This Row],[Mat Inicial]]","v":0},{"$f":"+BD_DEP[[#This Row],[repi]]/BD_DEP[[#This Row],[Mat Inicial]]","v":0},"42","Dpto. Psicología",72257251,"Ardila Duarte Carlos","CA","PR"]
[3010,"PSI0109","PSICOINMUNOLOGIA",2,202330,37,37,0,0,0,{"$f":"+BD_DEP[[#This Row],[totalp]]/BD_DEP[[#This Row],[Mat Inicial]]","v":0},{"$f":"+BD_DEP[[#This Row],[totalr]]/BD_DEP[[#This Row],[Mat Inicial]]","v":0},{"$f":"+BD_DEP[[#This Row],[repi]]/BD_DEP[[#This Row],[Mat Inicial]]","v":0},"42","Dpto. Psicología",72257251,"Ardila Duarte Carlos","CA","PR"]
[3011,"PSI0109","PSICOINMUNOLOGIA",3,202330,29,28,0,1,1,{"$f":"+BD_DEP[[#This Row],[totalp]]/BD_DEP[[#This Row],[Mat Inicial]]","v":0},{"$f":"+BD_DEP[[#This Row],[totalr]]/BD_DEP[[#This Row],[Mat Inicial]]","v":3.4482758620689655E-2},{"$f":"+BD_DEP[[#This Row],[repi]]/BD_DEP[[#This Row],[Mat Inicial]]","v":3.4482758620689655E-2},"42","Dpto. Psicología",72257251,"Ardila Duarte Carlos","CA","PR"]
[3057,"PSI1270","PSICOINMUNOLOGÍA",2,202330,2,2,0,0,0,{"$f":"+BD_DEP[[#This Row],[totalp]]/BD_DEP[[#This Row],[Mat Inicial]]","v":0},{"$f":"+BD_DEP[[#This Row],[totalr]]/BD_DEP[[#This Row],[Mat Inicial]]","v":0},{"$f":"+BD_DEP[[#This Row],[repi]]/BD_DEP[[#This Row],[Mat Inicial]]","v":0},"42","Dpto. Psicología",72257251,"Ardila Duarte Carlos","CA","PR"]
[3101,"PSI4535","PSICOLOGIA APLICADA",1,202330,25,25,0,0,0,{"$f":"+BD_DEP[[#This Row],[totalp]]/BD_DEP[[#This Row],[Mat Inicial]]","v":0},{"$f":"+BD_DEP[[#This Row],[totalr]]/BD_DEP[[#This Row],[Mat Inicial]]","v":0},{"$f":"+BD_DEP[[#This Row],[repi]]/BD_DEP[[#This Row],[Mat Inicial]]","v":0},"42","Dpto. Psicología",1045692675,"Hamburger Carreño Ornella","CA","PR"]
[3098,"PSI4250","PSICOLOGÍA DE LOS GRUPOS",1,202330,17,17,0,0,0,{"$f":"+BD_DEP[[#This Row],[totalp]]/BD_DEP[[#This Row],[Mat Inicial]]","v":0},{"$f":"+BD_DEP[[#This Row],[totalr]]/BD_DEP[[#This Row],[Mat Inicial]]","v":0},{"$f":"+BD_DEP[[#This Row],[repi]]/BD_DEP[[#This Row],[Mat Inicial]]","v":0},"42","Dpto. Psicología",72216700,"TURBAY ILLUECA MARCO","CA","PR"]
[3099,"PSI4250","PSICOLOGÍA DE LOS GRUPOS",2,202330,40,40,0,0,0,{"$f":"+BD_DEP[[#This Row],[totalp]]/BD_DEP[[#This Row],[Mat Inicial]]","v":0},{"$f":"+BD_DEP[[#This Row],[totalr]]/BD_DEP[[#This Row],[Mat Inicial]]","v":0},{"$f":"+BD_DEP[[#This Row],[repi]]/BD_DEP[[#This Row],[Mat Inicial]]","v":0},"42","Dpto. Psicología",72216700,"TURBAY ILLUECA MARCO","CA","PR"]
[3100,"PSI4250","PSICOLOGÍA DE LOS GRUPOS",3,202330,19,19,0,0,0,{"$f":"+BD_DEP[[#This Row],[totalp]]/BD_DEP[[#This Row],[Mat Inicial]]","v":0},{"$f":"+BD_DEP[[#This Row],[totalr]]/BD_DEP[[#This Row],[Mat Inicial]]","v":0},{"$f":"+BD_DEP[[#This Row],[repi]]/BD_DEP[[#This Row],[Mat Inicial]]","v":0},"42","Dpto. Psicología",1140835191,"Filomena Palacio Karla","CA","PR"]
[3059,"PSI1280","PSICOLOGÍA DEL DESARROLLO",1,202330,1,1,0,0,0,{"$f":"+BD_DEP[[#This Row],[totalp]]/BD_DEP[[#This Row],[Mat Inicial]]","v":0},{"$f":"+BD_DEP[[#This Row],[totalr]]/BD_DEP[[#This Row],[Mat Inicial]]","v":0},{"$f":"+BD_DEP[[#This Row],[repi]]/BD_DEP[[#This Row],[Mat Inicial]]","v":0},"42","Dpto. Psicología",32734396,"Zuñiga Chiriboga Maria","CA","PR"]
[3019,"PSI0113","PSICOLOGIA DEL DESARROLLO I",1,202330,30,30,0,0,0,{"$f":"+BD_DEP[[#This Row],[totalp]]/BD_DEP[[#This Row],[Mat Inicial]]","v":0},{"$f":"+BD_DEP[[#This Row],[totalr]]/BD_DEP[[#This Row],[Mat Inicial]]","v":0},{"$f":"+BD_DEP[[#This Row],[repi]]/BD_DEP[[#This Row],[Mat Inicial]]","v":0},"42","Dpto. Psicología",32734396,"Zuñiga Chiriboga Maria","CA","PR"]
[2991,"PSI0015","PSICOLOGIA DEL DESARROLLO II",1,202330,3,3,1,0,1,{"$f":"+BD_DEP[[#This Row],[totalp]]/BD_DEP[[#This Row],[Mat Inicial]]","v":0.33333333333333331},{"$f":"+BD_DEP[[#This Row],[totalr]]/BD_DEP[[#This Row],[Mat Inicial]]","v":0},{"$f":"+BD_DEP[[#This Row],[repi]]/BD_DEP[[#This Row],[Mat Inicial]]","v":0.33333333333333331},"42","Dpto. Psicología",22790282,"Baldovino Perez Irma","CA","PR"]
[3043,"PSI0122","PSICOLOGIA DEL DESARROLLO II",1,202330,31,31,0,0,0,{"$f":"+BD_DEP[[#This Row],[totalp]]/BD_DEP[[#This Row],[Mat Inicial]]","v":0},{"$f":"+BD_DEP[[#This Row],[totalr]]/BD_DEP[[#This Row],[Mat Inicial]]","v":0},{"$f":"+BD_DEP[[#This Row],[repi]]/BD_DEP[[#This Row],[Mat Inicial]]","v":0},"42","Dpto. Psicología",22790282,"Baldovino Perez Irma","CA","PR"]
[3044,"PSI0122","PSICOLOGIA DEL DESARROLLO II",2,202330,33,32,1,1,2,{"$f":"+BD_DEP[[#This Row],[totalp]]/BD_DEP[[#This Row],[Mat Inicial]]","v":3.0303030303030304E-2},{"$f":"+BD_DEP[[#This Row],[totalr]]/BD_DEP[[#This Row],[Mat Inicial]]","v":3.0303030303030304E-2},{"$f":"+BD_DEP[[#This Row],[repi]]/BD_DEP[[#This Row],[Mat Inicial]]","v":6.0606060606060608E-2},"42","Dpto. Psicología",22790282,"Baldovino Perez Irma","CA","PR"]
[3045,"PSI0122","PSICOLOGIA DEL DESARROLLO II",3,202330,21,21,0,0,0,{"$f":"+BD_DEP[[#This Row],[totalp]]/BD_DEP[[#This Row],[Mat Inicial]]","v":0},{"$f":"+BD_DEP[[#This Row],[totalr]]/BD_DEP[[#This Row],[Mat Inicial]]","v":0},{"$f":"+BD_DEP[[#This Row],[repi]]/BD_DEP[[#This Row],[Mat Inicial]]","v":0},"42","Dpto. Psicología",1045692675,"Hamburger Carreño Ornella","CA","PR"]
[3106,"PSI7420","PSICOLOGÍA ORGANIZACIONAL",2,202330,40,36,0,4,4,{"$f":"+BD_DEP[[#This Row],[totalp]]/BD_DEP[[#This Row],[Mat Inicial]]","v":0},{"$f":"+BD_DEP[[#This Row],[totalr]]/BD_DEP[[#This Row],[Mat Inicial]]","v":0.1},{"$f":"+BD_DEP[[#This Row],[repi]]/BD_DEP[[#This Row],[Mat Inicial]]","v":0.1},"42","Dpto. Psicología",1140851297,"Ali Nieto Alejandra","CA","PR"]
[1532,"CSO0080","QUIENES SOMOS?MIRADA-EVOLUC",1,202330,30,27,1,3,4,{"$f":"+BD_DEP[[#This Row],[totalp]]/BD_DEP[[#This Row],[Mat Inicial]]","v":3.3333333333333333E-2},{"$f":"+BD_DEP[[#This Row],[totalr]]/BD_DEP[[#This Row],[Mat Inicial]]","v":0.1},{"$f":"+BD_DEP[[#This Row],[repi]]/BD_DEP[[#This Row],[Mat Inicial]]","v":0.13333333333333333},"42","Dpto. Psicología",335930,"Padmanabha Harish","CA","PR"]
[1533,"CSO0080","QUIENES SOMOS?MIRADA-EVOLUC",2,202330,30,29,0,1,1,{"$f":"+BD_DEP[[#This Row],[totalp]]/BD_DEP[[#This Row],[Mat Inicial]]","v":0},{"$f":"+BD_DEP[[#This Row],[totalr]]/BD_DEP[[#This Row],[Mat Inicial]]","v":3.3333333333333333E-2},{"$f":"+BD_DEP[[#This Row],[repi]]/BD_DEP[[#This Row],[Mat Inicial]]","v":3.3333333333333333E-2},"42","Dpto. Psicología",335930,"Padmanabha Harish","CA","PR"]
[3046,"PSI0124","TECNICAS E INSTRUMENTOS II",1,202330,32,31,0,1,1,{"$f":"+BD_DEP[[#This Row],[totalp]]/BD_DEP[[#This Row],[Mat Inicial]]","v":0},{"$f":"+BD_DEP[[#This Row],[totalr]]/BD_DEP[[#This Row],[Mat Inicial]]","v":3.125E-2},{"$f":"+BD_DEP[[#This Row],[repi]]/BD_DEP[[#This Row],[Mat Inicial]]","v":3.125E-2},"42","Dpto. Psicología",22433773,"Mesa Gomez Fabiola","CA","PR"]
[6588,"PSI0124","TECNICAS E INSTRUMENTOS II",2,202330,48,47,0,1,1,{"$f":"+BD_DEP[[#This Row],[totalp]]/BD_DEP[[#This Row],[Mat Inicial]]","v":0},{"$f":"+BD_DEP[[#This Row],[totalr]]/BD_DEP[[#This Row],[Mat Inicial]]","v":2.0833333333333332E-2},{"$f":"+BD_DEP[[#This Row],[repi]]/BD_DEP[[#This Row],[Mat Inicial]]","v":2.0833333333333332E-2},"42","Dpto. Psicología",1075245678,"Herrera Bravo Maura","CA","PR"]
[3035,"PSI0119","TENDENCIAS Y AUTORES COGNITIVO",2,202330,14,12,2,2,4,{"$f":"+BD_DEP[[#This Row],[totalp]]/BD_DEP[[#This Row],[Mat Inicial]]","v":0.14285714285714285},{"$f":"+BD_DEP[[#This Row],[totalr]]/BD_DEP[[#This Row],[Mat Inicial]]","v":0.14285714285714285},{"$f":"+BD_DEP[[#This Row],[repi]]/BD_DEP[[#This Row],[Mat Inicial]]","v":0.2857142857142857},"42","Dpto. Psicología",55307461,"De La Hoz Reyes Sabrina","CA","PR"]
[1549,"CSV0004","AGRO-ECOLOGIA",1,202330,24,18,0,6,6,{"$f":"+BD_DEP[[#This Row],[totalp]]/BD_DEP[[#This Row],[Mat Inicial]]","v":0},{"$f":"+BD_DEP[[#This Row],[totalr]]/BD_DEP[[#This Row],[Mat Inicial]]","v":0.25},{"$f":"+BD_DEP[[#This Row],[repi]]/BD_DEP[[#This Row],[Mat Inicial]]","v":0.25},"62","Dpto. Química y Biología",52483159,"Duque Gutierrez Maritza","TC","PR"]
[1550,"CSV0004","AGRO-ECOLOGIA",2,202330,30,29,0,1,1,{"$f":"+BD_DEP[[#This Row],[totalp]]/BD_DEP[[#This Row],[Mat Inicial]]","v":0},{"$f":"+BD_DEP[[#This Row],[totalr]]/BD_DEP[[#This Row],[Mat Inicial]]","v":3.3333333333333333E-2},{"$f":"+BD_DEP[[#This Row],[repi]]/BD_DEP[[#This Row],[Mat Inicial]]","v":3.3333333333333333E-2},"62","Dpto. Química y Biología",52483159,"Duque Gutierrez Maritza","TC","PR"]
[1688,"ECA1050","AVES DEL CARIBE COLOMBIANO",1,202330,30,30,0,0,0,{"$f":"+BD_DEP[[#This Row],[totalp]]/BD_DEP[[#This Row],[Mat Inicial]]","v":0},{"$f":"+BD_DEP[[#This Row],[totalr]]/BD_DEP[[#This Row],[Mat Inicial]]","v":0},{"$f":"+BD_DEP[[#This Row],[repi]]/BD_DEP[[#This Row],[Mat Inicial]]","v":0},"62","Dpto. Química y Biología",52255407,"Aldana Dominguez Juanita","TC","PR"]
[1689,"ECA1050","AVES DEL CARIBE COLOMBIANO",2,202330,30,30,0,0,0,{"$f":"+BD_DEP[[#This Row],[totalp]]/BD_DEP[[#This Row],[Mat Inicial]]","v":0},{"$f":"+BD_DEP[[#This Row],[totalr]]/BD_DEP[[#This Row],[Mat Inicial]]","v":0},{"$f":"+BD_DEP[[#This Row],[repi]]/BD_DEP[[#This Row],[Mat Inicial]]","v":0},"62","Dpto. Química y Biología",52255407,"Aldana Dominguez Juanita","TC","PR"]
[1690,"ECA1050","AVES DEL CARIBE COLOMBIANO",3,202330,25,23,1,2,3,{"$f":"+BD_DEP[[#This Row],[totalp]]/BD_DEP[[#This Row],[Mat Inicial]]","v":0.04},{"$f":"+BD_DEP[[#This Row],[totalr]]/BD_DEP[[#This Row],[Mat Inicial]]","v":0.08},{"$f":"+BD_DEP[[#This Row],[repi]]/BD_DEP[[#This Row],[Mat Inicial]]","v":0.12},"62","Dpto. Química y Biología",80040613,"GOMEZ ECHEVERRI JUAN","TC","PR"]
[1696,"ECA1050","AVES DEL CARIBE COLOMBIANO",27,202330,30,29,0,1,1,{"$f":"+BD_DEP[[#This Row],[totalp]]/BD_DEP[[#This Row],[Mat Inicial]]","v":0},{"$f":"+BD_DEP[[#This Row],[totalr]]/BD_DEP[[#This Row],[Mat Inicial]]","v":3.3333333333333333E-2},{"$f":"+BD_DEP[[#This Row],[repi]]/BD_DEP[[#This Row],[Mat Inicial]]","v":3.3333333333333333E-2},"62","Dpto. Química y Biología",80040613,"GOMEZ ECHEVERRI JUAN","TC","PR"]
[1571,"CSV0075","BIODIVERSIDAD Y SOCIEDAD",1,202330,31,29,3,2,5,{"$f":"+BD_DEP[[#This Row],[totalp]]/BD_DEP[[#This Row],[Mat Inicial]]","v":9.6774193548387094E-2},{"$f":"+BD_DEP[[#This Row],[totalr]]/BD_DEP[[#This Row],[Mat Inicial]]","v":6.4516129032258063E-2},{"$f":"+BD_DEP[[#This Row],[repi]]/BD_DEP[[#This Row],[Mat Inicial]]","v":0.16129032258064516},"62","Dpto. Química y Biología",52009400,"Celis Pacheco Yolanda","TC","PR"]
[1572,"CSV0075","BIODIVERSIDAD Y SOCIEDAD",2,202330,30,29,2,1,3,{"$f":"+BD_DEP[[#This Row],[totalp]]/BD_DEP[[#This Row],[Mat Inicial]]","v":6.6666666666666666E-2},{"$f":"+BD_DEP[[#This Row],[totalr]]/BD_DEP[[#This Row],[Mat Inicial]]","v":3.3333333333333333E-2},{"$f":"+BD_DEP[[#This Row],[repi]]/BD_DEP[[#This Row],[Mat Inicial]]","v":0.1},"62","Dpto. Química y Biología",52009400,"Celis Pacheco Yolanda","TC","PR"]
[3392,"FIS1070","BIOFISICA",1,202330,27,27,0,0,0,{"$f":"+BD_DEP[[#This Row],[totalp]]/BD_DEP[[#This Row],[Mat Inicial]]","v":0},{"$f":"+BD_DEP[[#This Row],[totalr]]/BD_DEP[[#This Row],[Mat Inicial]]","v":0},{"$f":"+BD_DEP[[#This Row],[repi]]/BD_DEP[[#This Row],[Mat Inicial]]","v":0},"62","Dpto. Química y Biología",85441151,"Hernandez Bustos Oscar","TC","PR"]
[3393,"FIS1070","BIOFISICA",2,202330,25,25,0,0,0,{"$f":"+BD_DEP[[#This Row],[totalp]]/BD_DEP[[#This Row],[Mat Inicial]]","v":0},{"$f":"+BD_DEP[[#This Row],[totalr]]/BD_DEP[[#This Row],[Mat Inicial]]","v":0},{"$f":"+BD_DEP[[#This Row],[repi]]/BD_DEP[[#This Row],[Mat Inicial]]","v":0},"62","Dpto. Química y Biología",85441151,"Hernandez Bustos Oscar","TC","PR"]
[3394,"FIS1070","BIOFISICA",3,202330,20,20,1,0,1,{"$f":"+BD_DEP[[#This Row],[totalp]]/BD_DEP[[#This Row],[Mat Inicial]]","v":0.05},{"$f":"+BD_DEP[[#This Row],[totalr]]/BD_DEP[[#This Row],[Mat Inicial]]","v":0},{"$f":"+BD_DEP[[#This Row],[repi]]/BD_DEP[[#This Row],[Mat Inicial]]","v":0.05},"62","Dpto. Química y Biología",85441151,"Hernandez Bustos Oscar","TC","PR"]
[3395,"FIS1070","BIOFISICA",4,202330,25,25,0,0,0,{"$f":"+BD_DEP[[#This Row],[totalp]]/BD_DEP[[#This Row],[Mat Inicial]]","v":0},{"$f":"+BD_DEP[[#This Row],[totalr]]/BD_DEP[[#This Row],[Mat Inicial]]","v":0},{"$f":"+BD_DEP[[#This Row],[repi]]/BD_DEP[[#This Row],[Mat Inicial]]","v":0},"62","Dpto. Química y Biología",85441151,"Hernandez Bustos Oscar","TC","PR"]
[3396,"FIS1070","BIOFISICA",5,202330,27,26,0,1,1,{"$f":"+BD_DEP[[#This Row],[totalp]]/BD_DEP[[#This Row],[Mat Inicial]]","v":0},{"$f":"+BD_DEP[[#This Row],[totalr]]/BD_DEP[[#This Row],[Mat Inicial]]","v":3.7037037037037035E-2},{"$f":"+BD_DEP[[#This Row],[repi]]/BD_DEP[[#This Row],[Mat Inicial]]","v":3.7037037037037035E-2},"62","Dpto. Química y Biología",85441151,"Hernandez Bustos Oscar","TC","PR"]
[3397,"FIS1070","BIOFISICA",6,202330,11,11,0,0,0,{"$f":"+BD_DEP[[#This Row],[totalp]]/BD_DEP[[#This Row],[Mat Inicial]]","v":0},{"$f":"+BD_DEP[[#This Row],[totalr]]/BD_DEP[[#This Row],[Mat Inicial]]","v":0},{"$f":"+BD_DEP[[#This Row],[repi]]/BD_DEP[[#This Row],[Mat Inicial]]","v":0},"62","Dpto. Química y Biología",85441151,"Hernandez Bustos Oscar","TC","PR"]
[1370,"BIO4045","BIOFISICA (ODO)",1,202330,36,36,1,0,1,{"$f":"+BD_DEP[[#This Row],[totalp]]/BD_DEP[[#This Row],[Mat Inicial]]","v":2.7777777777777776E-2},{"$f":"+BD_DEP[[#This Row],[totalr]]/BD_DEP[[#This Row],[Mat Inicial]]","v":0},{"$f":"+BD_DEP[[#This Row],[repi]]/BD_DEP[[#This Row],[Mat Inicial]]","v":2.7777777777777776E-2},"62","Dpto. Química y Biología",85441151,"Hernandez Bustos Oscar","TC","PR"]
[4270,"CSV0010","BIOLOGIA",41,202330,20,19,1,1,2,{"$f":"+BD_DEP[[#This Row],[totalp]]/BD_DEP[[#This Row],[Mat Inicial]]","v":0.05},{"$f":"+BD_DEP[[#This Row],[totalr]]/BD_DEP[[#This Row],[Mat Inicial]]","v":0.05},{"$f":"+BD_DEP[[#This Row],[repi]]/BD_DEP[[#This Row],[Mat Inicial]]","v":0.1},"62","Dpto. Química y Biología",32719133,"Polo Barrios Alma","TC","PR"]
[4264,"CSV0010","BIOLOGIA",11,202330,20,20,1,0,1,{"$f":"+BD_DEP[[#This Row],[totalp]]/BD_DEP[[#This Row],[Mat Inicial]]","v":0.05},{"$f":"+BD_DEP[[#This Row],[totalr]]/BD_DEP[[#This Row],[Mat Inicial]]","v":0},{"$f":"+BD_DEP[[#This Row],[repi]]/BD_DEP[[#This Row],[Mat Inicial]]","v":0.05},"62","Dpto. Química y Biología",52350104,"Monroy Licht Andrea","TC","PR"]
[4272,"CSV0010","BIOLOGIA",51,202330,20,18,1,2,3,{"$f":"+BD_DEP[[#This Row],[totalp]]/BD_DEP[[#This Row],[Mat Inicial]]","v":0.05},{"$f":"+BD_DEP[[#This Row],[totalr]]/BD_DEP[[#This Row],[Mat Inicial]]","v":0.1},{"$f":"+BD_DEP[[#This Row],[repi]]/BD_DEP[[#This Row],[Mat Inicial]]","v":0.15},"62","Dpto. Química y Biología",52350104,"Monroy Licht Andrea","TC","PR"]
[4273,"CSV0010","BIOLOGIA",52,202330,18,17,1,1,2,{"$f":"+BD_DEP[[#This Row],[totalp]]/BD_DEP[[#This Row],[Mat Inicial]]","v":5.5555555555555552E-2},{"$f":"+BD_DEP[[#This Row],[totalr]]/BD_DEP[[#This Row],[Mat Inicial]]","v":5.5555555555555552E-2},{"$f":"+BD_DEP[[#This Row],[repi]]/BD_DEP[[#This Row],[Mat Inicial]]","v":0.1111111111111111},"62","Dpto. Química y Biología",52350104,"Monroy Licht Andrea","TC","PR"]
[4266,"CSV0010","BIOLOGIA",21,202330,20,19,1,1,2,{"$f":"+BD_DEP[[#This Row],[totalp]]/BD_DEP[[#This Row],[Mat Inicial]]","v":0.05},{"$f":"+BD_DEP[[#This Row],[totalr]]/BD_DEP[[#This Row],[Mat Inicial]]","v":0.05},{"$f":"+BD_DEP[[#This Row],[repi]]/BD_DEP[[#This Row],[Mat Inicial]]","v":0.1},"62","Dpto. Química y Biología",72225852,"CASALLA DAZA ROBIN","TC","PR"]
[4268,"CSV0010","BIOLOGIA",31,202330,17,16,1,1,2,{"$f":"+BD_DEP[[#This Row],[totalp]]/BD_DEP[[#This Row],[Mat Inicial]]","v":5.8823529411764705E-2},{"$f":"+BD_DEP[[#This Row],[totalr]]/BD_DEP[[#This Row],[Mat Inicial]]","v":5.8823529411764705E-2},{"$f":"+BD_DEP[[#This Row],[repi]]/BD_DEP[[#This Row],[Mat Inicial]]","v":0.11764705882352941},"62","Dpto. Química y Biología",72225852,"CASALLA DAZA ROBIN","TC","PR"]
[4271,"CSV0010","BIOLOGIA",42,202330,20,16,0,4,4,{"$f":"+BD_DEP[[#This Row],[totalp]]/BD_DEP[[#This Row],[Mat Inicial]]","v":0},{"$f":"+BD_DEP[[#This Row],[totalr]]/BD_DEP[[#This Row],[Mat Inicial]]","v":0.2},{"$f":"+BD_DEP[[#This Row],[repi]]/BD_DEP[[#This Row],[Mat Inicial]]","v":0.2},"62","Dpto. Química y Biología",72225852,"CASALLA DAZA ROBIN","TC","PR"]
[3148,"BIO2030","BIOLOGIA CELULAR",42,202330,22,22,5,0,5,{"$f":"+BD_DEP[[#This Row],[totalp]]/BD_DEP[[#This Row],[Mat Inicial]]","v":0.22727272727272727},{"$f":"+BD_DEP[[#This Row],[totalr]]/BD_DEP[[#This Row],[Mat Inicial]]","v":0},{"$f":"+BD_DEP[[#This Row],[repi]]/BD_DEP[[#This Row],[Mat Inicial]]","v":0.22727272727272727},"62","Dpto. Química y Biología",52350104,"Monroy Licht Andrea","TC","PR"]
[3143,"BIO2030","BIOLOGIA CELULAR",1,202330,21,21,1,0,1,{"$f":"+BD_DEP[[#This Row],[totalp]]/BD_DEP[[#This Row],[Mat Inicial]]","v":4.7619047619047616E-2},{"$f":"+BD_DEP[[#This Row],[totalr]]/BD_DEP[[#This Row],[Mat Inicial]]","v":0},{"$f":"+BD_DEP[[#This Row],[repi]]/BD_DEP[[#This Row],[Mat Inicial]]","v":4.7619047619047616E-2},"62","Dpto. Química y Biología",85125393,"Gutierrez De Aguas Ricardo","TC","PR"]
[3144,"BIO2030","BIOLOGIA CELULAR",2,202330,21,21,1,0,1,{"$f":"+BD_DEP[[#This Row],[totalp]]/BD_DEP[[#This Row],[Mat Inicial]]","v":4.7619047619047616E-2},{"$f":"+BD_DEP[[#This Row],[totalr]]/BD_DEP[[#This Row],[Mat Inicial]]","v":0},{"$f":"+BD_DEP[[#This Row],[repi]]/BD_DEP[[#This Row],[Mat Inicial]]","v":4.7619047619047616E-2},"62","Dpto. Química y Biología",85125393,"Gutierrez De Aguas Ricardo","TC","PR"]
[3145,"BIO2030","BIOLOGIA CELULAR",11,202330,20,20,0,0,0,{"$f":"+BD_DEP[[#This Row],[totalp]]/BD_DEP[[#This Row],[Mat Inicial]]","v":0},{"$f":"+BD_DEP[[#This Row],[totalr]]/BD_DEP[[#This Row],[Mat Inicial]]","v":0},{"$f":"+BD_DEP[[#This Row],[repi]]/BD_DEP[[#This Row],[Mat Inicial]]","v":0},"62","Dpto. Química y Biología",85125393,"Gutierrez De Aguas Ricardo","TC","PR"]
[3146,"BIO2030","BIOLOGIA CELULAR",12,202330,20,20,1,0,1,{"$f":"+BD_DEP[[#This Row],[totalp]]/BD_DEP[[#This Row],[Mat Inicial]]","v":0.05},{"$f":"+BD_DEP[[#This Row],[totalr]]/BD_DEP[[#This Row],[Mat Inicial]]","v":0},{"$f":"+BD_DEP[[#This Row],[repi]]/BD_DEP[[#This Row],[Mat Inicial]]","v":0.05},"62","Dpto. Química y Biología",85125393,"Gutierrez De Aguas Ricardo","TC","PR"]
[1368,"BIO4040","BIOLOGIA CELULAR Y MOLECULAR",11,202330,17,17,0,0,0,{"$f":"+BD_DEP[[#This Row],[totalp]]/BD_DEP[[#This Row],[Mat Inicial]]","v":0},{"$f":"+BD_DEP[[#This Row],[totalr]]/BD_DEP[[#This Row],[Mat Inicial]]","v":0},{"$f":"+BD_DEP[[#This Row],[repi]]/BD_DEP[[#This Row],[Mat Inicial]]","v":0},"62","Dpto. Química y Biología",72225852,"CASALLA DAZA ROBIN","TC","PR"]
[1369,"BIO4040","BIOLOGIA CELULAR Y MOLECULAR",12,202330,14,14,0,0,0,{"$f":"+BD_DEP[[#This Row],[totalp]]/BD_DEP[[#This Row],[Mat Inicial]]","v":0},{"$f":"+BD_DEP[[#This Row],[totalr]]/BD_DEP[[#This Row],[Mat Inicial]]","v":0},{"$f":"+BD_DEP[[#This Row],[repi]]/BD_DEP[[#This Row],[Mat Inicial]]","v":0},"62","Dpto. Química y Biología",72225852,"CASALLA DAZA ROBIN","TC","PR"]
[3151,"BIO4035","BIOLOGIA CELULAR Y MOLECULAR",11,202330,17,17,0,0,0,{"$f":"+BD_DEP[[#This Row],[totalp]]/BD_DEP[[#This Row],[Mat Inicial]]","v":0},{"$f":"+BD_DEP[[#This Row],[totalr]]/BD_DEP[[#This Row],[Mat Inicial]]","v":0},{"$f":"+BD_DEP[[#This Row],[repi]]/BD_DEP[[#This Row],[Mat Inicial]]","v":0},"62","Dpto. Química y Biología",72225852,"CASALLA DAZA ROBIN","TC","PR"]
[3152,"BIO4035","BIOLOGIA CELULAR Y MOLECULAR",12,202330,17,17,0,0,0,{"$f":"+BD_DEP[[#This Row],[totalp]]/BD_DEP[[#This Row],[Mat Inicial]]","v":0},{"$f":"+BD_DEP[[#This Row],[totalr]]/BD_DEP[[#This Row],[Mat Inicial]]","v":0},{"$f":"+BD_DEP[[#This Row],[repi]]/BD_DEP[[#This Row],[Mat Inicial]]","v":0},"62","Dpto. Química y Biología",72225852,"CASALLA DAZA ROBIN","TC","PR"]
[3166,"BIO2040","BIOLOGIA MOLECULAR",11,202330,20,20,0,0,0,{"$f":"+BD_DEP[[#This Row],[totalp]]/BD_DEP[[#This Row],[Mat Inicial]]","v":0},{"$f":"+BD_DEP[[#This Row],[totalr]]/BD_DEP[[#This Row],[Mat Inicial]]","v":0},{"$f":"+BD_DEP[[#This Row],[repi]]/BD_DEP[[#This Row],[Mat Inicial]]","v":0},"62","Dpto. Química y Biología",32719133,"Polo Barrios Alma","TC","PR"]
[3167,"BIO2040","BIOLOGIA MOLECULAR",12,202330,20,19,3,1,4,{"$f":"+BD_DEP[[#This Row],[totalp]]/BD_DEP[[#This Row],[Mat Inicial]]","v":0.15},{"$f":"+BD_DEP[[#This Row],[totalr]]/BD_DEP[[#This Row],[Mat Inicial]]","v":0.05},{"$f":"+BD_DEP[[#This Row],[repi]]/BD_DEP[[#This Row],[Mat Inicial]]","v":0.2},"62","Dpto. Química y Biología",32719133,"Polo Barrios Alma","TC","PR"]
[3168,"BIO2040","BIOLOGIA MOLECULAR",21,202330,20,20,1,0,1,{"$f":"+BD_DEP[[#This Row],[totalp]]/BD_DEP[[#This Row],[Mat Inicial]]","v":0.05},{"$f":"+BD_DEP[[#This Row],[totalr]]/BD_DEP[[#This Row],[Mat Inicial]]","v":0},{"$f":"+BD_DEP[[#This Row],[repi]]/BD_DEP[[#This Row],[Mat Inicial]]","v":0.05},"62","Dpto. Química y Biología",32719133,"Polo Barrios Alma","TC","PR"]
[3169,"BIO2040","BIOLOGIA MOLECULAR",22,202330,20,20,1,0,1,{"$f":"+BD_DEP[[#This Row],[totalp]]/BD_DEP[[#This Row],[Mat Inicial]]","v":0.05},{"$f":"+BD_DEP[[#This Row],[totalr]]/BD_DEP[[#This Row],[Mat Inicial]]","v":0},{"$f":"+BD_DEP[[#This Row],[repi]]/BD_DEP[[#This Row],[Mat Inicial]]","v":0.05},"62","Dpto. Química y Biología",32719133,"Polo Barrios Alma","TC","PR"]
[3164,"BIO2040","BIOLOGIA MOLECULAR",1,202330,20,20,3,0,3,{"$f":"+BD_DEP[[#This Row],[totalp]]/BD_DEP[[#This Row],[Mat Inicial]]","v":0.15},{"$f":"+BD_DEP[[#This Row],[totalr]]/BD_DEP[[#This Row],[Mat Inicial]]","v":0},{"$f":"+BD_DEP[[#This Row],[repi]]/BD_DEP[[#This Row],[Mat Inicial]]","v":0.15},"62","Dpto. Química y Biología",72225852,"CASALLA DAZA ROBIN","TC","PR"]
[3165,"BIO2040","BIOLOGIA MOLECULAR",2,202330,20,20,0,0,0,{"$f":"+BD_DEP[[#This Row],[totalp]]/BD_DEP[[#This Row],[Mat Inicial]]","v":0},{"$f":"+BD_DEP[[#This Row],[totalr]]/BD_DEP[[#This Row],[Mat Inicial]]","v":0},{"$f":"+BD_DEP[[#This Row],[repi]]/BD_DEP[[#This Row],[Mat Inicial]]","v":0},"62","Dpto. Química y Biología",72225852,"CASALLA DAZA ROBIN","TC","PR"]
[3170,"BIO2040","BIOLOGIA MOLECULAR",31,202330,20,20,2,0,2,{"$f":"+BD_DEP[[#This Row],[totalp]]/BD_DEP[[#This Row],[Mat Inicial]]","v":0.1},{"$f":"+BD_DEP[[#This Row],[totalr]]/BD_DEP[[#This Row],[Mat Inicial]]","v":0},{"$f":"+BD_DEP[[#This Row],[repi]]/BD_DEP[[#This Row],[Mat Inicial]]","v":0.1},"62","Dpto. Química y Biología",79539848,"VIDAL ORJUELA OSCAR","TC","PR"]
[1552,"CSV0015","BIOLOGIA,GENOMA Y SOCIEDAD",1,202330,26,24,0,2,2,{"$f":"+BD_DEP[[#This Row],[totalp]]/BD_DEP[[#This Row],[Mat Inicial]]","v":0},{"$f":"+BD_DEP[[#This Row],[totalr]]/BD_DEP[[#This Row],[Mat Inicial]]","v":7.6923076923076927E-2},{"$f":"+BD_DEP[[#This Row],[repi]]/BD_DEP[[#This Row],[Mat Inicial]]","v":7.6923076923076927E-2},"62","Dpto. Química y Biología",1129564677,"NEME GARRIDO RAFIK","TC","PR"]
[2151,"IDS0065","COMUNICACION DE LAS CIENCIAS",4,202330,12,11,0,1,1,{"$f":"+BD_DEP[[#This Row],[totalp]]/BD_DEP[[#This Row],[Mat Inicial]]","v":0},{"$f":"+BD_DEP[[#This Row],[totalr]]/BD_DEP[[#This Row],[Mat Inicial]]","v":8.3333333333333329E-2},{"$f":"+BD_DEP[[#This Row],[repi]]/BD_DEP[[#This Row],[Mat Inicial]]","v":8.3333333333333329E-2},"62","Dpto. Química y Biología",85441151,"Hernandez Bustos Oscar","TC","PR"]
[2149,"IDS0065","COMUNICACION DE LAS CIENCIAS",2,202330,25,24,0,1,1,{"$f":"+BD_DEP[[#This Row],[totalp]]/BD_DEP[[#This Row],[Mat Inicial]]","v":0},{"$f":"+BD_DEP[[#This Row],[totalr]]/BD_DEP[[#This Row],[Mat Inicial]]","v":0.04},{"$f":"+BD_DEP[[#This Row],[repi]]/BD_DEP[[#This Row],[Mat Inicial]]","v":0.04},"62","Dpto. Química y Biología",1129564677,"NEME GARRIDO RAFIK","TC","PR"]
[1565,"CSV0061","ECOLOGIA URBANA",1,202330,30,29,0,1,1,{"$f":"+BD_DEP[[#This Row],[totalp]]/BD_DEP[[#This Row],[Mat Inicial]]","v":0},{"$f":"+BD_DEP[[#This Row],[totalr]]/BD_DEP[[#This Row],[Mat Inicial]]","v":3.3333333333333333E-2},{"$f":"+BD_DEP[[#This Row],[repi]]/BD_DEP[[#This Row],[Mat Inicial]]","v":3.3333333333333333E-2},"62","Dpto. Química y Biología",52483159,"Duque Gutierrez Maritza","TC","PR"]
[1566,"CSV0061","ECOLOGIA URBANA",2,202330,30,28,1,2,3,{"$f":"+BD_DEP[[#This Row],[totalp]]/BD_DEP[[#This Row],[Mat Inicial]]","v":3.3333333333333333E-2},{"$f":"+BD_DEP[[#This Row],[totalr]]/BD_DEP[[#This Row],[Mat Inicial]]","v":6.6666666666666666E-2},{"$f":"+BD_DEP[[#This Row],[repi]]/BD_DEP[[#This Row],[Mat Inicial]]","v":0.1},"62","Dpto. Química y Biología",52483159,"Duque Gutierrez Maritza","TC","PR"]
[6561,"CSV0061","ECOLOGIA URBANA",3,202330,25,22,1,3,4,{"$f":"+BD_DEP[[#This Row],[totalp]]/BD_DEP[[#This Row],[Mat Inicial]]","v":0.04},{"$f":"+BD_DEP[[#This Row],[totalr]]/BD_DEP[[#This Row],[Mat Inicial]]","v":0.12},{"$f":"+BD_DEP[[#This Row],[repi]]/BD_DEP[[#This Row],[Mat Inicial]]","v":0.16},"62","Dpto. Química y Biología",52483159,"Duque Gutierrez Maritza","TC","PR"]
[1576,"CSV1055","INTRODUCCION A LA NANOTECH.",1,202330,35,33,0,2,2,{"$f":"+BD_DEP[[#This Row],[totalp]]/BD_DEP[[#This Row],[Mat Inicial]]","v":0},{"$f":"+BD_DEP[[#This Row],[totalr]]/BD_DEP[[#This Row],[Mat Inicial]]","v":5.7142857142857141E-2},{"$f":"+BD_DEP[[#This Row],[repi]]/BD_DEP[[#This Row],[Mat Inicial]]","v":5.7142857142857141E-2},"62","Dpto. Química y Biología",10775410,"Mendez Lopez Maximiliano","TC","PR"]
[1567,"CSV0065","NTRA FLORA LOC Y EL BOS SEC TR",1,202330,25,24,3,1,4,{"$f":"+BD_DEP[[#This Row],[totalp]]/BD_DEP[[#This Row],[Mat Inicial]]","v":0.12},{"$f":"+BD_DEP[[#This Row],[totalr]]/BD_DEP[[#This Row],[Mat Inicial]]","v":0.04},{"$f":"+BD_DEP[[#This Row],[repi]]/BD_DEP[[#This Row],[Mat Inicial]]","v":0.16},"62","Dpto. Química y Biología",52009400,"Celis Pacheco Yolanda","TC","PR"]
[1568,"CSV0065","NTRA FLORA LOC Y EL BOS SEC TR",2,202330,24,23,1,1,2,{"$f":"+BD_DEP[[#This Row],[totalp]]/BD_DEP[[#This Row],[Mat Inicial]]","v":4.1666666666666664E-2},{"$f":"+BD_DEP[[#This Row],[totalr]]/BD_DEP[[#This Row],[Mat Inicial]]","v":4.1666666666666664E-2},{"$f":"+BD_DEP[[#This Row],[repi]]/BD_DEP[[#This Row],[Mat Inicial]]","v":8.3333333333333329E-2},"62","Dpto. Química y Biología",52009400,"Celis Pacheco Yolanda","TC","PR"]
[3157,"QUI1070","QUIMICA",70,202330,15,15,0,0,0,{"$f":"+BD_DEP[[#This Row],[totalp]]/BD_DEP[[#This Row],[Mat Inicial]]","v":0},{"$f":"+BD_DEP[[#This Row],[totalr]]/BD_DEP[[#This Row],[Mat Inicial]]","v":0},{"$f":"+BD_DEP[[#This Row],[repi]]/BD_DEP[[#This Row],[Mat Inicial]]","v":0},"62","Dpto. Química y Biología",673722,"MARQUEZ BRAZON EDGAR","TC","PR"]
[3158,"QUI1070","QUIMICA",71,202330,15,15,1,0,1,{"$f":"+BD_DEP[[#This Row],[totalp]]/BD_DEP[[#This Row],[Mat Inicial]]","v":6.6666666666666666E-2},{"$f":"+BD_DEP[[#This Row],[totalr]]/BD_DEP[[#This Row],[Mat Inicial]]","v":0},{"$f":"+BD_DEP[[#This Row],[repi]]/BD_DEP[[#This Row],[Mat Inicial]]","v":6.6666666666666666E-2},"62","Dpto. Química y Biología",673722,"MARQUEZ BRAZON EDGAR","TC","PR"]
[3159,"QUI1070","QUIMICA",80,202330,11,11,0,0,0,{"$f":"+BD_DEP[[#This Row],[totalp]]/BD_DEP[[#This Row],[Mat Inicial]]","v":0},{"$f":"+BD_DEP[[#This Row],[totalr]]/BD_DEP[[#This Row],[Mat Inicial]]","v":0},{"$f":"+BD_DEP[[#This Row],[repi]]/BD_DEP[[#This Row],[Mat Inicial]]","v":0},"62","Dpto. Química y Biología",10775410,"Mendez Lopez Maximiliano","TC","PR"]
[3162,"QUI1070","QUIMICA",91,202330,3,3,0,0,0,{"$f":"+BD_DEP[[#This Row],[totalp]]/BD_DEP[[#This Row],[Mat Inicial]]","v":0},{"$f":"+BD_DEP[[#This Row],[totalr]]/BD_DEP[[#This Row],[Mat Inicial]]","v":0},{"$f":"+BD_DEP[[#This Row],[repi]]/BD_DEP[[#This Row],[Mat Inicial]]","v":0},"62","Dpto. Química y Biología",32738183,"Cotes Oyaga Sandra","TC","PR"]
[3155,"QUI1070","QUIMICA",60,202330,15,15,2,0,2,{"$f":"+BD_DEP[[#This Row],[totalp]]/BD_DEP[[#This Row],[Mat Inicial]]","v":0.13333333333333333},{"$f":"+BD_DEP[[#This Row],[totalr]]/BD_DEP[[#This Row],[Mat Inicial]]","v":0},{"$f":"+BD_DEP[[#This Row],[repi]]/BD_DEP[[#This Row],[Mat Inicial]]","v":0.13333333333333333},"62","Dpto. Química y Biología",91489629,"MUÑOZ ACEVEDO AMNER","TC","PR"]
[3156,"QUI1070","QUIMICA",61,202330,15,15,2,0,2,{"$f":"+BD_DEP[[#This Row],[totalp]]/BD_DEP[[#This Row],[Mat Inicial]]","v":0.13333333333333333},{"$f":"+BD_DEP[[#This Row],[totalr]]/BD_DEP[[#This Row],[Mat Inicial]]","v":0},{"$f":"+BD_DEP[[#This Row],[repi]]/BD_DEP[[#This Row],[Mat Inicial]]","v":0.13333333333333333},"62","Dpto. Química y Biología",91489629,"MUÑOZ ACEVEDO AMNER","TC","PR"]
[3153,"QUI1070","QUIMICA",50,202330,15,15,1,0,1,{"$f":"+BD_DEP[[#This Row],[totalp]]/BD_DEP[[#This Row],[Mat Inicial]]","v":6.6666666666666666E-2},{"$f":"+BD_DEP[[#This Row],[totalr]]/BD_DEP[[#This Row],[Mat Inicial]]","v":0},{"$f":"+BD_DEP[[#This Row],[repi]]/BD_DEP[[#This Row],[Mat Inicial]]","v":6.6666666666666666E-2},"62","Dpto. Química y Biología",1085251603,"INSUASTY DELGADO DANIEL","TC","PR"]
[3154,"QUI1070","QUIMICA",51,202330,15,15,0,0,0,{"$f":"+BD_DEP[[#This Row],[totalp]]/BD_DEP[[#This Row],[Mat Inicial]]","v":0},{"$f":"+BD_DEP[[#This Row],[totalr]]/BD_DEP[[#This Row],[Mat Inicial]]","v":0},{"$f":"+BD_DEP[[#This Row],[repi]]/BD_DEP[[#This Row],[Mat Inicial]]","v":0},"62","Dpto. Química y Biología",1085251603,"INSUASTY DELGADO DANIEL","TC","PR"]
[4278,"CSV0020","QUIMICA GENERAL",21,202330,10,8,0,2,2,{"$f":"+BD_DEP[[#This Row],[totalp]]/BD_DEP[[#This Row],[Mat Inicial]]","v":0},{"$f":"+BD_DEP[[#This Row],[totalr]]/BD_DEP[[#This Row],[Mat Inicial]]","v":0.2},{"$f":"+BD_DEP[[#This Row],[repi]]/BD_DEP[[#This Row],[Mat Inicial]]","v":0.2},"62","Dpto. Química y Biología",673722,"MARQUEZ BRAZON EDGAR","TC","PR"]
[4287,"CSV0020","QUIMICA GENERAL",62,202330,15,14,0,1,1,{"$f":"+BD_DEP[[#This Row],[totalp]]/BD_DEP[[#This Row],[Mat Inicial]]","v":0},{"$f":"+BD_DEP[[#This Row],[totalr]]/BD_DEP[[#This Row],[Mat Inicial]]","v":6.6666666666666666E-2},{"$f":"+BD_DEP[[#This Row],[repi]]/BD_DEP[[#This Row],[Mat Inicial]]","v":6.6666666666666666E-2},"62","Dpto. Química y Biología",673722,"MARQUEZ BRAZON EDGAR","TC","PR"]
[4274,"CSV0020","QUIMICA GENERAL",1,202330,14,11,2,3,5,{"$f":"+BD_DEP[[#This Row],[totalp]]/BD_DEP[[#This Row],[Mat Inicial]]","v":0.14285714285714285},{"$f":"+BD_DEP[[#This Row],[totalr]]/BD_DEP[[#This Row],[Mat Inicial]]","v":0.21428571428571427},{"$f":"+BD_DEP[[#This Row],[repi]]/BD_DEP[[#This Row],[Mat Inicial]]","v":0.35714285714285715},"62","Dpto. Química y Biología",10775410,"Mendez Lopez Maximiliano","TC","PR"]
[4275,"CSV0020","QUIMICA GENERAL",2,202330,13,12,1,1,2,{"$f":"+BD_DEP[[#This Row],[totalp]]/BD_DEP[[#This Row],[Mat Inicial]]","v":7.6923076923076927E-2},{"$f":"+BD_DEP[[#This Row],[totalr]]/BD_DEP[[#This Row],[Mat Inicial]]","v":7.6923076923076927E-2},{"$f":"+BD_DEP[[#This Row],[repi]]/BD_DEP[[#This Row],[Mat Inicial]]","v":0.15384615384615385},"62","Dpto. Química y Biología",10775410,"Mendez Lopez Maximiliano","TC","PR"]
[4276,"CSV0020","QUIMICA GENERAL",11,202330,11,11,1,0,1,{"$f":"+BD_DEP[[#This Row],[totalp]]/BD_DEP[[#This Row],[Mat Inicial]]","v":9.0909090909090912E-2},{"$f":"+BD_DEP[[#This Row],[totalr]]/BD_DEP[[#This Row],[Mat Inicial]]","v":0},{"$f":"+BD_DEP[[#This Row],[repi]]/BD_DEP[[#This Row],[Mat Inicial]]","v":9.0909090909090912E-2},"62","Dpto. Química y Biología",10775410,"Mendez Lopez Maximiliano","TC","PR"]
[4277,"CSV0020","QUIMICA GENERAL",12,202330,14,14,2,0,2,{"$f":"+BD_DEP[[#This Row],[totalp]]/BD_DEP[[#This Row],[Mat Inicial]]","v":0.14285714285714285},{"$f":"+BD_DEP[[#This Row],[totalr]]/BD_DEP[[#This Row],[Mat Inicial]]","v":0},{"$f":"+BD_DEP[[#This Row],[repi]]/BD_DEP[[#This Row],[Mat Inicial]]","v":0.14285714285714285},"62","Dpto. Química y Biología",10775410,"Mendez Lopez Maximiliano","TC","PR"]
[4279,"CSV0020","QUIMICA GENERAL",22,202330,15,13,0,2,2,{"$f":"+BD_DEP[[#This Row],[totalp]]/BD_DEP[[#This Row],[Mat Inicial]]","v":0},{"$f":"+BD_DEP[[#This Row],[totalr]]/BD_DEP[[#This Row],[Mat Inicial]]","v":0.13333333333333333},{"$f":"+BD_DEP[[#This Row],[repi]]/BD_DEP[[#This Row],[Mat Inicial]]","v":0.13333333333333333},"62","Dpto. Química y Biología",10775410,"Mendez Lopez Maximiliano","TC","PR"]
[4281,"CSV0020","QUIMICA GENERAL",32,202330,15,15,0,0,0,{"$f":"+BD_DEP[[#This Row],[totalp]]/BD_DEP[[#This Row],[Mat Inicial]]","v":0},{"$f":"+BD_DEP[[#This Row],[totalr]]/BD_DEP[[#This Row],[Mat Inicial]]","v":0},{"$f":"+BD_DEP[[#This Row],[repi]]/BD_DEP[[#This Row],[Mat Inicial]]","v":0},"62","Dpto. Química y Biología",10775410,"Mendez Lopez Maximiliano","TC","PR"]
[4282,"CSV0020","QUIMICA GENERAL",41,202330,10,9,0,1,1,{"$f":"+BD_DEP[[#This Row],[totalp]]/BD_DEP[[#This Row],[Mat Inicial]]","v":0},{"$f":"+BD_DEP[[#This Row],[totalr]]/BD_DEP[[#This Row],[Mat Inicial]]","v":0.1},{"$f":"+BD_DEP[[#This Row],[repi]]/BD_DEP[[#This Row],[Mat Inicial]]","v":0.1},"62","Dpto. Química y Biología",10775410,"Mendez Lopez Maximiliano","TC","PR"]
[4284,"CSV0020","QUIMICA GENERAL",51,202330,15,15,0,0,0,{"$f":"+BD_DEP[[#This Row],[totalp]]/BD_DEP[[#This Row],[Mat Inicial]]","v":0},{"$f":"+BD_DEP[[#This Row],[totalr]]/BD_DEP[[#This Row],[Mat Inicial]]","v":0},{"$f":"+BD_DEP[[#This Row],[repi]]/BD_DEP[[#This Row],[Mat Inicial]]","v":0},"62","Dpto. Química y Biología",10775410,"Mendez Lopez Maximiliano","TC","PR"]
[4285,"CSV0020","QUIMICA GENERAL",52,202330,14,12,0,2,2,{"$f":"+BD_DEP[[#This Row],[totalp]]/BD_DEP[[#This Row],[Mat Inicial]]","v":0},{"$f":"+BD_DEP[[#This Row],[totalr]]/BD_DEP[[#This Row],[Mat Inicial]]","v":0.14285714285714285},{"$f":"+BD_DEP[[#This Row],[repi]]/BD_DEP[[#This Row],[Mat Inicial]]","v":0.14285714285714285},"62","Dpto. Química y Biología",10775410,"Mendez Lopez Maximiliano","TC","PR"]
[4286,"CSV0020","QUIMICA GENERAL",61,202330,15,13,0,2,2,{"$f":"+BD_DEP[[#This Row],[totalp]]/BD_DEP[[#This Row],[Mat Inicial]]","v":0},{"$f":"+BD_DEP[[#This Row],[totalr]]/BD_DEP[[#This Row],[Mat Inicial]]","v":0.13333333333333333},{"$f":"+BD_DEP[[#This Row],[repi]]/BD_DEP[[#This Row],[Mat Inicial]]","v":0.13333333333333333},"62","Dpto. Química y Biología",10775410,"Mendez Lopez Maximiliano","TC","PR"]
[4288,"CSV0020","QUIMICA GENERAL",71,202330,15,14,1,1,2,{"$f":"+BD_DEP[[#This Row],[totalp]]/BD_DEP[[#This Row],[Mat Inicial]]","v":6.6666666666666666E-2},{"$f":"+BD_DEP[[#This Row],[totalr]]/BD_DEP[[#This Row],[Mat Inicial]]","v":6.6666666666666666E-2},{"$f":"+BD_DEP[[#This Row],[repi]]/BD_DEP[[#This Row],[Mat Inicial]]","v":0.13333333333333333},"62","Dpto. Química y Biología",10775410,"Mendez Lopez Maximiliano","TC","PR"]
[4483,"QUI4015","QUIMICA GENERAL (ODO)",1,202330,15,15,0,0,0,{"$f":"+BD_DEP[[#This Row],[totalp]]/BD_DEP[[#This Row],[Mat Inicial]]","v":0},{"$f":"+BD_DEP[[#This Row],[totalr]]/BD_DEP[[#This Row],[Mat Inicial]]","v":0},{"$f":"+BD_DEP[[#This Row],[repi]]/BD_DEP[[#This Row],[Mat Inicial]]","v":0},"62","Dpto. Química y Biología",32738183,"Cotes Oyaga Sandra","TC","PR"]
[4484,"QUI4015","QUIMICA GENERAL (ODO)",2,202330,13,13,0,0,0,{"$f":"+BD_DEP[[#This Row],[totalp]]/BD_DEP[[#This Row],[Mat Inicial]]","v":0},{"$f":"+BD_DEP[[#This Row],[totalr]]/BD_DEP[[#This Row],[Mat Inicial]]","v":0},{"$f":"+BD_DEP[[#This Row],[repi]]/BD_DEP[[#This Row],[Mat Inicial]]","v":0},"62","Dpto. Química y Biología",32738183,"Cotes Oyaga Sandra","TC","PR"]
[1575,"CSV1050","QUIMICA Y MEDIO AMBIENTE",1,202330,30,30,2,0,2,{"$f":"+BD_DEP[[#This Row],[totalp]]/BD_DEP[[#This Row],[Mat Inicial]]","v":6.6666666666666666E-2},{"$f":"+BD_DEP[[#This Row],[totalr]]/BD_DEP[[#This Row],[Mat Inicial]]","v":0},{"$f":"+BD_DEP[[#This Row],[repi]]/BD_DEP[[#This Row],[Mat Inicial]]","v":6.6666666666666666E-2},"62","Dpto. Química y Biología",32738183,"Cotes Oyaga Sandra","TC","PR"]
[1691,"ECA1050","AVES DEL CARIBE COLOMBIANO",5,202330,31,31,0,0,0,{"$f":"+BD_DEP[[#This Row],[totalp]]/BD_DEP[[#This Row],[Mat Inicial]]","v":0},{"$f":"+BD_DEP[[#This Row],[totalr]]/BD_DEP[[#This Row],[Mat Inicial]]","v":0},{"$f":"+BD_DEP[[#This Row],[repi]]/BD_DEP[[#This Row],[Mat Inicial]]","v":0},"62","Dpto. Química y Biología",70046574,"Borja Acuna Rafael","CA","PR"]
[1693,"ECA1050","AVES DEL CARIBE COLOMBIANO",24,202330,30,29,0,1,1,{"$f":"+BD_DEP[[#This Row],[totalp]]/BD_DEP[[#This Row],[Mat Inicial]]","v":0},{"$f":"+BD_DEP[[#This Row],[totalr]]/BD_DEP[[#This Row],[Mat Inicial]]","v":3.3333333333333333E-2},{"$f":"+BD_DEP[[#This Row],[repi]]/BD_DEP[[#This Row],[Mat Inicial]]","v":3.3333333333333333E-2},"62","Dpto. Química y Biología",70046574,"Borja Acuna Rafael","CA","PR"]
[1694,"ECA1050","AVES DEL CARIBE COLOMBIANO",25,202330,29,29,0,0,0,{"$f":"+BD_DEP[[#This Row],[totalp]]/BD_DEP[[#This Row],[Mat Inicial]]","v":0},{"$f":"+BD_DEP[[#This Row],[totalr]]/BD_DEP[[#This Row],[Mat Inicial]]","v":0},{"$f":"+BD_DEP[[#This Row],[repi]]/BD_DEP[[#This Row],[Mat Inicial]]","v":0},"62","Dpto. Química y Biología",70046574,"Borja Acuna Rafael","CA","PR"]
[1574,"CSV0075","BIODIVERSIDAD Y SOCIEDAD",4,202330,32,32,0,0,0,{"$f":"+BD_DEP[[#This Row],[totalp]]/BD_DEP[[#This Row],[Mat Inicial]]","v":0},{"$f":"+BD_DEP[[#This Row],[totalr]]/BD_DEP[[#This Row],[Mat Inicial]]","v":0},{"$f":"+BD_DEP[[#This Row],[repi]]/BD_DEP[[#This Row],[Mat Inicial]]","v":0},"62","Dpto. Química y Biología",1140850459,"Gomez De La Rosa Carrol","CA","PR"]
[1554,"CSV0030","PLANTAS MEDICINALES",1,202330,11,10,0,1,1,{"$f":"+BD_DEP[[#This Row],[totalp]]/BD_DEP[[#This Row],[Mat Inicial]]","v":0},{"$f":"+BD_DEP[[#This Row],[totalr]]/BD_DEP[[#This Row],[Mat Inicial]]","v":9.0909090909090912E-2},{"$f":"+BD_DEP[[#This Row],[repi]]/BD_DEP[[#This Row],[Mat Inicial]]","v":9.0909090909090912E-2},"62","Dpto. Química y Biología",32652105,"Trillos Figueroa Celia","CA","PR"]
[1556,"CSV0030","PLANTAS MEDICINALES",11,202330,14,14,1,0,1,{"$f":"+BD_DEP[[#This Row],[totalp]]/BD_DEP[[#This Row],[Mat Inicial]]","v":7.1428571428571425E-2},{"$f":"+BD_DEP[[#This Row],[totalr]]/BD_DEP[[#This Row],[Mat Inicial]]","v":0},{"$f":"+BD_DEP[[#This Row],[repi]]/BD_DEP[[#This Row],[Mat Inicial]]","v":7.1428571428571425E-2},"62","Dpto. Química y Biología",32652105,"Trillos Figueroa Celia","CA","PR"]
[3117,"QUI4010","QUIMICA Y BIOQUIMICA",2,202330,15,15,1,0,1,{"$f":"+BD_DEP[[#This Row],[totalp]]/BD_DEP[[#This Row],[Mat Inicial]]","v":6.6666666666666666E-2},{"$f":"+BD_DEP[[#This Row],[totalr]]/BD_DEP[[#This Row],[Mat Inicial]]","v":0},{"$f":"+BD_DEP[[#This Row],[repi]]/BD_DEP[[#This Row],[Mat Inicial]]","v":6.6666666666666666E-2},"62","Dpto. Química y Biología",1052964239,"España Puccini Pierine","CA","PR"]
[3163,"QUI4010","QUIMICA Y BIOQUIMICA",1,202330,14,14,2,0,2,{"$f":"+BD_DEP[[#This Row],[totalp]]/BD_DEP[[#This Row],[Mat Inicial]]","v":0.14285714285714285},{"$f":"+BD_DEP[[#This Row],[totalr]]/BD_DEP[[#This Row],[Mat Inicial]]","v":0},{"$f":"+BD_DEP[[#This Row],[repi]]/BD_DEP[[#This Row],[Mat Inicial]]","v":0.14285714285714285},"62","Dpto. Química y Biología",1052964239,"España Puccini Pierine","CA","PR"]
[1534,"CSO0110","AMBIENTE,SALUD Y DESARROLLO",1,202330,28,27,0,1,1,{"$f":"+BD_DEP[[#This Row],[totalp]]/BD_DEP[[#This Row],[Mat Inicial]]","v":0},{"$f":"+BD_DEP[[#This Row],[totalr]]/BD_DEP[[#This Row],[Mat Inicial]]","v":3.5714285714285712E-2},{"$f":"+BD_DEP[[#This Row],[repi]]/BD_DEP[[#This Row],[Mat Inicial]]","v":3.5714285714285712E-2},"35","Dpto. Salud Pública",8703200,"Tuesca Molina Rafael","TC","PR"]
[3387,"EST4020","BIOESTADISTICA",3,202330,24,24,0,0,0,{"$f":"+BD_DEP[[#This Row],[totalp]]/BD_DEP[[#This Row],[Mat Inicial]]","v":0},{"$f":"+BD_DEP[[#This Row],[totalr]]/BD_DEP[[#This Row],[Mat Inicial]]","v":0},{"$f":"+BD_DEP[[#This Row],[repi]]/BD_DEP[[#This Row],[Mat Inicial]]","v":0},"35","Dpto. Salud Pública",32745818,"Acosta Vergara Tania","TC","PR"]
[3388,"EST4020","BIOESTADISTICA",4,202330,31,30,0,1,1,{"$f":"+BD_DEP[[#This Row],[totalp]]/BD_DEP[[#This Row],[Mat Inicial]]","v":0},{"$f":"+BD_DEP[[#This Row],[totalr]]/BD_DEP[[#This Row],[Mat Inicial]]","v":3.2258064516129031E-2},{"$f":"+BD_DEP[[#This Row],[repi]]/BD_DEP[[#This Row],[Mat Inicial]]","v":3.2258064516129031E-2},"35","Dpto. Salud Pública",1045682385,"Rodriguez Zabala Javier","TC","PR"]
[3390,"EST4020","BIOESTADISTICA",6,202330,27,27,0,0,0,{"$f":"+BD_DEP[[#This Row],[totalp]]/BD_DEP[[#This Row],[Mat Inicial]]","v":0},{"$f":"+BD_DEP[[#This Row],[totalr]]/BD_DEP[[#This Row],[Mat Inicial]]","v":0},{"$f":"+BD_DEP[[#This Row],[repi]]/BD_DEP[[#This Row],[Mat Inicial]]","v":0},"35","Dpto. Salud Pública",1045682385,"Rodriguez Zabala Javier","TC","PR"]
[3391,"EST4020","BIOESTADISTICA",7,202330,13,13,0,0,0,{"$f":"+BD_DEP[[#This Row],[totalp]]/BD_DEP[[#This Row],[Mat Inicial]]","v":0},{"$f":"+BD_DEP[[#This Row],[totalr]]/BD_DEP[[#This Row],[Mat Inicial]]","v":0},{"$f":"+BD_DEP[[#This Row],[repi]]/BD_DEP[[#This Row],[Mat Inicial]]","v":0},"35","Dpto. Salud Pública",1045682385,"Rodriguez Zabala Javier","TC","PR"]
[1416,"CBM9280","DETERMINANTES DE LA SALUD",1,202330,19,19,0,0,0,{"$f":"+BD_DEP[[#This Row],[totalp]]/BD_DEP[[#This Row],[Mat Inicial]]","v":0},{"$f":"+BD_DEP[[#This Row],[totalr]]/BD_DEP[[#This Row],[Mat Inicial]]","v":0},{"$f":"+BD_DEP[[#This Row],[repi]]/BD_DEP[[#This Row],[Mat Inicial]]","v":0},"35","Dpto. Salud Pública",1045682385,"Rodriguez Zabala Javier","TC","PR"]
[3450,"MFC8388","EPIDEMIOLOGIA CLINICA",1,202330,6,5,0,1,1,{"$f":"+BD_DEP[[#This Row],[totalp]]/BD_DEP[[#This Row],[Mat Inicial]]","v":0},{"$f":"+BD_DEP[[#This Row],[totalr]]/BD_DEP[[#This Row],[Mat Inicial]]","v":0.16666666666666666},{"$f":"+BD_DEP[[#This Row],[repi]]/BD_DEP[[#This Row],[Mat Inicial]]","v":0.16666666666666666},"35","Dpto. Salud Pública",92641325,"FLOREZ GARCIA VICTOR","TC","PR"]
[3451,"MFC8388","EPIDEMIOLOGIA CLINICA",2,202330,6,6,0,0,0,{"$f":"+BD_DEP[[#This Row],[totalp]]/BD_DEP[[#This Row],[Mat Inicial]]","v":0},{"$f":"+BD_DEP[[#This Row],[totalr]]/BD_DEP[[#This Row],[Mat Inicial]]","v":0},{"$f":"+BD_DEP[[#This Row],[repi]]/BD_DEP[[#This Row],[Mat Inicial]]","v":0},"35","Dpto. Salud Pública",92641325,"FLOREZ GARCIA VICTOR","TC","PR"]
[3452,"MFC8388","EPIDEMIOLOGIA CLINICA",3,202330,6,6,0,0,0,{"$f":"+BD_DEP[[#This Row],[totalp]]/BD_DEP[[#This Row],[Mat Inicial]]","v":0},{"$f":"+BD_DEP[[#This Row],[totalr]]/BD_DEP[[#This Row],[Mat Inicial]]","v":0},{"$f":"+BD_DEP[[#This Row],[repi]]/BD_DEP[[#This Row],[Mat Inicial]]","v":0},"35","Dpto. Salud Pública",92641325,"FLOREZ GARCIA VICTOR","TC","PR"]
[3437,"MFC7020","EPIDEMIOLOGIA GENERAL",3,202330,19,19,1,0,1,{"$f":"+BD_DEP[[#This Row],[totalp]]/BD_DEP[[#This Row],[Mat Inicial]]","v":5.2631578947368418E-2},{"$f":"+BD_DEP[[#This Row],[totalr]]/BD_DEP[[#This Row],[Mat Inicial]]","v":0},{"$f":"+BD_DEP[[#This Row],[repi]]/BD_DEP[[#This Row],[Mat Inicial]]","v":5.2631578947368418E-2},"35","Dpto. Salud Pública",32633919,"Peñuela Epalza Martha","TC","PR"]
[3436,"MFC7020","EPIDEMIOLOGIA GENERAL",2,202330,30,30,0,0,0,{"$f":"+BD_DEP[[#This Row],[totalp]]/BD_DEP[[#This Row],[Mat Inicial]]","v":0},{"$f":"+BD_DEP[[#This Row],[totalr]]/BD_DEP[[#This Row],[Mat Inicial]]","v":0},{"$f":"+BD_DEP[[#This Row],[repi]]/BD_DEP[[#This Row],[Mat Inicial]]","v":0},"35","Dpto. Salud Pública",32745818,"Acosta Vergara Tania","TC","PR"]
[3435,"MFC7020","EPIDEMIOLOGIA GENERAL",1,202330,30,30,0,0,0,{"$f":"+BD_DEP[[#This Row],[totalp]]/BD_DEP[[#This Row],[Mat Inicial]]","v":0},{"$f":"+BD_DEP[[#This Row],[totalr]]/BD_DEP[[#This Row],[Mat Inicial]]","v":0},{"$f":"+BD_DEP[[#This Row],[repi]]/BD_DEP[[#This Row],[Mat Inicial]]","v":0},"35","Dpto. Salud Pública",71316101,"Acosta Reyes Jorge","TC","PR"]
[3441,"MFC8386","FAMILIA, SOCIEDAD Y SALUD",4,202330,40,40,0,0,0,{"$f":"+BD_DEP[[#This Row],[totalp]]/BD_DEP[[#This Row],[Mat Inicial]]","v":0},{"$f":"+BD_DEP[[#This Row],[totalr]]/BD_DEP[[#This Row],[Mat Inicial]]","v":0},{"$f":"+BD_DEP[[#This Row],[repi]]/BD_DEP[[#This Row],[Mat Inicial]]","v":0},"35","Dpto. Salud Pública",8703200,"Tuesca Molina Rafael","TC","PR"]
[3439,"MFC8386","FAMILIA, SOCIEDAD Y SALUD",2,202330,30,30,0,0,0,{"$f":"+BD_DEP[[#This Row],[totalp]]/BD_DEP[[#This Row],[Mat Inicial]]","v":0},{"$f":"+BD_DEP[[#This Row],[totalr]]/BD_DEP[[#This Row],[Mat Inicial]]","v":0},{"$f":"+BD_DEP[[#This Row],[repi]]/BD_DEP[[#This Row],[Mat Inicial]]","v":0},"35","Dpto. Salud Pública",32681741,"Alonso Palacio Luz","TC","PR"]
[3440,"MFC8386","FAMILIA, SOCIEDAD Y SALUD",3,202330,30,30,1,0,1,{"$f":"+BD_DEP[[#This Row],[totalp]]/BD_DEP[[#This Row],[Mat Inicial]]","v":3.3333333333333333E-2},{"$f":"+BD_DEP[[#This Row],[totalr]]/BD_DEP[[#This Row],[Mat Inicial]]","v":0},{"$f":"+BD_DEP[[#This Row],[repi]]/BD_DEP[[#This Row],[Mat Inicial]]","v":3.3333333333333333E-2},"35","Dpto. Salud Pública",32681741,"Alonso Palacio Luz","TC","PR"]
[3398,"INV0003","INVESTIGACIÓN EN SALUD",1,202330,18,18,0,0,0,{"$f":"+BD_DEP[[#This Row],[totalp]]/BD_DEP[[#This Row],[Mat Inicial]]","v":0},{"$f":"+BD_DEP[[#This Row],[totalr]]/BD_DEP[[#This Row],[Mat Inicial]]","v":0},{"$f":"+BD_DEP[[#This Row],[repi]]/BD_DEP[[#This Row],[Mat Inicial]]","v":0},"35","Dpto. Salud Pública",506645,"EXPOSITO CONCEPCION MARIA","TC","PR"]
[3430,"MFC0002","PROMOC. DE LA SALUD Y PREV.(T)",1,202330,35,35,1,0,1,{"$f":"+BD_DEP[[#This Row],[totalp]]/BD_DEP[[#This Row],[Mat Inicial]]","v":2.8571428571428571E-2},{"$f":"+BD_DEP[[#This Row],[totalr]]/BD_DEP[[#This Row],[Mat Inicial]]","v":0},{"$f":"+BD_DEP[[#This Row],[repi]]/BD_DEP[[#This Row],[Mat Inicial]]","v":2.8571428571428571E-2},"35","Dpto. Salud Pública",32605666,"Rios Garcia Ana","TC","PR"]
[3431,"MFC0002","PROMOC. DE LA SALUD Y PREV.(T)",2,202330,35,35,0,0,0,{"$f":"+BD_DEP[[#This Row],[totalp]]/BD_DEP[[#This Row],[Mat Inicial]]","v":0},{"$f":"+BD_DEP[[#This Row],[totalr]]/BD_DEP[[#This Row],[Mat Inicial]]","v":0},{"$f":"+BD_DEP[[#This Row],[repi]]/BD_DEP[[#This Row],[Mat Inicial]]","v":0},"35","Dpto. Salud Pública",32605666,"Rios Garcia Ana","TC","PR"]
[3432,"MFC0002","PROMOC. DE LA SALUD Y PREV.(T)",3,202330,24,23,0,1,1,{"$f":"+BD_DEP[[#This Row],[totalp]]/BD_DEP[[#This Row],[Mat Inicial]]","v":0},{"$f":"+BD_DEP[[#This Row],[totalr]]/BD_DEP[[#This Row],[Mat Inicial]]","v":4.1666666666666664E-2},{"$f":"+BD_DEP[[#This Row],[repi]]/BD_DEP[[#This Row],[Mat Inicial]]","v":4.1666666666666664E-2},"35","Dpto. Salud Pública",32605666,"Rios Garcia Ana","TC","PR"]
[3433,"MFC0002","PROMOC. DE LA SALUD Y PREV.(T)",4,202330,31,31,0,0,0,{"$f":"+BD_DEP[[#This Row],[totalp]]/BD_DEP[[#This Row],[Mat Inicial]]","v":0},{"$f":"+BD_DEP[[#This Row],[totalr]]/BD_DEP[[#This Row],[Mat Inicial]]","v":0},{"$f":"+BD_DEP[[#This Row],[repi]]/BD_DEP[[#This Row],[Mat Inicial]]","v":0},"35","Dpto. Salud Pública",32605666,"Rios Garcia Ana","TC","PR"]
[3402,"INV7550","PROYECTO DE GRADO I",3,202330,27,27,0,0,0,{"$f":"+BD_DEP[[#This Row],[totalp]]/BD_DEP[[#This Row],[Mat Inicial]]","v":0},{"$f":"+BD_DEP[[#This Row],[totalr]]/BD_DEP[[#This Row],[Mat Inicial]]","v":0},{"$f":"+BD_DEP[[#This Row],[repi]]/BD_DEP[[#This Row],[Mat Inicial]]","v":0},"35","Dpto. Salud Pública",32633919,"Peñuela Epalza Martha","TC","PR"]
[3406,"INV7560","PROYECTO DE GRADO II",3,202330,25,25,0,0,0,{"$f":"+BD_DEP[[#This Row],[totalp]]/BD_DEP[[#This Row],[Mat Inicial]]","v":0},{"$f":"+BD_DEP[[#This Row],[totalr]]/BD_DEP[[#This Row],[Mat Inicial]]","v":0},{"$f":"+BD_DEP[[#This Row],[repi]]/BD_DEP[[#This Row],[Mat Inicial]]","v":0},"35","Dpto. Salud Pública",32633919,"Peñuela Epalza Martha","TC","PR"]
[3405,"INV7560","PROYECTO DE GRADO II",2,202330,35,35,0,0,0,{"$f":"+BD_DEP[[#This Row],[totalp]]/BD_DEP[[#This Row],[Mat Inicial]]","v":0},{"$f":"+BD_DEP[[#This Row],[totalr]]/BD_DEP[[#This Row],[Mat Inicial]]","v":0},{"$f":"+BD_DEP[[#This Row],[repi]]/BD_DEP[[#This Row],[Mat Inicial]]","v":0},"35","Dpto. Salud Pública",32745818,"Acosta Vergara Tania","TC","PR"]
[3404,"INV7560","PROYECTO DE GRADO II",1,202330,29,29,0,0,0,{"$f":"+BD_DEP[[#This Row],[totalp]]/BD_DEP[[#This Row],[Mat Inicial]]","v":0},{"$f":"+BD_DEP[[#This Row],[totalr]]/BD_DEP[[#This Row],[Mat Inicial]]","v":0},{"$f":"+BD_DEP[[#This Row],[repi]]/BD_DEP[[#This Row],[Mat Inicial]]","v":0},"35","Dpto. Salud Pública",72135497,"Navarro Lechuga Edgar","TC","PR"]
[3407,"INV7560","PROYECTO DE GRADO II",4,202330,25,25,1,0,1,{"$f":"+BD_DEP[[#This Row],[totalp]]/BD_DEP[[#This Row],[Mat Inicial]]","v":0.04},{"$f":"+BD_DEP[[#This Row],[totalr]]/BD_DEP[[#This Row],[Mat Inicial]]","v":0},{"$f":"+BD_DEP[[#This Row],[repi]]/BD_DEP[[#This Row],[Mat Inicial]]","v":0.04},"35","Dpto. Salud Pública",1045682385,"Rodriguez Zabala Javier","TC","PR"]
[2724,"MFC4050","SALUD BASADA EN LA EVIDENCIA",1,202330,30,30,0,0,0,{"$f":"+BD_DEP[[#This Row],[totalp]]/BD_DEP[[#This Row],[Mat Inicial]]","v":0},{"$f":"+BD_DEP[[#This Row],[totalr]]/BD_DEP[[#This Row],[Mat Inicial]]","v":0},{"$f":"+BD_DEP[[#This Row],[repi]]/BD_DEP[[#This Row],[Mat Inicial]]","v":0},"35","Dpto. Salud Pública",71316101,"Acosta Reyes Jorge","TC","PR"]
[2725,"MFC4050","SALUD BASADA EN LA EVIDENCIA",2,202330,30,30,0,0,0,{"$f":"+BD_DEP[[#This Row],[totalp]]/BD_DEP[[#This Row],[Mat Inicial]]","v":0},{"$f":"+BD_DEP[[#This Row],[totalr]]/BD_DEP[[#This Row],[Mat Inicial]]","v":0},{"$f":"+BD_DEP[[#This Row],[repi]]/BD_DEP[[#This Row],[Mat Inicial]]","v":0},"35","Dpto. Salud Pública",72135497,"Navarro Lechuga Edgar","TC","PR"]
[1564,"CSV0060","SALUD GLOBAL",1,202330,21,19,1,2,3,{"$f":"+BD_DEP[[#This Row],[totalp]]/BD_DEP[[#This Row],[Mat Inicial]]","v":4.7619047619047616E-2},{"$f":"+BD_DEP[[#This Row],[totalr]]/BD_DEP[[#This Row],[Mat Inicial]]","v":9.5238095238095233E-2},{"$f":"+BD_DEP[[#This Row],[repi]]/BD_DEP[[#This Row],[Mat Inicial]]","v":0.14285714285714285},"35","Dpto. Salud Pública",8703200,"Tuesca Molina Rafael","TC","PR"]
[3399,"INV0004","TRABAJO DE GRADO",1,202330,11,11,0,0,0,{"$f":"+BD_DEP[[#This Row],[totalp]]/BD_DEP[[#This Row],[Mat Inicial]]","v":0},{"$f":"+BD_DEP[[#This Row],[totalr]]/BD_DEP[[#This Row],[Mat Inicial]]","v":0},{"$f":"+BD_DEP[[#This Row],[repi]]/BD_DEP[[#This Row],[Mat Inicial]]","v":0},"35","Dpto. Salud Pública",506645,"EXPOSITO CONCEPCION MARIA","TC","PR"]
[3442,"MFC8386","FAMILIA, SOCIEDAD Y SALUD",5,202330,31,31,0,0,0,{"$f":"+BD_DEP[[#This Row],[totalp]]/BD_DEP[[#This Row],[Mat Inicial]]","v":0},{"$f":"+BD_DEP[[#This Row],[totalr]]/BD_DEP[[#This Row],[Mat Inicial]]","v":0},{"$f":"+BD_DEP[[#This Row],[repi]]/BD_DEP[[#This Row],[Mat Inicial]]","v":0},"35","Dpto. Salud Pública",1044425156,"Cano Barrios Allison","MT","PR"]
[3444,"MFC8387","PROM SALUD Y PREVENCION ENF",1,202330,5,5,0,0,0,{"$f":"+BD_DEP[[#This Row],[totalp]]/BD_DEP[[#This Row],[Mat Inicial]]","v":0},{"$f":"+BD_DEP[[#This Row],[totalr]]/BD_DEP[[#This Row],[Mat Inicial]]","v":0},{"$f":"+BD_DEP[[#This Row],[repi]]/BD_DEP[[#This Row],[Mat Inicial]]","v":0},"35","Dpto. Salud Pública",1044425156,"Cano Barrios Allison","MT","PR"]
[3445,"MFC8387","PROM SALUD Y PREVENCION ENF",2,202330,5,5,0,0,0,{"$f":"+BD_DEP[[#This Row],[totalp]]/BD_DEP[[#This Row],[Mat Inicial]]","v":0},{"$f":"+BD_DEP[[#This Row],[totalr]]/BD_DEP[[#This Row],[Mat Inicial]]","v":0},{"$f":"+BD_DEP[[#This Row],[repi]]/BD_DEP[[#This Row],[Mat Inicial]]","v":0},"35","Dpto. Salud Pública",1044425156,"Cano Barrios Allison","MT","PR"]
[3446,"MFC8387","PROM SALUD Y PREVENCION ENF",3,202330,6,6,0,0,0,{"$f":"+BD_DEP[[#This Row],[totalp]]/BD_DEP[[#This Row],[Mat Inicial]]","v":0},{"$f":"+BD_DEP[[#This Row],[totalr]]/BD_DEP[[#This Row],[Mat Inicial]]","v":0},{"$f":"+BD_DEP[[#This Row],[repi]]/BD_DEP[[#This Row],[Mat Inicial]]","v":0},"35","Dpto. Salud Pública",1044425156,"Cano Barrios Allison","MT","PR"]
[3447,"MFC8387","PROM SALUD Y PREVENCION ENF",5,202330,5,5,0,0,0,{"$f":"+BD_DEP[[#This Row],[totalp]]/BD_DEP[[#This Row],[Mat Inicial]]","v":0},{"$f":"+BD_DEP[[#This Row],[totalr]]/BD_DEP[[#This Row],[Mat Inicial]]","v":0},{"$f":"+BD_DEP[[#This Row],[repi]]/BD_DEP[[#This Row],[Mat Inicial]]","v":0},"35","Dpto. Salud Pública",1044425156,"Cano Barrios Allison","MT","PR"]
[3448,"MFC8387","PROM SALUD Y PREVENCION ENF",6,202330,6,6,0,0,0,{"$f":"+BD_DEP[[#This Row],[totalp]]/BD_DEP[[#This Row],[Mat Inicial]]","v":0},{"$f":"+BD_DEP[[#This Row],[totalr]]/BD_DEP[[#This Row],[Mat Inicial]]","v":0},{"$f":"+BD_DEP[[#This Row],[repi]]/BD_DEP[[#This Row],[Mat Inicial]]","v":0},"35","Dpto. Salud Pública",1044425156,"Cano Barrios Allison","MT","PR"]
[3449,"MFC8387","PROM SALUD Y PREVENCION ENF",7,202330,5,5,0,0,0,{"$f":"+BD_DEP[[#This Row],[totalp]]/BD_DEP[[#This Row],[Mat Inicial]]","v":0},{"$f":"+BD_DEP[[#This Row],[totalr]]/BD_DEP[[#This Row],[Mat Inicial]]","v":0},{"$f":"+BD_DEP[[#This Row],[repi]]/BD_DEP[[#This Row],[Mat Inicial]]","v":0},"35","Dpto. Salud Pública",1044425156,"Cano Barrios Allison","MT","PR"]
[3135,"SPB4000","SALUD BASADA EN EVIDENCIA",1,202330,25,25,1,0,1,{"$f":"+BD_DEP[[#This Row],[totalp]]/BD_DEP[[#This Row],[Mat Inicial]]","v":0.04},{"$f":"+BD_DEP[[#This Row],[totalr]]/BD_DEP[[#This Row],[Mat Inicial]]","v":0},{"$f":"+BD_DEP[[#This Row],[repi]]/BD_DEP[[#This Row],[Mat Inicial]]","v":0.04},"36","Dpto. Salud Pública",22479314,"Casas Anillo Yojaima","MT","PR"]
[3386,"EST4020","BIOESTADISTICA",2,202330,24,24,0,0,0,{"$f":"+BD_DEP[[#This Row],[totalp]]/BD_DEP[[#This Row],[Mat Inicial]]","v":0},{"$f":"+BD_DEP[[#This Row],[totalr]]/BD_DEP[[#This Row],[Mat Inicial]]","v":0},{"$f":"+BD_DEP[[#This Row],[repi]]/BD_DEP[[#This Row],[Mat Inicial]]","v":0},"35","Dpto. Salud Pública",1042435556,"Camargo Freile Isaac","CA","PR"]
[3385,"EST4020","BIOESTADISTICA",1,202330,31,31,1,0,1,{"$f":"+BD_DEP[[#This Row],[totalp]]/BD_DEP[[#This Row],[Mat Inicial]]","v":3.2258064516129031E-2},{"$f":"+BD_DEP[[#This Row],[totalr]]/BD_DEP[[#This Row],[Mat Inicial]]","v":0},{"$f":"+BD_DEP[[#This Row],[repi]]/BD_DEP[[#This Row],[Mat Inicial]]","v":3.2258064516129031E-2},"35","Dpto. Salud Pública",1143134978,"Anillo Arrieta Luis","CA","PR"]
[3434,"MFC4075","EPIDEMIOLOGIA GENERAL (ODO)",1,202330,20,20,0,0,0,{"$f":"+BD_DEP[[#This Row],[totalp]]/BD_DEP[[#This Row],[Mat Inicial]]","v":0},{"$f":"+BD_DEP[[#This Row],[totalr]]/BD_DEP[[#This Row],[Mat Inicial]]","v":0},{"$f":"+BD_DEP[[#This Row],[repi]]/BD_DEP[[#This Row],[Mat Inicial]]","v":0},"35","Dpto. Salud Pública",72251881,"Vargas Moranth Rusvelt","CA","PR"]
[1265,"ADM7210","INT A LA GERENCIA EN SALUD",1,202330,33,33,0,0,0,{"$f":"+BD_DEP[[#This Row],[totalp]]/BD_DEP[[#This Row],[Mat Inicial]]","v":0},{"$f":"+BD_DEP[[#This Row],[totalr]]/BD_DEP[[#This Row],[Mat Inicial]]","v":0},{"$f":"+BD_DEP[[#This Row],[repi]]/BD_DEP[[#This Row],[Mat Inicial]]","v":0},"35","Dpto. Salud Pública",8742360,"Salcedo Salgado Juan","CA","PR"]
[1266,"ADM7210","INT A LA GERENCIA EN SALUD",2,202330,40,40,0,0,0,{"$f":"+BD_DEP[[#This Row],[totalp]]/BD_DEP[[#This Row],[Mat Inicial]]","v":0},{"$f":"+BD_DEP[[#This Row],[totalr]]/BD_DEP[[#This Row],[Mat Inicial]]","v":0},{"$f":"+BD_DEP[[#This Row],[repi]]/BD_DEP[[#This Row],[Mat Inicial]]","v":0},"35","Dpto. Salud Pública",26695385,"CHIQUILLO GOMEZ SYLENA","CA","PR"]
[1267,"ADM7210","INT A LA GERENCIA EN SALUD",3,202330,30,30,0,0,0,{"$f":"+BD_DEP[[#This Row],[totalp]]/BD_DEP[[#This Row],[Mat Inicial]]","v":0},{"$f":"+BD_DEP[[#This Row],[totalr]]/BD_DEP[[#This Row],[Mat Inicial]]","v":0},{"$f":"+BD_DEP[[#This Row],[repi]]/BD_DEP[[#This Row],[Mat Inicial]]","v":0},"35","Dpto. Salud Pública",72200496,"Mendoza Charris Humberto","CA","PR"]
[1264,"ADM5255","INTROD  GERENCIA EN SALUD (OD)",1,202330,21,21,0,0,0,{"$f":"+BD_DEP[[#This Row],[totalp]]/BD_DEP[[#This Row],[Mat Inicial]]","v":0},{"$f":"+BD_DEP[[#This Row],[totalr]]/BD_DEP[[#This Row],[Mat Inicial]]","v":0},{"$f":"+BD_DEP[[#This Row],[repi]]/BD_DEP[[#This Row],[Mat Inicial]]","v":0},"35","Dpto. Salud Pública",8742360,"Salcedo Salgado Juan","CA","PR"]
[3411,"MFC0001","LAB. PROM. DE LA SALUD Y PREV.",5,202330,6,6,0,0,0,{"$f":"+BD_DEP[[#This Row],[totalp]]/BD_DEP[[#This Row],[Mat Inicial]]","v":0},{"$f":"+BD_DEP[[#This Row],[totalr]]/BD_DEP[[#This Row],[Mat Inicial]]","v":0},{"$f":"+BD_DEP[[#This Row],[repi]]/BD_DEP[[#This Row],[Mat Inicial]]","v":0},"35","Dpto. Salud Pública",8724174,"BROWN MORALES FERNANDO","CA","PR"]
[3415,"MFC0001","LAB. PROM. DE LA SALUD Y PREV.",10,202330,6,6,0,0,0,{"$f":"+BD_DEP[[#This Row],[totalp]]/BD_DEP[[#This Row],[Mat Inicial]]","v":0},{"$f":"+BD_DEP[[#This Row],[totalr]]/BD_DEP[[#This Row],[Mat Inicial]]","v":0},{"$f":"+BD_DEP[[#This Row],[repi]]/BD_DEP[[#This Row],[Mat Inicial]]","v":0},"35","Dpto. Salud Pública",8724174,"BROWN MORALES FERNANDO","CA","PR"]
[3420,"MFC0001","LAB. PROM. DE LA SALUD Y PREV.",16,202330,6,6,0,0,0,{"$f":"+BD_DEP[[#This Row],[totalp]]/BD_DEP[[#This Row],[Mat Inicial]]","v":0},{"$f":"+BD_DEP[[#This Row],[totalr]]/BD_DEP[[#This Row],[Mat Inicial]]","v":0},{"$f":"+BD_DEP[[#This Row],[repi]]/BD_DEP[[#This Row],[Mat Inicial]]","v":0},"35","Dpto. Salud Pública",8724174,"BROWN MORALES FERNANDO","CA","PR"]
[3424,"MFC0001","LAB. PROM. DE LA SALUD Y PREV.",22,202330,6,6,0,0,0,{"$f":"+BD_DEP[[#This Row],[totalp]]/BD_DEP[[#This Row],[Mat Inicial]]","v":0},{"$f":"+BD_DEP[[#This Row],[totalr]]/BD_DEP[[#This Row],[Mat Inicial]]","v":0},{"$f":"+BD_DEP[[#This Row],[repi]]/BD_DEP[[#This Row],[Mat Inicial]]","v":0},"35","Dpto. Salud Pública",8724174,"BROWN MORALES FERNANDO","CA","PR"]
[3412,"MFC0001","LAB. PROM. DE LA SALUD Y PREV.",6,202330,6,6,0,0,0,{"$f":"+BD_DEP[[#This Row],[totalp]]/BD_DEP[[#This Row],[Mat Inicial]]","v":0},{"$f":"+BD_DEP[[#This Row],[totalr]]/BD_DEP[[#This Row],[Mat Inicial]]","v":0},{"$f":"+BD_DEP[[#This Row],[repi]]/BD_DEP[[#This Row],[Mat Inicial]]","v":0},"35","Dpto. Salud Pública",26695385,"CHIQUILLO GOMEZ SYLENA","CA","PR"]
[3423,"MFC0001","LAB. PROM. DE LA SALUD Y PREV.",20,202330,6,6,0,0,0,{"$f":"+BD_DEP[[#This Row],[totalp]]/BD_DEP[[#This Row],[Mat Inicial]]","v":0},{"$f":"+BD_DEP[[#This Row],[totalr]]/BD_DEP[[#This Row],[Mat Inicial]]","v":0},{"$f":"+BD_DEP[[#This Row],[repi]]/BD_DEP[[#This Row],[Mat Inicial]]","v":0},"35","Dpto. Salud Pública",26695385,"CHIQUILLO GOMEZ SYLENA","CA","PR"]
[3425,"MFC0001","LAB. PROM. DE LA SALUD Y PREV.",23,202330,6,6,0,0,0,{"$f":"+BD_DEP[[#This Row],[totalp]]/BD_DEP[[#This Row],[Mat Inicial]]","v":0},{"$f":"+BD_DEP[[#This Row],[totalr]]/BD_DEP[[#This Row],[Mat Inicial]]","v":0},{"$f":"+BD_DEP[[#This Row],[repi]]/BD_DEP[[#This Row],[Mat Inicial]]","v":0},"35","Dpto. Salud Pública",26695385,"CHIQUILLO GOMEZ SYLENA","CA","PR"]
[3414,"MFC0001","LAB. PROM. DE LA SALUD Y PREV.",9,202330,6,6,0,0,0,{"$f":"+BD_DEP[[#This Row],[totalp]]/BD_DEP[[#This Row],[Mat Inicial]]","v":0},{"$f":"+BD_DEP[[#This Row],[totalr]]/BD_DEP[[#This Row],[Mat Inicial]]","v":0},{"$f":"+BD_DEP[[#This Row],[repi]]/BD_DEP[[#This Row],[Mat Inicial]]","v":0},"35","Dpto. Salud Pública",32689436,"Donado Mercado Anabell","CA","PR"]
[3409,"MFC0001","LAB. PROM. DE LA SALUD Y PREV.",2,202330,6,6,0,0,0,{"$f":"+BD_DEP[[#This Row],[totalp]]/BD_DEP[[#This Row],[Mat Inicial]]","v":0},{"$f":"+BD_DEP[[#This Row],[totalr]]/BD_DEP[[#This Row],[Mat Inicial]]","v":0},{"$f":"+BD_DEP[[#This Row],[repi]]/BD_DEP[[#This Row],[Mat Inicial]]","v":0},"35","Dpto. Salud Pública",32713633,"Silvera Arenas Sandra","CA","PR"]
[3413,"MFC0001","LAB. PROM. DE LA SALUD Y PREV.",8,202330,6,6,0,0,0,{"$f":"+BD_DEP[[#This Row],[totalp]]/BD_DEP[[#This Row],[Mat Inicial]]","v":0},{"$f":"+BD_DEP[[#This Row],[totalr]]/BD_DEP[[#This Row],[Mat Inicial]]","v":0},{"$f":"+BD_DEP[[#This Row],[repi]]/BD_DEP[[#This Row],[Mat Inicial]]","v":0},"35","Dpto. Salud Pública",32713633,"Silvera Arenas Sandra","CA","PR"]
[3421,"MFC0001","LAB. PROM. DE LA SALUD Y PREV.",17,202330,6,5,0,1,1,{"$f":"+BD_DEP[[#This Row],[totalp]]/BD_DEP[[#This Row],[Mat Inicial]]","v":0},{"$f":"+BD_DEP[[#This Row],[totalr]]/BD_DEP[[#This Row],[Mat Inicial]]","v":0.16666666666666666},{"$f":"+BD_DEP[[#This Row],[repi]]/BD_DEP[[#This Row],[Mat Inicial]]","v":0.16666666666666666},"35","Dpto. Salud Pública",32713633,"Silvera Arenas Sandra","CA","PR"]
[3426,"MFC0001","LAB. PROM. DE LA SALUD Y PREV.",24,202330,6,6,0,0,0,{"$f":"+BD_DEP[[#This Row],[totalp]]/BD_DEP[[#This Row],[Mat Inicial]]","v":0},{"$f":"+BD_DEP[[#This Row],[totalr]]/BD_DEP[[#This Row],[Mat Inicial]]","v":0},{"$f":"+BD_DEP[[#This Row],[repi]]/BD_DEP[[#This Row],[Mat Inicial]]","v":0},"35","Dpto. Salud Pública",32713633,"Silvera Arenas Sandra","CA","PR"]
[3416,"MFC0001","LAB. PROM. DE LA SALUD Y PREV.",11,202330,6,6,0,0,0,{"$f":"+BD_DEP[[#This Row],[totalp]]/BD_DEP[[#This Row],[Mat Inicial]]","v":0},{"$f":"+BD_DEP[[#This Row],[totalr]]/BD_DEP[[#This Row],[Mat Inicial]]","v":0},{"$f":"+BD_DEP[[#This Row],[repi]]/BD_DEP[[#This Row],[Mat Inicial]]","v":0},"35","Dpto. Salud Pública",32909008,"Gutierrez Castilla Aury","CA","PR"]
[3427,"MFC0001","LAB. PROM. DE LA SALUD Y PREV.",26,202330,6,6,1,0,1,{"$f":"+BD_DEP[[#This Row],[totalp]]/BD_DEP[[#This Row],[Mat Inicial]]","v":0.16666666666666666},{"$f":"+BD_DEP[[#This Row],[totalr]]/BD_DEP[[#This Row],[Mat Inicial]]","v":0},{"$f":"+BD_DEP[[#This Row],[repi]]/BD_DEP[[#This Row],[Mat Inicial]]","v":0.16666666666666666},"35","Dpto. Salud Pública",32909008,"Gutierrez Castilla Aury","CA","PR"]
[3410,"MFC0001","LAB. PROM. DE LA SALUD Y PREV.",3,202330,6,6,0,0,0,{"$f":"+BD_DEP[[#This Row],[totalp]]/BD_DEP[[#This Row],[Mat Inicial]]","v":0},{"$f":"+BD_DEP[[#This Row],[totalr]]/BD_DEP[[#This Row],[Mat Inicial]]","v":0},{"$f":"+BD_DEP[[#This Row],[repi]]/BD_DEP[[#This Row],[Mat Inicial]]","v":0},"35","Dpto. Salud Pública",73201716,"Viola Teheran Alberto","CA","PR"]
[3418,"MFC0001","LAB. PROM. DE LA SALUD Y PREV.",14,202330,6,6,0,0,0,{"$f":"+BD_DEP[[#This Row],[totalp]]/BD_DEP[[#This Row],[Mat Inicial]]","v":0},{"$f":"+BD_DEP[[#This Row],[totalr]]/BD_DEP[[#This Row],[Mat Inicial]]","v":0},{"$f":"+BD_DEP[[#This Row],[repi]]/BD_DEP[[#This Row],[Mat Inicial]]","v":0},"35","Dpto. Salud Pública",73201716,"Viola Teheran Alberto","CA","PR"]
[3429,"MFC0001","LAB. PROM. DE LA SALUD Y PREV.",28,202330,6,6,0,0,0,{"$f":"+BD_DEP[[#This Row],[totalp]]/BD_DEP[[#This Row],[Mat Inicial]]","v":0},{"$f":"+BD_DEP[[#This Row],[totalr]]/BD_DEP[[#This Row],[Mat Inicial]]","v":0},{"$f":"+BD_DEP[[#This Row],[repi]]/BD_DEP[[#This Row],[Mat Inicial]]","v":0},"35","Dpto. Salud Pública",73201716,"Viola Teheran Alberto","CA","PR"]
[3417,"MFC0001","LAB. PROM. DE LA SALUD Y PREV.",13,202330,6,6,0,0,0,{"$f":"+BD_DEP[[#This Row],[totalp]]/BD_DEP[[#This Row],[Mat Inicial]]","v":0},{"$f":"+BD_DEP[[#This Row],[totalr]]/BD_DEP[[#This Row],[Mat Inicial]]","v":0},{"$f":"+BD_DEP[[#This Row],[repi]]/BD_DEP[[#This Row],[Mat Inicial]]","v":0},"35","Dpto. Salud Pública",1128046104,"De La Rosa Moreno Sandra","CA","PR"]
[3428,"MFC0001","LAB. PROM. DE LA SALUD Y PREV.",27,202330,3,3,0,0,0,{"$f":"+BD_DEP[[#This Row],[totalp]]/BD_DEP[[#This Row],[Mat Inicial]]","v":0},{"$f":"+BD_DEP[[#This Row],[totalr]]/BD_DEP[[#This Row],[Mat Inicial]]","v":0},{"$f":"+BD_DEP[[#This Row],[repi]]/BD_DEP[[#This Row],[Mat Inicial]]","v":0},"35","Dpto. Salud Pública",1128046104,"De La Rosa Moreno Sandra","CA","PR"]
[3408,"MFC0001","LAB. PROM. DE LA SALUD Y PREV.",1,202330,6,6,0,0,0,{"$f":"+BD_DEP[[#This Row],[totalp]]/BD_DEP[[#This Row],[Mat Inicial]]","v":0},{"$f":"+BD_DEP[[#This Row],[totalr]]/BD_DEP[[#This Row],[Mat Inicial]]","v":0},{"$f":"+BD_DEP[[#This Row],[repi]]/BD_DEP[[#This Row],[Mat Inicial]]","v":0},"35","Dpto. Salud Pública",1129571633,"Garcia Ferrer Karen","CA","PR"]
[3419,"MFC0001","LAB. PROM. DE LA SALUD Y PREV.",15,202330,6,6,0,0,0,{"$f":"+BD_DEP[[#This Row],[totalp]]/BD_DEP[[#This Row],[Mat Inicial]]","v":0},{"$f":"+BD_DEP[[#This Row],[totalr]]/BD_DEP[[#This Row],[Mat Inicial]]","v":0},{"$f":"+BD_DEP[[#This Row],[repi]]/BD_DEP[[#This Row],[Mat Inicial]]","v":0},"35","Dpto. Salud Pública",1129571633,"Garcia Ferrer Karen","CA","PR"]
[3403,"INV7550","PROYECTO DE GRADO I",4,202330,25,25,0,0,0,{"$f":"+BD_DEP[[#This Row],[totalp]]/BD_DEP[[#This Row],[Mat Inicial]]","v":0},{"$f":"+BD_DEP[[#This Row],[totalr]]/BD_DEP[[#This Row],[Mat Inicial]]","v":0},{"$f":"+BD_DEP[[#This Row],[repi]]/BD_DEP[[#This Row],[Mat Inicial]]","v":0},"35","Dpto. Salud Pública",72251881,"Vargas Moranth Rusvelt","CA","PR"]
[3401,"INV7550","PROYECTO DE GRADO I",2,202330,35,35,0,0,0,{"$f":"+BD_DEP[[#This Row],[totalp]]/BD_DEP[[#This Row],[Mat Inicial]]","v":0},{"$f":"+BD_DEP[[#This Row],[totalr]]/BD_DEP[[#This Row],[Mat Inicial]]","v":0},{"$f":"+BD_DEP[[#This Row],[repi]]/BD_DEP[[#This Row],[Mat Inicial]]","v":0},"35","Dpto. Salud Pública",1140871953,"Nieto Castillo Julieth","CA","PR"]
[3400,"INV7550","PROYECTO DE GRADO I",1,202330,34,34,0,0,0,{"$f":"+BD_DEP[[#This Row],[totalp]]/BD_DEP[[#This Row],[Mat Inicial]]","v":0},{"$f":"+BD_DEP[[#This Row],[totalr]]/BD_DEP[[#This Row],[Mat Inicial]]","v":0},{"$f":"+BD_DEP[[#This Row],[repi]]/BD_DEP[[#This Row],[Mat Inicial]]","v":0},"35","Dpto. Salud Pública",1140872349,"Russi Pulgar Daniela","CA","PR"]
[3131,"SOP7050","SALUD OCUPACIONAL",1,202330,36,36,1,0,1,{"$f":"+BD_DEP[[#This Row],[totalp]]/BD_DEP[[#This Row],[Mat Inicial]]","v":2.7777777777777776E-2},{"$f":"+BD_DEP[[#This Row],[totalr]]/BD_DEP[[#This Row],[Mat Inicial]]","v":0},{"$f":"+BD_DEP[[#This Row],[repi]]/BD_DEP[[#This Row],[Mat Inicial]]","v":2.7777777777777776E-2},"35","Dpto. Salud Pública",22669096,"Lechuga Lechuga Marianela","CA","PR"]
[3132,"SOP7050","SALUD OCUPACIONAL",2,202330,30,30,0,0,0,{"$f":"+BD_DEP[[#This Row],[totalp]]/BD_DEP[[#This Row],[Mat Inicial]]","v":0},{"$f":"+BD_DEP[[#This Row],[totalr]]/BD_DEP[[#This Row],[Mat Inicial]]","v":0},{"$f":"+BD_DEP[[#This Row],[repi]]/BD_DEP[[#This Row],[Mat Inicial]]","v":0},"35","Dpto. Salud Pública",22669096,"Lechuga Lechuga Marianela","CA","PR"]
[3133,"SOP7050","SALUD OCUPACIONAL",3,202330,40,40,0,0,0,{"$f":"+BD_DEP[[#This Row],[totalp]]/BD_DEP[[#This Row],[Mat Inicial]]","v":0},{"$f":"+BD_DEP[[#This Row],[totalr]]/BD_DEP[[#This Row],[Mat Inicial]]","v":0},{"$f":"+BD_DEP[[#This Row],[repi]]/BD_DEP[[#This Row],[Mat Inicial]]","v":0},"35","Dpto. Salud Pública",22669096,"Lechuga Lechuga Marianela","CA","PR"]
[3134,"SOP7050","SALUD OCUPACIONAL",4,202330,26,26,0,0,0,{"$f":"+BD_DEP[[#This Row],[totalp]]/BD_DEP[[#This Row],[Mat Inicial]]","v":0},{"$f":"+BD_DEP[[#This Row],[totalr]]/BD_DEP[[#This Row],[Mat Inicial]]","v":0},{"$f":"+BD_DEP[[#This Row],[repi]]/BD_DEP[[#This Row],[Mat Inicial]]","v":0},"35","Dpto. Salud Pública",22669096,"Lechuga Lechuga Marianela","CA","PR"]
[2179,"IEL7010","ANALISIS SISTEMAS DE POTENCIA",1,202330,23,22,0,1,1,{"$f":"+BD_DEP[[#This Row],[totalp]]/BD_DEP[[#This Row],[Mat Inicial]]","v":0},{"$f":"+BD_DEP[[#This Row],[totalr]]/BD_DEP[[#This Row],[Mat Inicial]]","v":4.3478260869565216E-2},{"$f":"+BD_DEP[[#This Row],[repi]]/BD_DEP[[#This Row],[Mat Inicial]]","v":4.3478260869565216E-2},"20","Dpto.Ing Eléctrica-Electrónica",1053769777,"Arango Manrique Adriana","TC","PR"]
[2225,"IEN8515","ANTENAS Y RADIOENLACES",1,202330,16,16,0,0,0,{"$f":"+BD_DEP[[#This Row],[totalp]]/BD_DEP[[#This Row],[Mat Inicial]]","v":0},{"$f":"+BD_DEP[[#This Row],[totalr]]/BD_DEP[[#This Row],[Mat Inicial]]","v":0},{"$f":"+BD_DEP[[#This Row],[repi]]/BD_DEP[[#This Row],[Mat Inicial]]","v":0},"20","Dpto.Ing Eléctrica-Electrónica",72146487,"Ripoll Solano Lacides","TC","PR"]
[2223,"IEN8512","CCNA 1",1,202330,12,12,0,0,0,{"$f":"+BD_DEP[[#This Row],[totalp]]/BD_DEP[[#This Row],[Mat Inicial]]","v":0},{"$f":"+BD_DEP[[#This Row],[totalr]]/BD_DEP[[#This Row],[Mat Inicial]]","v":0},{"$f":"+BD_DEP[[#This Row],[repi]]/BD_DEP[[#This Row],[Mat Inicial]]","v":0},"20","Dpto.Ing Eléctrica-Electrónica",7563331,"Cardona Peña Jairo","TC","PR"]
[2224,"IEN8512","CCNA 1",2,202330,12,12,0,0,0,{"$f":"+BD_DEP[[#This Row],[totalp]]/BD_DEP[[#This Row],[Mat Inicial]]","v":0},{"$f":"+BD_DEP[[#This Row],[totalr]]/BD_DEP[[#This Row],[Mat Inicial]]","v":0},{"$f":"+BD_DEP[[#This Row],[repi]]/BD_DEP[[#This Row],[Mat Inicial]]","v":0},"20","Dpto.Ing Eléctrica-Electrónica",7563331,"Cardona Peña Jairo","TC","PR"]
[2158,"IEL1011","CIRCUITOS I",4,202330,19,17,0,2,2,{"$f":"+BD_DEP[[#This Row],[totalp]]/BD_DEP[[#This Row],[Mat Inicial]]","v":0},{"$f":"+BD_DEP[[#This Row],[totalr]]/BD_DEP[[#This Row],[Mat Inicial]]","v":0.10526315789473684},{"$f":"+BD_DEP[[#This Row],[repi]]/BD_DEP[[#This Row],[Mat Inicial]]","v":0.10526315789473684},"20","Dpto.Ing Eléctrica-Electrónica",22523401,"Narducci Marin Margarita","TC","PR"]
[2155,"IEL1011","CIRCUITOS I",1,202330,18,16,2,2,4,{"$f":"+BD_DEP[[#This Row],[totalp]]/BD_DEP[[#This Row],[Mat Inicial]]","v":0.1111111111111111},{"$f":"+BD_DEP[[#This Row],[totalr]]/BD_DEP[[#This Row],[Mat Inicial]]","v":0.1111111111111111},{"$f":"+BD_DEP[[#This Row],[repi]]/BD_DEP[[#This Row],[Mat Inicial]]","v":0.22222222222222221},"20","Dpto.Ing Eléctrica-Electrónica",32728194,"Oliveros Pantoja Ingrid","TC","PR"]
[2156,"IEL1011","CIRCUITOS I",2,202330,18,16,0,2,2,{"$f":"+BD_DEP[[#This Row],[totalp]]/BD_DEP[[#This Row],[Mat Inicial]]","v":0},{"$f":"+BD_DEP[[#This Row],[totalr]]/BD_DEP[[#This Row],[Mat Inicial]]","v":0.1111111111111111},{"$f":"+BD_DEP[[#This Row],[repi]]/BD_DEP[[#This Row],[Mat Inicial]]","v":0.1111111111111111},"20","Dpto.Ing Eléctrica-Electrónica",32728194,"Oliveros Pantoja Ingrid","TC","PR"]
[2157,"IEL1011","CIRCUITOS I",3,202330,14,12,0,2,2,{"$f":"+BD_DEP[[#This Row],[totalp]]/BD_DEP[[#This Row],[Mat Inicial]]","v":0},{"$f":"+BD_DEP[[#This Row],[totalr]]/BD_DEP[[#This Row],[Mat Inicial]]","v":0.14285714285714285},{"$f":"+BD_DEP[[#This Row],[repi]]/BD_DEP[[#This Row],[Mat Inicial]]","v":0.14285714285714285},"20","Dpto.Ing Eléctrica-Electrónica",72004288,"Torres Herrera Luis","TC","PR"]
[2159,"IEL1021","CIRCUITOS II",1,202330,14,13,0,1,1,{"$f":"+BD_DEP[[#This Row],[totalp]]/BD_DEP[[#This Row],[Mat Inicial]]","v":0},{"$f":"+BD_DEP[[#This Row],[totalr]]/BD_DEP[[#This Row],[Mat Inicial]]","v":7.1428571428571425E-2},{"$f":"+BD_DEP[[#This Row],[repi]]/BD_DEP[[#This Row],[Mat Inicial]]","v":7.1428571428571425E-2},"20","Dpto.Ing Eléctrica-Electrónica",71380717,"RESTREPO RESTREPO MAURICIO","TC","PR"]
[2161,"IEL1021","CIRCUITOS II",3,202330,15,12,1,3,4,{"$f":"+BD_DEP[[#This Row],[totalp]]/BD_DEP[[#This Row],[Mat Inicial]]","v":6.6666666666666666E-2},{"$f":"+BD_DEP[[#This Row],[totalr]]/BD_DEP[[#This Row],[Mat Inicial]]","v":0.2},{"$f":"+BD_DEP[[#This Row],[repi]]/BD_DEP[[#This Row],[Mat Inicial]]","v":0.26666666666666666},"20","Dpto.Ing Eléctrica-Electrónica",71380717,"RESTREPO RESTREPO MAURICIO","TC","PR"]
[2160,"IEL1021","CIRCUITOS II",2,202330,7,5,1,2,3,{"$f":"+BD_DEP[[#This Row],[totalp]]/BD_DEP[[#This Row],[Mat Inicial]]","v":0.14285714285714285},{"$f":"+BD_DEP[[#This Row],[totalr]]/BD_DEP[[#This Row],[Mat Inicial]]","v":0.2857142857142857},{"$f":"+BD_DEP[[#This Row],[repi]]/BD_DEP[[#This Row],[Mat Inicial]]","v":0.42857142857142855},"20","Dpto.Ing Eléctrica-Electrónica",72146487,"Ripoll Solano Lacides","TC","PR"]
[2206,"IEN7065","COMUNICACIONES",1,202330,12,12,0,0,0,{"$f":"+BD_DEP[[#This Row],[totalp]]/BD_DEP[[#This Row],[Mat Inicial]]","v":0},{"$f":"+BD_DEP[[#This Row],[totalr]]/BD_DEP[[#This Row],[Mat Inicial]]","v":0},{"$f":"+BD_DEP[[#This Row],[repi]]/BD_DEP[[#This Row],[Mat Inicial]]","v":0},"20","Dpto.Ing Eléctrica-Electrónica",98531283,"VELEZ DIAZ JUAN","TC","PR"]
[2207,"IEN7065","COMUNICACIONES",2,202330,15,15,0,0,0,{"$f":"+BD_DEP[[#This Row],[totalp]]/BD_DEP[[#This Row],[Mat Inicial]]","v":0},{"$f":"+BD_DEP[[#This Row],[totalr]]/BD_DEP[[#This Row],[Mat Inicial]]","v":0},{"$f":"+BD_DEP[[#This Row],[repi]]/BD_DEP[[#This Row],[Mat Inicial]]","v":0},"20","Dpto.Ing Eléctrica-Electrónica",98531283,"VELEZ DIAZ JUAN","TC","PR"]
[2172,"IEL4045","CONTROL AUTOMÁTICO",1,202330,10,10,0,0,0,{"$f":"+BD_DEP[[#This Row],[totalp]]/BD_DEP[[#This Row],[Mat Inicial]]","v":0},{"$f":"+BD_DEP[[#This Row],[totalr]]/BD_DEP[[#This Row],[Mat Inicial]]","v":0},{"$f":"+BD_DEP[[#This Row],[repi]]/BD_DEP[[#This Row],[Mat Inicial]]","v":0},"20","Dpto.Ing Eléctrica-Electrónica",13541106,"Quintero Monroy Christian","TC","PR"]
[2173,"IEL4045","CONTROL AUTOMÁTICO",2,202330,19,19,1,0,1,{"$f":"+BD_DEP[[#This Row],[totalp]]/BD_DEP[[#This Row],[Mat Inicial]]","v":5.2631578947368418E-2},{"$f":"+BD_DEP[[#This Row],[totalr]]/BD_DEP[[#This Row],[Mat Inicial]]","v":0},{"$f":"+BD_DEP[[#This Row],[repi]]/BD_DEP[[#This Row],[Mat Inicial]]","v":5.2631578947368418E-2},"20","Dpto.Ing Eléctrica-Electrónica",13541106,"Quintero Monroy Christian","TC","PR"]
[2174,"IEL4045","CONTROL AUTOMÁTICO",3,202330,23,23,0,0,0,{"$f":"+BD_DEP[[#This Row],[totalp]]/BD_DEP[[#This Row],[Mat Inicial]]","v":0},{"$f":"+BD_DEP[[#This Row],[totalr]]/BD_DEP[[#This Row],[Mat Inicial]]","v":0},{"$f":"+BD_DEP[[#This Row],[repi]]/BD_DEP[[#This Row],[Mat Inicial]]","v":0},"20","Dpto.Ing Eléctrica-Electrónica",13541106,"Quintero Monroy Christian","TC","PR"]
[2208,"IEN7123","DISEÑO ELECTRÓNICO",1,202330,14,14,0,0,0,{"$f":"+BD_DEP[[#This Row],[totalp]]/BD_DEP[[#This Row],[Mat Inicial]]","v":0},{"$f":"+BD_DEP[[#This Row],[totalr]]/BD_DEP[[#This Row],[Mat Inicial]]","v":0},{"$f":"+BD_DEP[[#This Row],[repi]]/BD_DEP[[#This Row],[Mat Inicial]]","v":0},"20","Dpto.Ing Eléctrica-Electrónica",72242162,"Gomez Ceron Diego","TC","PR"]
[2209,"IEN7123","DISEÑO ELECTRÓNICO",2,202330,13,13,0,0,0,{"$f":"+BD_DEP[[#This Row],[totalp]]/BD_DEP[[#This Row],[Mat Inicial]]","v":0},{"$f":"+BD_DEP[[#This Row],[totalr]]/BD_DEP[[#This Row],[Mat Inicial]]","v":0},{"$f":"+BD_DEP[[#This Row],[repi]]/BD_DEP[[#This Row],[Mat Inicial]]","v":0},"20","Dpto.Ing Eléctrica-Electrónica",72242162,"Gomez Ceron Diego","TC","PR"]
[2210,"IEN7123","DISEÑO ELECTRÓNICO",3,202330,11,11,0,0,0,{"$f":"+BD_DEP[[#This Row],[totalp]]/BD_DEP[[#This Row],[Mat Inicial]]","v":0},{"$f":"+BD_DEP[[#This Row],[totalr]]/BD_DEP[[#This Row],[Mat Inicial]]","v":0},{"$f":"+BD_DEP[[#This Row],[repi]]/BD_DEP[[#This Row],[Mat Inicial]]","v":0},"20","Dpto.Ing Eléctrica-Electrónica",72242162,"Gomez Ceron Diego","TC","PR"]
[2214,"IEN7140","ELECTRONICA DE POTENCIA",1,202330,19,19,0,0,0,{"$f":"+BD_DEP[[#This Row],[totalp]]/BD_DEP[[#This Row],[Mat Inicial]]","v":0},{"$f":"+BD_DEP[[#This Row],[totalr]]/BD_DEP[[#This Row],[Mat Inicial]]","v":0},{"$f":"+BD_DEP[[#This Row],[repi]]/BD_DEP[[#This Row],[Mat Inicial]]","v":0},"20","Dpto.Ing Eléctrica-Electrónica",71380717,"RESTREPO RESTREPO MAURICIO","TC","PR"]
[2192,"IEN4020","ELECTRÓNICA I",2,202330,9,7,0,2,2,{"$f":"+BD_DEP[[#This Row],[totalp]]/BD_DEP[[#This Row],[Mat Inicial]]","v":0},{"$f":"+BD_DEP[[#This Row],[totalr]]/BD_DEP[[#This Row],[Mat Inicial]]","v":0.22222222222222221},{"$f":"+BD_DEP[[#This Row],[repi]]/BD_DEP[[#This Row],[Mat Inicial]]","v":0.22222222222222221},"20","Dpto.Ing Eléctrica-Electrónica",22523401,"Narducci Marin Margarita","TC","PR"]
[2193,"IEN4020","ELECTRÓNICA I",3,202330,13,12,0,1,1,{"$f":"+BD_DEP[[#This Row],[totalp]]/BD_DEP[[#This Row],[Mat Inicial]]","v":0},{"$f":"+BD_DEP[[#This Row],[totalr]]/BD_DEP[[#This Row],[Mat Inicial]]","v":7.6923076923076927E-2},{"$f":"+BD_DEP[[#This Row],[repi]]/BD_DEP[[#This Row],[Mat Inicial]]","v":7.6923076923076927E-2},"20","Dpto.Ing Eléctrica-Electrónica",22523401,"Narducci Marin Margarita","TC","PR"]
[2191,"IEN4020","ELECTRÓNICA I",1,202330,13,9,0,4,4,{"$f":"+BD_DEP[[#This Row],[totalp]]/BD_DEP[[#This Row],[Mat Inicial]]","v":0},{"$f":"+BD_DEP[[#This Row],[totalr]]/BD_DEP[[#This Row],[Mat Inicial]]","v":0.30769230769230771},{"$f":"+BD_DEP[[#This Row],[repi]]/BD_DEP[[#This Row],[Mat Inicial]]","v":0.30769230769230771},"20","Dpto.Ing Eléctrica-Electrónica",72004288,"Torres Herrera Luis","TC","PR"]
[2194,"IEN4030","ELECTRONICA II",1,202330,22,19,1,3,4,{"$f":"+BD_DEP[[#This Row],[totalp]]/BD_DEP[[#This Row],[Mat Inicial]]","v":4.5454545454545456E-2},{"$f":"+BD_DEP[[#This Row],[totalr]]/BD_DEP[[#This Row],[Mat Inicial]]","v":0.13636363636363635},{"$f":"+BD_DEP[[#This Row],[repi]]/BD_DEP[[#This Row],[Mat Inicial]]","v":0.18181818181818182},"20","Dpto.Ing Eléctrica-Electrónica",72007964,"PARDO GONZALEZ MAURICIO","TC","PR"]
[2218,"IEN7220","ELECTRONICA III",1,202330,15,14,0,1,1,{"$f":"+BD_DEP[[#This Row],[totalp]]/BD_DEP[[#This Row],[Mat Inicial]]","v":0},{"$f":"+BD_DEP[[#This Row],[totalr]]/BD_DEP[[#This Row],[Mat Inicial]]","v":6.6666666666666666E-2},{"$f":"+BD_DEP[[#This Row],[repi]]/BD_DEP[[#This Row],[Mat Inicial]]","v":6.6666666666666666E-2},"20","Dpto.Ing Eléctrica-Electrónica",72007964,"PARDO GONZALEZ MAURICIO","TC","PR"]
[2219,"IEN7220","ELECTRONICA III",2,202330,16,16,0,0,0,{"$f":"+BD_DEP[[#This Row],[totalp]]/BD_DEP[[#This Row],[Mat Inicial]]","v":0},{"$f":"+BD_DEP[[#This Row],[totalr]]/BD_DEP[[#This Row],[Mat Inicial]]","v":0},{"$f":"+BD_DEP[[#This Row],[repi]]/BD_DEP[[#This Row],[Mat Inicial]]","v":0},"20","Dpto.Ing Eléctrica-Electrónica",72007964,"PARDO GONZALEZ MAURICIO","TC","PR"]
[2181,"IEL7070","ELEMENTOS SISTEMAS DE POTENCIA",1,202330,17,16,0,1,1,{"$f":"+BD_DEP[[#This Row],[totalp]]/BD_DEP[[#This Row],[Mat Inicial]]","v":0},{"$f":"+BD_DEP[[#This Row],[totalr]]/BD_DEP[[#This Row],[Mat Inicial]]","v":5.8823529411764705E-2},{"$f":"+BD_DEP[[#This Row],[repi]]/BD_DEP[[#This Row],[Mat Inicial]]","v":5.8823529411764705E-2},"20","Dpto.Ing Eléctrica-Electrónica",32728194,"Oliveros Pantoja Ingrid","TC","PR"]
[1562,"CSV0050","ENERGIA MEDIO AMBIENTE Y SOC",3,202330,23,22,0,1,1,{"$f":"+BD_DEP[[#This Row],[totalp]]/BD_DEP[[#This Row],[Mat Inicial]]","v":0},{"$f":"+BD_DEP[[#This Row],[totalr]]/BD_DEP[[#This Row],[Mat Inicial]]","v":4.3478260869565216E-2},{"$f":"+BD_DEP[[#This Row],[repi]]/BD_DEP[[#This Row],[Mat Inicial]]","v":4.3478260869565216E-2},"20","Dpto.Ing Eléctrica-Electrónica",72126881,"Soto Ortiz Jose","TC","PR"]
[4291,"CSV0050","ENERGIA MEDIO AMBIENTE Y SOC",1,202330,20,20,0,0,0,{"$f":"+BD_DEP[[#This Row],[totalp]]/BD_DEP[[#This Row],[Mat Inicial]]","v":0},{"$f":"+BD_DEP[[#This Row],[totalr]]/BD_DEP[[#This Row],[Mat Inicial]]","v":0},{"$f":"+BD_DEP[[#This Row],[repi]]/BD_DEP[[#This Row],[Mat Inicial]]","v":0},"20","Dpto.Ing Eléctrica-Electrónica",72152468,"Espitia Pantoja Gustavo","TC","PR"]
[4292,"CSV0050","ENERGIA MEDIO AMBIENTE Y SOC",2,202330,21,20,0,1,1,{"$f":"+BD_DEP[[#This Row],[totalp]]/BD_DEP[[#This Row],[Mat Inicial]]","v":0},{"$f":"+BD_DEP[[#This Row],[totalr]]/BD_DEP[[#This Row],[Mat Inicial]]","v":4.7619047619047616E-2},{"$f":"+BD_DEP[[#This Row],[repi]]/BD_DEP[[#This Row],[Mat Inicial]]","v":4.7619047619047616E-2},"20","Dpto.Ing Eléctrica-Electrónica",72152468,"Espitia Pantoja Gustavo","TC","PR"]
[2203,"IEN4150","INSTALACIONES ELECTRICAS",1,202330,9,9,0,0,0,{"$f":"+BD_DEP[[#This Row],[totalp]]/BD_DEP[[#This Row],[Mat Inicial]]","v":0},{"$f":"+BD_DEP[[#This Row],[totalr]]/BD_DEP[[#This Row],[Mat Inicial]]","v":0},{"$f":"+BD_DEP[[#This Row],[repi]]/BD_DEP[[#This Row],[Mat Inicial]]","v":0},"20","Dpto.Ing Eléctrica-Electrónica",72126881,"Soto Ortiz Jose","TC","PR"]
[4352,"IEN0010","INT A LA ING. ELECTRONICA",1,202330,13,13,0,0,0,{"$f":"+BD_DEP[[#This Row],[totalp]]/BD_DEP[[#This Row],[Mat Inicial]]","v":0},{"$f":"+BD_DEP[[#This Row],[totalr]]/BD_DEP[[#This Row],[Mat Inicial]]","v":0},{"$f":"+BD_DEP[[#This Row],[repi]]/BD_DEP[[#This Row],[Mat Inicial]]","v":0},"20","Dpto.Ing Eléctrica-Electrónica",43579058,"Calle Torres Maria","TC","PR"]
[4351,"IEL0010","INT. A LA ING. ELECTRICA",1,202330,7,7,1,0,1,{"$f":"+BD_DEP[[#This Row],[totalp]]/BD_DEP[[#This Row],[Mat Inicial]]","v":0.14285714285714285},{"$f":"+BD_DEP[[#This Row],[totalr]]/BD_DEP[[#This Row],[Mat Inicial]]","v":0},{"$f":"+BD_DEP[[#This Row],[repi]]/BD_DEP[[#This Row],[Mat Inicial]]","v":0.14285714285714285},"20","Dpto.Ing Eléctrica-Electrónica",72152468,"Espitia Pantoja Gustavo","TC","PR"]
[2186,"IEL7250","LINEAS Y REDES DE TRANSMISION",1,202330,18,15,7,3,10,{"$f":"+BD_DEP[[#This Row],[totalp]]/BD_DEP[[#This Row],[Mat Inicial]]","v":0.3888888888888889},{"$f":"+BD_DEP[[#This Row],[totalr]]/BD_DEP[[#This Row],[Mat Inicial]]","v":0.16666666666666666},{"$f":"+BD_DEP[[#This Row],[repi]]/BD_DEP[[#This Row],[Mat Inicial]]","v":0.55555555555555558},"20","Dpto.Ing Eléctrica-Electrónica",75102780,"PULGARIN RIVERA JUAN","TC","PR"]
[2187,"IEL7250","LINEAS Y REDES DE TRANSMISION",2,202330,19,15,0,4,4,{"$f":"+BD_DEP[[#This Row],[totalp]]/BD_DEP[[#This Row],[Mat Inicial]]","v":0},{"$f":"+BD_DEP[[#This Row],[totalr]]/BD_DEP[[#This Row],[Mat Inicial]]","v":0.21052631578947367},{"$f":"+BD_DEP[[#This Row],[repi]]/BD_DEP[[#This Row],[Mat Inicial]]","v":0.21052631578947367},"20","Dpto.Ing Eléctrica-Electrónica",75102780,"PULGARIN RIVERA JUAN","TC","PR"]
[2201,"IEN4120","LOGICA DIGITAL",1,202330,20,17,0,3,3,{"$f":"+BD_DEP[[#This Row],[totalp]]/BD_DEP[[#This Row],[Mat Inicial]]","v":0},{"$f":"+BD_DEP[[#This Row],[totalr]]/BD_DEP[[#This Row],[Mat Inicial]]","v":0.15},{"$f":"+BD_DEP[[#This Row],[repi]]/BD_DEP[[#This Row],[Mat Inicial]]","v":0.15},"20","Dpto.Ing Eléctrica-Electrónica",72357560,"Viloria Nuñez Cesar","TC","PR"]
[2202,"IEN4120","LOGICA DIGITAL",2,202330,22,21,0,1,1,{"$f":"+BD_DEP[[#This Row],[totalp]]/BD_DEP[[#This Row],[Mat Inicial]]","v":0},{"$f":"+BD_DEP[[#This Row],[totalr]]/BD_DEP[[#This Row],[Mat Inicial]]","v":4.5454545454545456E-2},{"$f":"+BD_DEP[[#This Row],[repi]]/BD_DEP[[#This Row],[Mat Inicial]]","v":4.5454545454545456E-2},"20","Dpto.Ing Eléctrica-Electrónica",72357560,"Viloria Nuñez Cesar","TC","PR"]
[2164,"IEL4005","MAQUINAS ELECTRICAS",2,202330,10,8,1,2,3,{"$f":"+BD_DEP[[#This Row],[totalp]]/BD_DEP[[#This Row],[Mat Inicial]]","v":0.1},{"$f":"+BD_DEP[[#This Row],[totalr]]/BD_DEP[[#This Row],[Mat Inicial]]","v":0.2},{"$f":"+BD_DEP[[#This Row],[repi]]/BD_DEP[[#This Row],[Mat Inicial]]","v":0.3},"20","Dpto.Ing Eléctrica-Electrónica",72152468,"Espitia Pantoja Gustavo","TC","PR"]
[2168,"IEL4011","MAQUINAS ELECTRICAS",1,202330,6,6,0,0,0,{"$f":"+BD_DEP[[#This Row],[totalp]]/BD_DEP[[#This Row],[Mat Inicial]]","v":0},{"$f":"+BD_DEP[[#This Row],[totalr]]/BD_DEP[[#This Row],[Mat Inicial]]","v":0},{"$f":"+BD_DEP[[#This Row],[repi]]/BD_DEP[[#This Row],[Mat Inicial]]","v":0},"20","Dpto.Ing Eléctrica-Electrónica",1088246461,"OROZCO HENAO CESAR","TC","PR"]
[2169,"IEL4011","MAQUINAS ELECTRICAS",2,202330,6,6,0,0,0,{"$f":"+BD_DEP[[#This Row],[totalp]]/BD_DEP[[#This Row],[Mat Inicial]]","v":0},{"$f":"+BD_DEP[[#This Row],[totalr]]/BD_DEP[[#This Row],[Mat Inicial]]","v":0},{"$f":"+BD_DEP[[#This Row],[repi]]/BD_DEP[[#This Row],[Mat Inicial]]","v":0},"20","Dpto.Ing Eléctrica-Electrónica",1140822697,"Racines Hidalgo Diana","TC","PR"]
[2170,"IEL4011","MAQUINAS ELECTRICAS",3,202330,7,7,0,0,0,{"$f":"+BD_DEP[[#This Row],[totalp]]/BD_DEP[[#This Row],[Mat Inicial]]","v":0},{"$f":"+BD_DEP[[#This Row],[totalr]]/BD_DEP[[#This Row],[Mat Inicial]]","v":0},{"$f":"+BD_DEP[[#This Row],[repi]]/BD_DEP[[#This Row],[Mat Inicial]]","v":0},"20","Dpto.Ing Eléctrica-Electrónica",1140822697,"Racines Hidalgo Diana","TC","PR"]
[2165,"IEL4010","MAQUINAS ELECTRICAS I",1,202330,9,7,0,2,2,{"$f":"+BD_DEP[[#This Row],[totalp]]/BD_DEP[[#This Row],[Mat Inicial]]","v":0},{"$f":"+BD_DEP[[#This Row],[totalr]]/BD_DEP[[#This Row],[Mat Inicial]]","v":0.22222222222222221},{"$f":"+BD_DEP[[#This Row],[repi]]/BD_DEP[[#This Row],[Mat Inicial]]","v":0.22222222222222221},"20","Dpto.Ing Eléctrica-Electrónica",1088246461,"OROZCO HENAO CESAR","TC","PR"]
[2166,"IEL4010","MAQUINAS ELECTRICAS I",2,202330,9,9,0,0,0,{"$f":"+BD_DEP[[#This Row],[totalp]]/BD_DEP[[#This Row],[Mat Inicial]]","v":0},{"$f":"+BD_DEP[[#This Row],[totalr]]/BD_DEP[[#This Row],[Mat Inicial]]","v":0},{"$f":"+BD_DEP[[#This Row],[repi]]/BD_DEP[[#This Row],[Mat Inicial]]","v":0},"20","Dpto.Ing Eléctrica-Electrónica",1140822697,"Racines Hidalgo Diana","TC","PR"]
[2167,"IEL4010","MAQUINAS ELECTRICAS I",3,202330,8,8,0,0,0,{"$f":"+BD_DEP[[#This Row],[totalp]]/BD_DEP[[#This Row],[Mat Inicial]]","v":0},{"$f":"+BD_DEP[[#This Row],[totalr]]/BD_DEP[[#This Row],[Mat Inicial]]","v":0},{"$f":"+BD_DEP[[#This Row],[repi]]/BD_DEP[[#This Row],[Mat Inicial]]","v":0},"20","Dpto.Ing Eléctrica-Electrónica",1140822697,"Racines Hidalgo Diana","TC","PR"]
[2171,"IEL4020","MAQUINAS ELECTRICAS II",1,202330,11,9,1,2,3,{"$f":"+BD_DEP[[#This Row],[totalp]]/BD_DEP[[#This Row],[Mat Inicial]]","v":9.0909090909090912E-2},{"$f":"+BD_DEP[[#This Row],[totalr]]/BD_DEP[[#This Row],[Mat Inicial]]","v":0.18181818181818182},{"$f":"+BD_DEP[[#This Row],[repi]]/BD_DEP[[#This Row],[Mat Inicial]]","v":0.27272727272727271},"20","Dpto.Ing Eléctrica-Electrónica",75102780,"PULGARIN RIVERA JUAN","TC","PR"]
[2189,"IEL8435","MEDICIONES E INTRUMENTACION",1,202330,20,18,2,2,4,{"$f":"+BD_DEP[[#This Row],[totalp]]/BD_DEP[[#This Row],[Mat Inicial]]","v":0.1},{"$f":"+BD_DEP[[#This Row],[totalr]]/BD_DEP[[#This Row],[Mat Inicial]]","v":0.1},{"$f":"+BD_DEP[[#This Row],[repi]]/BD_DEP[[#This Row],[Mat Inicial]]","v":0.2},"20","Dpto.Ing Eléctrica-Electrónica",72004288,"Torres Herrera Luis","TC","PR"]
[2190,"IEL8435","MEDICIONES E INTRUMENTACION",2,202330,22,22,2,0,2,{"$f":"+BD_DEP[[#This Row],[totalp]]/BD_DEP[[#This Row],[Mat Inicial]]","v":9.0909090909090912E-2},{"$f":"+BD_DEP[[#This Row],[totalr]]/BD_DEP[[#This Row],[Mat Inicial]]","v":0},{"$f":"+BD_DEP[[#This Row],[repi]]/BD_DEP[[#This Row],[Mat Inicial]]","v":9.0909090909090912E-2},"20","Dpto.Ing Eléctrica-Electrónica",72004288,"Torres Herrera Luis","TC","PR"]
[2216,"IEN7211","MEDIOS DE TRANSMISIÓN",2,202330,14,13,0,1,1,{"$f":"+BD_DEP[[#This Row],[totalp]]/BD_DEP[[#This Row],[Mat Inicial]]","v":0},{"$f":"+BD_DEP[[#This Row],[totalr]]/BD_DEP[[#This Row],[Mat Inicial]]","v":7.1428571428571425E-2},{"$f":"+BD_DEP[[#This Row],[repi]]/BD_DEP[[#This Row],[Mat Inicial]]","v":7.1428571428571425E-2},"20","Dpto.Ing Eléctrica-Electrónica",72146487,"Ripoll Solano Lacides","TC","PR"]
[2217,"IEN7211","MEDIOS DE TRANSMISIÓN",3,202330,17,15,2,2,4,{"$f":"+BD_DEP[[#This Row],[totalp]]/BD_DEP[[#This Row],[Mat Inicial]]","v":0.11764705882352941},{"$f":"+BD_DEP[[#This Row],[totalr]]/BD_DEP[[#This Row],[Mat Inicial]]","v":0.11764705882352941},{"$f":"+BD_DEP[[#This Row],[repi]]/BD_DEP[[#This Row],[Mat Inicial]]","v":0.23529411764705882},"20","Dpto.Ing Eléctrica-Electrónica",72146487,"Ripoll Solano Lacides","TC","PR"]
[2212,"IEN7136","MICROCONTROLADORES",1,202330,21,21,1,0,1,{"$f":"+BD_DEP[[#This Row],[totalp]]/BD_DEP[[#This Row],[Mat Inicial]]","v":4.7619047619047616E-2},{"$f":"+BD_DEP[[#This Row],[totalr]]/BD_DEP[[#This Row],[Mat Inicial]]","v":0},{"$f":"+BD_DEP[[#This Row],[repi]]/BD_DEP[[#This Row],[Mat Inicial]]","v":4.7619047619047616E-2},"20","Dpto.Ing Eléctrica-Electrónica",55224143,"Rueda Delgado Diana","TC","PR"]
[2213,"IEN7136","MICROCONTROLADORES",2,202330,23,23,2,0,2,{"$f":"+BD_DEP[[#This Row],[totalp]]/BD_DEP[[#This Row],[Mat Inicial]]","v":8.6956521739130432E-2},{"$f":"+BD_DEP[[#This Row],[totalr]]/BD_DEP[[#This Row],[Mat Inicial]]","v":0},{"$f":"+BD_DEP[[#This Row],[repi]]/BD_DEP[[#This Row],[Mat Inicial]]","v":8.6956521739130432E-2},"20","Dpto.Ing Eléctrica-Electrónica",55224143,"Rueda Delgado Diana","TC","PR"]
[1157,"IEN7135","MICROPROCESADORES",2,202330,7,7,2,0,2,{"$f":"+BD_DEP[[#This Row],[totalp]]/BD_DEP[[#This Row],[Mat Inicial]]","v":0.2857142857142857},{"$f":"+BD_DEP[[#This Row],[totalr]]/BD_DEP[[#This Row],[Mat Inicial]]","v":0},{"$f":"+BD_DEP[[#This Row],[repi]]/BD_DEP[[#This Row],[Mat Inicial]]","v":0.2857142857142857},"20","Dpto.Ing Eléctrica-Electrónica",55224143,"Rueda Delgado Diana","TC","PR"]
[2211,"IEN7135","MICROPROCESADORES",1,202330,20,18,1,2,3,{"$f":"+BD_DEP[[#This Row],[totalp]]/BD_DEP[[#This Row],[Mat Inicial]]","v":0.05},{"$f":"+BD_DEP[[#This Row],[totalr]]/BD_DEP[[#This Row],[Mat Inicial]]","v":0.1},{"$f":"+BD_DEP[[#This Row],[repi]]/BD_DEP[[#This Row],[Mat Inicial]]","v":0.15},"20","Dpto.Ing Eléctrica-Electrónica",55224143,"Rueda Delgado Diana","TC","PR"]
[2182,"IEL7110","OPER. ECON. SIST. DE POTENCIA",1,202330,18,18,1,0,1,{"$f":"+BD_DEP[[#This Row],[totalp]]/BD_DEP[[#This Row],[Mat Inicial]]","v":5.5555555555555552E-2},{"$f":"+BD_DEP[[#This Row],[totalr]]/BD_DEP[[#This Row],[Mat Inicial]]","v":0},{"$f":"+BD_DEP[[#This Row],[repi]]/BD_DEP[[#This Row],[Mat Inicial]]","v":5.5555555555555552E-2},"20","Dpto.Ing Eléctrica-Electrónica",1053769777,"Arango Manrique Adriana","TC","PR"]
[2184,"IEL7240","PROTECCIONES ELECTRICAS",1,202330,13,11,1,2,3,{"$f":"+BD_DEP[[#This Row],[totalp]]/BD_DEP[[#This Row],[Mat Inicial]]","v":7.6923076923076927E-2},{"$f":"+BD_DEP[[#This Row],[totalr]]/BD_DEP[[#This Row],[Mat Inicial]]","v":0.15384615384615385},{"$f":"+BD_DEP[[#This Row],[repi]]/BD_DEP[[#This Row],[Mat Inicial]]","v":0.23076923076923078},"20","Dpto.Ing Eléctrica-Electrónica",1088246461,"OROZCO HENAO CESAR","TC","PR"]
[2185,"IEL7240","PROTECCIONES ELECTRICAS",2,202330,16,16,2,0,2,{"$f":"+BD_DEP[[#This Row],[totalp]]/BD_DEP[[#This Row],[Mat Inicial]]","v":0.125},{"$f":"+BD_DEP[[#This Row],[totalr]]/BD_DEP[[#This Row],[Mat Inicial]]","v":0},{"$f":"+BD_DEP[[#This Row],[repi]]/BD_DEP[[#This Row],[Mat Inicial]]","v":0.125},"20","Dpto.Ing Eléctrica-Electrónica",1088246461,"OROZCO HENAO CESAR","TC","PR"]
[2406,"INV7365","PROYECTO FINAL",1,202330,29,29,0,0,0,{"$f":"+BD_DEP[[#This Row],[totalp]]/BD_DEP[[#This Row],[Mat Inicial]]","v":0},{"$f":"+BD_DEP[[#This Row],[totalr]]/BD_DEP[[#This Row],[Mat Inicial]]","v":0},{"$f":"+BD_DEP[[#This Row],[repi]]/BD_DEP[[#This Row],[Mat Inicial]]","v":0},"20","Dpto.Ing Eléctrica-Electrónica",72007964,"PARDO GONZALEZ MAURICIO","TC","PR"]
[2162,"IEL1165","PROYECTO FINAL",1,202330,17,17,0,0,0,{"$f":"+BD_DEP[[#This Row],[totalp]]/BD_DEP[[#This Row],[Mat Inicial]]","v":0},{"$f":"+BD_DEP[[#This Row],[totalr]]/BD_DEP[[#This Row],[Mat Inicial]]","v":0},{"$f":"+BD_DEP[[#This Row],[repi]]/BD_DEP[[#This Row],[Mat Inicial]]","v":0},"20","Dpto.Ing Eléctrica-Electrónica",72126881,"Soto Ortiz Jose","TC","PR"]
[2405,"INV7364","PROYECTO FINAL",1,202330,4,4,0,0,0,{"$f":"+BD_DEP[[#This Row],[totalp]]/BD_DEP[[#This Row],[Mat Inicial]]","v":0},{"$f":"+BD_DEP[[#This Row],[totalr]]/BD_DEP[[#This Row],[Mat Inicial]]","v":0},{"$f":"+BD_DEP[[#This Row],[repi]]/BD_DEP[[#This Row],[Mat Inicial]]","v":0},"20","Dpto.Ing Eléctrica-Electrónica",72126881,"Soto Ortiz Jose","TC","PR"]
[2226,"IEN8557","REDES INALÁMBRICAS DE SENSORES",2,202330,12,11,1,1,2,{"$f":"+BD_DEP[[#This Row],[totalp]]/BD_DEP[[#This Row],[Mat Inicial]]","v":8.3333333333333329E-2},{"$f":"+BD_DEP[[#This Row],[totalr]]/BD_DEP[[#This Row],[Mat Inicial]]","v":8.3333333333333329E-2},{"$f":"+BD_DEP[[#This Row],[repi]]/BD_DEP[[#This Row],[Mat Inicial]]","v":0.16666666666666666},"20","Dpto.Ing Eléctrica-Electrónica",43579058,"Calle Torres Maria","TC","PR"]
[2196,"IEN4100","SEÑALES Y SISTEMAS",1,202330,24,23,6,1,7,{"$f":"+BD_DEP[[#This Row],[totalp]]/BD_DEP[[#This Row],[Mat Inicial]]","v":0.25},{"$f":"+BD_DEP[[#This Row],[totalr]]/BD_DEP[[#This Row],[Mat Inicial]]","v":4.1666666666666664E-2},{"$f":"+BD_DEP[[#This Row],[repi]]/BD_DEP[[#This Row],[Mat Inicial]]","v":0.29166666666666669},"20","Dpto.Ing Eléctrica-Electrónica",75078508,"Tello Portillo Juan","TC","PR"]
[2197,"IEN4100","SEÑALES Y SISTEMAS",2,202330,18,16,0,2,2,{"$f":"+BD_DEP[[#This Row],[totalp]]/BD_DEP[[#This Row],[Mat Inicial]]","v":0},{"$f":"+BD_DEP[[#This Row],[totalr]]/BD_DEP[[#This Row],[Mat Inicial]]","v":0.1111111111111111},{"$f":"+BD_DEP[[#This Row],[repi]]/BD_DEP[[#This Row],[Mat Inicial]]","v":0.1111111111111111},"20","Dpto.Ing Eléctrica-Electrónica",75078508,"Tello Portillo Juan","TC","PR"]
[2198,"IEN4100","SEÑALES Y SISTEMAS",3,202330,21,21,1,0,1,{"$f":"+BD_DEP[[#This Row],[totalp]]/BD_DEP[[#This Row],[Mat Inicial]]","v":4.7619047619047616E-2},{"$f":"+BD_DEP[[#This Row],[totalr]]/BD_DEP[[#This Row],[Mat Inicial]]","v":0},{"$f":"+BD_DEP[[#This Row],[repi]]/BD_DEP[[#This Row],[Mat Inicial]]","v":4.7619047619047616E-2},"20","Dpto.Ing Eléctrica-Electrónica",75078508,"Tello Portillo Juan","TC","PR"]
[2175,"IEL4145","SISTEMAS ELECTRONICOS",1,202330,13,12,0,1,1,{"$f":"+BD_DEP[[#This Row],[totalp]]/BD_DEP[[#This Row],[Mat Inicial]]","v":0},{"$f":"+BD_DEP[[#This Row],[totalr]]/BD_DEP[[#This Row],[Mat Inicial]]","v":7.6923076923076927E-2},{"$f":"+BD_DEP[[#This Row],[repi]]/BD_DEP[[#This Row],[Mat Inicial]]","v":7.6923076923076927E-2},"20","Dpto.Ing Eléctrica-Electrónica",72357560,"Viloria Nuñez Cesar","TC","PR"]
[6601,"IEL4155","SMART GRIDS",1,202330,20,20,1,0,1,{"$f":"+BD_DEP[[#This Row],[totalp]]/BD_DEP[[#This Row],[Mat Inicial]]","v":0.05},{"$f":"+BD_DEP[[#This Row],[totalr]]/BD_DEP[[#This Row],[Mat Inicial]]","v":0},{"$f":"+BD_DEP[[#This Row],[repi]]/BD_DEP[[#This Row],[Mat Inicial]]","v":0.05},"20","Dpto.Ing Eléctrica-Electrónica",72152468,"Espitia Pantoja Gustavo","TC","PR"]
[2183,"IEL7150","SUBESTACIONES ELECTRICAS",1,202330,25,24,3,1,4,{"$f":"+BD_DEP[[#This Row],[totalp]]/BD_DEP[[#This Row],[Mat Inicial]]","v":0.12},{"$f":"+BD_DEP[[#This Row],[totalr]]/BD_DEP[[#This Row],[Mat Inicial]]","v":0.04},{"$f":"+BD_DEP[[#This Row],[repi]]/BD_DEP[[#This Row],[Mat Inicial]]","v":0.16},"20","Dpto.Ing Eléctrica-Electrónica",75102780,"PULGARIN RIVERA JUAN","TC","PR"]
[2220,"IEN8430","TELEMATICA",1,202330,10,10,0,0,0,{"$f":"+BD_DEP[[#This Row],[totalp]]/BD_DEP[[#This Row],[Mat Inicial]]","v":0},{"$f":"+BD_DEP[[#This Row],[totalr]]/BD_DEP[[#This Row],[Mat Inicial]]","v":0},{"$f":"+BD_DEP[[#This Row],[repi]]/BD_DEP[[#This Row],[Mat Inicial]]","v":0},"20","Dpto.Ing Eléctrica-Electrónica",7563331,"Cardona Peña Jairo","TC","PR"]
[2221,"IEN8430","TELEMATICA",2,202330,10,10,0,0,0,{"$f":"+BD_DEP[[#This Row],[totalp]]/BD_DEP[[#This Row],[Mat Inicial]]","v":0},{"$f":"+BD_DEP[[#This Row],[totalr]]/BD_DEP[[#This Row],[Mat Inicial]]","v":0},{"$f":"+BD_DEP[[#This Row],[repi]]/BD_DEP[[#This Row],[Mat Inicial]]","v":0},"20","Dpto.Ing Eléctrica-Electrónica",7563331,"Cardona Peña Jairo","TC","PR"]
[2222,"IEN8430","TELEMATICA",3,202330,6,6,0,0,0,{"$f":"+BD_DEP[[#This Row],[totalp]]/BD_DEP[[#This Row],[Mat Inicial]]","v":0},{"$f":"+BD_DEP[[#This Row],[totalr]]/BD_DEP[[#This Row],[Mat Inicial]]","v":0},{"$f":"+BD_DEP[[#This Row],[repi]]/BD_DEP[[#This Row],[Mat Inicial]]","v":0},"20","Dpto.Ing Eléctrica-Electrónica",7563331,"Cardona Peña Jairo","TC","PR"]
[2188,"IEL8250","TEMAS ESPEC DE ING. ELECTRICA",1,202330,19,19,0,0,0,{"$f":"+BD_DEP[[#This Row],[totalp]]/BD_DEP[[#This Row],[Mat Inicial]]","v":0},{"$f":"+BD_DEP[[#This Row],[totalr]]/BD_DEP[[#This Row],[Mat Inicial]]","v":0},{"$f":"+BD_DEP[[#This Row],[repi]]/BD_DEP[[#This Row],[Mat Inicial]]","v":0},"20","Dpto.Ing Eléctrica-Electrónica",43579058,"Calle Torres Maria","TC","PR"]
[2153,"IDS0080","TIC INNOVACION Y DLLO SOCIEDAD",1,202330,83,83,0,0,0,{"$f":"+BD_DEP[[#This Row],[totalp]]/BD_DEP[[#This Row],[Mat Inicial]]","v":0},{"$f":"+BD_DEP[[#This Row],[totalr]]/BD_DEP[[#This Row],[Mat Inicial]]","v":0},{"$f":"+BD_DEP[[#This Row],[repi]]/BD_DEP[[#This Row],[Mat Inicial]]","v":0},"20","Dpto.Ing Eléctrica-Electrónica",72357560,"Viloria Nuñez Cesar","TC","PR"]
[2154,"IDS0080","TIC INNOVACION Y DLLO SOCIEDAD",2,202330,43,43,0,0,0,{"$f":"+BD_DEP[[#This Row],[totalp]]/BD_DEP[[#This Row],[Mat Inicial]]","v":0},{"$f":"+BD_DEP[[#This Row],[totalr]]/BD_DEP[[#This Row],[Mat Inicial]]","v":0},{"$f":"+BD_DEP[[#This Row],[repi]]/BD_DEP[[#This Row],[Mat Inicial]]","v":0},"20","Dpto.Ing Eléctrica-Electrónica",72357560,"Viloria Nuñez Cesar","TC","PR"]
[2379,"INV0151","VIP 2",2,202330,44,40,1,4,5,{"$f":"+BD_DEP[[#This Row],[totalp]]/BD_DEP[[#This Row],[Mat Inicial]]","v":2.2727272727272728E-2},{"$f":"+BD_DEP[[#This Row],[totalr]]/BD_DEP[[#This Row],[Mat Inicial]]","v":9.0909090909090912E-2},{"$f":"+BD_DEP[[#This Row],[repi]]/BD_DEP[[#This Row],[Mat Inicial]]","v":0.11363636363636363},"20","Dpto.Ing Eléctrica-Electrónica",72291764,"Niño Ruiz Elias","TC","PR"]
[2195,"IEN4095","INTROD. A LA ROBÓTICA MÓVIL",1,202330,15,12,1,3,4,{"$f":"+BD_DEP[[#This Row],[totalp]]/BD_DEP[[#This Row],[Mat Inicial]]","v":6.6666666666666666E-2},{"$f":"+BD_DEP[[#This Row],[totalr]]/BD_DEP[[#This Row],[Mat Inicial]]","v":0.2},{"$f":"+BD_DEP[[#This Row],[repi]]/BD_DEP[[#This Row],[Mat Inicial]]","v":0.26666666666666666},"20","Dpto.Ing Eléctrica-Electrónica",72258805,"Percybrooks Bolivar Winston","MT","PR"]
[6653,"IEN8430","TELEMATICA",4,202330,8,8,0,0,0,{"$f":"+BD_DEP[[#This Row],[totalp]]/BD_DEP[[#This Row],[Mat Inicial]]","v":0},{"$f":"+BD_DEP[[#This Row],[totalr]]/BD_DEP[[#This Row],[Mat Inicial]]","v":0},{"$f":"+BD_DEP[[#This Row],[repi]]/BD_DEP[[#This Row],[Mat Inicial]]","v":0},"20","Dpto.Ing Eléctrica-Electrónica",72277608,"Viñas Leguizamo Jesus","CA","PR"]
[null,null,null,null,null,{"$f":"SUBTOTAL(109,BD_DEP[Mat Inicial])","v":54724},{"$f":"SUBTOTAL(109,BD_DEP[totalm])","v":51877},{"$f":"SUBTOTAL(109,BD_DEP[totalp])","v":2846},{"$f":"SUBTOTAL(109,BD_DEP[totalr])","v":2847},{"$f":"SUBTOTAL(109,BD_DEP[repi])","v":5693}]

{"sheet":"Índice","index":2,"n_rows":29,"n_cols":9,"rows_kept":29,"cut":false,"hidden":false,"merged":[[4,2,6,8]]}
[]
[]
[]
[]
[null,null,"Índice"]
[]
[]
[]
[null,null,null,null,null,"Institucional"]
[]
[null,null,"Dpto. Arquitectura y Urbanismo",null,"Dpto. Emprendimiento y Management",null,"Dpto. Ingeniería de Sistemas",null,"Dpto. Música"]
[]
[null,null,"Dpto. Comunicación Social",null,"Dpto. Enfermería",null,"Dpto. Ingeniería Industrial",null,"Dpto. Odontología"]
[]
[null,null,"Dpto. Cs. Política y Rel. Internacionales",null,"Dpto. Español",null,"Dpto. Ingeniería Mecánica",null,"Dpto. Psicología"]
[]
[null,null,"Dpto. de Economía",null,"Dpto. Física y Geociencias",null,"Dpto. Lenguas Extranjeras",null,"Dpto. Química y Biología"]
[]
[null,null,"Dpto. Derecho",null,"Dpto. Historia y Ciencias Sociales",null,"Dpto. Matemáticas y Estadística",null,"Dpto. Finanzas y Contaduría"]
[]
[null,null,"Dpto. Diseño",null,"Dpto. Humanidades y Filosofía",null,"Dpto. Medicina",null,"Dpto. Salud Pública"]
[]
[null,null,"Dpto. Educación",null,"Dpto. Ingeniería Civil y Ambiental",null,"Dpto. Mercadeo y Negocios Internacionales",null,"Dpto. Ingeniería Eléctrica y Electrónica"]
[]
[]
[]
[]
[]
["Marzo 20 de 2019"]

{"sheet":"Rep_Inst","index":3,"n_rows":1151,"n_cols":15,"rows_kept":1151,"cut":false,"hidden":false,"merged":[[7,11,9,12],[11,11,14,12],[0,0,1,9],[1029,0,1029,10],[1030,0,1030,10],[2,0,2,9],[3,0,3,9]]}
["OFICINA DE PLANEACIÓN - INFORMACIÓN Y ESTADÍSTICA "]
[]
["Perdidos, Retirados y Repitencia de Asignaturas"]
[{"$f":"Planeación!A1","v":"2023-2"}]
["Codasg","Asignaturas","Total Cursos Abiertos","Matrícula Inicial","Matrícula Final","Perdidos","%  Perdidos","Retirados","% Retirados","% Repitencia"]
["PSI1300","TEND. Y AUTORES CONDUCTUALES",1,1,0,0,{"$f":"IFERROR(F6/E6,0)","v":0},1,{"$f":"H6/D6","v":1},{"$f":"(H6+F6)/D6","v":1}]
["MUS7538","RECITAL CLARINETE II",1,1,0,0,0,1,1,1]
["MUS7045","GUITARRA II",1,1,0,0,0,1,1,1,null,"Volver al Índice"]
["MUS4025","DEL CLASICISMO AL IMPRESIONISM",1,3,2,1,0.5,1,0.33333333333333331,0.66666666666666663]
["LEY4710","TEORIA DEL DERECHO PROCESAL",2,74,45,18,0.4,29,0.39189189189189189,0.63513513513513509]
["MUS4060","FUNDAMENTOS DE TEORIA",1,11,9,4,0.44444444444444442,2,0.18181818181818182,0.54545454545454541]
["PSI0055","PENSAMIENTO Y LENGUAJE",2,2,1,0,0,1,0.5,0.5,null,"Ir a Tabla de Repitencia >=30%"]
["ARQ4070","PROYECTO DE GRADO",1,2,2,1,0.5,0,0,0.5]
["IBA4070","ESTATICA PARA ARQUITECTOS",2,46,39,15,0.38461538461538464,7,0.15217391304347827,0.47826086956521741]
["ECA0065","MUSICA DE COLOMBIA Y DEL CAR",1,26,18,4,0.22222222222222221,8,0.30769230769230771,0.46153846153846156]
["IIN7050","CTRL Y GEST INT DE LA CALIDAD",8,113,86,25,0.29069767441860467,27,0.23893805309734514,0.46017699115044247]
["LEY1080","TEORIA Y ORG. DEL ESTADO",3,85,62,16,0.25806451612903225,23,0.27058823529411763,0.45882352941176469]
["MAT4160","ANALISIS MATEMATICO 1",1,27,18,3,0.16666666666666666,9,0.33333333333333331,0.44444444444444442]
["INV4270","PROYECTO DE GRADO II FILOSOFIA",1,7,6,2,0.33333333333333331,1,0.14285714285714285,0.42857142857142855]
["HIS7130","AMERICA  PREHISPANICA",2,75,50,7,0.14000000000000001,25,0.33333333333333331,0.42666666666666669]
["LEY4021","OBLIGACIONES II",3,84,77,28,0.36363636363636365,7,8.3333333333333329E-2,0.41666666666666669]
["ICI7104","ANÁLISIS ESTRUCTURAL",3,112,97,31,0.31958762886597936,15,0.13392857142857142,0.4107142857142857]
["IME7070","TERMODINAMICA II",2,44,28,2,7.1428571428571425E-2,16,0.36363636363636365,0.40909090909090912]
["IIN7105","SIMULACIÓN",4,109,99,34,0.34343434343434343,10,9.1743119266055051E-2,0.40366972477064222]
["ICI4021","DISEÑO DE VÍAS",2,77,68,22,0.3235294117647059,9,0.11688311688311688,0.40259740259740262]
["ECO8731","MICROECONOMIA I",1,28,19,2,0.10526315789473684,9,0.32142857142857145,0.39285714285714285]
["IEL7250","LINEAS Y REDES DE TRANSMISION",2,37,30,7,0.23333333333333334,7,0.1891891891891892,0.3783783783783784]
["IME1205","CIENCIA DE LOS MATERIALES",11,157,118,20,0.16949152542372881,39,0.24840764331210191,0.37579617834394907]
["EST4071","ANALISIS ESTADISTICO",1,16,10,0,0,6,0.375,0.375]
["IGL4890","EXIGENCIA  INGLES I",7,139,128,41,0.3203125,11,7.9136690647482008E-2,0.37410071942446044]
["ARQ4026","CONST III TECN AVANZ INDUST",1,22,19,5,0.26315789473684209,3,0.13636363636363635,0.36363636363636365]
["EST1062","ESTADISTICA MATEMATICAS",1,11,9,2,0.22222222222222221,2,0.18181818181818182,0.36363636363636365]
["IIN7061","INVESTIGACION DE OPERACIONES I",4,124,110,31,0.2818181818181818,14,0.11290322580645161,0.36290322580645162]
["IME7095","MODELOS DE SISTEMAS DINÁMICOS",2,31,24,4,0.16666666666666666,7,0.22580645161290322,0.35483870967741937]
["IIN7171","PLAN. PROG Y CTRL PRODUCCION",3,85,74,19,0.25675675675675674,11,0.12941176470588237,0.35294117647058826]
["GEO4014","GEOQUIMICA",2,20,15,2,0.13333333333333333,5,0.25,0.35]
["IME4200","MECÁNICA DE SOLIDOS",5,168,143,32,0.22377622377622378,25,0.14880952380952381,0.3392857142857143]
["MAT4260","CALCULO III (ANEC)",5,189,146,20,0.13698630136986301,43,0.2275132275132275,0.33333333333333331]
["IGL1350","BUSINESS ENGLISH I",1,18,15,3,0.2,3,0.16666666666666666,0.33333333333333331]
["MAT4264","TOPOLOGIA",1,12,9,1,0.1111111111111111,3,0.25,0.33333333333333331]
["MAT4051","ANALISIS NUMERICO",1,9,7,1,0.14285714285714285,2,0.22222222222222221,0.33333333333333331]
["MUS4030","ENTRENAMIENTO AUDITIVO I",1,9,7,1,0.14285714285714285,2,0.22222222222222221,0.33333333333333331]
["ELP8260","PROYECTO DE GRADO",1,3,2,0,0,1,0.33333333333333331,0.33333333333333331]
["PSI0015","PSICOLOGIA DEL DESARROLLO II",1,3,3,1,0.33333333333333331,0,0,0.33333333333333331]
["MAT1101","CALCULO I",8,292,236,41,0.17372881355932204,56,0.19178082191780821,0.3321917808219178]
["LEY2021","TEORIA CONS. E INST. POLITICAS",2,89,75,15,0.2,14,0.15730337078651685,0.3258426966292135]
["IGL4992","ENGLISH I",3,22,19,4,0.21052631578947367,3,0.13636363636363635,0.31818181818181818]
["IST7081","SISTEMAS OPERACIONALES",2,41,36,8,0.22222222222222221,5,0.12195121951219512,0.31707317073170732]
["LEY4600","ADMINISTRATIVO I",2,60,47,6,0.1276595744680851,13,0.21666666666666667,0.31666666666666665]
["MAT4258","CALCULO II (ANEC)",6,216,177,29,0.16384180790960451,39,0.18055555555555555,0.31481481481481483]
["MAT8630","GEOMETRÍA 2D",2,64,50,6,0.12,14,0.21875,0.3125]
["ICI4011","TOPOGRAFIA Y GEOINFORMACION",4,61,53,11,0.20754716981132076,8,0.13114754098360656,0.31147540983606559]
["HIS2041","FUNDAMENTOS DEL MUNDO CONTEM",2,52,38,2,5.2631578947368418E-2,14,0.26923076923076922,0.30769230769230771]
["LEY4660","PROCEDIMIENTO CIVIL  GRAL",3,89,69,7,0.10144927536231885,20,0.2247191011235955,0.30337078651685395]
["IST2088","ALGORITMIA Y PROGRAMACIÓN I",10,380,331,66,0.19939577039274925,49,0.12894736842105264,0.30263157894736842]
["EST7042","ANÁLISIS  DE DATOS EN INGEN I",10,299,250,41,0.16400000000000001,49,0.16387959866220736,0.30100334448160537]
["IEL4005","MAQUINAS ELECTRICAS",1,10,8,1,0.125,2,0.2,0.3]
["MUS4155","SOLFEO I",1,10,8,1,0.125,2,0.2,0.3]
["MUS4065","GESTION DE PROYECTOS MUSICALES",1,10,9,2,0.22222222222222221,1,0.1,0.3]
["IME4070","MECANICA DE FLUIDOS",2,68,54,6,0.1111111111111111,14,0.20588235294117646,0.29411764705882354]
["ALE0027","DEUTSCHE SPRACHE UND KULT 8",1,17,17,5,0.29411764705882354,0,0,0.29411764705882354]
["ELP4085","GESTION DE INVENTARIOS",1,17,17,5,0.29411764705882354,0,0,0.29411764705882354]
["ECA0020","CARIBE PREHISPANICO",3,99,79,9,0.11392405063291139,20,0.20202020202020202,0.29292929292929293]
["GPY1012","FORM Y EVAL DE PROYECTOS",5,195,170,32,0.18823529411764706,25,0.12820512820512819,0.29230769230769232]
["IME4072","MECANICA DE FLUIDOS",3,24,22,5,0.22727272727272727,2,8.3333333333333329E-2,0.29166666666666669]
["LEY4181","PENAL II",3,56,52,12,0.23076923076923078,4,7.1428571428571425E-2,0.2857142857142857]
["IIN9525","DISEÑO DE SIST DE INFORMACION",1,14,12,2,0.16666666666666666,2,0.14285714285714285,0.2857142857142857]
["IGL4930","EXIGENCIA  INGLES NIVELATORIO",1,14,12,2,0.16666666666666666,2,0.14285714285714285,0.2857142857142857]
["FRA0005","LANGUE FRANC ET CULT FRANC V",1,14,13,3,0.23076923076923078,1,7.1428571428571425E-2,0.2857142857142857]
["ALE1031","EXIGENCIA  ALEMAN I",1,14,13,3,{"$f":"IFERROR(F70/E70,0)","v":0.23076923076923078},1,{"$f":"H70/D70","v":7.1428571428571425E-2},{"$f":"(H70+F70)/D70","v":0.2857142857142857}]
["POL4531","METODOLOGIA",1,7,6,1,0.16666666666666666,1,0.14285714285714285,0.2857142857142857]
["MUS4035","ENTRENAMIENTO AUDITIVO II",1,14,14,4,0.2857142857142857,0,0,0.2857142857142857]
["IBA4061","DINAMICA",3,81,66,8,0.12121212121212122,15,0.18518518518518517,0.2839506172839506]
["EST1031","ESTADISTICA II (AD)",4,134,102,6,5.8823529411764705E-2,32,0.23880597014925373,0.28358208955223879]
["MAT1111","CALCULO II",11,420,335,34,0.10149253731343283,85,0.20238095238095238,0.28333333333333333]
["MAT8570","ALGEBRA LINEAL II",1,25,19,1,5.2631578947368418E-2,6,0.24,0.28000000000000003]
["MAT4011","ECUACIONES DIFERENCIALES",8,297,248,34,0.13709677419354838,49,0.16498316498316498,0.27946127946127947]
["ARQ4022","TÉC GRAFICAS IV DOCUMENTACIÓN",3,61,50,6,0.12,11,0.18032786885245902,0.27868852459016391]
["IST7410","COMPILADORES",2,79,75,18,0.24,4,5.0632911392405063E-2,0.27848101265822783]
["LEY4680","REL DE TRAB Y SEG SOCIAL III",3,87,76,13,0.17105263157894737,11,0.12643678160919541,0.27586206896551724]
["IEL4020","MAQUINAS ELECTRICAS II",1,11,9,1,0.1111111111111111,2,0.18181818181818182,0.27272727272727271]
["ALE0018","DEUTSCHE SPRACHE UND KULT 5",1,11,10,2,0.2,1,9.0909090909090912E-2,0.27272727272727271]
["IST4330","ESTRUCTURAS DISCRETAS",2,63,54,8,0.14814814814814814,9,0.14285714285714285,0.26984126984126983]
["MAT1100","CALCULO I (ANEC)",6,215,188,31,0.16489361702127658,27,0.12558139534883722,0.26976744186046514]
["LEY4685","REL DE TRAB Y SEG SOCIAL I",3,78,73,16,0.21917808219178081,5,6.4102564102564097E-2,0.26923076923076922]
["ODO4145","PATOLOGIA ORAL",1,26,26,7,0.26923076923076922,0,0,0.26923076923076922]
["LEY4670","PRUEBAS",2,67,65,16,0.24615384615384617,2,2.9850746268656716E-2,0.26865671641791045]
["ICI7014","INGENIERIA DE TRANSPORTE",3,97,96,25,0.26041666666666669,1,1.0309278350515464E-2,0.26804123711340205]
["IME7061","TERMODINAMICA I",6,198,151,6,3.9735099337748346E-2,47,0.23737373737373738,0.26767676767676768]
["IEN4095","INTROD. A LA ROBÓTICA MÓVIL",1,15,12,1,8.3333333333333329E-2,3,0.2,0.26666666666666666]
["FIL7010","FILOSOFIA ANTIGUA II (ARISTOT)",1,15,13,2,0.15384615384615385,2,0.13333333333333333,0.26666666666666666]
["IIN7071","INVESTIGACION DE OPERAC 2",3,83,81,20,0.24691358024691357,2,2.4096385542168676E-2,0.26506024096385544]
["MUS4150","PRINCIPIOS DE ARMONIA Y FORMA",1,19,19,5,0.26315789473684209,0,0,0.26315789473684209]
["ECA7000","HRIA. Y CULTURA DEL CARIBE",6,196,164,19,0.11585365853658537,32,0.16326530612244897,0.26020408163265307]
["IME1210","MECÁNICA DE MAQUINAS",1,27,25,5,0.2,2,7.407407407407407E-2,0.25925925925925924]
["FIS1023","FÍSICA MECANICA",20,403,353,52,0.14730878186968838,50,0.12406947890818859,0.25310173697270472]
["LEY4705","TEORIA DE LA ARGUMENTACION",3,64,58,10,0.17241379310344829,6,9.375E-2,0.25]
["MUS4090","PIANO / GUITARRA FUNCIONAL I",1,8,7,1,0.14285714285714285,1,0.125,0.25]
["MUS7450","JAZZ Y MUSICA POPULAR II",4,4,4,1,0.25,0,0,0.25]
["CON2014","CONTABILIDAD FINANCIERA",6,209,179,22,0.12290502793296089,30,0.14354066985645933,0.24880382775119617]
["MAT4013","ECUACIONES DIFERENCIALES (MAT)",1,29,23,1,4.3478260869565216E-2,6,0.20689655172413793,0.2413793103448276]
["GEO4012","GEOLOGIA FISICA",2,29,29,7,0.2413793103448276,0,0,0.2413793103448276]
["EST1050","ESTADISTICA II (ING)",1,25,22,3,0.13636363636363635,3,0.12,0.24]
["CON8073","INTERNATIONAL ACCOUNTING I",1,21,17,1,5.8823529411764705E-2,4,0.19047619047619047,0.23809523809523808]
["ODO4010","BIOESTRUCTURA DENTAL OCLUS II",1,17,17,4,0.23529411764705882,0,0,0.23529411764705882]
["FIS1043","FISICA CALOR ONDAS",15,304,272,39,0.14338235294117646,32,0.10526315789473684,0.23355263157894737]
["LEY7051","CONTRATOS I",3,60,55,9,0.16363636363636364,5,8.3333333333333329E-2,0.23333333333333334]
["ARQ4050","HABITAT,CLIMA Y MEDIO AMBIENTE",1,39,33,3,9.0909090909090912E-2,6,0.15384615384615385,0.23076923076923078]
["ELP7271","PAVIMENTOS",1,13,10,0,0,3,0.23076923076923078,0.23076923076923078]
["ARQ4023","CONST I ENVOL Y CONF CONSTRUC",1,40,36,5,0.1388888888888889,4,0.1,0.22500000000000001]
["LEY4640","INTERPRETACION CONST Y LEGAL",2,85,75,9,0.12,10,0.11764705882352941,0.22352941176470589]
["HUM0060","LOGICAS  DE LA VIDA AMOROSA",3,126,106,8,7.5471698113207544E-2,20,0.15873015873015872,0.22222222222222221]
["IEL1021","CIRCUITOS II",3,36,30,2,6.6666666666666666E-2,6,0.16666666666666666,0.22222222222222221]
["ELP8011","CRIPTOGRAFIA",1,18,14,0,0,4,0.22222222222222221,0.22222222222222221]
["MAT8550","VARIABLE COMPLEJA",1,9,8,1,0.125,1,0.1111111111111111,0.22222222222222221]
["ODO4100","ENDODONCIA",2,27,27,6,0.22222222222222221,0,0,0.22222222222222221]
["EDU4533","DESARROLLO DEL PENSAMIENTO",1,9,9,2,0.22222222222222221,0,0,0.22222222222222221]
["ODO4165","REHABILITACION ORAL",2,27,27,6,0.22222222222222221,0,0,0.22222222222222221]
["MAT1031","ALGEBRA LINEAL",12,471,410,43,0.1048780487804878,61,0.12951167728237792,0.2208067940552017]
["LEY4011","OBLIGACIONES I",2,64,54,4,7.407407407407407E-2,10,0.15625,0.21875]
["ICI4083","HIDRAULICA",5,69,63,9,0.14285714285714285,6,8.6956521739130432E-2,0.21739130434782608]
["IGL0376","ENGLISH FOR NURSING 2",2,23,20,2,0.1,3,0.13043478260869565,0.21739130434782608]
["ODO4170","SEMIOLOGIA CABEZA Y CUELLO",1,23,23,5,0.21739130434782608,0,0,0.21739130434782608]
["IGL0011","BUSINESS ENGLISH I ADM",5,79,73,11,0.15068493150684931,6,7.5949367088607597E-2,0.21518987341772153]
["MUS4050","FORMA Y ANALISIS I",1,14,14,3,0.21428571428571427,0,0,0.21428571428571427]
["CSO7150","SOCIOLOGÍA JURÍDICA",3,80,79,16,0.20253164556962025,1,1.2500000000000001E-2,0.21249999999999999]
["ELP8124","MINERÍA DE DATOS",1,33,26,0,0,7,0.21212121212121213,0.21212121212121213]
["IGL7750","BUSINESS ENGLISH V",4,81,74,10,0.13513513513513514,7,8.6419753086419748E-2,0.20987654320987653]
["IGL4895","EXIGENCIA  INGLES II",10,201,179,20,0.11173184357541899,22,0.10945273631840796,0.20895522388059701]
["ODO4150","PERIODONCIA Y CLINICA DE PERIO",1,24,23,4,0.17391304347826086,1,4.1666666666666664E-2,0.20833333333333334]
["ODO4090","CLINICA OPERATORIA DENTAL",2,24,24,5,0.20833333333333334,0,0,0.20833333333333334]
["INV7481","TECNICAS INV EN COMUNICACION",1,39,39,8,0.20512820512820512,0,0,0.20512820512820512]
["LEY4650","PENAL I",2,74,69,10,0.14492753623188406,5,6.7567567567567571E-2,0.20270270270270271]
["IEN4020","ELECTRÓNICA I",3,35,28,0,{"$f":"IFERROR(F134/E134,0)","v":0},7,{"$f":"H134/D134","v":0.2},{"$f":"(H134+F134)/D134","v":0.2}]
["CSO0040","GEOGRAFIA UNIVERSAL",2,50,44,4,9.0909090909090912E-2,6,0.12,0.2]
["IIN0008","SISTEMAS DE COSTOS DE PRODUCCI",2,60,54,6,0.1111111111111111,6,0.1,0.2]
["ELP8022","ANALISIS ESTADIST.MULTIVARIADO",1,20,16,0,0,4,0.2,0.2]
["DIN4100","BIODISEÑO:NATURALEZAEINNOVACIO",1,15,12,0,0,3,0.2,0.2]
["DIG0037","REALIZACION AUDIVISUAL I",2,35,33,5,0.15151515151515152,2,5.7142857142857141E-2,0.2]
["MUS7311","HISTORIA DE LA MUSICA II",1,5,4,0,0,1,0.2,0.2]
["HUM4190","SEM LITERATURA III (TEMATICO)",1,5,5,1,0.2,0,0,0.2]
["EDU0105","CORRIENTES PEDAGOGICAS CONTEMP",1,10,10,2,0.2,0,0,0.2]
["IGL4990","EXIGENCIA INGLES NIVELATORIO",2,5,5,1,0.2,0,0,0.2]
["IME7220","DISEÑO MECANICO",2,67,65,11,0.16923076923076924,2,2.9850746268656716E-2,0.19402985074626866]
["LEY0001","TECNOLOGIA LEGAL",1,26,25,4,0.16,1,3.8461538461538464E-2,0.19230769230769232]
["IBA0022","EXPRESION GRAFICA",4,136,130,20,0.15384615384615385,6,4.4117647058823532E-2,0.19117647058823528]
["EDU4545","INCLUSION Y EDUCACION",1,21,19,2,0.10526315789473684,2,9.5238095238095233E-2,0.19047619047619047]
["EDU2100","EVALUACION EDUCATIVA",1,21,20,3,0.15,1,4.7619047619047616E-2,0.19047619047619047]
["ODO4070","CLI  DE REHABILITACION ORAL II",6,21,21,4,0.19047619047619047,0,0,0.19047619047619047]
["CMN6080","REALIZACION MEDIO AUDIOVISUAL6",2,79,78,14,0.17948717948717949,1,1.2658227848101266E-2,0.189873417721519]
["DIS0010","TALLER BASICO I",3,58,54,7,0.12962962962962962,4,6.8965517241379309E-2,0.18965517241379309]
["IST4360","SOLUCIONES COMP. A PROB.EN ING",7,223,188,7,3.7234042553191488E-2,35,0.15695067264573992,0.18834080717488788]
["HIS7240","AMERICA LATINA CONTEMPORANEA",2,80,71,6,8.4507042253521125E-2,9,0.1125,0.1875]
["LEY4655","PROCEDIMIENTO CIVIL ESPECIAL",2,32,27,1,3.7037037037037035E-2,5,0.15625,0.1875]
["IGL1370","BUSINESS ENGLISH III",2,27,23,1,4.3478260869565216E-2,4,0.14814814814814814,0.18518518518518517]
["IEN7135","MICROPROCESADORES",2,27,25,3,0.12,2,7.407407407407407E-2,0.18518518518518517]
["IME7085","DISEÑOS DE SISTEMAS MECANICOS",2,38,36,5,0.1388888888888889,2,5.2631578947368418E-2,0.18421052631578946]
["HIS1020","HISTORIA DEL DERECHO",2,82,70,3,4.2857142857142858E-2,12,0.14634146341463414,0.18292682926829268]
["IEN4030","ELECTRONICA II",1,22,19,1,5.2631578947368418E-2,3,0.13636363636363635,0.18181818181818182]
["MAT4140","TEORIA DE GRUPOS",1,11,10,1,0.1,1,9.0909090909090912E-2,0.18181818181818182]
["FIS4011","FISICA MODERNA DEL ESTADO",1,11,10,1,0.1,1,9.0909090909090912E-2,0.18181818181818182]
["EDU4547","GERENCIA DE PROYECTOS EDUCATIV",1,11,10,1,0.1,1,9.0909090909090912E-2,0.18181818181818182]
["EDU4548","MEDIACIONES EN EDUCACION Y TIC",1,11,10,1,0.1,1,9.0909090909090912E-2,0.18181818181818182]
["CBM4030","FUNDAMENTO CIENCIAS BASICAS MD",8,187,186,33,0.17741935483870969,1,5.3475935828877002E-3,0.18181818181818182]
["IGL0375","ENGLISH FOR NURSING 1",1,22,22,4,0.18181818181818182,0,0,0.18181818181818182]
["MAT8540","TEORIA DE NUMEROS",1,11,11,2,0.18181818181818182,0,0,0.18181818181818182]
["ENF0033","PROFUNDIZACION ENFERMERIA",3,11,11,2,0.18181818181818182,0,0,0.18181818181818182]
["ALE0022","DEUTSCHE SPRACHE UND KULT 1",1,11,11,2,0.18181818181818182,0,0,0.18181818181818182]
["ODO4065","CLI DE REHABILITACION ORAL I",6,11,11,2,0.18181818181818182,0,0,0.18181818181818182]
["MAT1121","CALCULO 3",7,250,219,14,6.3926940639269403E-2,31,0.124,0.18]
["MAT4215","TEORIA DE CODIGOS",1,39,33,1,3.0303030303030304E-2,6,0.15384615384615385,0.17948717948717949]
["MAT4190","MATEMATICAS FUNDAMENTALES",1,39,34,2,5.8823529411764705E-2,5,0.12820512820512819,0.17948717948717949]
["ECO9000","MICROECONOMIA II",1,28,27,4,0.14814814814814814,1,3.5714285714285712E-2,0.17857142857142858]
["IGL4915","EXIGENCIA  INGLES VI",17,377,357,47,0.13165266106442577,20,5.3050397877984087E-2,0.17771883289124668]
["GEO0009","GEOLOGIA ESTRUCTURAL",2,34,29,1,3.4482758620689655E-2,5,0.14705882352941177,0.17647058823529413]
["POL0030","POLÍTICA COLOMBIANA",1,17,16,2,0.125,1,5.8823529411764705E-2,0.17647058823529413]
["IME7101","TRANSFERENCIA DE CALOR",8,74,66,5,7.575757575757576E-2,8,0.10810810810810811,0.17567567567567569]
["LEY7061","CONTRATOS II",2,80,75,9,0.12,5,6.25E-2,0.17499999999999999]
["ODO4035","CLINICA CIRUGIA ORAL I",1,23,23,4,0.17391304347826086,0,0,0.17391304347826086]
["IEL7240","PROTECCIONES ELECTRICAS",2,29,27,3,0.1111111111111111,2,6.8965517241379309E-2,0.17241379310344829]
["DIG0032","DISEÑO DIGITAL I",2,41,39,5,0.12820512820512819,2,4.878048780487805E-2,0.17073170731707318]
["ARQ4120","TALLER BASICOII: FUND DEL PROY",3,47,45,6,0.13333333333333333,2,4.2553191489361701E-2,0.1702127659574468]
["LEY4715","TEORIA DEL DERECHO",2,65,65,11,0.16923076923076924,0,0,0.16923076923076924]
["ARQ4072","TALLER DE EXPRESION II",2,42,39,4,0.10256410256410256,3,7.1428571428571425E-2,0.16666666666666666]
["CSV0071","INTRODUCCION A LA ASTROFISICA",1,18,16,1,6.25E-2,2,0.1111111111111111,0.16666666666666666]
["MAT1061","OPTIMIZACION MATEMATICA",1,6,5,0,0,1,0.16666666666666666,0.16666666666666666]
["IEN8557","REDES INALÁMBRICAS DE SENSORES",1,12,11,1,9.0909090909090912E-2,1,8.3333333333333329E-2,0.16666666666666666]
["GEO4013","GEOMORFOLOGIA",2,24,23,3,0.13043478260869565,1,4.1666666666666664E-2,0.16666666666666666]
["CMN7520","GRANDES DIRECTORES DEL CINE",1,12,12,2,0.16666666666666666,0,0,0.16666666666666666]
["ECO4020","HRIA ECONOMICA DE COLOMBIA",1,6,6,1,0.16666666666666666,0,0,0.16666666666666666]
["MAT1011","ALGEBRA Y TRIGONOMETRIA",2,62,55,3,5.4545454545454543E-2,7,0.11290322580645161,0.16129032258064516]
["IEN7211","MEDIOS DE TRANSMISIÓN",2,31,28,2,7.1428571428571425E-2,3,9.6774193548387094E-2,0.16129032258064516]
["IEL7150","SUBESTACIONES ELECTRICAS",1,25,24,3,0.125,1,0.04,0.16]
["IEN4100","SEÑALES Y SISTEMAS",3,63,60,7,0.11666666666666667,3,4.7619047619047616E-2,0.15873015873015872]
["IIN7100","LOGISTICA Y DISTRIBUCION",3,101,99,14,0.14141414141414141,2,1.9801980198019802E-2,0.15841584158415842]
["GEO0006","PROGRAMACION EN CIENCIAS",1,32,29,2,6.8965517241379309E-2,3,9.375E-2,0.15625]
["LEY3075","INTERNATIONAL LAW",1,32,31,4,0.12903225806451613,1,3.125E-2,0.15625]
["CBM6071","FUND BIOLOG DEL CUIDADO II",2,32,32,5,{"$f":"IFERROR(F198/E198,0)","v":0.15625},0,{"$f":"H198/D198","v":0},{"$f":"(H198+F198)/D198","v":0.15625}]
["PSI0119","TENDENCIAS Y AUTORES COGNITIVO",3,77,75,10,0.13333333333333333,2,2.5974025974025976E-2,0.15584415584415584]
["IST7102","ESTRUCTURA DEL COMPUTADOR II",1,39,37,4,0.10810810810810811,2,5.128205128205128E-2,0.15384615384615385]
["HUM0280","SIMBOLOS Y SIGNIFIC  ARQUITEC",1,13,11,0,0,2,0.15384615384615385,0.15384615384615385]
["LEY4475","DER HUM Y DER INTERN HUMANITAR",2,46,44,5,0.11363636363636363,2,4.3478260869565216E-2,0.15217391304347827]
["ARQ4100","T.ARQUITECTURA I: ARQ BASICAS",2,33,31,3,9.6774193548387094E-2,2,6.0606060606060608E-2,0.15151515151515152]
["HIS7160","COLOMBIA PREHISPANICA",1,40,37,3,8.1081081081081086E-2,3,7.4999999999999997E-2,0.15]
["ECO7141","DESARROLLO ECONOMICO",1,20,19,2,0.10526315789473684,1,0.05,0.15]
["FIN9240","PLANEACION FINANCIERA",5,195,178,12,6.741573033707865E-2,17,8.7179487179487175E-2,0.14871794871794872]
["LEY7205","PENAL III",3,101,95,9,9.4736842105263161E-2,6,5.9405940594059403E-2,0.14851485148514851]
["MAT8635","GEOMETRIA 3D",3,81,72,3,4.1666666666666664E-2,9,0.1111111111111111,0.14814814814814814]
["GEO4011","GEOLOGIA ESTRUCTURAL",2,27,25,2,0.08,2,7.407407407407407E-2,0.14814814814814814]
["IGL4900","EXIGENCIA  INGLES III",12,223,207,17,8.2125603864734303E-2,16,7.1748878923766815E-2,0.14798206278026907]
["IIN4305","INGENIERIA ECONOMICA",3,88,84,9,0.10714285714285714,4,4.5454545454545456E-2,0.14772727272727273]
["ARQ4019","TEC GRAFICAS II MODELACION",3,62,56,3,5.3571428571428568E-2,6,9.6774193548387094E-2,0.14516129032258066]
["IEL1011","CIRCUITOS I",4,69,61,2,3.2786885245901641E-2,8,0.11594202898550725,0.14492753623188406]
["LEY4290","DD HH  DERECHO INTER HUMANI RI",1,28,25,1,0.04,3,0.10714285714285714,0.14285714285714285]
["CSV0060","SALUD GLOBAL",1,21,19,1,5.2631578947368418E-2,2,9.5238095238095233E-2,0.14285714285714285]
["IEL8435","MEDICIONES E INTRUMENTACION",2,42,40,4,0.1,2,4.7619047619047616E-2,0.14285714285714285]
["IIN4340","ESTRATEGIAS DE OPERACIONES",2,70,68,8,0.11764705882352941,2,2.8571428571428571E-2,0.14285714285714285]
["POL4220","POLITICA EXTERIOR COLOMBIANA",1,21,19,1,5.2631578947368418E-2,2,9.5238095238095233E-2,0.14285714285714285]
["FIL4120","PENS MEDIEVAL Y RENACENTISTA",1,21,20,2,0.1,1,4.7619047619047616E-2,0.14285714285714285]
["LIN4006","METOD ENSEÑANZA LENGUA MAT I",2,28,27,3,0.1111111111111111,1,3.5714285714285712E-2,0.14285714285714285]
["POL4532","PARTICIPACION Y PROCESOS ELEC",1,7,6,0,0,1,0.14285714285714285,0.14285714285714285]
["IGL5006","ENGLISH VIII",2,35,34,4,0.11764705882352941,1,2.8571428571428571E-2,0.14285714285714285]
["CMN1180","REALIZACION MEDIO AUDIOVISUAL3",1,42,42,6,0.14285714285714285,0,0,0.14285714285714285]
["IEL0010","INT. A LA ING. ELECTRICA",1,7,7,1,0.14285714285714285,0,0,0.14285714285714285]
["GEO4003","ROCAS METAMORFICAS",2,7,7,1,0.14285714285714285,0,0,0.14285714285714285]
["EDU4360","DESARROLLO DEL LENGUAJE",1,21,21,3,0.14285714285714285,0,0,0.14285714285714285]
["EST1022","ESTADISTICA I - AD",6,236,224,21,9.375E-2,12,5.0847457627118647E-2,0.13983050847457626]
["IBA4032","ESTÁTICA",5,136,126,9,7.1428571428571425E-2,10,7.3529411764705885E-2,0.13970588235294118]
["ECO0010","INTRODUCCION A LA ECONOMIA",7,290,279,29,0.1039426523297491,11,3.793103448275862E-2,0.13793103448275862]
["HUM0050","LITERATURA Y CIUDAD",3,87,80,5,6.25E-2,7,8.0459770114942528E-2,0.13793103448275862]
["ECO2080","MACROECONOMIA II",1,29,28,3,0.10714285714285714,1,3.4482758620689655E-2,0.13793103448275862]
["IST2089","ALGORITMIA Y PROGRAMACIÓN II",5,161,148,9,6.0810810810810814E-2,13,8.0745341614906832E-2,0.13664596273291926]
["IME4205","DIBUJO MECANICO II",1,22,21,2,9.5238095238095233E-2,1,4.5454545454545456E-2,0.13636363636363635]
["LEY4630","DERECHO CORPORATIVO",2,82,81,10,0.12345679012345678,1,1.2195121951219513E-2,0.13414634146341464]
["MAT4021","MATEMATICAS DISCRETAS",4,142,129,6,4.6511627906976744E-2,13,9.154929577464789E-2,0.13380281690140844]
["DIG0031","DISEÑO AMBIENTAL",2,30,27,1,3.7037037037037035E-2,3,0.1,0.13333333333333333]
["EST1063","METODOS ESTADISTICOS",1,15,13,0,0,2,0.13333333333333333,0.13333333333333333]
["CSO0120","INTROD A LA ECONOMIA COLOMB",1,45,45,6,0.13333333333333333,0,0,0.13333333333333333]
["ECA1000","INT A LA ECONOMIA DEL CARIBE",1,38,34,1,2.9411764705882353E-2,4,0.10526315789473684,0.13157894736842105]
["PSI7420","PSICOLOGÍA ORGANIZACIONAL",3,99,90,4,4.4444444444444446E-2,9,9.0909090909090912E-2,0.13131313131313133]
["CLI0009","INTERNADO I",4,130,113,0,0,17,0.13076923076923078,0.13076923076923078]
["IGL8520","EX. INGLES NIVELATORIO SALUD",2,23,23,3,0.13043478260869565,0,0,0.13043478260869565]
["ODO4155","PREVENCION Y CLINICA DEL SANO",1,23,23,3,0.13043478260869565,0,0,0.13043478260869565]
["CBM4060","SISTEMA MUSCULOESQUELETICO",6,154,152,18,0.11842105263157894,2,1.2987012987012988E-2,0.12987012987012986]
["CSV0004","AGRO-ECOLOGIA",2,54,47,0,0,7,0.12962962962962962,0.12962962962962962]
["CSV0020","QUIMICA GENERAL",13,176,161,7,4.3478260869565216E-2,15,8.5227272727272721E-2,0.125]
["GEO4016","INSTRUMENTACION GEOFISICA",2,40,35,0,0,5,0.125,0.125]
["POL8210","SEMINARIO PROTOCOLO",1,24,21,0,0,3,0.125,0.125]
["IDS0035","VIAJANDO POR LA CIENCIA",1,24,21,0,0,3,0.125,0.125]
["ICI7052","DISEÑO ESTRUCTURAL",2,48,45,3,6.6666666666666666E-2,3,6.25E-2,0.125]
["ARQ4018","TEC GRAFICAS I  REPRESENTACION",2,32,29,1,3.4482758620689655E-2,3,9.375E-2,0.125]
["ECO8738","DINAMICA Y PROGRAMACION ECO",1,8,7,0,0,1,0.125,0.125]
["INV4537","SEMINARIO DE INVESTIGACION II",1,16,15,1,6.6666666666666666E-2,1,6.25E-2,0.125]
["MUS4170","SOLFEO IV",1,8,7,0,0,1,0.125,0.125]
["LEY9679","LEGISLACION TRIBUTARIA",1,40,39,4,0.10256410256410256,1,2.5000000000000001E-2,0.125]
["MUS4175","CONTRAPUNTO Y ARMONIA I",1,8,7,0,0,1,0.125,0.125]
["ALE7061","EXIGENCIA ALEMAN V",2,24,24,3,0.125,0,0,0.125]
["INV4571","PROYECTO DE GRADO",1,16,16,2,0.125,0,0,0.125]
["ODO4075","CLINICA INTEGRAL DEL ADULTO I",1,8,8,1,0.125,0,0,0.125]
["EDU4112","DIDAC DE LA LECTOESCRITURA",1,8,8,1,0.125,0,0,0.125]
["IST2110","PROGRAMACION ORIENTADA OBJETOS",3,89,81,3,3.7037037037037035E-2,8,8.98876404494382E-2,0.12359550561797752]
["ICI4310","MECÁNICA DE SUELOS",6,89,88,10,{"$f":"IFERROR(F262/E262,0)","v":0.11363636363636363},1,{"$f":"H262/D262","v":1.1235955056179775E-2},{"$f":"(H262+F262)/D262","v":0.12359550561797752}]
["CSO7030","CIENCIAS,TECNOLOGIA-SOCIEDAD",3,73,67,3,4.4776119402985072E-2,6,8.2191780821917804E-2,0.12328767123287671]
["CSV0065","NTRA FLORA LOC Y EL BOS SEC TR",2,49,47,4,8.5106382978723402E-2,2,4.0816326530612242E-2,0.12244897959183673]
["INV3010","MET INV JURIDI Y SOCIOJURIDICA",3,49,48,5,0.10416666666666667,1,2.0408163265306121E-2,0.12244897959183673]
["LEY4665","PROCEDIMIENTO PENAL",2,90,84,5,5.9523809523809521E-2,6,6.6666666666666666E-2,0.12222222222222222]
["PSI0114","MEMORIA Y APRENDIZAJE",3,82,79,7,8.8607594936708861E-2,3,3.6585365853658534E-2,0.12195121951219512]
["ELP8510","PROGRAMACIÓN MÓVIL",1,33,30,1,3.3333333333333333E-2,3,9.0909090909090912E-2,0.12121212121212122]
["FIS1010","TEORIA ELECTROMAGNETICA",2,58,52,1,1.9230769230769232E-2,6,0.10344827586206896,0.1206896551724138]
["IBA1012","INGENIERÍA DE MATERIALES",1,58,55,4,7.2727272727272724E-2,3,5.1724137931034482E-2,0.1206896551724138]
["IGL0012","BUSINESS ENGLISH II ADM",5,75,73,7,9.5890410958904104E-2,2,2.6666666666666668E-2,0.12]
["CSV0010","BIOLOGIA",7,135,125,6,4.8000000000000001E-2,10,7.407407407407407E-2,0.11851851851851852]
["LEY4526","DCHO. INTER Y DCHOS. HUMANOS",1,17,15,0,0,2,0.11764705882352941,0.11764705882352941]
["IGL4994","ENGLISH II",3,34,32,2,6.25E-2,2,5.8823529411764705E-2,0.11764705882352941]
["FIN9236","INTERNATIONAL FINANCE",1,17,15,0,0,2,0.11764705882352941,0.11764705882352941]
["GEO4008","GEODESIA Y SISMOLOGIA",1,26,24,1,4.1666666666666664E-2,2,7.6923076923076927E-2,0.11538461538461539]
["ARQ4021","TEC GRAFICAS III COMUNICACIÓN",2,26,24,1,4.1666666666666664E-2,2,7.6923076923076927E-2,0.11538461538461539]
["IME4030","PROCESOS DE FABRICACION",9,113,105,5,4.7619047619047616E-2,8,7.0796460176991149E-2,0.11504424778761062]
["IST0010","INT A LA ING. DE SISTEMAS",3,87,80,3,3.7499999999999999E-2,7,8.0459770114942528E-2,0.11494252873563218]
["ARQ4014","HISTORIA Y TEORIA - SIGLO XIX",2,61,54,0,0,7,0.11475409836065574,0.11475409836065574]
["CBM0007","SISTEMA DIGESTIVO",4,96,94,9,9.5744680851063829E-2,2,2.0833333333333332E-2,0.11458333333333333]
["INV0151","VIP 2",1,44,40,1,2.5000000000000001E-2,4,9.0909090909090912E-2,0.11363636363636363]
["IST4310","ALGORITMOS Y COMPLEJIDAD",2,62,57,2,3.5087719298245612E-2,5,8.0645161290322578E-2,0.11290322580645161]
["IIN1226","FUNDAMENTOS DE ING. ECONÓMICA",2,54,49,1,2.0408163265306121E-2,5,9.2592592592592587E-2,0.1111111111111111]
["ARQ4017","HISTORIA Y TEORIA PENSAM CLASI",2,54,49,1,2.0408163265306121E-2,5,9.2592592592592587E-2,0.1111111111111111]
["INV4276","PROYECTO DE GRADO",2,36,32,0,0,4,0.1111111111111111,0.1111111111111111]
["ARQ4090","T.ARQUITEC III: EQUIPAMIENTOS",2,27,25,1,0.04,2,7.407407407407407E-2,0.1111111111111111]
["POR4070","EXIGENCIA PORTUGUES V",2,9,8,0,0,1,0.1111111111111111,0.1111111111111111]
["INV0005","INV. EDUCATIV Y PEDAGOGICA",1,9,8,0,0,1,0.1111111111111111,0.1111111111111111]
["POR4080","EXIGENCIA PORTUGUES VII",1,9,9,1,0.1111111111111111,0,0,0.1111111111111111]
["EDU4544","EXPERIENCIA  EN INFANCIA Y FAM",1,9,9,1,0.1111111111111111,0,0,0.1111111111111111]
["IGL5004","ENGLISH VII",2,27,27,3,0.1111111111111111,0,0,0.1111111111111111]
["FIS1033","FÍSICA ELECTRICIDAD",17,334,316,19,6.0126582278481014E-2,18,5.3892215568862277E-2,0.11077844311377245]
["CAS3030","COMPETENCIA COMUNICATIVA II",37,1125,1078,76,7.050092764378478E-2,47,4.1777777777777775E-2,0.10933333333333334]
["ICI4060","GEOLOGIA",3,74,71,5,7.0422535211267609E-2,3,4.0540540540540543E-2,0.10810810810810811]
["DIS0020","TALLER DE EXPRESION I",3,56,52,2,3.8461538461538464E-2,4,7.1428571428571425E-2,0.10714285714285714]
["IGL5002","ENGLISH VI",5,75,74,7,9.45945945945946E-2,1,1.3333333333333334E-2,0.10666666666666667]
["EST1070","ESTADISTICA INFERENCIAL",4,132,123,5,4.065040650406504E-2,9,6.8181818181818177E-2,0.10606060606060606]
["MAT0040","FUNDAMENTOS DE ESTADISTICA",9,332,319,22,6.8965517241379309E-2,13,3.9156626506024098E-2,0.10542168674698796]
["ARQ4013","HIST Y TEORIA LATINOAMERICANA",1,38,34,0,0,4,0.10526315789473684,0.10526315789473684]
["SCO4025","TEORIA DE LAS RELACIONES INTER",1,38,35,1,2.8571428571428571E-2,3,7.8947368421052627E-2,0.10526315789473684]
["CMN7341","PROY COMUNIC ORGANIZACIONAL",2,76,75,7,9.3333333333333338E-2,1,1.3157894736842105E-2,0.10526315789473684]
["ARQ4011","HISTORIA Y TEORIA VANGUARDIAS",1,29,27,1,3.7037037037037035E-2,2,6.8965517241379309E-2,0.10344827586206896]
["CSO4206","MUSICA Y CULT MASAS ROCK ELECT",1,29,28,2,7.1428571428571425E-2,1,3.4482758620689655E-2,0.10344827586206896]
["QUI4010","QUIMICA Y BIOQUIMICA",2,29,29,3,0.10344827586206896,0,0,0.10344827586206896]
["IST7420","OPTIMIZACION",1,39,36,1,2.7777777777777776E-2,3,7.6923076923076927E-2,0.10256410256410256]
["CMN2060","PERIODISMO IV",2,39,38,3,7.8947368421052627E-2,1,2.564102564102564E-2,0.10256410256410256]
["LEY1060","BIENES",2,69,65,3,4.6153846153846156E-2,4,5.7971014492753624E-2,0.10144927536231885]
["LEY1031","PERSONAS",2,69,68,6,8.8235294117647065E-2,1,1.4492753623188406E-2,0.10144927536231885]
["ECA7010","CULTURA E IDENTIDAD CARIBE",3,110,104,5,4.807692307692308E-2,6,5.4545454545454543E-2,0.1]
["ICI4070","HIDROLOGIA",3,90,86,5,5.8139534883720929E-2,4,4.4444444444444446E-2,0.1]
["CSV0052","AGUA Y SOCIEDAD",1,30,27,0,0,3,0.1,0.1]
["DIN4104","DISEÑO DE EXP. DE USUARIO UX",1,20,18,0,0,2,0.1,0.1]
["LEY4740","CRIMINOLOGIA Y POLITICA CRIMIN",1,20,18,0,0,2,0.1,0.1]
["GEO4017","INTRODUCCION A LA GEOCIENCIAS",1,10,9,0,0,1,0.1,0.1]
["EDU4550","EXPERIENCIA EN GESTION SOCIAL",1,10,9,0,0,1,0.1,0.1]
["DIG0083","TALLER DE CREATIVIDAD",1,10,9,0,0,1,0.1,0.1]
["EDU0097","LENGUAJES EXPRESIVOS II",1,10,10,1,0.1,0,0,0.1]
["EDU4540","DIDACTICA EN EDUCACION INFANTI",1,10,10,1,0.1,0,0,0.1]
["IGL4905","EXIGENCIA  INGLES IV",14,303,288,15,5.2083333333333336E-2,15,4.9504950495049507E-2,9.9009900990099015E-2]
["ARQ4071","TALLER DE EXPRESION I",2,41,38,1,2.6315789473684209E-2,3,7.3170731707317069E-2,9.7560975609756101E-2]
["CSO0150","VIDA EN RED Y CAMBIO SOCIAL",2,41,39,2,5.128205128205128E-2,2,4.878048780487805E-2,9.7560975609756101E-2]
["IGL4925","EXIGENCIA INGLES VIII",17,330,310,12,3.870967741935484E-2,20,6.0606060606060608E-2,9.696969696969697E-2]
["PSI1061","PSICOFISIOLOGIA",3,165,161,12,7.4534161490683232E-2,4,2.4242424242424242E-2,9.696969696969697E-2]
["LEY5972","JUSTICIA TRANSICIONAL",1,31,29,1,3.4482758620689655E-2,2,6.4516129032258063E-2,9.6774193548387094E-2]
["IST4031","ESTRUCTURA DE DATOS II",3,114,110,7,{"$f":"IFERROR(F326/E326,0)","v":6.363636363636363E-2},4,{"$f":"H326/D326","v":3.5087719298245612E-2},{"$f":"(H326+F326)/D326","v":9.6491228070175433E-2}]
["IEN4120","LOGICA DIGITAL",2,42,38,0,0,4,9.5238095238095233E-2,9.5238095238095233E-2]
["ICI0010","INT A LA INGENIERIA CIVIL",1,42,41,3,7.3170731707317069E-2,1,2.3809523809523808E-2,9.5238095238095233E-2]
["ALE4051","EXIGENCIA ALEMAN IV",2,21,20,1,0.05,1,4.7619047619047616E-2,9.5238095238095233E-2]
["SCO4015","ORGANISMOS INTERNACIONALES",1,21,20,1,0.05,1,4.7619047619047616E-2,9.5238095238095233E-2]
["EDU4542","DLLO DE LENGUAJE EXPRESIVOS II",1,21,21,2,9.5238095238095233E-2,0,0,9.5238095238095233E-2]
["ODO4050","CLINICA DE ENDODONCIA II",6,21,21,2,9.5238095238095233E-2,0,0,9.5238095238095233E-2]
["ADM0016","COMPANY  VALUATION",3,74,69,2,2.8985507246376812E-2,5,6.7567567567567571E-2,9.45945945945946E-2]
["FRA4010","EXIGENCIA DE FRANCES V",3,53,51,3,5.8823529411764705E-2,2,3.7735849056603772E-2,9.4339622641509441E-2]
["CSV0061","ECOLOGIA URBANA",3,85,79,2,2.5316455696202531E-2,6,7.0588235294117646E-2,9.4117647058823528E-2]
["DIS0023","TALLER BASICO II",4,85,80,3,3.7499999999999999E-2,5,5.8823529411764705E-2,9.4117647058823528E-2]
["DIS0021","SEGURIDAD Y HERRAMIENTAS",4,64,60,2,3.3333333333333333E-2,4,6.25E-2,9.375E-2]
["TCH4000","FOREIGN LANG TEACHING I",2,32,32,3,9.375E-2,0,0,9.375E-2]
["CMN0009","COMUNICACION Y ESCRITURA",2,43,40,1,2.5000000000000001E-2,3,6.9767441860465115E-2,9.3023255813953487E-2]
["LEY7305","CONSULTORIO JURIDICO I",4,43,42,3,7.1428571428571425E-2,1,2.3255813953488372E-2,9.3023255813953487E-2]
["IGL4998","ENGLISH IV",3,54,51,2,3.9215686274509803E-2,3,5.5555555555555552E-2,9.2592592592592587E-2]
["HIS7190","HRIA. DE COL. SIGLO XX",8,314,297,12,4.0404040404040407E-2,17,5.4140127388535034E-2,9.2356687898089165E-2]
["IGL5000","ENGLISH V",3,65,62,3,4.8387096774193547E-2,3,4.6153846153846156E-2,9.2307692307692313E-2]
["IIN8897","MODELO ISO 9000 GTION CALIDAD",1,33,31,1,3.2258064516129031E-2,2,6.0606060606060608E-2,9.0909090909090912E-2]
["ARQ4080","TALLER CIUDAD II: SOST URBANA",2,22,20,0,0,2,9.0909090909090912E-2,9.0909090909090912E-2]
["CLT4003","CULT. ISSUES & INTER AFFAIRS",2,22,21,1,4.7619047619047616E-2,1,4.5454545454545456E-2,9.0909090909090912E-2]
["MUS4100","PIANO / GUITARRA FUNCIONAL III",2,11,10,0,0,1,9.0909090909090912E-2,9.0909090909090912E-2]
["GEO4040","AMBIENT Y PROC SUBMARINOS PROF",1,22,21,1,4.7619047619047616E-2,1,4.5454545454545456E-2,9.0909090909090912E-2]
["CMN9365","COMUNICACIÓN DE MARKETING",1,11,10,0,0,1,9.0909090909090912E-2,9.0909090909090912E-2]
["EDU4537","FAMILIA, ESCUELA Y SOCIEDAD",1,11,10,0,0,1,9.0909090909090912E-2,9.0909090909090912E-2]
["GEO4018","MINERALOGIA",2,22,21,1,4.7619047619047616E-2,1,4.5454545454545456E-2,9.0909090909090912E-2]
["ICI7110","FUNDACIONES",2,33,32,2,6.25E-2,1,3.0303030303030304E-2,9.0909090909090912E-2]
["DIN7235","TALLER FACTORES HUMANOS",1,11,11,1,9.0909090909090912E-2,0,0,9.0909090909090912E-2]
["HIS3005","HRIA POLITICA-AMERICA LATINA",1,11,11,1,9.0909090909090912E-2,0,0,9.0909090909090912E-2]
["ECO8734","ECONOMIA MONETARIA",1,11,11,1,9.0909090909090912E-2,0,0,9.0909090909090912E-2]
["POL0010","INTROD A LA CIENCIA POLITICA",1,44,44,4,9.0909090909090912E-2,0,0,9.0909090909090912E-2]
["IGL4910","EXIGENCIA  INGLES V",15,322,305,12,3.9344262295081971E-2,17,5.2795031055900624E-2,9.0062111801242239E-2]
["GEO4010","GEOLOGIA COLOMBIANA",1,34,33,2,6.0606060606060608E-2,1,2.9411764705882353E-2,8.8235294117647065E-2]
["DIG4040","T DIS 5- IDENTIDAD VISUAL",2,34,33,2,6.0606060606060608E-2,1,2.9411764705882353E-2,8.8235294117647065E-2]
["ALE4031","EXIGENCIA ALEMAN II",3,34,33,2,6.0606060606060608E-2,1,2.9411764705882353E-2,8.8235294117647065E-2]
["CBM6070","FUND BIOLOG DEL CUIDADO I",2,34,34,3,8.8235294117647065E-2,0,0,8.8235294117647065E-2]
["CBM4050","SISTEMA ENDOCRINO",6,148,146,11,7.5342465753424653E-2,2,1.3513513513513514E-2,8.7837837837837843E-2]
["LEY4815","ACCIONES PUBLICAS Y PROC ADM",2,46,44,2,4.5454545454545456E-2,2,4.3478260869565216E-2,8.6956521739130432E-2]
["SCO4050","SEMINARIO DE GLOBALIZACION",1,23,22,1,4.5454545454545456E-2,1,4.3478260869565216E-2,8.6956521739130432E-2]
["EDU4543","DESARROLLO SOCIOAFECTIVO",1,23,22,1,4.5454545454545456E-2,1,4.3478260869565216E-2,8.6956521739130432E-2]
["ECO8735","PENSAMIENTO ECONOMICO I",1,23,22,1,4.5454545454545456E-2,1,4.3478260869565216E-2,8.6956521739130432E-2]
["CBM6072","FUNDAMENTOS BIOLOG CUIDADO III",1,23,23,2,8.6956521739130432E-2,0,0,8.6956521739130432E-2]
["CSO0006","FUNDAMENTOS DE ANTROPOLOGIA",5,173,166,8,4.8192771084337352E-2,7,4.046242774566474E-2,8.6705202312138727E-2]
["PSI0111","INV EN CIENCIAS SOCIALES",4,139,133,6,4.5112781954887216E-2,6,4.3165467625899283E-2,8.6330935251798566E-2]
["PSI0013","EVALUACION PSICOLOGICA",2,58,56,3,5.3571428571428568E-2,2,3.4482758620689655E-2,8.6206896551724144E-2]
["CSV0075","BIODIVERSIDAD Y SOCIEDAD",3,93,90,5,5.5555555555555552E-2,3,3.2258064516129031E-2,8.6021505376344093E-2]
["FRA1030","EXIGENCIA DE FRANCES III",3,70,66,2,3.0303030303030304E-2,4,5.7142857142857141E-2,8.5714285714285715E-2]
["IGL4920","EXIGENCIA INGLES VII",23,473,453,20,4.4150110375275942E-2,20,4.2283298097251586E-2,8.4566596194503171E-2]
["FRA1010","EXIGENCIA DE FRANCES I",5,72,67,1,1.4925373134328358E-2,5,6.9444444444444448E-2,8.3333333333333329E-2]
["CSO0080","QUIENES SOMOS?MIRADA-EVOLUC",2,60,56,1,1.7857142857142856E-2,4,6.6666666666666666E-2,8.3333333333333329E-2]
["DIS0022","IDEACION Y CREATIVIDAD",2,60,57,2,3.5087719298245612E-2,3,0.05,8.3333333333333329E-2]
["PSI0115","PENSAMIENTO Y LENGUAJE",3,72,70,4,5.7142857142857141E-2,2,2.7777777777777776E-2,8.3333333333333329E-2]
["ECO8733","ECONOMETRIA I",1,12,11,0,0,1,8.3333333333333329E-2,8.3333333333333329E-2]
["IGL4940","INGLES CIENCIAS SALUD III",3,48,48,4,8.3333333333333329E-2,0,0,8.3333333333333329E-2]
["ECO4145","PENSAMIENTO ECONOMICO II",1,12,12,1,8.3333333333333329E-2,0,0,8.3333333333333329E-2]
["POL4270","INTRODUC A LA ADMON PUBLICA",1,12,12,1,8.3333333333333329E-2,0,0,8.3333333333333329E-2]
["FRA1020","EXIGENCIA DE FRANCES II",4,73,71,4,5.6338028169014086E-2,2,2.7397260273972601E-2,8.2191780821917804E-2]
["IME7192","DISEÑO SISTEMAS TERMO FLUIDO",4,37,36,2,5.5555555555555552E-2,1,2.7027027027027029E-2,8.1081081081081086E-2]
["ICI7171","ACUEDUCTO Y ALCANTARILLADO",3,99,98,7,7.1428571428571425E-2,1,1.0101010101010102E-2,8.0808080808080815E-2]
["IGL4973","INTER RELATIONS ENGLISH VI",2,25,23,0,0,2,0.08,0.08]
["CSV0030","PLANTAS MEDICINALES",2,25,24,1,4.1666666666666664E-2,1,0.04,0.08]
["ECO2061","MICROECONOMIA III",1,25,24,1,4.1666666666666664E-2,1,0.04,0.08]
["IGL8530","EX.INGLES VIII-SOCIAL AND SUST",11,216,210,11,5.2380952380952382E-2,6,2.7777777777777776E-2,7.8703703703703706E-2]
["BIO2040","BIOLOGIA MOLECULAR",7,140,139,10,7.1942446043165464E-2,1,7.1428571428571426E-3,7.857142857142857E-2]
["MDO0011","MARKETING  MANAGEMENT",3,64,59,0,{"$f":"IFERROR(F390/E390,0)","v":0},5,{"$f":"H390/D390","v":7.8125E-2},{"$f":"(H390+F390)/D390","v":7.8125E-2}]
["ADM0189","EVOLUCION  PENSAMIENTO ADTIVO",7,182,173,5,2.8901734104046242E-2,9,4.9450549450549448E-2,7.6923076923076927E-2]
["ELP8012","INTELIGENCIA ARTIFICIAL",1,26,24,0,0,2,7.6923076923076927E-2,7.6923076923076927E-2]
["IEL4010","MAQUINAS ELECTRICAS I",3,26,24,0,0,2,7.6923076923076927E-2,7.6923076923076927E-2]
["CSV0015","BIOLOGIA,GENOMA Y SOCIEDAD",1,26,24,0,0,2,7.6923076923076927E-2,7.6923076923076927E-2]
["CON8070","FUNDAMENTOS DE CONTROL INTERNO",1,39,37,1,2.7027027027027029E-2,2,5.128205128205128E-2,7.6923076923076927E-2]
["IDS0036","APRENDER INDAGAR ACT CONTEXTO.",1,26,25,1,0.04,1,3.8461538461538464E-2,7.6923076923076927E-2]
["IEL4145","SISTEMAS ELECTRONICOS",1,13,12,0,0,1,7.6923076923076927E-2,7.6923076923076927E-2]
["ELP7340","PROYECTO DE GRADO",1,13,12,0,0,1,7.6923076923076927E-2,7.6923076923076927E-2]
["POL4523","TEORIAS DE LA DEMOCRACIA",1,13,12,0,0,1,7.6923076923076927E-2,7.6923076923076927E-2]
["HUM4040","HISTORIA DEL ARTE",1,52,51,3,5.8823529411764705E-2,1,1.9230769230769232E-2,7.6923076923076927E-2]
["ECO8580","EVALUACION DE IMPACTO DE PROG.",1,13,13,1,7.6923076923076927E-2,0,0,7.6923076923076927E-2]
["GPY7181","EVAL. ECON. Y SOCIAL DE PROY.",1,13,13,1,7.6923076923076927E-2,0,0,7.6923076923076927E-2]
["ODO4160","RADIOLOGIA ORAL E IMAGENOLOGIA",1,13,13,1,7.6923076923076927E-2,0,0,7.6923076923076927E-2]
["BIO2030","BIOLOGIA CELULAR",5,104,104,8,7.6923076923076927E-2,0,0,7.6923076923076927E-2]
["FRA4020","EXIGENCIA DE FRANCES VI",4,79,77,4,5.1948051948051951E-2,2,2.5316455696202531E-2,7.5949367088607597E-2]
["CLI0004","CLINICAS MEDICAS I",20,79,79,6,7.5949367088607597E-2,0,0,7.5949367088607597E-2]
["PSI0118","TEND Y AUTORES FEN EXISTENCIAL",2,66,62,1,1.6129032258064516E-2,4,6.0606060606060608E-2,7.575757575757576E-2]
["MAT0020","MATEMATICAS BASICAS",2,80,74,0,0,6,7.4999999999999997E-2,7.4999999999999997E-2]
["HUM7020","LITERATURA COLOMBIANA",3,107,103,4,3.8834951456310676E-2,4,3.7383177570093455E-2,7.476635514018691E-2]
["IGL4100","INGLES CIENCIAS SALUD IV",3,67,65,3,4.6153846153846156E-2,2,2.9850746268656716E-2,7.4626865671641784E-2]
["POL4534","PLANEACION DEL DESARROLLO",2,27,25,0,0,2,7.407407407407407E-2,7.407407407407407E-2]
["INV7366","PROYECTO FINAL",4,68,67,4,5.9701492537313432E-2,1,1.4705882352941176E-2,7.3529411764705885E-2]
["IGL4996","ENGLISH III",3,41,39,1,2.564102564102564E-2,2,4.878048780487805E-2,7.3170731707317069E-2]
["ICI4051","MATERIALES DE CONSTRUCCION",4,55,53,2,3.7735849056603772E-2,2,3.6363636363636362E-2,7.2727272727272724E-2]
["LEY7322","CONSULTORIO JURIDICO III",2,55,53,2,3.7735849056603772E-2,2,3.6363636363636362E-2,7.2727272727272724E-2]
["CBM0012","SISTEMA RESPIRATORIO",4,97,95,5,5.2631578947368418E-2,2,2.0618556701030927E-2,7.2164948453608241E-2]
["EDU0102","LENGUAJES EXPRESIVOS I",1,14,13,0,0,1,7.1428571428571425E-2,7.1428571428571425E-2]
["GEO4029","SEDIMENTOLOGIA Y ROCA SEDIMENT",1,14,13,0,0,1,7.1428571428571425E-2,7.1428571428571425E-2]
["FRA0003","LANGUE FRANC ET CULT FRANC III",1,14,13,0,0,1,7.1428571428571425E-2,7.1428571428571425E-2]
["ECO4618","SOCIEDAD ECONOMIA Y POLITICA",1,14,13,0,0,1,7.1428571428571425E-2,7.1428571428571425E-2]
["MUS4045","ENTRENAMIENTO AUDITIVO IV",1,14,13,0,0,1,7.1428571428571425E-2,7.1428571428571425E-2]
["ICI4280","GEOMETRIA DESCRIPTIVA",2,42,41,2,4.878048780487805E-2,1,2.3809523809523808E-2,7.1428571428571425E-2]
["ALE7071","EXIGENCIA ALEMAN VI",1,14,14,1,7.1428571428571425E-2,0,0,7.1428571428571425E-2]
["ALE4041","EXIGENCIA ALEMAN III",2,14,14,1,7.1428571428571425E-2,0,0,7.1428571428571425E-2]
["EDU4531","DESARROLLO MOTRIZ",1,14,14,1,7.1428571428571425E-2,0,0,7.1428571428571425E-2]
["CBM4040","SISTEMA NERVIOSO",6,169,167,10,5.9880239520958084E-2,2,1.1834319526627219E-2,7.1005917159763315E-2]
["ARQ4035","SISTEMAS ESTRUCTURALES",2,57,53,0,0,4,7.0175438596491224E-2,7.0175438596491224E-2]
["DIS0015","HISTORIA DEL DISEÑO",2,57,55,2,3.6363636363636362E-2,2,3.5087719298245612E-2,7.0175438596491224E-2]
["LEY4690","RELACIONES DE FAMILIA I",2,43,40,0,0,3,6.9767441860465115E-2,6.9767441860465115E-2]
["ECA0060","EDUCACION EN EL CARIBE",2,72,67,0,0,5,6.9444444444444448E-2,6.9444444444444448E-2]
["FIL4020","INTRODUCCION A LA FILOSOFIA",9,347,332,9,2.710843373493976E-2,15,4.3227665706051875E-2,6.9164265129683003E-2]
["DIG0081","TALLER DE REALIZACION",2,29,27,0,0,2,6.8965517241379309E-2,6.8965517241379309E-2]
["ARQ4028","PROYECTO DE GRADO I",4,58,56,2,3.5714285714285712E-2,2,3.4482758620689655E-2,6.8965517241379309E-2]
["POL8170","POLITICA DE LA UNION EUROPEA",1,29,27,0,0,2,6.8965517241379309E-2,6.8965517241379309E-2]
["GEO4015","HIDROGEOLOGIA",1,29,28,1,3.5714285714285712E-2,1,3.4482758620689655E-2,6.8965517241379309E-2]
["CMN7530","CINE E HISTORIA",1,29,29,2,6.8965517241379309E-2,0,0,6.8965517241379309E-2]
["LEY4675","REL DE TRAB Y SEG SOCIAL II",2,58,58,4,6.8965517241379309E-2,0,0,6.8965517241379309E-2]
["ARQ4085","T.CIUDAD I: ESPAC PUB DIS URBA",3,44,41,0,0,3,6.8181818181818177E-2,6.8181818181818177E-2]
["LIN4003","DISCURSO ORAL",2,44,42,1,2.3809523809523808E-2,2,4.5454545454545456E-2,6.8181818181818177E-2]
["SCO1010","INT RELACIONES INTERNALES",1,44,43,2,4.6511627906976744E-2,1,2.2727272727272728E-2,6.8181818181818177E-2]
["IEN7136","MICROCONTROLADORES",2,44,44,3,6.8181818181818177E-2,0,0,6.8181818181818177E-2]
["IST4021","ESTRUCTURA DE DATOS I-IS",3,103,100,4,0.04,3,2.9126213592233011E-2,6.7961165048543687E-2]
["HIS2550","ENFERMEDADES EN EL PASADO",2,59,58,3,5.1724137931034482E-2,1,1.6949152542372881E-2,6.7796610169491525E-2]
["IME4214","TURBOMAQUINAS",1,30,28,0,0,2,6.6666666666666666E-2,6.6666666666666666E-2]
["IST7191","REDES DE COMPUTACION",3,60,58,2,3.4482758620689655E-2,2,3.3333333333333333E-2,6.6666666666666666E-2]
["CLT5005","INTRO LENGUAS INDIGENA/CRIOLLA",1,15,14,0,0,1,6.6666666666666666E-2,6.6666666666666666E-2]
["GEO4009","GEOLOGIA AMBIENTAL",1,15,14,0,0,1,6.6666666666666666E-2,6.6666666666666666E-2]
["POL4527","DESCENT Y GOB TERRITORIAL",1,15,14,0,0,1,6.6666666666666666E-2,6.6666666666666666E-2]
["GEO4024","ROCAS IGNEAS",1,15,14,0,0,1,6.6666666666666666E-2,6.6666666666666666E-2]
["POL4335","SEM DE INTEGRACION ECONOMICA",1,15,14,0,0,1,6.6666666666666666E-2,6.6666666666666666E-2]
["CSV1050","QUIMICA Y MEDIO AMBIENTE",1,30,30,2,6.6666666666666666E-2,0,0,6.6666666666666666E-2]
["ODO4180","SISTEMA ESTOMATOGNATICO II",1,15,15,1,6.6666666666666666E-2,0,0,6.6666666666666666E-2]
["ECO8430","ECONOMIA INDUSTRIAL",1,15,15,1,6.6666666666666666E-2,0,0,6.6666666666666666E-2]
["POL4533","PARTIDOS Y SISTEMAS DE PART.",1,15,15,1,{"$f":"IFERROR(F454/E454,0)","v":6.6666666666666666E-2},0,{"$f":"H454/D454","v":0},{"$f":"(H454+F454)/D454","v":6.6666666666666666E-2}]
["HUM0285","LITERATURA LATINOAMERICANA",4,153,151,8,5.2980132450331126E-2,2,1.3071895424836602E-2,6.535947712418301E-2]
["ADM0018","PROJECT MANAGEMENT",4,77,72,0,0,5,6.4935064935064929E-2,6.4935064935064929E-2]
["ARQ4095","T.ARQUITEC II: HAB Y VIVIENDA",5,62,60,2,3.3333333333333333E-2,2,3.2258064516129031E-2,6.4516129032258063E-2]
["DIG0082","METODOLOGIA PROYECTUAL",2,31,30,1,3.3333333333333333E-2,1,3.2258064516129031E-2,6.4516129032258063E-2]
["ARQ4012","PROYECTO DE GRADO II",3,47,45,1,2.2222222222222223E-2,2,4.2553191489361701E-2,6.3829787234042548E-2]
["ADM7510","NEG INTERNALES/COMPETITIVIDAD",3,79,77,3,3.896103896103896E-2,2,2.5316455696202531E-2,6.3291139240506333E-2]
["IST4012","ESTRUCTURA DEL COMPUTADOR I",2,64,62,2,3.2258064516129031E-2,2,3.125E-2,6.25E-2]
["ALE7081","EXIGENCIA ALEMAN VII",2,16,16,1,6.25E-2,0,0,6.25E-2]
["ADM9739","CORPORATE HOLDINGS FISCALITY",1,16,16,1,6.25E-2,0,0,6.25E-2]
["POL4521","TEORIA POLITICA I",1,16,16,1,6.25E-2,0,0,6.25E-2]
["PSI0120","TEND Y AUTORES CONDUCTUALES",3,81,77,1,1.2987012987012988E-2,4,4.9382716049382713E-2,6.1728395061728392E-2]
["CON2016","COSTOS Y PRESUPUESTOS",6,163,156,3,1.9230769230769232E-2,7,4.2944785276073622E-2,6.1349693251533742E-2]
["GEO4025","SENSORES REMOTOS Y SIG",2,33,31,0,0,2,6.0606060606060608E-2,6.0606060606060608E-2]
["POL4285","EVALUACIÓN DEPOLITICAS PÚBLICA",2,33,31,0,0,2,6.0606060606060608E-2,6.0606060606060608E-2]
["LIN4000","ESTUDIOS DEL LENGUAJE I",1,33,32,1,3.125E-2,1,3.0303030303030304E-2,6.0606060606060608E-2]
["FRA0004","LANGUE FRANC ET CULT FRANC IV",2,33,32,1,3.125E-2,1,3.0303030303030304E-2,6.0606060606060608E-2]
["ADM0017","LOGISTICS AND DISTRIBUTION",3,67,63,0,0,4,5.9701492537313432E-2,5.9701492537313432E-2]
["MDO4090","FUNDAMENTOS DE MERCADEO",4,119,117,5,4.2735042735042736E-2,2,1.680672268907563E-2,5.8823529411764705E-2]
["ETI1020","BIOETICA",1,17,16,0,0,1,5.8823529411764705E-2,5.8823529411764705E-2]
["TCH4001","FOREIGN LANG TEACHING II",2,51,50,2,0.04,1,1.9607843137254902E-2,5.8823529411764705E-2]
["LIN4008","DIDACTICA Y LIT CONTEMP",2,34,33,1,3.0303030303030304E-2,1,2.9411764705882353E-2,5.8823529411764705E-2]
["POL4530","GERENCIA PUBLICA",1,17,16,0,0,1,5.8823529411764705E-2,5.8823529411764705E-2]
["PSI0016","PROY CULT PROCESOS PSICOLOGIC",2,51,50,2,0.04,1,1.9607843137254902E-2,5.8823529411764705E-2]
["ENF7883","CUIDADO DE LA MUJER Y DEL NIÑO",3,17,16,0,0,1,5.8823529411764705E-2,5.8823529411764705E-2]
["ENF7188","FAR. APLIC. CUID. MUJER Y NIÑO",3,17,16,0,0,1,5.8823529411764705E-2,5.8823529411764705E-2]
["ENF7189","ENF. SALUD MENTAL Y PSIQ.",3,17,16,0,0,1,5.8823529411764705E-2,5.8823529411764705E-2]
["ENF7187","SALUD A COLECTIVOS II",3,17,16,0,0,1,5.8823529411764705E-2,5.8823529411764705E-2]
["IEL7070","ELEMENTOS SISTEMAS DE POTENCIA",1,17,16,0,0,1,5.8823529411764705E-2,5.8823529411764705E-2]
["QUI1070","QUIMICA",8,104,104,6,5.7692307692307696E-2,0,0,5.7692307692307696E-2]
["ECA0030","DIVERSIDAD CULTURAL CARIBE COL",2,70,67,1,1.4925373134328358E-2,3,4.2857142857142858E-2,5.7142857142857141E-2]
["CSV1055","INTRODUCCION A LA NANOTECH.",1,35,33,0,0,2,5.7142857142857141E-2,5.7142857142857141E-2]
["IGL1380","BUSINESS ENGLISH IV",2,35,33,0,0,2,5.7142857142857141E-2,5.7142857142857141E-2]
["DIN7155","DISEÑO Y MERCADEO",2,35,35,2,5.7142857142857141E-2,0,0,5.7142857142857141E-2]
["CAS3020","COMPETENCIA COMUNICATIVA I",23,683,663,19,2.8657616892911009E-2,20,2.9282576866764276E-2,5.7101024890190338E-2]
["ETI8070","ETICA",21,807,782,21,2.6854219948849106E-2,25,3.0978934324659233E-2,5.7001239157372985E-2]
["ELP7195","REDES DE ALTA VELOCIDAD",3,53,50,0,0,3,5.6603773584905662E-2,5.6603773584905662E-2]
["HUM4005","CULTURA CONTEMPORANEA Y GENERO",2,53,53,3,5.6603773584905662E-2,0,0,5.6603773584905662E-2]
["IGL5014","TOPICS IN LITERATURE",2,36,34,0,0,2,5.5555555555555552E-2,5.5555555555555552E-2]
["FIL4050","FILOSOFIA MODERNA II (KANT)",1,18,17,0,0,1,5.5555555555555552E-2,5.5555555555555552E-2]
["MFC8388","EPIDEMIOLOGIA CLINICA",3,18,17,0,0,1,5.5555555555555552E-2,5.5555555555555552E-2]
["CMN7390","MEDIOS MASIVOS Y CONFLICTO",1,18,17,0,0,1,5.5555555555555552E-2,5.5555555555555552E-2]
["ADM0020","FUNDAMENTOS DE ADMON.",1,36,35,1,2.8571428571428571E-2,1,2.7777777777777776E-2,5.5555555555555552E-2]
["DIG0038","PRE-PRENSA E IMPRESIÓN",2,36,35,1,2.8571428571428571E-2,1,2.7777777777777776E-2,5.5555555555555552E-2]
["DIN7090","DISEÑO DIGITAL II",1,18,18,1,5.5555555555555552E-2,0,0,5.5555555555555552E-2]
["IME0010","INT A LA ING. MECANICA",1,18,18,1,5.5555555555555552E-2,0,0,5.5555555555555552E-2]
["AMB4035","SEM MEDIO AMBIENTE Y RELAC INT",1,18,18,1,5.5555555555555552E-2,0,0,5.5555555555555552E-2]
["CMN9011","SEM COMUNIC ORGANIZACIONAL",2,54,54,3,5.5555555555555552E-2,0,0,5.5555555555555552E-2]
["IEL7110","OPER. ECON. SIST. DE POTENCIA",1,18,18,1,5.5555555555555552E-2,0,0,5.5555555555555552E-2]
["ECO8340","ECONOMETRIA II",1,18,18,1,5.5555555555555552E-2,0,0,5.5555555555555552E-2]
["CON8072","AUDITORIA INTERNATIONAL I",1,18,18,1,5.5555555555555552E-2,0,0,5.5555555555555552E-2]
["LEY7312","CONSULTORIO JURIDICO II",2,109,109,6,5.5045871559633031E-2,0,0,5.5045871559633031E-2]
["PSI0112","TECNICAS E INSTRUMENTOS I",3,147,146,7,4.7945205479452052E-2,1,6.8027210884353739E-3,5.4421768707482991E-2]
["LEY7740","DERECHO IMPACTO CINE Y LITERAT",1,37,35,0,0,2,5.4054054054054057E-2,5.4054054054054057E-2]
["IDS0065","COMUNICACION DE LAS CIENCIAS",2,37,35,0,0,2,5.4054054054054057E-2,5.4054054054054057E-2]
["LEY4610","ADMINISTRATIVO II",3,75,73,2,2.7397260273972601E-2,2,2.6666666666666668E-2,5.3333333333333337E-2]
["CBM0008","SISTEMA INMUNOLOGICO",4,95,93,3,3.2258064516129031E-2,2,2.1052631578947368E-2,5.2631578947368418E-2]
["POL4528","DISEÑOS CUALI Y CUANTI",1,19,18,0,0,1,5.2631578947368418E-2,5.2631578947368418E-2]
["GEO4021","PALEONTOLOGIA",1,19,19,1,5.2631578947368418E-2,0,0,5.2631578947368418E-2]
["INV9580","TRABAJO DE GRADO",8,58,57,2,3.5087719298245612E-2,1,1.7241379310344827E-2,5.1724137931034482E-2]
["ETI1031","AUTOCONOCIMIENTO Y FELICIDAD",4,155,151,4,2.6490066225165563E-2,4,2.5806451612903226E-2,5.1612903225806452E-2]
["CMN2070","CULTURA Y COMUNIC ORGANIZAC",1,39,37,0,0,2,5.128205128205128E-2,5.128205128205128E-2]
["ARQ4027","PRINCIPIOS DE CONSTRUCCION",1,39,37,0,0,2,5.128205128205128E-2,5.128205128205128E-2]
["ETI4040","FILOSOFIA MORAL",1,39,38,1,2.6315789473684209E-2,1,2.564102564102564E-2,5.128205128205128E-2]
["ADM5031","ADMON Y CTRL DE CONSTRUCCION",4,138,134,3,{"$f":"IFERROR(F518/E518,0)","v":2.2388059701492536E-2},4,{"$f":"H518/D518","v":2.8985507246376812E-2},{"$f":"(H518+F518)/D518","v":5.0724637681159424E-2}]
["ITA7080","LENGUA Y CULTURA ITALIANA A1.1",2,40,38,0,0,2,0.05,0.05]
["MAT4263","TEORIA DE LA PROBABILIDAD",1,40,38,0,0,2,0.05,0.05]
["PSI1160","INTRODUCCIÓN A LA PSICOLOGIA",2,60,58,1,1.7241379310344827E-2,2,3.3333333333333333E-2,0.05]
["IEL4155","SMART GRIDS",1,20,20,1,0.05,0,0,0.05]
["ODO4055","CLINICA DE ODONTOPEDIATRIA",2,20,20,1,0.05,0,0,0.05]
["IST7111","BASES DE DATOS",2,61,60,2,3.3333333333333333E-2,1,1.6393442622950821E-2,4.9180327868852458E-2]
["DIS0028","CONTRUCCION DE MODELOS",4,82,80,2,2.5000000000000001E-2,2,2.4390243902439025E-2,4.878048780487805E-2]
["FRA7011","EXIGENCIA DE FRANCES VII",2,41,39,0,0,2,4.878048780487805E-2,4.878048780487805E-2]
["INV7363","PROYECTO FINAL",1,41,40,1,2.5000000000000001E-2,1,2.4390243902439025E-2,4.878048780487805E-2]
["ARQ4125","TALLER BASICO 1:FUND DEL DISEÑ",3,41,40,1,2.5000000000000001E-2,1,2.4390243902439025E-2,4.878048780487805E-2]
["IDS0060","CONOCIMIENTO E INVESTIGACION",7,145,142,4,2.8169014084507043E-2,3,2.0689655172413793E-2,4.8275862068965517E-2]
["EST1051","ANÁLISIS DE DATOS EN INGEN II",3,104,103,4,3.8834951456310676E-2,1,9.6153846153846159E-3,4.807692307692308E-2]
["CLT4001","CULTURE & PEACEBUILDING",2,42,40,0,0,2,4.7619047619047616E-2,4.7619047619047616E-2]
["ECO2120","MACROECONOMIA I",1,21,20,0,0,1,4.7619047619047616E-2,4.7619047619047616E-2]
["SCO4000","DIPLOMACIA Y POLITICA INTERNAC",1,21,20,0,0,1,4.7619047619047616E-2,4.7619047619047616E-2]
["ODO4175","SISTEMA ESTOMATOGNATICO I",1,21,21,1,4.7619047619047616E-2,0,0,4.7619047619047616E-2]
["CSO7020","PROB.SOCIEDAD CONTEMPORANEA",3,86,83,1,1.2048192771084338E-2,3,3.4883720930232558E-2,4.6511627906976744E-2]
["CBM0009","SISTEMA RENAL",5,129,128,5,3.90625E-2,1,7.7519379844961239E-3,4.6511627906976744E-2]
["CBM0011","SISTEMA REPRODUCTOR",5,130,129,5,3.875968992248062E-2,1,7.6923076923076927E-3,4.6153846153846156E-2]
["CMN2050","REALIZACION MEDIO AUDIOVISUAL4",6,65,64,2,3.125E-2,1,1.5384615384615385E-2,4.6153846153846156E-2]
["HUM0110","CINE Y LITERATURA CONTEMPORA",1,131,125,0,0,6,4.5801526717557252E-2,4.5801526717557252E-2]
["CMN7240","ANALISIS CINEMATOGRAFICO",2,66,64,1,1.5625E-2,2,3.0303030303030304E-2,4.5454545454545456E-2]
["IDS0040","CIBERETICA",1,22,21,0,0,1,4.5454545454545456E-2,4.5454545454545456E-2]
["CMN1150","REALIZACION MEDIO AUDIOVISUAL1",4,44,43,1,2.3255813953488372E-2,1,2.2727272727272728E-2,4.5454545454545456E-2]
["ODO4060","CLINICA DE PERIODONCIA II",6,22,22,1,4.5454545454545456E-2,0,0,4.5454545454545456E-2]
["ODO4130","OPERATORIA DENTAL",2,22,22,1,4.5454545454545456E-2,0,0,4.5454545454545456E-2]
["IGL4941","INGLES CIENCIAS SALUD I",2,45,43,0,0,2,4.4444444444444446E-2,4.4444444444444446E-2]
["CSV0040","FUNDAMENTO DE FISICA",3,68,65,0,0,3,4.4117647058823532E-2,4.4117647058823532E-2]
["POR9055","PORTUGUES 1",1,23,22,0,0,1,4.3478260869565216E-2,4.3478260869565216E-2]
["FRA0002","LANGUE FRANC ET CULT FRANC II",1,23,22,0,0,1,4.3478260869565216E-2,4.3478260869565216E-2]
["HIS2110","REVOLUCIONES EN LA HISTORIA",1,23,22,0,0,1,4.3478260869565216E-2,4.3478260869565216E-2]
["IEL7010","ANALISIS SISTEMAS DE POTENCIA",1,23,22,0,0,1,4.3478260869565216E-2,4.3478260869565216E-2]
["FRA1040","EXIGENCIA DE FRANCES IV",5,94,90,0,0,4,4.2553191489361701E-2,4.2553191489361701E-2]
["PSI7400","PSICOLOGÍA COMUNITARIA",3,94,93,3,3.2258064516129031E-2,1,1.0638297872340425E-2,4.2553191489361701E-2]
["IDS0045","COMO LEER  MEDIOS MASIVOS?",3,119,114,0,0,5,4.2016806722689079E-2,4.2016806722689079E-2]
["DIS0029","ESTETICA Y SEMIOTICA",2,48,47,1,2.1276595744680851E-2,1,2.0833333333333332E-2,4.1666666666666664E-2]
["HIS2100","HISTORIA DE LAS IDEAS POLITICA",1,24,23,0,0,1,4.1666666666666664E-2,4.1666666666666664E-2]
["LEY4620","BIENES DEL COMERCIO",2,73,71,1,1.4084507042253521E-2,2,2.7397260273972601E-2,4.1095890410958902E-2]
["CMN6060","FILOSOFIA Y COMUNICACION",2,49,48,1,2.0833333333333332E-2,1,2.0408163265306121E-2,4.0816326530612242E-2]
["DIS0031","PORTAFOLIO",2,50,48,0,0,2,0.04,0.04]
["LEY3020","INTERNACIONAL PRIVADO",3,100,98,2,2.0408163265306121E-2,2,0.02,0.04]
["IIN9321","ANALIS  MODEL GTION TALEN HUMA",2,75,73,1,1.3698630136986301E-2,2,2.6666666666666668E-2,0.04]
["GEO4020","OCEANOGRAFIA DINAMICA",1,25,24,0,0,1,0.04,0.04]
["GEO4023","RECURSOS MINERALES",2,25,24,0,0,1,0.04,0.04]
["ECO8732","MEDICION ECONOMICA",1,25,24,0,0,1,0.04,0.04]
["ODO4030","CLINICA CIRUGIA ORAL III",1,25,25,1,0.04,0,0,0.04]
["SPB4000","SALUD BASADA EN EVIDENCIA",1,25,25,1,0.04,0,0,0.04]
["ADM3011","GESTION DEL TALENTO HUMANO",2,51,50,1,0.02,1,1.9607843137254902E-2,3.9215686274509803E-2]
["IGL7780","BUSINESS ENGLISH VIII",4,77,74,0,0,3,3.896103896103896E-2,3.896103896103896E-2]
["CBM0004","SISTEMA SANGUINEO",5,129,128,4,3.125E-2,1,7.7519379844961239E-3,3.875968992248062E-2]
["ECO2011","PRINCIPIOS DE MICROECONOMIA",6,181,179,5,2.7932960893854747E-2,2,1.1049723756906077E-2,3.8674033149171269E-2]
["PSI3075","APLIC EN PSICOLOGIA EDUCATIVA",3,52,50,0,0,2,3.8461538461538464E-2,3.8461538461538464E-2]
["IGL0377","ENGLISH FOR NURSING 3",2,26,25,0,0,1,3.8461538461538464E-2,3.8461538461538464E-2]
["GEO4031","SISMOLOGÍA AVANZADA",1,26,25,0,0,1,3.8461538461538464E-2,3.8461538461538464E-2]
["LIN4002","GENEROS DISCURSIVOS Y LENGUAJE",2,26,25,0,0,1,3.8461538461538464E-2,3.8461538461538464E-2]
["LEY4645","ORALIDAD JURIDICA",3,52,51,1,1.9607843137254902E-2,1,1.9230769230769232E-2,3.8461538461538464E-2]
["ODO4080","CLINICA INTEGRAL DEL ADULTO II",2,26,26,1,3.8461538461538464E-2,0,0,3.8461538461538464E-2]
["ECO2021","PRINCIPIOS DE MACROECONOMIA",5,132,129,2,1.5503875968992248E-2,3,2.2727272727272728E-2,3.787878787878788E-2]
["DIG0080","ILUSTRACION",3,53,51,0,0,2,3.7735849056603772E-2,3.7735849056603772E-2]
["POL4524","COMU Y MARKETING POLITICO",2,53,51,0,0,2,3.7735849056603772E-2,3.7735849056603772E-2]
["IGL7090","INGLES CIENCIAS SALUD V",3,53,51,0,0,2,3.7735849056603772E-2,3.7735849056603772E-2]
["LEY4635","FUND DEL DERECHO COMERCIAL",2,53,52,1,1.9230769230769232E-2,1,1.8867924528301886E-2,3.7735849056603772E-2]
["HUM0120","ARTE Y TERAPIA",1,133,129,1,7.7519379844961239E-3,4,3.007518796992481E-2,3.7593984962406013E-2]
["DIN7125","DISEÑO DE INTERIORES",1,27,27,1,{"$f":"IFERROR(F582/E582,0)","v":3.7037037037037035E-2},0,{"$f":"H582/D582","v":0},{"$f":"(H582+F582)/D582","v":3.7037037037037035E-2}]
["FIL7040","PROB. FIL. CONTEMPORANEA I",13,568,554,7,1.263537906137184E-2,14,2.464788732394366E-2,3.6971830985915492E-2]
["IIN8945","ANÁLIS Y EVAL DE PROY DE INVER",2,55,55,2,3.6363636363636362E-2,0,0,3.6363636363636362E-2]
["CSO0110","AMBIENTE,SALUD Y DESARROLLO",1,28,27,0,0,1,3.5714285714285712E-2,3.5714285714285712E-2]
["IME7285","ENERGÍA ALTERNATIVAS",1,28,28,1,3.5714285714285712E-2,0,0,3.5714285714285712E-2]
["POL4310","INST POLITICAS Y CONSTITUCION",1,28,28,1,3.5714285714285712E-2,0,0,3.5714285714285712E-2]
["CBM0006","SISTEMA CARDIOVASCULAR",5,141,140,4,2.8571428571428571E-2,1,7.0921985815602835E-3,3.5460992907801421E-2]
["IME8310","INSTRUMENTACION Y CONTROL",7,57,55,0,0,2,3.5087719298245612E-2,3.5087719298245612E-2]
["IDS0010","DLLO DEL ESPIRITU EMPRENDEDOR",10,348,342,6,1.7543859649122806E-2,6,1.7241379310344827E-2,3.4482758620689655E-2]
["PSI0009","PROYECTOS Y SERVIC PROG PREV",2,29,28,0,0,1,3.4482758620689655E-2,3.4482758620689655E-2]
["ODO4105","INTRODUCCION A LA ODONTOLOGIA",1,29,29,1,3.4482758620689655E-2,0,0,3.4482758620689655E-2]
["ADM0019","STRATEGIC MAGEMENT",3,88,85,0,0,3,3.4090909090909088E-2,3.4090909090909088E-2]
["PSI7450","PSICOLOGIA Y SALUD",2,88,88,3,3.4090909090909088E-2,0,0,3.4090909090909088E-2]
["LIN4007","METOD ENSEÑANZA LENGUA MAT II",3,60,59,1,1.6949152542372881E-2,1,1.6666666666666666E-2,3.3333333333333333E-2]
["HUM0090","ESCRITURA CREATIVA",2,60,59,1,1.6949152542372881E-2,1,1.6666666666666666E-2,3.3333333333333333E-2]
["POL4525","CULTURA POLITICA Y OPINION PUB",1,30,29,0,0,1,3.3333333333333333E-2,3.3333333333333333E-2]
["LEY2055","LEGISLACION EMPRESARIAL",2,91,91,3,3.2967032967032968E-2,0,0,3.2967032967032968E-2]
["IEN7220","ELECTRONICA III",2,31,30,0,0,1,3.2258064516129031E-2,3.2258064516129031E-2]
["IST7122","DISEÑO DEL SOFTWARE II",2,62,61,1,1.6393442622950821E-2,1,1.6129032258064516E-2,3.2258064516129031E-2]
["IDS0051","PEN. COMPUTACIONAL PARA TODOS",1,31,31,1,3.2258064516129031E-2,0,0,3.2258064516129031E-2]
["IGL4975","INTER RELATIONS ENGLISH V",2,31,31,1,3.2258064516129031E-2,0,0,3.2258064516129031E-2]
["CSV0050","ENERGIA MEDIO AMBIENTE Y SOC",3,64,62,0,0,2,3.125E-2,3.125E-2]
["HIS2070","HRIA POLITICA ECON- COLOMBIA",1,32,31,0,0,1,3.125E-2,3.125E-2]
["HUM0030","MÚSICA Y CINE",1,32,31,0,0,1,3.125E-2,3.125E-2]
["ENF7174","PROCESO DE ATENCION EN ENF",2,32,32,1,3.125E-2,0,0,3.125E-2]
["DIG4024","FOTOGRAFIA PUBLICITARIA",3,64,64,2,3.125E-2,0,0,3.125E-2]
["PSI0117","PERCEPCION Y ATENCION",2,66,64,0,0,2,3.0303030303030304E-2,3.0303030303030304E-2]
["SCO4110","COOPERACION INTER PAZ DD HH",2,33,32,0,0,1,3.0303030303030304E-2,3.0303030303030304E-2]
["POR4050","EXIGENCIA PORTUGUES I",2,33,33,1,3.0303030303030304E-2,0,0,3.0303030303030304E-2]
["DIG4081","FUNDAMENTOS DE PUBLICIDAD",2,33,33,1,3.0303030303030304E-2,0,0,3.0303030303030304E-2]
["PSI4140","PSICOPATOLOGIA",3,66,66,2,3.0303030303030304E-2,0,0,3.0303030303030304E-2]
["PSI1260","NEUROPSICOLOGÍA",3,100,98,1,1.020408163265306E-2,2,0.02,0.03]
["IIN7030","DIS. DE SISTEMAS PRODUCTIVOS",3,101,99,1,1.0101010101010102E-2,2,1.9801980198019802E-2,2.9702970297029702E-2]
["PSI4130","PSICOLOGIA EDUCATIVA",3,102,101,2,1.9801980198019802E-2,1,9.8039215686274508E-3,2.9411764705882353E-2]
["IGL5011","ENGLISH LANGUAGE IV",2,34,34,1,2.9411764705882353E-2,0,0,2.9411764705882353E-2]
["ADM0061","INT. STRATEGIC NEGOTIATION",2,35,34,0,0,1,2.8571428571428571E-2,2.8571428571428571E-2]
["HIS0020","ESTUDIOS SOBRE INFANCIA  MUNDO",2,71,70,1,1.4285714285714285E-2,1,1.4084507042253521E-2,2.8169014084507043E-2]
["ODO4005","BIOESTRUCTURA DENTAL  OCLUS I",2,36,36,1,2.7777777777777776E-2,0,0,2.7777777777777776E-2]
["BIO4045","BIOFISICA (ODO)",1,36,36,1,2.7777777777777776E-2,0,0,2.7777777777777776E-2]
["CMN6051","COMUNICACION Y POLITICA",2,74,72,0,0,2,2.7027027027027029E-2,2.7027027027027029E-2]
["ADM0056","INTERNATIONAL INTEGRATION",2,37,36,0,0,1,2.7027027027027029E-2,2.7027027027027029E-2]
["SCO4090","TEORIA DE LAS REL INTERNAC II",2,37,36,0,0,1,2.7027027027027029E-2,2.7027027027027029E-2]
["PSI0001","FUND SOC DE LA PSICOLOGIA",4,112,112,3,2.6785714285714284E-2,0,0,2.6785714285714284E-2]
["CLI0014","CLINICAS PEDIATRICAS",16,113,113,3,2.6548672566371681E-2,0,0,2.6548672566371681E-2]
["CLI7040","INT A LA SEMIOLOGIA Y LA PRACT",3,151,149,2,1.3422818791946308E-2,2,1.3245033112582781E-2,2.6490066225165563E-2]
["MAT1190","MATEMA.Y EL MUNDO DE LA VIDA",1,38,37,0,0,1,2.6315789473684209E-2,2.6315789473684209E-2]
["IST7072","DISEÑO DIGITAL",1,38,37,0,0,1,2.6315789473684209E-2,2.6315789473684209E-2]
["CMN8130","TEORIA DE LA COMUNICACION 3",1,38,37,0,0,1,2.6315789473684209E-2,2.6315789473684209E-2]
["ADM0022","DESARROLLO ORGANIZACIONAL",3,76,76,2,2.6315789473684209E-2,0,0,2.6315789473684209E-2]
["IGL7770","BUSINESS ENGLISH VII",4,78,76,0,0,2,2.564102564102564E-2,2.564102564102564E-2]
["IIN0018","ANALITICA DE DATOS APLICADA",1,39,38,0,0,1,2.564102564102564E-2,2.564102564102564E-2]
["LIN4004","LITERATURA Y CULT LATINOAM",2,39,38,0,0,1,2.564102564102564E-2,2.564102564102564E-2]
["INV4085","SEMINARIO DE INVESTIGACION I",2,39,38,0,0,1,2.564102564102564E-2,2.564102564102564E-2]
["CMN2080","REALIZACION MEDIO AUDIOVISUAL5",6,39,38,0,0,1,2.564102564102564E-2,2.564102564102564E-2]
["HIS7200","HRIA. DE BARRANQUILLA",3,120,117,0,0,3,2.5000000000000001E-2,2.5000000000000001E-2]
["PSI0124","TECNICAS E INSTRUMENTOS II",2,80,78,0,0,2,2.5000000000000001E-2,2.5000000000000001E-2]
["LEY4780","DERECHO TRIBUTARIO",1,40,39,0,0,1,2.5000000000000001E-2,2.5000000000000001E-2]
["IDS0070","INNOVACION Y DLLO SOCIOECO",1,40,39,0,0,1,2.5000000000000001E-2,2.5000000000000001E-2]
["ECA1050","AVES DEL CARIBE COLOMBIANO",7,205,201,1,4.9751243781094526E-3,4,1.9512195121951219E-2,2.4390243902439025E-2]
["DIS0026","TALLER DE EXPRESION II",4,82,81,1,1.2345679012345678E-2,1,1.2195121951219513E-2,2.4390243902439025E-2]
["CMN6041","COMUNICACION Y CULTURA",1,41,40,0,0,1,2.4390243902439025E-2,2.4390243902439025E-2]
["HIS4002","HISTORIA INTRO ARQ Y URBANISMO",2,41,41,1,2.4390243902439025E-2,0,0,2.4390243902439025E-2]
["IIN0010","INT A LA ING. INDUSTRIAL",1,42,41,0,0,1,2.3809523809523808E-2,2.3809523809523808E-2]
["CMN1030","TEORIA COMUNICACION I",1,42,41,0,0,1,2.3809523809523808E-2,2.3809523809523808E-2]
["HUM7040","LITERATURA NO HISPANICA",4,211,208,2,{"$f":"IFERROR(F646/E646,0)","v":9.6153846153846159E-3},3,{"$f":"H646/D646","v":1.4218009478672985E-2},{"$f":"(H646+F646)/D646","v":2.3696682464454975E-2}]
["PSI0122","PSICOLOGIA DEL DESARROLLO II",3,85,84,1,1.1904761904761904E-2,1,1.1764705882352941E-2,2.3529411764705882E-2]
["ADM0054","DISTRIBUCION FISICA INTER.",2,43,42,0,0,1,2.3255813953488372E-2,2.3255813953488372E-2]
["ADM7490","NEGOCIOS Y CULTURAS GLOBALES",3,87,85,0,0,2,2.2988505747126436E-2,2.2988505747126436E-2]
["IGL4979","INTER RELATIONS ENGLISH VIII",2,44,43,0,0,1,2.2727272727272728E-2,2.2727272727272728E-2]
["ART0020","FOTOGRAFIA Y LABORATORIO",3,89,87,0,0,2,2.247191011235955E-2,2.247191011235955E-2]
["IGL4942","INGLES CIENCIAS SALUD II",2,45,44,0,0,1,2.2222222222222223E-2,2.2222222222222223E-2]
["ADM8800","INTERNATIONAL TRADE MANAGEMENT",3,92,90,0,0,2,2.1739130434782608E-2,2.1739130434782608E-2]
["ADM7420","INTELIGENCIA MERCAD INTERNALES",2,47,46,0,0,1,2.1276595744680851E-2,2.1276595744680851E-2]
["FIN4228","GESTION FINANCIERA",5,190,186,0,0,4,2.1052631578947368E-2,2.1052631578947368E-2]
["CLI0012","SEMIOLOGIA",1,95,93,0,0,2,2.1052631578947368E-2,2.1052631578947368E-2]
["ADM0059","INTERNATIONAL EXPORT PLAN",3,98,96,0,0,2,2.0408163265306121E-2,2.0408163265306121E-2]
["HIS4115","HIST ARQUITECTURA:ANTIG Y CLAS",2,49,48,0,0,1,2.0408163265306121E-2,2.0408163265306121E-2]
["CMN9040","ARGUMENTACIÓN PERIODÍSTICA",2,50,50,1,0.02,0,0,0.02]
["DIS0030","IDENTIDAD GLOBAL",3,52,52,1,1.9230769230769232E-2,0,0,1.9230769230769232E-2]
["IEL4045","CONTROL AUTOMÁTICO",3,52,52,1,1.9230769230769232E-2,0,0,1.9230769230769232E-2]
["ADM4471","CREACION DE EMPRESAS",6,157,154,0,0,3,1.9108280254777069E-2,1.9108280254777069E-2]
["DIG0033","DISEÑO DIGITAL II",2,53,53,1,1.8867924528301886E-2,0,0,1.8867924528301886E-2]
["LEY4320","MECANISMOS ALTERNOS",4,110,108,0,0,2,1.8181818181818181E-2,1.8181818181818181E-2]
["PSI4080","APLIC EN PSICOLOGIA SOCIAL",3,56,55,0,0,1,1.7857142857142856E-2,1.7857142857142856E-2]
["LEY4625","CONTRATACION ESTATAL",3,114,112,0,0,2,1.7543859649122806E-2,1.7543859649122806E-2]
["DIG0039","REALIZACION AUDIVISUAL II",3,57,57,1,1.7543859649122806E-2,0,0,1.7543859649122806E-2]
["PSI0121","TEND Y AUTORES PSICODINAMICOS",3,117,115,0,0,2,1.7094017094017096E-2,1.7094017094017096E-2]
["PSI7440","APLIC PSICOLOGIA ORGANIZACONAL",3,59,58,0,0,1,1.6949152542372881E-2,1.6949152542372881E-2]
["FIL4110","FILOSOFIA DEL DERECHO",3,60,59,0,0,1,1.6666666666666666E-2,1.6666666666666666E-2]
["LEY0006","DERECHO COMERCIAL INTER.",2,60,59,0,0,1,1.6666666666666666E-2,1.6666666666666666E-2]
["MFC0001","LAB. PROM. DE LA SALUD Y PREV.",21,123,122,1,8.1967213114754103E-3,1,8.130081300813009E-3,1.6260162601626018E-2]
["DIG4023","DISEÑO EN MOVIMIENTO",3,62,61,0,0,1,1.6129032258064516E-2,1.6129032258064516E-2]
["PSI7460","APLIC PSICOLOGIA Y SALUD",3,62,61,0,0,1,1.6129032258064516E-2,1.6129032258064516E-2]
["MFC0002","PROMOC. DE LA SALUD Y PREV.(T)",4,125,124,1,8.0645161290322578E-3,1,8.0000000000000002E-3,1.6E-2]
["DIG4026","ILUSTRACION I",3,63,63,1,1.5873015873015872E-2,0,0,1.5873015873015872E-2]
["CMN1060","SEMIÓTICA Y COMUNICACIÓN",2,64,63,0,0,1,1.5625E-2,1.5625E-2]
["PSI0113","PSICOLOGIA DEL DESARROLLO I",2,65,65,1,1.5384615384615385E-2,0,0,1.5384615384615385E-2]
["FIS1070","BIOFISICA",6,135,134,1,7.462686567164179E-3,1,7.4074074074074077E-3,1.4814814814814815E-2]
["CMN2040","PERIODISMO III",2,68,68,1,1.4705882352941176E-2,0,0,1.4705882352941176E-2]
["ADM2011","PROCESO ADMINISTRATIVO",5,146,145,1,6.8965517241379309E-3,1,6.8493150684931503E-3,1.3698630136986301E-2]
["CMN3090","PERIODISMO V",3,75,74,0,0,1,1.3333333333333334E-2,1.3333333333333334E-2]
["CMN7320","SEM INVEST EN COMUNICACION",2,75,74,0,0,1,1.3333333333333334E-2,1.3333333333333334E-2]
["AMB8607","SEGURIDAD GESTION AMBIENTAL",5,75,74,0,0,1,1.3333333333333334E-2,1.3333333333333334E-2]
["EST4020","BIOESTADISTICA",6,150,149,1,6.7114093959731542E-3,1,6.6666666666666671E-3,1.3333333333333334E-2]
["DIS0032","DISEÑO DIGITAL I",4,75,75,1,1.3333333333333334E-2,0,0,1.3333333333333334E-2]
["IDS0015","CREAC DE EMP DE BASE Y TECNOL",2,76,76,1,1.3157894736842105E-2,0,0,1.3157894736842105E-2]
["MFC7020","EPIDEMIOLOGIA GENERAL",3,79,79,1,1.2658227848101266E-2,0,0,1.2658227848101266E-2]
["PSI0109","PSICOINMUNOLOGIA",3,81,80,0,0,1,1.2345679012345678E-2,1.2345679012345678E-2]
["LEY4455","T.GRAL DEREC INT Y DER INT PUB",3,81,80,0,0,1,1.2345679012345678E-2,1.2345679012345678E-2]
["DIS0024","METODOLOGIA DE DISEÑO",3,82,81,0,0,1,1.2195121951219513E-2,1.2195121951219513E-2]
["CAS0051","EXPRESION ORAL",4,82,81,0,0,1,1.2195121951219513E-2,1.2195121951219513E-2]
["MDO0031","NEGOCIOS INTERNACIONALES",2,83,83,1,1.2048192771084338E-2,0,0,1.2048192771084338E-2]
["ICI8750","INGENIERIA AMBIENTAL",6,87,87,1,1.1494252873563218E-2,0,0,1.1494252873563218E-2]
["ADM0057","GLOBAL BUSINESS PROTOCOL",3,89,88,0,0,1,1.1235955056179775E-2,1.1235955056179775E-2]
["ADM0058","PORT MANAGEMENT",3,90,89,0,0,1,1.1111111111111112E-2,1.1111111111111112E-2]
["PSI0116","MOTIVACION Y EMOCION",3,96,95,0,0,1,1.0416666666666666E-2,1.0416666666666666E-2]
["IDS0020","EMPRENDIMIENTO SOCIAL",2,99,98,0,0,1,1.0101010101010102E-2,1.0101010101010102E-2]
["INV7560","PROYECTO DE GRADO II",4,114,114,1,8.771929824561403E-3,0,0,8.771929824561403E-3]
["MFC8386","FAMILIA, SOCIEDAD Y SALUD",4,131,131,1,7.6335877862595417E-3,0,0,7.6335877862595417E-3]
["SOP7050","SALUD OCUPACIONAL",4,132,132,1,7.575757575757576E-3,0,0,7.575757575757576E-3]
["MUS7175","RECITAL GUITARRA IV",1,1,1,0,0,0,0,0]
["MUS7075","GUITARRA VIII",1,1,1,0,0,0,0,0]
["TCH4002","FOREIGN LANG TEACHING III",2,35,35,0,0,0,0,0]
["HUM4203","LECTURA IMPRESCINDIBLES",1,20,20,0,0,0,0,0]
["IGL0251","INGLES NIVELATORIO ENFERMERIA",1,4,4,0,0,0,0,0]
["ALE0019","DEUTSCHE SPRACHE UND KULT 6",1,12,12,0,0,0,0,0]
["ALE7091","EXIGENCIA ALEMAN  VIII",2,35,35,0,0,0,0,0]
["IGL5015","WRITING STUDIES SEMINAR",1,23,23,0,0,0,0,0]
["DIN7236","ERGONOMIA",1,10,10,0,{"$f":"IFERROR(F710/E710,0)","v":0},0,{"$f":"H710/D710","v":0},{"$f":"(H710+F710)/D710","v":0}]
["CLT4000","LENGUAJE CULT Y GLOBALIZACION",1,26,26,0,0,0,0,0]
["IGL4967","INTER RELATIONS ENGLISH II",1,2,2,0,0,0,0,0]
["FRA0006","LANGUE FRANC ET CULT FRANC VI",2,35,35,0,0,0,0,0]
["HUM4160","SEMINARIO DE ESTETICA",1,9,9,0,0,0,0,0]
["MDO4015","INTER BUSINESS SEMINAR",1,37,37,0,0,0,0,0]
["MUS4105","PIANO / GUITARRA FUNCIONAL IV",1,5,5,0,0,0,0,0]
["IEL1165","PROYECTO FINAL",1,17,17,0,0,0,0,0]
["ODO4120","ODONTOLOGIA LEGAL Y FORENSE",1,18,18,0,0,0,0,0]
["IGL5012","ENGLISH LANGUAGE V",2,31,31,0,0,0,0,0]
["GEO0007","ESTRATIGRAFIA",1,16,16,0,0,0,0,0]
["CLI7160","TERAPEUTICA ANTIMICROBIANA",2,62,62,0,0,0,0,0]
["GEO4019","OCEANOGRAFIA DESCRIPTIVA",1,18,18,0,0,0,0,0]
["FIL2040","SEM DE FILOSOFIA Y ESTUD LITER",1,4,4,0,0,0,0,0]
["ELP4076","INGENIERIA DE RIOS Y COSTAS",1,7,7,0,0,0,0,0]
["HUM4204","FICCION Y GENEROS POPULARES",1,25,25,0,0,0,0,0]
["CON8079","INTERNATIONAL AUDIT II",2,46,46,0,0,0,0,0]
["MUS7361","TECNICAS DE GRABACION I",1,6,6,0,0,0,0,0]
["MDO0024","MANAGEMENT OF INT. SERVICES",1,23,23,0,0,0,0,0]
["IME5650","INT A LA TECN COSTA AFUERA",1,28,28,0,0,0,0,0]
["ODO4085","CLINICA INTEGRAL DEL NIÑO",1,11,11,0,0,0,0,0]
["MUS4115","PRACTICA EN CONJUNTO II",1,16,16,0,0,0,0,0]
["MUS7558","RECITAL JAZZ Y MUSICA POPUL IV",3,3,3,0,0,0,0,0]
["FRA0007","LANGUE FRANC ET CULT FRANC VII",1,16,16,0,0,0,0,0]
["ELP8032","CREACION DE EMPRESAS (I.I)",1,40,40,0,0,0,0,0]
["ELP7272","GEOTECNIA APLICADA",1,16,16,0,0,0,0,0]
["CLT5001","CINE LATINOAMERICANO",1,28,28,0,0,0,0,0]
["DIN7240","TALLER DESARROLLO DE PRODUCTO",1,9,9,0,0,0,0,0]
["ELP8480","GESTIÓN INTEGRADA EN T.I.",1,29,29,0,0,0,0,0]
["EDU0098","DIVERSIDAD E INCLUSION",1,9,9,0,0,0,0,0]
["LIN4009","CONTEXTO EDUCATIVO",2,31,31,0,0,0,0,0]
["ALE0024","DEUTSCHE SPRACHE UND KULT 3",1,6,6,0,0,0,0,0]
["HUM0100","GÉNERO Y DERECHO HUMANO",1,44,44,0,0,0,0,0]
["GEO0005","ROCAS METAMORFICAS",2,16,16,0,0,0,0,0]
["ALE0026","DEUTSCHE SPRACHE UND KULT 7",1,4,4,0,0,0,0,0]
["CSO7045","ENVIRONMENT AND SOCIETY",1,8,8,0,0,0,0,0]
["IME7052","PROYECTOS DE INVESTIGACION",2,49,49,0,0,0,0,0]
["IST7121","DISEÑO DE SOFTWARE I",1,30,30,0,0,0,0,0]
["FIL4090","SEM FIL DEL ACONTECIMIENTO",1,5,5,0,0,0,0,0]
["MUS7010","CANTO III",1,1,1,0,0,0,0,0]
["ELP7029","CORROSION DE LOS MATERIALES",1,17,17,0,0,0,0,0]
["MUS7020","CANTO V",1,1,1,0,0,0,0,0]
["POR4055","EXIGENCIA PORTUGUES II",1,15,15,0,0,0,0,0]
["IGL7760","BUSINESS ENGLISH VI",4,65,65,0,0,0,0,0]
["IME4224","ANALISIS DE FALLA",1,10,10,0,0,0,0,0]
["ETI0040","BIOETICA MD",3,169,169,0,0,0,0,0]
["CBM4150","TOXICOLOGíA",2,57,57,0,0,0,0,0]
["IGL4965","INTER RELATIONS ENGLISH I",3,5,5,0,0,0,0,0]
["MUS7035","CANTO VIII",1,1,1,0,0,0,0,0]
["ENF4110","PRACTICAS ENFERMERIA Y GESTION",2,16,16,0,0,0,0,0]
["MUS7110","PIANO VII",1,1,1,0,0,0,0,0]
["ENF4100","SEGURIDAD Y SALUD EN EL TRABAJ",1,18,18,0,0,0,0,0]
["MUS7520","VIOLIN I",1,1,1,0,0,0,0,0]
["MUS4125","PRACTICA EN CONJUNTO IV",5,6,6,0,0,0,0,0]
["ENF4065","VIVE Y DEJA VIVIR:EL ESTIG VHI",1,13,13,0,0,0,0,0]
["LIN4001","ESTUDIOS DEL LENGUAJE II",2,34,34,0,0,0,0,0]
["MUS4085","MUSICA DEL SIGLO XX Y XXI",1,12,12,0,0,0,0,0]
["ELP0021","MATERIALES INFRAESTRUCTU VIAL",1,23,23,0,0,0,0,0]
["PSI1170","LAB. DE MOTIVACIÓN Y EMOCIÓN",1,1,1,0,0,0,0,0]
["SCO8460","ORDEN Y SEGURIDAD GLOBAL",1,28,28,0,0,0,0,0]
["ADM0026","INTERNAC FINANCE MANAGEMENT",1,13,13,0,0,0,0,0]
["ADM0011","CAPITAL MARKETS",1,14,14,0,0,0,0,0]
["ELP7028","TOPIC AVANZ EN TECNOL Y CONCRE",1,24,24,0,0,0,0,0]
["ADM9738","INTERN TAXES AND INTERN PROCED",1,15,15,0,0,0,0,0]
["CMN0088","EMPRENDER PERIODIS",1,13,13,0,{"$f":"IFERROR(F774/E774,0)","v":0},0,{"$f":"H774/D774","v":0},{"$f":"(H774+F774)/D774","v":0}]
["DIG4022","DIAGRAMACION Y PRODUCCION",3,61,61,0,0,0,0,0]
["CLI9970","DONACION Y TRASPLANTE",2,57,57,0,0,0,0,0]
["DIN7238","LAB DE SISTEMAS Y MECANISMOS",1,8,8,0,0,0,0,0]
["ADM9737","COLOMBIAN TARIFFS AND TAXES",1,15,15,0,0,0,0,0]
["DIN7239","MATERIALES Y PROCESOS",1,8,8,0,0,0,0,0]
["IME7042","GESTIÓN DE ACTIVOS",2,68,68,0,0,0,0,0]
["EDU0101","PEDAGOGIA Y CONTEXTO SOCIOEDUC",1,10,10,0,0,0,0,0]
["EDU0104","EDUC Y NEURODESARROLLO INFANT",1,8,8,0,0,0,0,0]
["ALE0023","DEUTSCHE SPRACHE UND KULT 2",1,6,6,0,0,0,0,0]
["LIN4050","EDICION DE TEXTOS",1,12,12,0,0,0,0,0]
["INV4235","PROYECTO FINAL",3,37,37,0,0,0,0,0]
["GEO4022","PROCESOS COSTEROS",1,23,23,0,0,0,0,0]
["FRA0008","LANGUE FRANC ET CULT FRAN VIII",2,29,29,0,0,0,0,0]
["GEO0003","GEOLOGIA PLANETARIA",1,15,15,0,0,0,0,0]
["MUS7000","CANTO I",1,1,1,0,0,0,0,0]
["FRA7021","EXIGENCIA DE FRANCES VIII",5,85,85,0,0,0,0,0]
["MUS7005","CANTO II",1,1,1,0,0,0,0,0]
["IGL5010","ENGLISH LANGUAGE III",1,17,17,0,0,0,0,0]
["MUS7015","CANTO IV",1,1,1,0,0,0,0,0]
["ALE0017","DEUTSCHE SPRACHE UND KULT 4",1,9,9,0,0,0,0,0]
["MUS7312","HISTORIA DE LA MUSICA III",1,3,3,0,0,0,0,0]
["IGL5009","ENGLISH LANGUAGE II",1,11,11,0,0,0,0,0]
["MUS7532","VIOLIN VII",1,1,1,0,0,0,0,0]
["FIL1080","SEM DE AUTOR I: CULT Y PSICOAN",1,8,8,0,0,0,0,0]
["GEO4006","ESTRATIGRAFIA",1,6,6,0,0,0,0,0]
["HUM4170","SEM EST CONTEMPORANEOS Y CULTU",1,7,7,0,0,0,0,0]
["HUM4150","SEM LITERATURA I (LIT COLOMB)",1,7,7,0,0,0,0,0]
["MUS4110","PRACTICA DE CONJUNTO I",1,7,7,0,0,0,0,0]
["HUM4070","TEORIA DEL ARTE I",1,10,10,0,0,0,0,0]
["AMB4032","GESTION DE RESIDUOS",1,28,28,0,0,0,0,0]
["DIN7070","DISEÑO Y PRODUCCION",1,7,7,0,0,0,0,0]
["IGL4977","INTER RELATIONS ENGLISH VII",1,18,18,0,0,0,0,0]
["DIG4021","TALLER DE TIPOGRAFIA",2,35,35,0,0,0,0,0]
["ELP7196","NETWORKING CON LINUX",1,20,20,0,0,0,0,0]
["EDU0103","EPISTEMOLOGIA DE LA EDUCACION",1,13,13,0,0,0,0,0]
["IGL5008","ENGLISH LANGUAGE I",1,6,6,0,0,0,0,0]
["EDU4145","DIDACTICA DEL PENSAMIENTO ALEA",1,1,1,0,0,0,0,0]
["CBM6073","FUND BIOLOG DEL CUIDADO IV",1,21,21,0,0,0,0,0]
["POR4060","EXIGENCIA PORTUGUES III",1,11,11,0,0,0,0,0]
["CLI7150","NUTRICIÓN",1,31,31,0,0,0,0,0]
["INV7362","PROYECTO FINAL",4,55,55,0,0,0,0,0]
["ADM8795","INTERNATIONAL SALES MANAGEMENT",1,22,22,0,0,0,0,0]
["IST4453","DLLO APLICACIONES WEB FRONTEND",1,34,34,0,0,0,0,0]
["IST4452","DSLLO APLICACIONES WEB BACKEND",1,34,34,0,0,0,0,0]
["ELP4083","CONSTRUCCIONES SOSTENIBLES",1,29,29,0,0,0,0,0]
["MUS7025","CANTO VI",1,1,1,0,0,0,0,0]
["MUS7418","CLARINETE IV",1,1,1,0,0,0,0,0]
["MUS7080","PIANO I",1,1,1,0,0,0,0,0]
["CLT5020","LENGUA Y CULTURA WAYUU",1,5,5,0,0,0,0,0]
["MUS7354","TECNICAS DE COMPOSICION II",1,7,7,0,0,0,0,0]
["CLT4002","DES. PROYECTOS CULT. Y SOC.",2,50,50,0,0,0,0,0]
["MUS7496","VIOLA VII",1,1,1,0,0,0,0,0]
["IGL1360","BUSINESS ENGLISH II",1,18,18,0,0,0,0,0]
["MUS7514","VIOLONCHELO VII",1,1,1,0,0,0,0,0]
["HIS7095","HISTORIA DE LA MUSICA I",1,15,15,0,0,0,0,0]
["MUS4095","PIANO / GUITARRA FUNCIONAL II",3,17,17,0,0,0,0,0]
["MUS7373","TECNOLOGIA MUSICAL",1,9,9,0,0,0,0,0]
["MUS4165","SOLFEO III",1,7,7,0,0,0,0,0]
["MUS7070","GUITARRA VII",1,1,1,0,0,0,0,0]
["MUS4055","FORMA Y ANALISIS II",1,12,12,0,0,0,0,0]
["MUS7353","TECNICAS DE COMPOSICION I",1,8,8,0,0,0,0,0]
["MUS4005","CONCEP MUSICA SIGL XX Y XXI II",1,10,10,0,0,0,0,0]
["MUS7534","VIOLIN VIII",1,1,1,0,0,0,0,0]
["MUS4075","MUSICA DE CAMARA II",2,11,11,0,{"$f":"IFERROR(F838/E838,0)","v":0},0,{"$f":"H838/D838","v":0},{"$f":"(H838+F838)/D838","v":0},2,32,32,1,0]
["CBM9280","DETERMINANTES DE LA SALUD",1,19,19,0,0,0,0,0]
["ODO4025","CIRUGIA ORAL Y MAXILOFACIAL",1,12,12,0,0,0,0,0]
["IEN8515","ANTENAS Y RADIOENLACES",1,16,16,0,0,0,0,0]
["IEL8250","TEMAS ESPEC DE ING. ELECTRICA",1,19,19,0,0,0,0,0]
["MUS4120","PRACTICA EN CONJUNTO III",2,10,10,0,0,0,0,0]
["EDU4546","EXPERIENCIA EN INFANCIA Y ESCU",1,17,17,0,0,0,0,0]
["MUS7155","RECITAL CANTO IV",1,1,1,0,0,0,0,0]
["DIN7010","ESTUDIO DE DISEÑO",1,8,8,0,0,0,0,0]
["MUS7590","RECITAL VIOLIN IV",1,1,1,0,0,0,0,0]
["DIN7020","TALLER DISEÑO TECNOLOGICO",1,11,11,0,0,0,0,0]
["POR4085","EXIGENCIA PORTUGUES VIII",1,16,16,0,0,0,0,0]
["DIN7100","MOD.PARAMET.PROTOTIPADO RAPIDO",1,13,13,0,0,0,0,0]
["POR4075","EXIGENCIA PORTUGUES VI",1,11,11,0,0,0,0,0]
["ADM5215","EMPRENDIMIENTO CORPORATIVO",1,27,27,0,0,0,0,0]
["CLI0005","CLINICAS MEDICAS II Y PSIQ.",20,121,121,0,0,0,0,0]
["ADM9115","INTERNATIONAL INFORMATION SYST",1,11,11,0,0,0,0,0]
["HIS0050","DE LA ANTIGUEDAD AL BARROCO",1,15,15,0,0,0,0,0]
["IEN8430","TELEMATICA",4,34,34,0,0,0,0,0]
["CON8075","INTERNATIONAL ACCOUNTING II",2,39,39,0,0,0,0,0]
["CLI7120","MEDICINA FORENSE",1,103,103,0,0,0,0,0]
["DIG4105","EXPERIENCIA DE MARCA",1,19,19,0,0,0,0,0]
["MDO0021","BRANDING",1,24,24,0,0,0,0,0]
["INV7365","PROYECTO FINAL",1,29,29,0,0,0,0,0]
["MDO0022","COMSUMPTION CULTURE",1,24,24,0,0,0,0,0]
["DIN7060","TALLER PRODUCCION INDUSTRIAL",1,10,10,0,0,0,0,0]
["LEY7332","CONSULTORIO JURIDICO IV",1,37,37,0,0,0,0,0]
["MDO0012","DISTRIBUTION CHANNELS",1,25,25,0,0,0,0,0]
["ADM0053","INT. CONTEMPORARY ANALYSIS",2,39,39,0,0,0,0,0]
["PSI4230","MEDICIÓN Y EVALUACIÓN",2,6,6,0,0,0,0,0]
["CMN7190","COMUNICACION Y DESARROLLO",2,38,38,0,0,0,0,0]
["ADM9772","E-MANAGEMENT",1,7,7,0,0,0,0,0]
["MDO0023","INTERNATIONAL BRAND MANAGEMENT",1,22,22,0,0,0,0,0]
["ADM5235","INTERNAC DE NUEVAS EMPRESAS",1,29,29,0,0,0,0,0]
["ENF7177","ENFERMERIA EN LA EDUCACION",1,25,25,0,0,0,0,0]
["MDO8340","INTERNATIONAL MARKETING",3,72,72,0,0,0,0,0]
["MUS4130","PRACTICA EN CONJUNTO V",6,11,11,0,0,0,0,0]
["CMN9375","PERIODISMO LITERARIO",1,23,23,0,0,0,0,0]
["EST4540","ESTADISTICA CPG",1,20,20,0,0,0,0,0]
["SCO4100","SEM DE CONFLICTO Y PAZ",2,42,42,0,0,0,0,0]
["GEO4001","ANALISIS DE SERIES DE TIEMPO",1,21,21,0,0,0,0,0]
["LEY4300","INTER TRADE AND MARIT LAW SEM",1,36,36,0,0,0,0,0]
["MUS4000","CONCEP MUSICA SIGLO XX Y XXI I",1,7,7,0,0,0,0,0]
["CON8077","INTERNATIONAL ACCOUNTING III",1,29,29,0,0,0,0,0]
["MUS4040","ENTRENAMIENTO AUDITIVO III",1,8,8,0,0,0,0,0]
["CMN0008","SONIDO Y LENGUAJE RADIOFONICO",3,58,58,0,0,0,0,0]
["MUS7448","JAZZ Y MUSICA POPULAR I",8,8,8,0,0,0,0,0]
["POL4529","ENFOQUES EN CIENCIA POL",1,13,13,0,0,0,0,0]
["ODO4140","OSEOINTEGRACION",1,28,28,0,0,0,0,0]
["MUS7454","JAZZ Y MUSICA POPULAR IV",8,8,8,0,0,0,0,0]
["EDU2180","ORGANIZACION CENTRO ESCOLAR",1,10,10,0,0,0,0,0]
["MUS7458","JAZZ Y MUSICA POPULAR VI",10,10,10,0,0,0,0,0]
["INV4536","SEMINARIO DE INVESTIGACION I",1,22,22,0,0,0,0,0]
["MUS7460","JAZZ Y MUSICA POPULAR VII",8,8,8,0,0,0,0,0]
["ADM0023","DEVELOP. AND ORG. CULTURE",1,21,21,0,0,0,0,0]
["MUS7462","JAZZ Y MUSICA POPULAR VIII",1,1,1,0,0,0,0,0]
["CMN2010","PERIODISMO I",2,57,57,0,0,0,0,0]
["MUS4135","PRACTICA EN CONJUNTO VI",5,9,9,0,0,0,0,0]
["ENF7179","FAR. APLICADA CUIDADO ADULTO I",4,32,32,0,0,0,0,0]
["MUS4140","PRACTICA EN CONJUNTO VII",6,12,12,0,0,0,0,0]
["ENF7882","CUIDADO ADULTO II",4,18,18,0,0,0,0,0]
["MUS4145","PRACTICA EN CONJUNTO VIII",7,11,11,0,0,0,0,0]
["ENF7182","FAR APLICADA CUIDADO ADULTO II",4,18,18,0,0,0,0,0]
["ODO4125","ODONTOPEDIATRIA",1,10,10,0,0,0,0,0]
["ODO4000","ANASTESIOLOGIA  ORAL",2,24,24,0,{"$f":"IFERROR(F902/E902,0)","v":0},0,{"$f":"H902/D902","v":0},{"$f":"(H902+F902)/D902","v":0}]
["ENF7172","INTROD.  A LA ENFERMERIA",1,28,28,0,0,0,0,0]
["CMN0011","REALIZACION MEDIOS AUDIOVI VII",1,38,38,0,0,0,0,0]
["ODO4015","CARIOLOGIA",1,13,13,0,0,0,0,0]
["CLI0008","GENETICA CLINICA",2,132,132,0,0,0,0,0]
["ODO4040","CLINICA DE CIRUGIA ORAL II",1,9,9,0,0,0,0,0]
["MUS4180","CONTRAPUNTO Y ARMONIA II",1,8,8,0,0,0,0,0]
["ODO4045","CLINICA DE ENDODONCIA I",6,14,14,0,0,0,0,0]
["ELP8044","PLANEACION Y ORG E-LEARNING",1,31,31,0,0,0,0,0]
["ODO4020","CLINICA DE PERIODONCIA I",6,12,12,0,0,0,0,0]
["MDO4010","INVESTIGACION DE MERCADOS",3,67,67,0,0,0,0,0]
["MUS4070","MUSICA DE CAMARA I",2,10,10,0,0,0,0,0]
["INV7364","PROYECTO FINAL",1,4,4,0,0,0,0,0]
["PSI0012","ENTREVISTA",2,50,50,0,0,0,0,0]
["IIN4300","ESTUDIO DEL TRABAJO",3,41,41,0,0,0,0,0]
["DIN7030","GESTION DEL DISEÑO",1,11,11,0,0,0,0,0]
["IDS0080","TIC INNOVACION Y DLLO SOCIEDAD",2,126,126,0,0,0,0,0]
["ODO4110","MATERIALES DENTALES I",1,19,19,0,0,0,0,0]
["POL8165","POLITICA DE MEDIO ORIENTE",1,39,39,0,0,0,0,0]
["ODO4115","MATERIALES DENTALES II",1,13,13,0,0,0,0,0]
["POL4520","PROCESOS LEGISLATIVOS",1,7,7,0,0,0,0,0]
["EDU4536","JUEGO, LUDICA Y EDUCACIÓN",1,9,9,0,0,0,0,0]
["ODO4135","ORTOPEDIA MAXILAR Y ORTODONCIA",1,18,18,0,0,0,0,0]
["ADM5255","INTROD  GERENCIA EN SALUD (OD)",1,21,21,0,0,0,0,0]
["CMN1170","PERIODISMO II",2,37,37,0,0,0,0,0]
["ADM9774","CORPORATE GOVERNMENT",1,8,8,0,0,0,0,0]
["IEN4150","INSTALACIONES ELECTRICAS",1,9,9,0,0,0,0,0]
["DIN0032","INVESTIGACION DE TENDENCIAS",1,11,11,0,0,0,0,0]
["POL3050","POLITICA EXTERIOR COLOMBIANA",1,21,21,0,0,0,0,0]
["ADM0033","RESPON. SOCIAL EMPRESARIAL",4,79,79,0,0,0,0,0]
["ADM0031","ORG. AND THE SOCIAL SYSTEM",1,21,21,0,0,0,0,0]
["ADM0032","ORGANIZATIONAL DESIGN",1,20,20,0,0,0,0,0]
["PSI0017","PROY  CULT PROB RELEV CONTEX",2,49,49,0,0,0,0,0]
["FRA0001","LANGUE FRANC ET CULT FRANC I",1,16,16,0,0,0,0,0]
["EDU4530","CUIDADO INFANTIL",1,9,9,0,0,0,0,0]
["PSI0014","PROY SERV DIAGN DISEÑO INTERV",1,22,22,0,0,0,0,0]
["ENF7881","CUIDADO DEL ADULTO I",4,32,32,0,0,0,0,0]
["ADM5230","FINANZAS PARA NUEVAS EMPRESAS",1,28,28,0,0,0,0,0]
["PSI4535","PSICOLOGIA APLICADA",1,25,25,0,0,0,0,0]
["POL4522","TEORIA POLITICA II",1,9,9,0,0,0,0,0]
["PSI4250","PSICOLOGÍA DE LOS GRUPOS",3,76,76,0,0,0,0,0]
["ECO4110","DESARROLLO ECONOMICO",1,25,25,0,0,0,0,0]
["PSI1090","PSICOLOGIA EVOLUTIVA",1,31,31,0,0,0,0,0]
["ENF7884","ENFERMERIA Y GESTION",1,11,11,0,0,0,0,0]
["PSI4152","VOLUNTARIADO Y TRANSF. SOCIAL",1,5,5,0,0,0,0,0]
["ADM0052","LOGISTICA Y DISTRIBUCION",3,84,84,0,0,0,0,0]
["POL8160","POLITICA DE ASIA PACIFICO",1,38,38,0,0,0,0,0]
["MUS7452","JAZZ Y MUSICA POPULAR III",3,3,3,0,0,0,0,0]
["BIO4035","BIOLOGIA CELULAR Y MOLECULAR",2,34,34,0,0,0,0,0]
["POL8065","SISTEMAS POLITICOS COMPARADOS",3,45,45,0,0,0,0,0]
["BIO4040","BIOLOGIA CELULAR Y MOLECULAR",2,31,31,0,0,0,0,0]
["QUI4015","QUIMICA GENERAL (ODO)",2,28,28,0,0,0,0,0]
["EDU4541","DLLO DE LENGUAJE EXPRESIVOS I",1,7,7,0,0,0,0,0]
["PSI1320","TEND AUTOR FENOMENOL/ EXISTENC",2,5,5,0,0,0,0,0]
["ENF7183","SALUD A COLECTIVOS I",4,18,18,0,0,0,0,0]
["MFC4075","EPIDEMIOLOGIA GENERAL (ODO)",1,20,20,0,0,0,0,0]
["ADM0021","DERIVATIVE INSTRUMENTS",1,13,13,0,0,0,0,0]
["ADM7210","INT A LA GERENCIA EN SALUD",3,103,103,0,0,0,0,0]
["CON8067","REVISORIA FISCAL",1,22,22,0,0,0,0,0]
["INV0003","INVESTIGACIÓN EN SALUD",1,18,18,0,0,0,0,0]
["MFC8387","PROM SALUD Y PREVENCION ENF",6,32,32,0,0,0,0,0]
["ECO8373","ECONOMIA PUBLICA",1,11,11,0,0,0,0,0]
["INV7550","PROYECTO DE GRADO I",4,121,121,0,0,0,0,0]
["ECO8737","ECONOMIA REGIONAL URBANA",1,17,17,0,0,0,0,0]
["MFC4050","SALUD BASADA EN LA EVIDENCIA",2,60,60,0,{"$f":"IFERROR(F966/E966,0)","v":0},0,{"$f":"H966/D966","v":0},{"$f":"(H966+F966)/D966","v":0}]
["ECO1060","HRIA ECONOMICA GENERAL",1,22,22,0,0,0,0,0]
["INV0004","TRABAJO DE GRADO",1,11,11,0,0,0,0,0]
["PSI1280","PSICOLOGÍA DEL DESARROLLO",1,1,1,0,0,0,0,0]
["IEN8512","CCNA 1",2,24,24,0,0,0,0,0]
["IEN0010","INT A LA ING. ELECTRONICA",1,13,13,0,0,0,0,0]
["CLI6680","MEDICINA DEL DOLOR",1,27,27,0,0,0,0,0]
["INV4095","SEMINARIO DE INVESTIGACION II",1,19,19,0,0,0,0,0]
["CLI0013","CLINICAS GINECOOBSTETRAS",16,132,132,0,0,0,0,0]
["ODO4095","CRECIMIENTO Y DESARROLLO",1,15,15,0,0,0,0,0]
["POL4330","NORTH AMERICAN POLITICS",1,21,21,0,0,0,0,0]
["MUS4160","SOLFEO II",1,17,17,0,0,0,0,0]
["ODO4185","LAB DE DESTREZAS CLINICAS",1,11,11,0,0,0,0,0]
["CLI0011","INTERNADO II",4,111,111,0,0,0,0,0]
["ARQ4025","GESTIÓN URBANA",2,45,45,0,0,0,0,0]
["EDU4538","INVESTIGACION EDUCATIVA II",1,10,10,0,0,0,0,0]
["PSI4210","FUNDAMENTOS/TEORIAS PS SOCIAL",3,4,4,0,0,0,0,0]
["MUS7456","JAZZ Y MUSICA POPULAR V",9,9,9,0,0,0,0,0]
["ARQ4024","CONSTR II INST E INFRAESTRUCTU",2,60,60,0,0,0,0,0]
["PSI1270","PSICOINMUNOLOGÍA",1,2,2,0,0,0,0,0]
["PSI4070","TEORIA DE LA PERSONALIDAD",3,56,56,0,0,0,0,0]
["POR4065","EXIGENCIA PORTUGUES IV",1,14,14,0,0,0,0,0]
["FIN4032","FINANZAS PUBLICAS",1,14,14,0,0,0,0,0]
["IGL4971","INTER RELATIONS ENGLISH IV",1,5,5,0,0,0,0,0]
["CMN1160","REALIZACION MEDIO AUDIOVISUAL2",3,58,58,0,0,0,0,0]
["DIN0031","ERGONOMIA",1,8,8,0,0,0,0,0]
["POL0080","GEOPOLITICA",2,41,41,0,0,0,0,0]
["ECO8736","ECONOMIA INTERNACIONAL",1,10,10,0,0,0,0,0]
["PSI1310","TEND. Y AUTORES PSICODINAMICOS",1,1,1,0,0,0,0,0]
["CMN0013","PRACTICA RADIAL",1,36,36,0,0,0,0,0]
["POL8180","POLÍTICAS PÚBLICAS",2,38,38,0,0,0,0,0]
["EDU7150","TEORIA Y DISEÑO CURRICULAR",1,8,8,0,0,0,0,0]
["POL4010","TEORIA Y ESTRUCTURA DEL ESTADO",1,26,26,0,0,0,0,0]
["EDU4534","MODELOS PEDAGOGICOS",1,13,13,0,0,0,0,0]
["ECO7130","ECONOMIA DEL MEDIO AMBIENTE",1,9,9,0,0,0,0,0]
["LEY4695","RELACIONES DE FAMILIA II",3,103,103,0,0,0,0,0]
["ECO0190","TALLER DE INVESTIGACION",1,3,3,0,0,0,0,0]
["CMN9270","COMUNICACIÓN CORPORATIVA",1,37,37,0,0,0,0,0]
["IEN7065","COMUNICACIONES",2,27,27,0,0,0,0,0]
["POL4230","POLITICA LATINOAMERIC Y CARIBE",1,30,30,0,0,0,0,0]
["IDS0025","CIENCIA TECNOLOGIA Y GENERO",1,14,14,0,0,0,0,0]
["EDU4529","EDUCACION Y APRENDIZAJE",1,9,9,0,0,0,0,0]
["IEN7140","ELECTRONICA DE POTENCIA",1,19,19,0,0,0,0,0]
["LEY4700","RELACIONES DEL COMERCIO",2,25,25,0,0,0,0,0]
["MUS7446","NIVELAT JAZZ Y MUSICA POPULAR",6,6,6,0,0,0,0,0]
["CMN1040","TEORIA COMUNICACION II",2,59,59,0,0,0,0,0]
["DIG4050","T DIS 6- EMPAQUES/PIEZAS PROM",3,55,55,0,0,0,0,0]
["EDU4460","E-LEARNING",1,31,31,0,0,0,0,0]
["ENF7173","ENFERMERIA  BASICO CLINICA",4,29,29,0,0,0,0,0]
["IGL4969","INTER RELATIONS ENGLISH III",1,8,8,0,0,0,0,0]
["INV4131","MODELOS DE INV. -C. SOCIALES-5",4,29,29,0,0,0,0,0]
["ADM9773","MANAGEMENT AND CONTROL",1,6,6,0,0,0,0,0]
["ENF7880","SEMIOLOGIA CLINICA",3,23,23,0,0,0,0,0]
["IEN7123","DISEÑO ELECTRÓNICO",3,38,38,0,0,0,0,0]
["PSI1290","TEND. Y AUTORES COGNITIVOS",2,2,2,0,0,0,0,0]
["ICI7081","CONSTRUCCION",2,42,42,0,0,0,0,0]
["CLI0006","CLINICAS QUIRURGICAS",24,103,103,0,0,0,0,0]
["ECO2130","PRINCIPIOS DE MACROECONOMIA",1,14,14,0,0,0,0,0]
["LEY4615","ARBITRAJE",2,71,71,0,0,0,0,0]
["IEL4011","MAQUINAS ELECTRICAS",3,19,19,0,0,0,0,0]
["EDU4505","EDUCACION INTERCULTURAL",1,31,31,0,0,0,0,0]
["ARQ4016","HISTORIA Y TEORIA MOV MODERNO",1,20,20,0,0,0,0,0]
["Institucional",null,{"$f":"SUM(C6:C1027)","v":2580},{"$f":"SUM(D6:D1027)","v":54724},{"$f":"SUM(E6:E1027)","v":51877},{"$f":"SUM(F6:F1027)","v":2846},{"$f":"F1028/E1028","v":5.4860535497426602E-2},{"$f":"SUM(H6:H1027)","v":2847},{"$f":"H1028/D1028","v":5.2024705796359913E-2},{"$f":"(F1028+H1028)/D1028","v":0.10403113807470214}]
[null,null,null,null,null,{"$f":"SUM(Rep_Arq!D37,Rep_Com!D44,Rep_CsPol!D52,Rep_Eco!D39,Rep_Der!D64,Rep_Dis!D58,Rep_Edu!D47,Rep_Emp!D26,Rep_Enf!D25,Rep_Esp!D23,Rep_Fin!D26,Rep_Fis!D44,Rep_His!D27,Rep_Hum!D38,Rep_Civ!D35,Rep_Sis!D37,Rep_Ind!D33,Rep_Mec!D31,Rep_LegE!D112,Rep_Mat!D42,Rep_Med!D37,Rep_Mer!D31,Rep_Mus!D80,Rep_Odo!D44,Rep_Psi!D57,Rep_Qui!D27,Rep_Sal!D26,Rep_Ele!D48)","v":54724},{"$f":"SUM(Rep_Arq!E37,Rep_Com!E44,Rep_CsPol!E52,Rep_Eco!E39,Rep_Der!E64,Rep_Dis!E58,Rep_Edu!E47,Rep_Emp!E26,Rep_Enf!E25,Rep_Esp!E23,Rep_Fin!E26,Rep_Fis!E44,Rep_His!E27,Rep_Hum!E38,Rep_Civ!E35,Rep_Sis!E37,Rep_Ind!E33,Rep_Mec!E31,Rep_LegE!E112,Rep_Mat!E42,Rep_Med!E37,Rep_Mer!E31,Rep_Mus!E80,Rep_Odo!E44,Rep_Psi!E57,Rep_Qui!E27,Rep_Sal!E26,Rep_Ele!E48)","v":51877},{"$f":"SUM(Rep_Arq!F37,Rep_Com!F44,Rep_CsPol!F52,Rep_Eco!F39,Rep_Der!F64,Rep_Dis!F58,Rep_Edu!F47,Rep_Emp!F26,Rep_Enf!F25,Rep_Esp!F23,Rep_Fin!F26,Rep_Fis!F44,Rep_His!F27,Rep_Hum!F38,Rep_Civ!F35,Rep_Sis!F37,Rep_Ind!F33,Rep_Mec!F31,Rep_LegE!F112,Rep_Mat!F42,Rep_Med!F37,Rep_Mer!F31,Rep_Mus!F80,Rep_Odo!F44,Rep_Psi!F57,Rep_Qui!F27,Rep_Sal!F26,Rep_Ele!F48)","v":2846},{"$f":"SUM(Rep_Arq!G37,Rep_Com!G44,Rep_CsPol!G52,Rep_Eco!G39,Rep_Der!G64,Rep_Dis!G58,Rep_Edu!G47,Rep_Emp!G26,Rep_Enf!G25,Rep_Esp!G23,Rep_Fin!G26,Rep_Fis!G44,Rep_His!G27,Rep_Hum!G38,Rep_Civ!G35,Rep_Sis!G37,Rep_Ind!G33,Rep_Mec!G31,Rep_LegE!G112,Rep_Mat!G42,Rep_Med!G37,Rep_Mer!G31,Rep_Mus!G80,Rep_Odo!G44,Rep_Psi!G57,Rep_Qui!G27,Rep_Sal!G26,Rep_Ele!G48)","v":1.4162373487769488},{"$f":"SUM(Rep_Arq!H37,Rep_Com!H44,Rep_CsPol!H52,Rep_Eco!H39,Rep_Der!H64,Rep_Dis!H58,Rep_Edu!H47,Rep_Emp!H26,Rep_Enf!H25,Rep_Esp!H23,Rep_Fin!H26,Rep_Fis!H44,Rep_His!H27,Rep_Hum!H38,Rep_Civ!H35,Rep_Sis!H37,Rep_Ind!H33,Rep_Mec!H31,Rep_LegE!H112,Rep_Mat!H42,Rep_Med!H37,Rep_Mer!H31,Rep_Mus!H80,Rep_Odo!H44,Rep_Psi!H57,Rep_Qui!H27,Rep_Sal!H26,Rep_Ele!H48)","v":2847}]
["Repitencia de Asignaturas, Mayor o Igual al 30%"]
[{"$f":"Planeación!A1","v":"2023-2"}]
["Codasg","Asignaturas","Total Cursos Abiertos","Número de Cursos con Repitencia >=30%","Matricula Inicial","Matrícula Final","Perdidos","%  Perdidos","Retirados","% Retirados","% Repitencia"]
["MUS7450","JAZZ Y MUSICA POPULAR II",{"$f":"VLOOKUP(A1033,$A$6:$C$1027,3,FALSE)","v":4},1,1,1,1,{"$f":"IFERROR(G1033/F1033,0)","v":1},0,{"$f":"I1033/E1033","v":0},{"$f":"(I1033+G1033)/E1033","v":1},"Ir a Inicio","Ir a Gráfico"]
["ODO4070","CLI  DE REHABILITACION ORAL II",6,1,3,3,3,1,0,0,1]
["PSI0055","PENSAMIENTO Y LENGUAJE",2,1,1,0,0,0,1,1,1]
["MUS7045","GUITARRA II",1,1,1,0,0,0,1,1,1]
["PSI1300","TEND. Y AUTORES CONDUCTUALES",1,1,1,0,0,0,1,1,1]
["FRA1010","EXIGENCIA DE FRANCES I",5,1,1,0,0,0,1,1,1]
["MUS7538","RECITAL CLARINETE II",1,1,1,0,0,0,1,1,1]
["MUS4025","DEL CLASICISMO AL IMPRESIONISM",1,1,3,2,1,0.5,1,0.33333333333333331,0.66666666666666663]
["LEY4710","TEORIA DEL DERECHO PROCESAL",2,2,74,45,18,0.4,29,0.39189189189189189,0.63513513513513509]
["IGL4925","EXIGENCIA INGLES VIII",17,1,7,4,1,0.25,3,0.42857142857142855,0.5714285714285714]
["CLI0009","INTERNADO I",4,1,25,11,0,0,14,0.56000000000000005,0.56000000000000005]
["IEL7250","LINEAS Y REDES DE TRANSMISION",2,1,18,15,7,0.46666666666666667,3,0.16666666666666666,0.55555555555555558]
["MUS4060","FUNDAMENTOS DE TEORIA",1,1,11,9,4,0.44444444444444442,2,0.18181818181818182,0.54545454545454541]
["HIS2041","FUNDAMENTOS DEL MUNDO CONTEM",2,1,30,16,2,0.125,14,0.46666666666666667,0.53333333333333333]
["IIN7050","CTRL Y GEST INT DE LA CALIDAD",8,6,84,64,24,0.375,20,0.23809523809523808,0.52380952380952384]
["LEY4021","OBLIGACIONES II",3,2,58,52,24,0.46153846153846156,6,0.10344827586206896,0.51724137931034486]
["IME7101","TRANSFERENCIA DE CALOR",8,2,14,9,2,0.22222222222222221,5,0.35714285714285715,0.5]
["IME4072","MECANICA DE FLUIDOS",3,1,10,8,3,0.375,2,0.2,0.5]
["IGL4992","ENGLISH I",3,2,6,5,2,0.4,1,0.16666666666666666,0.5]
["ARQ4070","PROYECTO DE GRADO",1,1,2,2,1,0.5,0,0,0.5]
["IGL4990","EXIGENCIA INGLES NIVELATORIO",2,1,2,2,1,0.5,0,0,0.5]
["CLI0004","CLINICAS MEDICAS I",20,1,4,4,2,0.5,0,0,0.5]
["ODO4065","CLI DE REHABILITACION ORAL I",6,2,4,4,2,0.5,0,0,0.5]
["ODO4050","CLINICA DE ENDODONCIA II",6,1,4,4,2,0.5,0,0,0.5]
["IGL4890","EXIGENCIA  INGLES I",7,4,87,78,34,0.4358974358974359,9,0.10344827586206896,0.4942528735632184]
["LEY4660","PROCEDIMIENTO CIVIL  GRAL",3,1,35,20,2,0.1,15,0.42857142857142855,0.48571428571428571]
["IIN7105","SIMULACIÓN",4,3,81,72,30,0.41666666666666669,9,0.1111111111111111,0.48148148148148145]
["ICI7104","ANÁLISIS ESTRUCTURAL",3,2,77,65,25,0.38461538461538464,12,0.15584415584415584,0.48051948051948051]
["IGL0011","BUSINESS ENGLISH I ADM",5,1,23,19,7,0.36842105263157893,4,0.17391304347826086,0.47826086956521741]
["IBA4070","ESTATICA PARA ARQUITECTOS",2,2,46,39,15,0.38461538461538464,7,0.15217391304347827,0.47826086956521741]
["IIN7171","PLAN. PROG Y CTRL PRODUCCION",3,2,57,47,17,0.36170212765957449,10,0.17543859649122806,0.47368421052631576]
["LEY4685","REL DE TRAB Y SEG SOCIAL I",3,1,15,12,4,0.33333333333333331,3,0.2,0.46666666666666667]
["LEY4670","PRUEBAS",{"$f":"VLOOKUP(A1065,$A$6:$C$1027,3,FALSE)","v":2},1,26,24,10,{"$f":"IFERROR(G1065/F1065,0)","v":0.41666666666666669},2,{"$f":"I1065/E1065","v":7.6923076923076927E-2},{"$f":"(I1065+G1065)/E1065","v":0.46153846153846156}]
["ECA0065","MUSICA DE COLOMBIA Y DEL CAR",1,1,26,18,4,0.22222222222222221,8,0.30769230769230771,0.46153846153846156]
["LEY1080","TEORIA Y ORG. DEL ESTADO",3,3,85,62,16,0.25806451612903225,23,0.27058823529411763,0.45882352941176469]
["ECA0020","CARIBE PREHISPANICO",3,2,59,39,7,0.17948717948717949,20,0.33898305084745761,0.4576271186440678]
["IME4030","PROCESOS DE FABRICACION",9,1,11,9,3,0.33333333333333331,2,0.18181818181818182,0.45454545454545453]
["IGL7750","BUSINESS ENGLISH V",4,1,22,16,4,0.25,6,0.27272727272727271,0.45454545454545453]
["FIS1043","FISICA CALOR ONDAS",15,5,100,79,24,0.30379746835443039,21,0.21,0.45]
["MAT4160","ANALISIS MATEMATICO 1",1,1,27,18,3,0.16666666666666666,9,0.33333333333333331,0.44444444444444442]
["CSO7150","SOCIOLOGÍA JURÍDICA",3,1,9,9,4,0.44444444444444442,0,0,0.44444444444444442]
["ICI4083","HIDRAULICA",5,1,9,8,3,0.375,1,0.1111111111111111,0.44444444444444442]
["ECA7000","HRIA. Y CULTURA DEL CARIBE",6,3,77,54,11,0.20370370370370369,23,0.29870129870129869,0.44155844155844154]
["IME1205","CIENCIA DE LOS MATERIALES",11,9,127,88,17,0.19318181818181818,39,0.30708661417322836,0.44094488188976377]
["LEY4705","TEORIA DE LA ARGUMENTACION",3,1,16,14,5,0.35714285714285715,2,0.125,0.4375]
["MAT1101","CALCULO I",8,5,178,137,36,0.26277372262773724,41,0.2303370786516854,0.43258426966292135]
["IEL1021","CIRCUITOS II",3,1,7,5,1,0.2,2,0.2857142857142857,0.42857142857142855]
["CSO0040","GEOGRAFIA UNIVERSAL",2,1,14,11,3,0.27272727272727271,3,0.21428571428571427,0.42857142857142855]
["INV4270","PROYECTO DE GRADO II FILOSOFIA",1,1,7,6,2,0.33333333333333331,1,0.14285714285714285,0.42857142857142855]
["HIS7130","AMERICA  PREHISPANICA",2,2,75,50,7,0.14000000000000001,25,0.33333333333333331,0.42666666666666669]
["IST4360","SOLUCIONES COMP. A PROB.EN ING",7,2,59,40,6,0.15,19,0.32203389830508472,{"$f":"(G1083+I1083)/E1083","v":0.42372881355932202}]
["MAT1100","CALCULO I (ANEC)",6,2,71,55,14,0.25454545454545452,16,0.22535211267605634,{"$f":"(I1084+G1084)/E1084","v":0.42253521126760563}]
["IME4200","MECÁNICA DE SOLIDOS",5,3,98,78,21,0.26923076923076922,20,0.20408163265306123,{"$f":"(G1085+I1085)/E1085","v":0.41836734693877553}]
["GEO4014","GEOQUIMICA",2,1,12,9,2,0.22222222222222221,3,0.25,{"$f":"(I1086+G1086)/E1086","v":0.41666666666666669}]
["MAT4258","CALCULO II (ANEC)",6,3,106,84,22,0.26190476190476192,22,0.20754716981132076,0.41509433962264153]
["IME7070","TERMODINAMICA II",2,2,44,28,2,7.1428571428571425E-2,16,0.36363636363636365,0.40909090909090912]
["ICI4021","DISEÑO DE VÍAS",2,2,77,68,22,0.3235294117647059,9,0.11688311688311688,0.40259740259740262]
["MAT1111","CALCULO II",11,5,189,133,20,0.15037593984962405,56,0.29629629629629628,0.40211640211640209]
["EST7042","ANÁLISIS  DE DATOS EN INGEN I",10,5,132,102,23,0.22549019607843138,30,0.22727272727272727,0.40151515151515149]
["IME8310","INSTRUMENTACION Y CONTROL",7,1,5,3,0,0,2,0.4,0.4]
["IGL4998","ENGLISH IV",3,1,10,8,2,0.25,2,0.2,0.4]
["LEY4680","REL DE TRAB Y SEG SOCIAL III",3,1,28,23,6,0.2608695652173913,5,0.17857142857142858,0.39285714285714285]
["ECO8731","MICROECONOMIA I",1,1,28,19,2,0.10526315789473684,9,0.32142857142857145,0.39285714285714285]
["CAS3030","COMPETENCIA COMUNICATIVA II",37,4,121,111,37,0.33333333333333331,10,8.2644628099173556E-2,0.38842975206611569]
["ICI4011","TOPOGRAFIA Y GEOINFORMACION",{"$f":"VLOOKUP(A1097,$A$6:$C$1027,3,FALSE)","v":4},2,31,27,8,{"$f":"IFERROR(G1097/F1097,0)","v":0.29629629629629628},4,{"$f":"I1097/E1097","v":0.12903225806451613},0.38709677419354838]
["IST7081","SISTEMAS OPERACIONALES",2,1,13,11,3,0.27272727272727271,2,0.15384615384615385,0.38461538461538464]
["ODO4100","ENDODONCIA",2,1,13,13,5,0.38461538461538464,0,0,0.38461538461538464]
["IST2088","ALGORITMIA Y PROGRAMACIÓN I",10,6,237,195,49,0.25128205128205128,42,0.17721518987341772,{"$f":"(G1100+I1100)/E1100","v":0.38396624472573837}]
["MAT4011","ECUACIONES DIFERENCIALES",8,3,102,81,18,0.22222222222222221,21,0.20588235294117646,{"$f":"(I1101+G1101)/E1101","v":0.38235294117647056}]
["ARQ4022","TÉC GRAFICAS IV DOCUMENTACIÓN",3,2,42,32,6,0.1875,10,0.23809523809523808,0.38095238095238093]
["LEY4011","OBLIGACIONES I",2,1,24,17,2,0.11764705882352941,7,0.29166666666666669,0.375]
["IGL1370","BUSINESS ENGLISH III",2,1,8,6,1,0.16666666666666666,2,0.25,0.375]
["EST4071","ANALISIS ESTADISTICO",1,1,16,10,0,0,6,0.375,0.375]
["MAT8630","GEOMETRÍA 2D",2,1,40,28,3,0.10714285714285714,12,0.3,0.375]
["MAT4260","CALCULO III (ANEC)",5,4,150,112,18,0.16071428571428573,38,0.25333333333333335,0.37333333333333335]
["ARQ4026","CONST III TECN AVANZ INDUST",1,1,22,19,5,0.26315789473684209,3,0.13636363636363635,0.36363636363636365]
["EST1031","ESTADISTICA II (AD)",4,2,55,39,4,0.10256410256410256,16,0.29090909090909089,0.36363636363636365]
["EST1062","ESTADISTICA MATEMATICAS",1,1,11,9,2,0.22222222222222221,2,0.18181818181818182,0.36363636363636365]
["IIN7061","INVESTIGACION DE OPERACIONES I",4,4,124,110,31,0.2818181818181818,14,0.11290322580645161,0.36290322580645162]
["ICI7014","INGENIERIA DE TRANSPORTE",3,1,36,35,12,0.34285714285714286,1,2.7777777777777776E-2,0.3611111111111111]
["FIS1023","FÍSICA MECANICA",20,8,161,133,30,0.22556390977443608,28,0.17391304347826086,0.36024844720496896]
["CSV0020","QUIMICA GENERAL",13,1,14,11,2,0.18181818181818182,3,0.21428571428571427,0.35714285714285715]
["IME7095","MODELOS DE SISTEMAS DINÁMICOS",2,2,31,24,4,0.16666666666666666,7,0.22580645161290322,0.35483870967741937]
["LEY4181","PENAL II",3,2,31,28,8,0.2857142857142857,3,9.6774193548387094E-2,0.35483870967741937]
["IBA4061","DINAMICA",3,2,51,38,5,0.13157894736842105,13,0.25490196078431371,0.35294117647058826]
["CON2014","CONTABILIDAD FINANCIERA",6,2,77,61,11,0.18032786885245902,16,0.20779220779220781,0.35064935064935066]
["LEY4600","ADMINISTRATIVO I",2,1,40,28,2,7.1428571428571425E-2,12,0.3,0.35]
["IGL4915","EXIGENCIA  INGLES VI",17,3,69,60,15,0.25,9,0.13043478260869565,0.34782608695652173]
["IGL4895","EXIGENCIA  INGLES II",10,2,41,34,7,0.20588235294117646,7,0.17073170731707318,0.34146341463414637]
["GPY1012","FORM Y EVAL DE PROYECTOS",5,3,115,98,22,0.22448979591836735,17,0.14782608695652175,0.33913043478260868]
["MAT1031","ALGEBRA LINEAL",12,2,80,68,15,0.22058823529411764,12,0.15,0.33750000000000002]
["IME7061","TERMODINAMICA I",6,2,63,46,4,8.6956521739130432E-2,17,0.26984126984126983,{"$f":"(G1124+I1124)/E1124","v":0.33333333333333331}]
["IME4070","MECANICA DE FLUIDOS",2,1,33,25,3,0.12,8,0.24242424242424243,{"$f":"(I1125+G1125)/E1125","v":0.33333333333333331}]
["ARQ4120","TALLER BASICOII: FUND DEL PROY",3,1,15,14,4,0.2857142857142857,1,6.6666666666666666E-2,0.33333333333333331]
["IME7085","DISEÑOS DE SISTEMAS MECANICOS",2,1,12,11,3,0.27272727272727271,1,8.3333333333333329E-2,0.33333333333333331]
["MAT4051","ANALISIS NUMERICO",1,1,9,7,1,0.14285714285714285,2,0.22222222222222221,0.33333333333333331]
["LEY7051","CONTRATOS I",{"$f":"VLOOKUP(A1129,$A$6:$C$1027,3,FALSE)","v":3},1,12,10,2,{"$f":"IFERROR(G1129/F1129,0)","v":0.2},2,{"$f":"I1129/E1129","v":0.16666666666666666},0.33333333333333331]
["IST4330","ESTRUCTURAS DISCRETAS",2,1,30,24,4,0.16666666666666666,6,0.2,0.33333333333333331]
["ELP8260","PROYECTO DE GRADO",1,1,3,2,0,0,1,0.33333333333333331,0.33333333333333331]
["IGL1350","BUSINESS ENGLISH I",1,1,18,15,3,0.2,3,0.16666666666666666,0.33333333333333331]
["MAT4264","TOPOLOGIA",1,1,12,9,1,0.1111111111111111,3,0.25,0.33333333333333331]
["MUS4030","ENTRENAMIENTO AUDITIVO I",1,1,9,7,1,0.14285714285714285,2,0.22222222222222221,0.33333333333333331]
["ODO4090","CLINICA OPERATORIA DENTAL",2,1,6,6,2,0.33333333333333331,0,0,0.33333333333333331]
["PSI0015","PSICOLOGIA DEL DESARROLLO II",1,1,3,3,1,0.33333333333333331,0,0,{"$f":"(G1136+I1136)/E1136","v":0.33333333333333331}]
["LEY2021","TEORIA CONS. E INST. POLITICAS",2,2,89,75,15,0.2,14,0.15730337078651685,{"$f":"(I1137+G1137)/E1137","v":0.3258426966292135}]
["IBA0022","EXPRESION GRAFICA",4,1,34,32,9,0.28125,2,5.8823529411764705E-2,0.3235294117647059]
["CBM4030","FUNDAMENTO CIENCIAS BASICAS MD",8,1,25,24,7,0.29166666666666669,1,0.04,0.32]
["ARQ4072","TALLER DE EXPRESION II",2,1,22,19,4,0.21052631578947367,3,0.13636363636363635,0.31818181818181818]
["IGL4905","EXIGENCIA  INGLES IV",14,1,22,16,1,6.25E-2,6,0.27272727272727271,0.31818181818181818]
["IGL4900","EXIGENCIA  INGLES III",12,1,19,15,2,0.13333333333333333,4,0.21052631578947367,0.31578947368421051]
["IGL0012","BUSINESS ENGLISH II ADM",5,1,16,15,4,0.26666666666666666,1,6.25E-2,0.3125]
["DIG0037","REALIZACION AUDIVISUAL I",2,1,16,15,4,0.26666666666666666,1,6.25E-2,0.3125]
["IEN4020","ELECTRÓNICA I",3,1,13,9,0,0,4,0.30769230769230771,0.30769230769230771]
["IGL8530","EX.INGLES VIII-SOCIAL AND SUST",11,1,13,11,2,0.18181818181818182,2,0.15384615384615385,0.30769230769230771]
["IST7410","COMPILADORES",2,1,40,38,10,0.26315789473684209,2,0.05,0.3]
["MUS4065","GESTION DE PROYECTOS MUSICALES",1,1,10,9,2,0.22222222222222221,1,0.1,0.3]
["MUS4155","SOLFEO I",1,1,10,8,1,0.125,2,0.2,0.3]
["IEL4005","MAQUINAS ELECTRICAS",1,1,10,8,1,0.125,2,0.2,0.3]
["Total",null,{"$f":"SUM(C1033:C1150)","v":564},{"$f":"SUM(D1033:D1150)","v":212},{"$f":"SUM(E1033:E1150)","v":4839},{"$f":"SUM(F1033:F1150)","v":3820},{"$f":"SUM(G1033:G1150)","v":952},{"$f":"G1151/F1151","v":0.24921465968586387},{"$f":"SUM(I1033:I1150)","v":1019},0.21058069849142386,{"$f":"(G1151+I1151)/E1151","v":0.40731556106633604}]

{"sheet":"Graf_Inst","index":4,"n_rows":2,"n_cols":18,"rows_kept":2,"cut":false,"hidden":false,"merged":[[0,0,0,17],[1,0,1,16]]}
["OFICINA DE PLANEACIÓN - INFORMACIÓN Y ESTADÍSTICA "]
[null,null,null,null,null,null,null,null,null,null,null,null,null,null,null,null,null,"Volver"]

{"sheet":"Rep_Arq","index":5,"n_rows":47,"n_cols":13,"rows_kept":47,"cut":false,"hidden":false,"merged":[[38,0,38,10],[39,0,39,10],[0,0,1,9],[9,11,12,12],[2,0,2,9],[3,0,3,9],[5,11,7,12]]}
["OFICINA DE PLANEACIÓN - INFORMACIÓN Y ESTADÍSTICA "]
[]
["Perdidos, Retirados y Repitencia de Asignaturas del Dpto. Arquitectura, Urbanismo y Diseño"]
[{"$f":"Planeación!A1","v":"2023-2"}]
["Codasg","Asignaturas","Total Cursos Abiertos","Matrícula Inicial","Matrícula Final","Perdidos","%  Perdidos","Retirados","% Retirados","% Repitencia"]
["ARQ4070","PROYECTO DE GRADO",1,2,2,1,{"$f":"IFERROR(F6/E6,\"-\")","v":0.5},0,{"$f":"H6/D6","v":0},{"$f":"(F6+H6)/D6","v":0.5},null,"Volver al Índice"]
["ARQ4026","CONST III TECN AVANZ INDUST",1,22,19,5,0.26315789473684209,3,0.13636363636363635,0.36363636363636365]
["ARQ4022","TÉC GRAFICAS IV DOCUMENTACIÓN",3,61,50,6,0.12,11,0.18032786885245902,0.27868852459016391]
["ARQ4050","HABITAT,CLIMA Y MEDIO AMBIENTE",1,39,33,3,9.0909090909090912E-2,6,0.15384615384615385,0.23076923076923078]
["ARQ4023","CONST I ENVOL Y CONF CONSTRUC",1,40,36,5,0.1388888888888889,4,0.1,0.22500000000000001,null,"Ir a Tabla de Repitencia >=30%"]
["ARQ4120","TALLER BASICOII: FUND DEL PROY",3,47,45,6,0.13333333333333333,2,4.2553191489361701E-2,0.1702127659574468]
["ARQ4072","TALLER DE EXPRESION II",2,42,39,4,0.10256410256410256,3,7.1428571428571425E-2,0.16666666666666666]
["HUM0280","SIMBOLOS Y SIGNIFIC  ARQUITEC",1,13,11,0,0,2,0.15384615384615385,0.15384615384615385]
["ARQ4100","T.ARQUITECTURA I: ARQ BASICAS",2,33,31,3,9.6774193548387094E-2,2,6.0606060606060608E-2,0.15151515151515152]
["ARQ4019","TEC GRAFICAS II MODELACION",3,62,56,3,5.3571428571428568E-2,6,9.6774193548387094E-2,0.14516129032258066]
["ARQ4018","TEC GRAFICAS I  REPRESENTACION",2,32,29,1,3.4482758620689655E-2,3,9.375E-2,0.125]
["ARQ4021","TEC GRAFICAS III COMUNICACIÓN",2,26,24,1,4.1666666666666664E-2,2,7.6923076923076927E-2,0.11538461538461539]
["ARQ4014","HISTORIA Y TEORIA - SIGLO XIX",2,61,54,0,0,7,0.11475409836065574,0.11475409836065574]
["ARQ4017","HISTORIA Y TEORIA PENSAM CLASI",2,54,49,1,2.0408163265306121E-2,5,9.2592592592592587E-2,0.1111111111111111]
["ARQ4090","T.ARQUITEC III: EQUIPAMIENTOS",2,27,25,1,0.04,2,7.407407407407407E-2,0.1111111111111111]
["ARQ4013","HIST Y TEORIA LATINOAMERICANA",1,38,34,0,0,4,0.10526315789473684,0.10526315789473684]
["ARQ4011","HISTORIA Y TEORIA VANGUARDIAS",1,29,27,1,3.7037037037037035E-2,2,6.8965517241379309E-2,0.10344827586206896]
["ARQ4071","TALLER DE EXPRESION I",2,41,38,1,2.6315789473684209E-2,3,7.3170731707317069E-2,9.7560975609756101E-2]
["ARQ4080","TALLER CIUDAD II: SOST URBANA",2,22,20,0,0,2,9.0909090909090912E-2,9.0909090909090912E-2]
["ARQ4035","SISTEMAS ESTRUCTURALES",2,57,53,0,0,4,7.0175438596491224E-2,7.0175438596491224E-2]
["ARQ4028","PROYECTO DE GRADO I",4,58,56,2,3.5714285714285712E-2,2,3.4482758620689655E-2,6.8965517241379309E-2]
["ARQ4085","T.CIUDAD I: ESPAC PUB DIS URBA",3,44,41,0,0,3,6.8181818181818177E-2,6.8181818181818177E-2]
["ARQ4095","T.ARQUITEC II: HAB Y VIVIENDA",5,62,60,2,3.3333333333333333E-2,2,3.2258064516129031E-2,6.4516129032258063E-2]
["ARQ4012","PROYECTO DE GRADO II",3,47,45,1,2.2222222222222223E-2,2,4.2553191489361701E-2,6.3829787234042548E-2]
["ARQ4027","PRINCIPIOS DE CONSTRUCCION",1,39,37,0,0,2,5.128205128205128E-2,5.128205128205128E-2]
["ARQ4125","TALLER BASICO 1:FUND DEL DISEÑ",3,41,40,1,2.5000000000000001E-2,1,2.4390243902439025E-2,4.878048780487805E-2]
["HIS4002","HISTORIA INTRO ARQ Y URBANISMO",2,41,41,1,2.4390243902439025E-2,0,0,2.4390243902439025E-2]
["HIS4115","HIST ARQUITECTURA:ANTIG Y CLAS",2,49,48,0,0,1,2.0408163265306121E-2,2.0408163265306121E-2]
["ARQ4024","CONSTR II INST E INFRAESTRUCTU",2,60,60,0,0,0,0,0]
["ARQ4025","GESTIÓN URBANA",2,45,45,0,0,0,0,0]
["ARQ4016","HISTORIA Y TEORIA MOV MODERNO",1,20,20,0,0,0,0,0]
["Total",null,{"$f":"SUM(C6:C36)","v":64},{"$f":"SUM(D6:D36)","v":1254},{"$f":"SUM(E6:E36)","v":1168},{"$f":"SUM(F6:F36)","v":49},{"$f":"F37/E37","v":4.1952054794520549E-2},{"$f":"SUM(H6:H36)","v":86},{"$f":"H37/D37","v":6.8580542264752797E-2},{"$f":"(F37+H37)/D37","v":0.1076555023923445}]
[]
["Repitencia de Asignaturas del Dpto. Arquitectura, Urbanismo y Diseño, Mayor o Igual al 30%"]
[{"$f":"Planeación!A1","v":"2023-2"}]
["Codasg","Asignaturas","Total Cursos Abiertos","Número de Cursos con Repitencia >=30%","Matricula Inicial","Matrícula Final","Perdidos","%  Perdidos","Retirados","% Retirados","% Repitencia"]
["ARQ4070","PROYECTO DE GRADO",{"$f":"VLOOKUP(A42,$A$6:$C$36,3,FALSE)","v":1},1,2,2,1,{"$f":"IFERROR(G42/F42,\"-\")","v":0.5},0,{"$f":"I42/E42","v":0},{"$f":"(G42+I42)/E42","v":0.5},"Ir a Inicio","Ir a Gráfico"]
["ARQ4022","TÉC GRAFICAS IV DOCUMENTACIÓN",{"$f":"VLOOKUP(A43,$A$6:$C$36,3,FALSE)","v":3},2,42,32,6,{"$f":"IFERROR(G43/F43,\"-\")","v":0.1875},10,{"$f":"I43/E43","v":0.23809523809523808},{"$f":"(G43+I43)/E43","v":0.38095238095238093}]
["ARQ4026","CONST III TECN AVANZ INDUST",{"$f":"VLOOKUP(A44,$A$6:$C$36,3,FALSE)","v":1},1,22,19,5,{"$f":"IFERROR(G44/F44,\"-\")","v":0.26315789473684209},3,{"$f":"I44/E44","v":0.13636363636363635},{"$f":"(G44+I44)/E44","v":0.36363636363636365}]
["ARQ4120","TALLER BASICOII: FUND DEL PROY",{"$f":"VLOOKUP(A45,$A$6:$C$36,3,FALSE)","v":3},1,15,14,4,{"$f":"IFERROR(G45/F45,\"-\")","v":0.2857142857142857},1,{"$f":"I45/E45","v":6.6666666666666666E-2},{"$f":"(G45+I45)/E45","v":0.33333333333333331}]
["ARQ4072","TALLER DE EXPRESION II",{"$f":"VLOOKUP(A46,$A$6:$C$36,3,FALSE)","v":2},1,22,19,4,{"$f":"IFERROR(G46/F46,\"-\")","v":0.21052631578947367},3,{"$f":"I46/E46","v":0.13636363636363635},{"$f":"(G46+I46)/E46","v":0.31818181818181818}]
["Total",null,{"$f":"SUM(C42:C46)","v":10},{"$f":"SUM(D42:D46)","v":6},{"$f":"SUM(E42:E46)","v":103},{"$f":"SUM(F42:F46)","v":86},{"$f":"SUM(G42:G46)","v":20},{"$f":"G47/F47","v":0.23255813953488372},{"$f":"SUM(I42:I46)","v":17},{"$f":"I47/E47","v":0.1650485436893204},{"$f":"(G47+I47)/E47","v":0.35922330097087379}]

{"sheet":"Graf_Arq","index":6,"n_rows":2,"n_cols":15,"rows_kept":2,"cut":false,"hidden":false,"merged":[[0,0,0,14],[1,0,1,13]]}
["OFICINA DE PLANEACIÓN - INFORMACIÓN Y ESTADÍSTICA "]
[null,null,null,null,null,null,null,null,null,null,null,null,null,null,"Volver"]

{"sheet":"Rep_Com","index":7,"n_rows":51,"n_cols":13,"rows_kept":51,"cut":false,"hidden":false,"merged":[[5,11,7,12],[9,11,12,12],[46,0,46,10],[47,0,47,10],[0,0,1,9],[2,0,2,9],[3,0,3,9]]}
["OFICINA DE PLANEACIÓN - INFORMACIÓN Y ESTADÍSTICA "]
[]
["Perdidos, Retirados y Repitencia de Asignaturas del Dpto. Comunicación Social"]
[{"$f":"Planeación!A1","v":"2023-2"}]
["Codasg","Asignaturas","Total Cursos Abiertos","Matrícula Inicial","Matrícula Final","Perdidos","%  Perdidos","Retirados","% Retirados","% Repitencia"]
["INV7481","TECNICAS INV EN COMUNICACION",1,39,39,8,{"$f":"IFERROR(F6/E6,\"-\")","v":0.20512820512820512},0,{"$f":"H6/D6","v":0},{"$f":"(F6+H6)/D6","v":0.20512820512820512},null,"Volver al Índice"]
["CMN6080","REALIZACION MEDIO AUDIOVISUAL6",2,79,78,14,0.17948717948717949,1,1.2658227848101266E-2,0.189873417721519]
["CMN7520","GRANDES DIRECTORES DEL CINE",1,12,12,2,0.16666666666666666,0,0,0.16666666666666666]
["CMN1180","REALIZACION MEDIO AUDIOVISUAL3",1,42,42,6,0.14285714285714285,0,0,0.14285714285714285]
["CMN7341","PROY COMUNIC ORGANIZACIONAL",2,76,75,7,9.3333333333333338E-2,1,1.3157894736842105E-2,0.10526315789473684,null,"Ir a Tabla de Repitencia >=30%"]
["CMN2060","PERIODISMO IV",2,39,38,3,7.8947368421052627E-2,1,2.564102564102564E-2,0.10256410256410256]
["CMN9365","COMUNICACIÓN DE MARKETING",1,11,10,0,0,1,9.0909090909090912E-2,9.0909090909090912E-2]
["CMN7530","CINE E HISTORIA",1,29,29,2,6.8965517241379309E-2,0,0,6.8965517241379309E-2]
["CMN9011","SEM COMUNIC ORGANIZACIONAL",2,54,54,3,5.5555555555555552E-2,0,0,5.5555555555555552E-2]
["CMN7390","MEDIOS MASIVOS Y CONFLICTO",1,18,17,0,0,1,5.5555555555555552E-2,5.5555555555555552E-2]
["INV9580","TRABAJO DE GRADO",8,58,57,2,3.5087719298245612E-2,1,1.7241379310344827E-2,5.1724137931034482E-2]
["CMN2070","CULTURA Y COMUNIC ORGANIZAC",1,39,37,0,0,2,5.128205128205128E-2,5.128205128205128E-2]
["CMN2050","REALIZACION MEDIO AUDIOVISUAL4",6,65,64,2,3.125E-2,1,1.5384615384615385E-2,4.6153846153846156E-2]
["CMN1150","REALIZACION MEDIO AUDIOVISUAL1",4,44,43,1,2.3255813953488372E-2,1,2.2727272727272728E-2,4.5454545454545456E-2]
["CMN7240","ANALISIS CINEMATOGRAFICO",2,66,64,1,1.5625E-2,2,3.0303030303030304E-2,4.5454545454545456E-2]
["CMN6060","FILOSOFIA Y COMUNICACION",2,49,48,1,2.0833333333333332E-2,1,2.0408163265306121E-2,4.0816326530612242E-2]
["CMN6051","COMUNICACION Y POLITICA",2,74,72,0,0,2,2.7027027027027029E-2,2.7027027027027029E-2]
["CMN8130","TEORIA DE LA COMUNICACION 3",1,38,37,0,0,1,2.6315789473684209E-2,2.6315789473684209E-2]
["CMN2080","REALIZACION MEDIO AUDIOVISUAL5",6,39,38,0,0,1,2.564102564102564E-2,2.564102564102564E-2]
["CMN6041","COMUNICACION Y CULTURA",1,41,40,0,0,1,2.4390243902439025E-2,2.4390243902439025E-2]
["CMN1030","TEORIA COMUNICACION I",1,42,41,0,0,1,2.3809523809523808E-2,2.3809523809523808E-2]
["ART0020","FOTOGRAFIA Y LABORATORIO",3,89,87,0,0,2,2.247191011235955E-2,2.247191011235955E-2]
["CMN9040","ARGUMENTACIÓN PERIODÍSTICA",2,50,50,1,0.02,0,0,0.02]
["CMN1060","SEMIÓTICA Y COMUNICACIÓN",2,64,63,0,0,1,1.5625E-2,1.5625E-2]
["CMN2040","PERIODISMO III",2,68,68,1,1.4705882352941176E-2,0,0,1.4705882352941176E-2]
["CMN3090","PERIODISMO V",3,75,74,0,0,1,1.3333333333333334E-2,1.3333333333333334E-2]
["CMN7320","SEM INVEST EN COMUNICACION",2,75,74,0,0,1,1.3333333333333334E-2,1.3333333333333334E-2]
["CMN1040","TEORIA COMUNICACION II",2,59,59,0,0,0,0,0]
["CMN1160","REALIZACION MEDIO AUDIOVISUAL2",3,58,58,0,0,0,0,0]
["CMN1170","PERIODISMO II",2,37,37,0,0,0,0,0]
["CMN2010","PERIODISMO I",2,57,57,0,0,0,0,0]
["CMN7190","COMUNICACION Y DESARROLLO",2,38,38,0,0,0,0,0]
["CMN9270","COMUNICACIÓN CORPORATIVA",1,37,37,0,0,0,0,0]
["CMN0008","SONIDO Y LENGUAJE RADIOFONICO",3,58,58,0,0,0,0,0]
["CMN0013","PRACTICA RADIAL",1,36,36,0,0,0,0,0]
["CMN9375","PERIODISMO LITERARIO",1,23,23,0,0,0,0,0]
["CMN0011","REALIZACION MEDIOS AUDIOVI VII",1,38,38,0,0,0,0,0]
["CMN0088","EMPRENDER PERIODIS",1,13,13,0,0,0,0,0]
["Total",null,{"$f":"SUM(C6:C43)","v":81},{"$f":"SUM(D6:D43)","v":1829},{"$f":"SUM(E6:E43)","v":1805},{"$f":"SUM(F6:F43)","v":54},{"$f":"F44/E44","v":2.9916897506925208E-2},{"$f":"SUM(H6:H43)","v":24},{"$f":"H44/D44","v":1.3121924548933843E-2},{"$f":"(F44+H44)/D44","v":4.2646254784034991E-2}]
[]
[]
["Repitencia de Asignaturas del Dpto. Comunicación Social, Mayor o Igual al 30%"]
[{"$f":"Planeación!A1","v":"2023-2"}]
["Codasg","Asignaturas","Total Cursos Abiertos","Número de Cursos con Repitencia >=30%","Matricula Inicial","Matrícula Final","Perdidos","%  Perdidos","Retirados","% Retirados","% Repitencia"]
[null,null,null,null,null,null,null,null,null,null,null,"Ir a Inicio","Ir a Gráfico"]
["Total",null,{"$f":"SUM(C50:C50)","v":0},{"$f":"SUM(D50:D50)","v":0},{"$f":"SUM(E50:E50)","v":0},{"$f":"SUM(F50:F50)","v":0},{"$f":"SUM(G50:G50)","v":0},{"$f":"IFERROR(G51/F51,\"-\")","v":"-"},{"$f":"SUM(I50:I50)","v":0},{"$f":"IFERROR(I51/E51,\"-\")","v":"-"},{"$f":"IFERROR((G51+I51)/E51,\"-\")","v":"-"}]

{"sheet":"Rep_CsPol","index":8,"n_rows":59,"n_cols":13,"rows_kept":59,"cut":false,"hidden":false,"merged":[[5,11,7,12],[9,11,12,12],[54,0,54,10],[55,0,55,10],[0,0,1,9],[2,0,2,9],[3,0,3,9]]}
["OFICINA DE PLANEACIÓN - INFORMACIÓN Y ESTADÍSTICA "]
[]
["Perdidos, Retirados y Repitencia de Asignaturas del Dpto. Cs. Política y Rel. Internacionales"]
[{"$f":"Planeación!A1","v":"2023-2"}]
["Codasg","Asignaturas","Total Cursos Abiertos","Matrícula Inicial","Matrícula Final","Perdidos","%  Perdidos","Retirados","% Retirados","% Repitencia"]
["POL4531","METODOLOGIA",1,7,6,1,{"$f":"IFERROR(F6/E6,\"-\")","v":0.16666666666666666},1,{"$f":"H6/D6","v":0.14285714285714285},{"$f":"(F6+H6)/D6","v":0.2857142857142857},null,"Volver al Índice"]
["POL0030","POLÍTICA COLOMBIANA",1,17,16,2,0.125,1,5.8823529411764705E-2,0.17647058823529413]
["POL4220","POLITICA EXTERIOR COLOMBIANA",1,21,19,1,5.2631578947368418E-2,2,9.5238095238095233E-2,0.14285714285714285]
["POL4532","PARTICIPACION Y PROCESOS ELEC",1,7,6,0,0,1,0.14285714285714285,0.14285714285714285]
["INV4537","SEMINARIO DE INVESTIGACION II",1,16,15,1,6.6666666666666666E-2,1,6.25E-2,0.125,null,"Ir a Tabla de Repitencia >=30%"]
["POL8210","SEMINARIO PROTOCOLO",1,24,21,0,0,3,0.125,0.125]
["SCO4025","TEORIA DE LAS RELACIONES INTER",1,38,35,1,2.8571428571428571E-2,3,7.8947368421052627E-2,0.10526315789473684]
["SCO4015","ORGANISMOS INTERNACIONALES",1,21,20,1,0.05,1,4.7619047619047616E-2,9.5238095238095233E-2]
["POL0010","INTROD A LA CIENCIA POLITICA",1,44,44,4,9.0909090909090912E-2,0,0,9.0909090909090912E-2]
["SCO4050","SEMINARIO DE GLOBALIZACION",1,23,22,1,4.5454545454545456E-2,1,4.3478260869565216E-2,8.6956521739130432E-2]
["POL4270","INTRODUC A LA ADMON PUBLICA",1,12,12,1,8.3333333333333329E-2,0,0,8.3333333333333329E-2]
["POL4523","TEORIAS DE LA DEMOCRACIA",1,13,12,0,0,1,7.6923076923076927E-2,7.6923076923076927E-2]
["POL4534","PLANEACION DEL DESARROLLO",2,27,25,0,0,2,7.407407407407407E-2,7.407407407407407E-2]
["POL8170","POLITICA DE LA UNION EUROPEA",1,29,27,0,0,2,6.8965517241379309E-2,6.8965517241379309E-2]
["SCO1010","INT RELACIONES INTERNALES",1,44,43,2,4.6511627906976744E-2,1,2.2727272727272728E-2,6.8181818181818177E-2]
["POL4533","PARTIDOS Y SISTEMAS DE PART.",1,15,15,1,6.6666666666666666E-2,0,0,6.6666666666666666E-2]
["POL4527","DESCENT Y GOB TERRITORIAL",1,15,14,0,0,1,6.6666666666666666E-2,6.6666666666666666E-2]
["POL4335","SEM DE INTEGRACION ECONOMICA",1,15,14,0,0,1,6.6666666666666666E-2,6.6666666666666666E-2]
["POL4521","TEORIA POLITICA I",1,16,16,1,6.25E-2,0,0,6.25E-2]
["POL4285","EVALUACIÓN DEPOLITICAS PÚBLICA",2,33,31,0,0,2,6.0606060606060608E-2,6.0606060606060608E-2]
["POL4530","GERENCIA PUBLICA",1,17,16,0,0,1,5.8823529411764705E-2,5.8823529411764705E-2]
["AMB4035","SEM MEDIO AMBIENTE Y RELAC INT",1,18,18,1,5.5555555555555552E-2,0,0,5.5555555555555552E-2]
["POL4528","DISEÑOS CUALI Y CUANTI",1,19,18,0,0,1,5.2631578947368418E-2,5.2631578947368418E-2]
["SCO4000","DIPLOMACIA Y POLITICA INTERNAC",1,21,20,0,0,1,4.7619047619047616E-2,4.7619047619047616E-2]
["POL4524","COMU Y MARKETING POLITICO",2,53,51,0,0,2,3.7735849056603772E-2,3.7735849056603772E-2]
["POL4310","INST POLITICAS Y CONSTITUCION",1,28,28,1,3.5714285714285712E-2,0,0,3.5714285714285712E-2]
["POL4525","CULTURA POLITICA Y OPINION PUB",1,30,29,0,0,1,3.3333333333333333E-2,3.3333333333333333E-2]
["SCO4110","COOPERACION INTER PAZ DD HH",2,33,32,0,0,1,3.0303030303030304E-2,3.0303030303030304E-2]
["SCO4090","TEORIA DE LAS REL INTERNAC II",2,37,36,0,0,1,2.7027027027027029E-2,2.7027027027027029E-2]
["INV4085","SEMINARIO DE INVESTIGACION I",2,39,38,0,0,1,2.564102564102564E-2,2.564102564102564E-2]
["POL4010","TEORIA Y ESTRUCTURA DEL ESTADO",1,26,26,0,0,0,0,0]
["POL4230","POLITICA LATINOAMERIC Y CARIBE",1,30,30,0,0,0,0,0]
["POL4330","NORTH AMERICAN POLITICS",1,21,21,0,0,0,0,0]
["SCO4100","SEM DE CONFLICTO Y PAZ",2,42,42,0,0,0,0,0]
["INV4095","SEMINARIO DE INVESTIGACION II",1,19,19,0,0,0,0,0]
["POL4522","TEORIA POLITICA II",1,9,9,0,0,0,0,0]
["POL4520","PROCESOS LEGISLATIVOS",1,7,7,0,0,0,0,0]
["POL4529","ENFOQUES EN CIENCIA POL",1,13,13,0,0,0,0,0]
["INV4536","SEMINARIO DE INVESTIGACION I",1,22,22,0,0,0,0,0]
["POL8165","POLITICA DE MEDIO ORIENTE",1,39,39,0,0,0,0,0]
["POL8180","POLÍTICAS PÚBLICAS",2,38,38,0,0,0,0,0]
["POL8065","SISTEMAS POLITICOS COMPARADOS",3,45,45,0,0,0,0,0]
["POL0080","GEOPOLITICA",2,41,41,0,0,0,0,0]
["POL8160","POLITICA DE ASIA PACIFICO",1,38,38,0,0,0,0,0]
["POL3050","POLITICA EXTERIOR COLOMBIANA",1,21,21,0,0,0,0,0]
["SCO8460","ORDEN Y SEGURIDAD GLOBAL",1,28,28,0,0,0,0,0]
["Total",null,{"$f":"SUM(C6:C51)","v":57},{"$f":"SUM(D6:D51)","v":1171},{"$f":"SUM(E6:E51)","v":1138},{"$f":"SUM(F6:F51)","v":19},{"$f":"F52/E52","v":1.6695957820738138E-2},{"$f":"SUM(H6:H51)","v":33},{"$f":"H52/D52","v":2.8181041844577284E-2},{"$f":"(F52+H52)/D52","v":4.4406490179333902E-2}]
[]
[]
["Repitencia de Asignaturas del Dpto. Cs. Política y Rel. Internacionales, Mayor o Igual al 30%"]
[{"$f":"Planeación!A1","v":"2023-2"},null,null,null,null,null,null,null,null,null,null,"Ir a Inicio","Ir a Gráfico"]
["Codasg","Asignaturas","Total Cursos Abiertos","Número de Cursos con Repitencia >=30%","Matricula Inicial","Matrícula Final","Perdidos","%  Perdidos","Retirados","% Retirados","% Repitencia"]
[]
["Total",null,{"$f":"SUM(C58:C58)","v":0},{"$f":"SUM(D58:D58)","v":0},{"$f":"SUM(E58:E58)","v":0},{"$f":"SUM(F58:F58)","v":0},{"$f":"SUM(G58:G58)","v":0},{"$f":"IFERROR(G59/F59,\"-\")","v":"-"},{"$f":"SUM(I58:I58)","v":0},{"$f":"IFERROR(I59/E59,\"-\")","v":"-"},{"$f":"IFERROR((G59+I59)/E59,\"-\")","v":"-"}]

{"sheet":"Rep_Eco","index":9,"n_rows":46,"n_cols":13,"rows_kept":46,"cut":false,"hidden":false,"merged":[[42,0,42,10],[0,0,1,9],[2,0,2,9],[3,0,3,9],[5,11,7,12],[9,11,12,12],[41,0,41,10]]}
["OFICINA DE PLANEACIÓN - INFORMACIÓN Y ESTADÍSTICA "]
[]
["Perdidos, Retirados y Repitencia de Asignaturas del Dpto. de Economía"]
[{"$f":"Planeación!A1","v":"2023-2"}]
["Codasg","Asignaturas","Total Cursos Abiertos","Matrícula Inicial","Matrícula Final","Perdidos","%  Perdidos","Retirados","% Retirados","% Repitencia"]
["ECO8731","MICROECONOMIA I",1,28,19,2,{"$f":"IFERROR(F6/E6,\"-\")","v":0.10526315789473684},9,{"$f":"H6/D6","v":0.32142857142857145},{"$f":"(F6+H6)/D6","v":0.39285714285714285},null,"Volver al Índice"]
["ECO9000","MICROECONOMIA II",1,28,27,4,0.14814814814814814,1,3.5714285714285712E-2,0.17857142857142858]
["ECO4020","HRIA ECONOMICA DE COLOMBIA",1,6,6,1,0.16666666666666666,0,0,0.16666666666666666]
["ECO7141","DESARROLLO ECONOMICO",1,20,19,2,0.10526315789473684,1,0.05,0.15]
["ECO0010","INTRODUCCION A LA ECONOMIA",7,290,279,29,0.1039426523297491,11,3.793103448275862E-2,0.13793103448275862,null,"Ir a Tabla de Repitencia >=30%"]
["ECO2080","MACROECONOMIA II",1,29,28,3,0.10714285714285714,1,3.4482758620689655E-2,0.13793103448275862]
["CSO0120","INTROD A LA ECONOMIA COLOMB",1,45,45,6,0.13333333333333333,0,0,0.13333333333333333]
["ECA1000","INT A LA ECONOMIA DEL CARIBE",1,38,34,1,2.9411764705882353E-2,4,0.10526315789473684,0.13157894736842105]
["ECO8738","DINAMICA Y PROGRAMACION ECO",1,8,7,0,0,1,0.125,0.125]
["ECO8734","ECONOMIA MONETARIA",1,11,11,1,9.0909090909090912E-2,0,0,9.0909090909090912E-2]
["ECO8735","PENSAMIENTO ECONOMICO I",1,23,22,1,4.5454545454545456E-2,1,4.3478260869565216E-2,8.6956521739130432E-2]
["ECO4145","PENSAMIENTO ECONOMICO II",1,12,12,1,8.3333333333333329E-2,0,0,8.3333333333333329E-2]
["ECO8733","ECONOMETRIA I",1,12,11,0,0,1,8.3333333333333329E-2,8.3333333333333329E-2]
["ECO2061","MICROECONOMIA III",1,25,24,1,4.1666666666666664E-2,1,0.04,0.08]
["GPY7181","EVAL. ECON. Y SOCIAL DE PROY.",1,13,13,1,7.6923076923076927E-2,0,0,7.6923076923076927E-2]
["ECO8580","EVALUACION DE IMPACTO DE PROG.",1,13,13,1,7.6923076923076927E-2,0,0,7.6923076923076927E-2]
["ECO4618","SOCIEDAD ECONOMIA Y POLITICA",1,14,13,0,0,1,7.1428571428571425E-2,7.1428571428571425E-2]
["ECO8430","ECONOMIA INDUSTRIAL",1,15,15,1,6.6666666666666666E-2,0,0,6.6666666666666666E-2]
["ECO8340","ECONOMETRIA II",1,18,18,1,5.5555555555555552E-2,0,0,5.5555555555555552E-2]
["ECO2120","MACROECONOMIA I",1,21,20,0,0,1,4.7619047619047616E-2,4.7619047619047616E-2]
["ECO8732","MEDICION ECONOMICA",1,25,24,0,0,1,0.04,0.04]
["ECO2011","PRINCIPIOS DE MICROECONOMIA",6,181,179,5,2.7932960893854747E-2,2,1.1049723756906077E-2,3.8674033149171269E-2]
["ECO2021","PRINCIPIOS DE MACROECONOMIA",5,132,129,2,1.5503875968992248E-2,3,2.2727272727272728E-2,3.787878787878788E-2]
["IDS0020","EMPRENDIMIENTO SOCIAL",2,99,98,0,0,1,1.0101010101010102E-2,1.0101010101010102E-2]
["ECO1060","HRIA ECONOMICA GENERAL",1,22,22,0,0,0,0,0]
["ECO2130","PRINCIPIOS DE MACROECONOMIA",1,14,14,0,0,0,0,0]
["ECO7130","ECONOMIA DEL MEDIO AMBIENTE",1,9,9,0,0,0,0,0]
["FIN4032","FINANZAS PUBLICAS",1,14,14,0,0,0,0,0]
["ECO8737","ECONOMIA REGIONAL URBANA",1,17,17,0,0,0,0,0]
["ECO8736","ECONOMIA INTERNACIONAL",1,10,10,0,0,0,0,0]
["ECO8373","ECONOMIA PUBLICA",1,11,11,0,0,0,0,0]
["ECO4110","DESARROLLO ECONOMICO",1,25,25,0,0,0,0,0]
["ECO0190","TALLER DE INVESTIGACION",1,3,3,0,0,0,0,0]
["Total",null,{"$f":"SUM(C6:C38)","v":49},{"$f":"SUM(D6:D38)","v":1231},{"$f":"SUM(E6:E38)","v":1191},{"$f":"SUM(F6:F38)","v":63},{"$f":"F39/E39","v":5.2896725440806043E-2},{"$f":"SUM(H6:H38)","v":40},{"$f":"H39/D39","v":3.2493907392363928E-2},{"$f":"(F39+H39)/D39","v":8.3671811535337121E-2}]
[]
[]
["Repitencia de Asignaturas del Dpto. de Economía, Mayor o Igual al 30%"]
[{"$f":"Planeación!A1","v":"2023-2"},null,null,null,null,null,null,null,null,null,null,"Ir a Inicio","Ir a Gráfico"]
["Codasg","Asignaturas","Total Cursos Abiertos","Número de Cursos con Repitencia >=30%","Matricula Inicial","Matrícula Final","Perdidos","%  Perdidos","Retirados","% Retirados","% Repitencia"]
["ECO8731","MICROECONOMIA I",{"$f":"VLOOKUP(A45,$A$6:$C$38,3,FALSE)","v":1},1,28,19,2,{"$f":"IFERROR(G45/F45,\"-\")","v":0.10526315789473684},9,{"$f":"I45/E45","v":0.32142857142857145},{"$f":"(G45+I45)/E45","v":0.39285714285714285}]
["Total",null,{"$f":"SUM(C45)","v":1},{"$f":"SUM(D45)","v":1},28,19,2,{"$f":"G46/F46","v":0.10526315789473684},9,{"$f":"I46/E46","v":0.32142857142857145},{"$f":"(G46+I46)/E46","v":0.39285714285714285}]

{"sheet":"Graf_Eco","index":10,"n_rows":2,"n_cols":15,"rows_kept":2,"cut":false,"hidden":false,"merged":[[0,0,0,14],[1,0,1,13]]}
["OFICINA DE PLANEACIÓN - INFORMACIÓN Y ESTADÍSTICA "]
[null,null,null,null,null,null,null,null,null,null,null,null,null,null,"Volver"]

{"sheet":"Rep_Der","index":11,"n_rows":84,"n_cols":13,"rows_kept":84,"cut":false,"hidden":false,"merged":[[5,11,7,12],[9,11,12,12],[66,0,66,10],[67,0,67,10],[0,0,1,9],[2,0,2,9],[3,0,3,9]]}
["OFICINA DE PLANEACIÓN - INFORMACIÓN Y ESTADÍSTICA "]
[]
["Perdidos, Retirados y Repitencia de Asignaturas del Dpto. de Derecho"]
[{"$f":"Planeación!A1","v":"2023-2"}]
["Codasg","Asignaturas","Total Cursos Abiertos","Matrícula Inicial","Matrícula Final","Perdidos","%  Perdidos","Retirados","% Retirados","% Repitencia"]
["LEY4710","TEORIA DEL DERECHO PROCESAL",2,74,45,18,{"$f":"IFERROR(F6/E6,\"-\")","v":0.4},29,{"$f":"H6/D6","v":0.39189189189189189},{"$f":"(F6+H6)/D6","v":0.63513513513513509},null,"Volver al Índice"]
["LEY1080","TEORIA Y ORG. DEL ESTADO",3,85,62,16,0.25806451612903225,23,0.27058823529411763,0.45882352941176469]
["LEY4021","OBLIGACIONES II",3,84,77,28,0.36363636363636365,7,8.3333333333333329E-2,0.41666666666666669]
["LEY2021","TEORIA CONS. E INST. POLITICAS",2,89,75,15,0.2,14,0.15730337078651685,0.3258426966292135]
["LEY4600","ADMINISTRATIVO I",2,60,47,6,0.1276595744680851,13,0.21666666666666667,0.31666666666666665,null,"Ir a Tabla de Repitencia >=30%"]
["LEY4660","PROCEDIMIENTO CIVIL  GRAL",3,89,69,7,0.10144927536231885,20,0.2247191011235955,0.30337078651685395]
["LEY4181","PENAL II",3,56,52,12,0.23076923076923078,4,7.1428571428571425E-2,0.2857142857142857]
["LEY4680","REL DE TRAB Y SEG SOCIAL III",3,87,76,13,0.17105263157894737,11,0.12643678160919541,0.27586206896551724]
["LEY4685","REL DE TRAB Y SEG SOCIAL I",3,78,73,16,0.21917808219178081,5,6.4102564102564097E-2,0.26923076923076922]
["LEY4670","PRUEBAS",2,67,65,16,0.24615384615384617,2,2.9850746268656716E-2,0.26865671641791045]
["LEY4705","TEORIA DE LA ARGUMENTACION",3,64,58,10,0.17241379310344829,6,9.375E-2,0.25]
["LEY7051","CONTRATOS I",3,60,55,9,0.16363636363636364,5,8.3333333333333329E-2,0.23333333333333334]
["LEY4640","INTERPRETACION CONST Y LEGAL",2,85,75,9,0.12,10,0.11764705882352941,0.22352941176470589]
["LEY4011","OBLIGACIONES I",2,64,54,4,7.407407407407407E-2,10,0.15625,0.21875]
["CSO7150","SOCIOLOGÍA JURÍDICA",3,80,79,16,0.20253164556962025,1,1.2500000000000001E-2,0.21249999999999999]
["LEY4650","PENAL I",2,74,69,10,0.14492753623188406,5,6.7567567567567571E-2,0.20270270270270271]
["LEY0001","TECNOLOGIA LEGAL",1,26,25,4,0.16,1,3.8461538461538464E-2,0.19230769230769232]
["LEY4655","PROCEDIMIENTO CIVIL ESPECIAL",2,32,27,1,3.7037037037037035E-2,5,0.15625,0.1875]
["HIS1020","HISTORIA DEL DERECHO",2,82,70,3,4.2857142857142858E-2,12,0.14634146341463414,0.18292682926829268]
["LEY7061","CONTRATOS II",2,80,75,9,0.12,5,6.25E-2,0.17499999999999999]
["LEY4715","TEORIA DEL DERECHO",2,65,65,11,0.16923076923076924,0,0,0.16923076923076924]
["LEY3075","INTERNATIONAL LAW",1,32,31,4,0.12903225806451613,1,3.125E-2,0.15625]
["LEY4475","DER HUM Y DER INTERN HUMANITAR",2,46,44,5,0.11363636363636363,2,4.3478260869565216E-2,0.15217391304347827]
["LEY7205","PENAL III",3,101,95,9,9.4736842105263161E-2,6,5.9405940594059403E-2,0.14851485148514851]
["LEY4290","DD HH  DERECHO INTER HUMANI RI",1,28,25,1,0.04,3,0.10714285714285714,0.14285714285714285]
["LEY4630","DERECHO CORPORATIVO",2,82,81,10,0.12345679012345678,1,1.2195121951219513E-2,0.13414634146341464]
["LEY9679","LEGISLACION TRIBUTARIA",1,40,39,4,0.10256410256410256,1,2.5000000000000001E-2,0.125]
["INV3010","MET INV JURIDI Y SOCIOJURIDICA",3,49,48,5,0.10416666666666667,1,2.0408163265306121E-2,0.12244897959183673]
["LEY4665","PROCEDIMIENTO PENAL",2,90,84,5,5.9523809523809521E-2,6,6.6666666666666666E-2,0.12222222222222222]
["LEY4526","DCHO. INTER Y DCHOS. HUMANOS",1,17,15,0,0,2,0.11764705882352941,0.11764705882352941]
["LEY1031","PERSONAS",2,69,68,6,8.8235294117647065E-2,1,1.4492753623188406E-2,0.10144927536231885]
["LEY1060","BIENES",2,69,65,3,4.6153846153846156E-2,4,5.7971014492753624E-2,0.10144927536231885]
["LEY4740","CRIMINOLOGIA Y POLITICA CRIMIN",1,20,18,0,{"$f":"IFERROR(F38/E38,\"-\")","v":0},2,{"$f":"H38/D38","v":0.1},{"$f":"(F38+H38)/D38","v":0.1}]
["LEY5972","JUSTICIA TRANSICIONAL",1,31,29,1,3.4482758620689655E-2,2,6.4516129032258063E-2,9.6774193548387094E-2]
["LEY7305","CONSULTORIO JURIDICO I",4,43,42,3,7.1428571428571425E-2,1,2.3255813953488372E-2,9.3023255813953487E-2]
["LEY4815","ACCIONES PUBLICAS Y PROC ADM",2,46,44,2,4.5454545454545456E-2,2,4.3478260869565216E-2,8.6956521739130432E-2]
["LEY7322","CONSULTORIO JURIDICO III",2,55,53,2,3.7735849056603772E-2,2,3.6363636363636362E-2,7.2727272727272724E-2]
["LEY4690","RELACIONES DE FAMILIA I",2,43,40,0,0,3,6.9767441860465115E-2,6.9767441860465115E-2]
["LEY4675","REL DE TRAB Y SEG SOCIAL II",2,58,58,4,6.8965517241379309E-2,0,0,6.8965517241379309E-2]
["LEY7312","CONSULTORIO JURIDICO II",2,109,109,6,5.5045871559633031E-2,0,0,5.5045871559633031E-2]
["LEY7740","DERECHO IMPACTO CINE Y LITERAT",1,37,35,0,0,2,5.4054054054054057E-2,5.4054054054054057E-2]
["LEY4610","ADMINISTRATIVO II",3,75,73,2,2.7397260273972601E-2,2,2.6666666666666668E-2,5.3333333333333337E-2]
["LEY4620","BIENES DEL COMERCIO",2,73,71,1,1.4084507042253521E-2,2,2.7397260273972601E-2,4.1095890410958902E-2]
["LEY3020","INTERNACIONAL PRIVADO",3,100,98,2,2.0408163265306121E-2,2,0.02,0.04]
["LEY4645","ORALIDAD JURIDICA",3,52,51,1,1.9607843137254902E-2,1,1.9230769230769232E-2,3.8461538461538464E-2]
["LEY4635","FUND DEL DERECHO COMERCIAL",2,53,52,1,1.9230769230769232E-2,1,1.8867924528301886E-2,3.7735849056603772E-2]
["LEY2055","LEGISLACION EMPRESARIAL",2,91,91,3,3.2967032967032968E-2,0,0,3.2967032967032968E-2]
["LEY4780","DERECHO TRIBUTARIO",1,40,39,0,0,1,2.5000000000000001E-2,2.5000000000000001E-2]
["LEY4320","MECANISMOS ALTERNOS",4,110,108,0,0,2,1.8181818181818181E-2,1.8181818181818181E-2]
["LEY4625","CONTRATACION ESTATAL",3,114,112,0,0,2,1.7543859649122806E-2,1.7543859649122806E-2]
["LEY0006","DERECHO COMERCIAL INTER.",2,60,59,0,0,1,1.6666666666666666E-2,1.6666666666666666E-2]
["FIL4110","FILOSOFIA DEL DERECHO",3,60,59,0,0,1,1.6666666666666666E-2,1.6666666666666666E-2]
["LEY4455","T.GRAL DEREC INT Y DER INT PUB",3,81,80,0,0,1,1.2345679012345678E-2,1.2345679012345678E-2]
["LEY4695","RELACIONES DE FAMILIA II",3,103,103,0,0,0,0,0]
["LEY4700","RELACIONES DEL COMERCIO",2,25,25,0,0,0,0,0]
["LEY4615","ARBITRAJE",2,71,71,0,0,0,0,0]
["LEY7332","CONSULTORIO JURIDICO IV",1,37,37,0,0,0,0,0]
["LEY4300","INTER TRADE AND MARIT LAW SEM",1,36,36,0,0,0,0,0]
["Total",null,{"$f":"SUM(C6:C63)","v":127},{"$f":"SUM(D6:D63)","v":3727},{"$f":"SUM(E6:E63)","v":3481},{"$f":"SUM(F6:F63)","v":313},{"$f":"F64/E64","v":8.9916690606147653E-2},{"$f":"SUM(H6:H63)","v":246},{"$f":"H64/D64","v":6.6004829621679639E-2},{"$f":"(F64+H64)/D64","v":0.14998658438422324}]
[]
[]
["Repitencia de Asignaturas del Dpto. de Derecho, Mayor o Igual al 30%"]
[{"$f":"Planeación!A1","v":"2023-2"},null,null,null,null,null,null,null,null,null,null,"Ir a Inicio","Ir a Gráfico"]
["Codasg","Asignaturas","Total Cursos Abiertos","Número de Cursos con Repitencia >=30%","Matricula Inicial","Matrícula Final","Perdidos","%  Perdidos","Retirados","% Retirados","% Repitencia"]
["LEY4710","TEORIA DEL DERECHO PROCESAL",{"$f":"VLOOKUP(A70,$A$6:$C$63,3,FALSE)","v":2},2,74,45,18,{"$f":"IFERROR(G70/F70,\"-\")","v":0.4},29,{"$f":"I70/E70","v":0.39189189189189189},{"$f":"(G70+I70)/E70","v":0.63513513513513509}]
["LEY4021","OBLIGACIONES II",3,2,58,52,24,0.46153846153846156,6,0.10344827586206896,0.51724137931034486]
["LEY4660","PROCEDIMIENTO CIVIL  GRAL",3,1,35,20,2,0.1,15,0.42857142857142855,0.48571428571428571]
["LEY4685","REL DE TRAB Y SEG SOCIAL I",3,1,15,12,4,0.33333333333333331,3,0.2,0.46666666666666667]
["LEY4670","PRUEBAS",2,1,26,24,10,0.41666666666666669,2,7.6923076923076927E-2,0.46153846153846156]
["LEY1080","TEORIA Y ORG. DEL ESTADO",3,3,85,62,16,0.25806451612903225,23,0.27058823529411763,0.45882352941176469]
["CSO7150","SOCIOLOGÍA JURÍDICA",3,1,9,9,4,0.44444444444444442,0,0,0.44444444444444442]
["LEY4705","TEORIA DE LA ARGUMENTACION",3,1,16,14,5,0.35714285714285715,2,0.125,0.4375]
["LEY4680","REL DE TRAB Y SEG SOCIAL III",3,1,28,23,6,0.2608695652173913,5,0.17857142857142858,0.39285714285714285]
["LEY4011","OBLIGACIONES I",2,1,24,17,2,0.11764705882352941,7,0.29166666666666669,0.375]
["LEY4181","PENAL II",3,2,31,28,8,0.2857142857142857,3,9.6774193548387094E-2,0.35483870967741937]
["LEY4600","ADMINISTRATIVO I",2,1,40,28,2,7.1428571428571425E-2,12,0.3,0.35]
["LEY7051","CONTRATOS I",3,1,12,10,2,0.2,2,0.16666666666666666,0.33333333333333331]
["LEY2021","TEORIA CONS. E INST. POLITICAS",2,2,89,75,15,0.2,14,0.15730337078651685,0.3258426966292135]
["Total",null,{"$f":"SUM(C70:C83)","v":37},{"$f":"SUM(D70:D83)","v":20},542,419,118,{"$f":"G84/F84","v":0.28162291169451076},123,{"$f":"I84/E84","v":0.22693726937269373},{"$f":"(G84+I84)/E84","v":0.44464944649446492}]

{"sheet":"Graf_Der","index":12,"n_rows":2,"n_cols":15,"rows_kept":2,"cut":false,"hidden":false,"merged":[[0,0,0,14],[1,0,1,13]]}
["OFICINA DE PLANEACIÓN - INFORMACIÓN Y ESTADÍSTICA "]
[null,null,null,null,null,null,null,null,null,null,null,null,null,null,"Volver"]

{"sheet":"Rep_Dis","index":13,"n_rows":66,"n_cols":13,"rows_kept":66,"cut":false,"hidden":false,"merged":[[61,0,61,10],[0,0,1,9],[2,0,2,9],[3,0,3,9],[5,11,7,12],[9,11,12,12],[60,0,60,10]]}
["OFICINA DE PLANEACIÓN - INFORMACIÓN Y ESTADÍSTICA "]
[]
["Perdidos, Retirados y Repitencia de Asignaturas del Dpto. de Diseño"]
[{"$f":"Planeación!A1","v":"2023-2"}]
["Codasg","Asignaturas","Total Cursos Abiertos","Matrícula Inicial","Matrícula Final","Perdidos","%  Perdidos","Retirados","% Retirados","% Repitencia"]
["ELP8260","PROYECTO DE GRADO",1,3,2,0,{"$f":"IFERROR(F6/E6,\"-\")","v":0},1,{"$f":"H6/D6","v":0.33333333333333331},{"$f":"(F6+H6)/D6","v":0.33333333333333331},null,"Volver al Índice"]
["DIG0037","REALIZACION AUDIVISUAL I",2,35,33,5,0.15151515151515152,2,5.7142857142857141E-2,0.2]
["DIN4100","BIODISEÑO:NATURALEZAEINNOVACIO",1,15,12,0,0,3,0.2,0.2]
["DIS0010","TALLER BASICO I",3,58,54,7,0.12962962962962962,4,6.8965517241379309E-2,0.18965517241379309]
["DIG0032","DISEÑO DIGITAL I",2,41,39,5,0.12820512820512819,2,4.878048780487805E-2,0.17073170731707318,null,"Ir a Tabla de Repitencia >=30%"]
["DIG0031","DISEÑO AMBIENTAL",2,30,27,1,3.7037037037037035E-2,3,0.1,0.13333333333333333]
["DIS0020","TALLER DE EXPRESION I",3,56,52,2,3.8461538461538464E-2,4,7.1428571428571425E-2,0.10714285714285714]
["DIG0083","TALLER DE CREATIVIDAD",1,10,9,0,0,1,0.1,0.1]
["DIN4104","DISEÑO DE EXP. DE USUARIO UX",1,20,18,0,0,2,0.1,0.1]
["DIS0023","TALLER BASICO II",4,85,80,3,3.7499999999999999E-2,5,5.8823529411764705E-2,9.4117647058823528E-2]
["DIS0021","SEGURIDAD Y HERRAMIENTAS",4,64,60,2,3.3333333333333333E-2,4,6.25E-2,9.375E-2]
["DIN7235","TALLER FACTORES HUMANOS",1,11,11,1,9.0909090909090912E-2,0,0,9.0909090909090912E-2]
["DIG4040","T DIS 5- IDENTIDAD VISUAL",2,34,33,2,6.0606060606060608E-2,1,2.9411764705882353E-2,8.8235294117647065E-2]
["DIS0022","IDEACION Y CREATIVIDAD",2,60,57,2,3.5087719298245612E-2,3,0.05,8.3333333333333329E-2]
["ELP7340","PROYECTO DE GRADO",1,13,12,0,0,1,7.6923076923076927E-2,7.6923076923076927E-2]
["DIS0015","HISTORIA DEL DISEÑO",2,57,55,2,3.6363636363636362E-2,2,3.5087719298245612E-2,7.0175438596491224E-2]
["DIG0081","TALLER DE REALIZACION",2,29,27,0,0,2,6.8965517241379309E-2,6.8965517241379309E-2]
["DIG0082","METODOLOGIA PROYECTUAL",2,31,30,1,3.3333333333333333E-2,1,3.2258064516129031E-2,6.4516129032258063E-2]
["DIN7155","DISEÑO Y MERCADEO",2,35,35,2,5.7142857142857141E-2,0,0,5.7142857142857141E-2]
["DIG0038","PRE-PRENSA E IMPRESIÓN",2,36,35,1,2.8571428571428571E-2,1,2.7777777777777776E-2,5.5555555555555552E-2]
["DIN7090","DISEÑO DIGITAL II",1,18,18,1,5.5555555555555552E-2,0,0,5.5555555555555552E-2]
["DIS0028","CONTRUCCION DE MODELOS",4,82,80,2,2.5000000000000001E-2,2,2.4390243902439025E-2,4.878048780487805E-2]
["DIS0029","ESTETICA Y SEMIOTICA",2,48,47,1,2.1276595744680851E-2,1,2.0833333333333332E-2,4.1666666666666664E-2]
["DIS0031","PORTAFOLIO",2,50,48,0,0,2,0.04,0.04]
["DIG0080","ILUSTRACION",3,53,51,0,0,2,3.7735849056603772E-2,3.7735849056603772E-2]
["DIN7125","DISEÑO DE INTERIORES",1,27,27,1,3.7037037037037035E-2,0,0,3.7037037037037035E-2]
["DIG4024","FOTOGRAFIA PUBLICITARIA",3,64,64,2,3.125E-2,0,0,3.125E-2]
["DIG4081","FUNDAMENTOS DE PUBLICIDAD",2,33,33,1,3.0303030303030304E-2,0,0,3.0303030303030304E-2]
["DIS0026","TALLER DE EXPRESION II",4,82,81,1,1.2345679012345678E-2,1,1.2195121951219513E-2,2.4390243902439025E-2]
["DIS0030","IDENTIDAD GLOBAL",3,52,52,1,1.9230769230769232E-2,0,0,1.9230769230769232E-2]
["DIG0033","DISEÑO DIGITAL II",2,53,53,1,1.8867924528301886E-2,0,0,1.8867924528301886E-2]
["DIG0039","REALIZACION AUDIVISUAL II",3,57,57,1,1.7543859649122806E-2,0,0,1.7543859649122806E-2]
["DIG4023","DISEÑO EN MOVIMIENTO",3,62,61,0,{"$f":"IFERROR(F38/E38,\"-\")","v":0},1,{"$f":"H38/D38","v":1.6129032258064516E-2},{"$f":"(F38+H38)/D38","v":1.6129032258064516E-2}]
["DIG4026","ILUSTRACION I",3,63,63,1,1.5873015873015872E-2,0,0,1.5873015873015872E-2]
["DIS0032","DISEÑO DIGITAL I",4,75,75,1,1.3333333333333334E-2,0,0,1.3333333333333334E-2]
["DIS0024","METODOLOGIA DE DISEÑO",3,82,81,0,0,1,1.2195121951219513E-2,1.2195121951219513E-2]
["DIN0032","INVESTIGACION DE TENDENCIAS",1,11,11,0,0,0,0,0]
["DIG4105","EXPERIENCIA DE MARCA",1,19,19,0,0,0,0,0]
["DIN7060","TALLER PRODUCCION INDUSTRIAL",1,10,10,0,0,0,0,0]
["DIN7100","MOD.PARAMET.PROTOTIPADO RAPIDO",1,13,13,0,0,0,0,0]
["DIN7070","DISEÑO Y PRODUCCION",1,7,7,0,0,0,0,0]
["DIG4050","T DIS 6- EMPAQUES/PIEZAS PROM",3,55,55,0,0,0,0,0]
["DIN7010","ESTUDIO DE DISEÑO",1,8,8,0,0,0,0,0]
["DIN7020","TALLER DISEÑO TECNOLOGICO",1,11,11,0,0,0,0,0]
["DIN7030","GESTION DEL DISEÑO",1,11,11,0,0,0,0,0]
["DIG4021","TALLER DE TIPOGRAFIA",2,35,35,0,0,0,0,0]
["DIG4022","DIAGRAMACION Y PRODUCCION",3,61,61,0,0,0,0,0]
["DIN7236","ERGONOMIA",1,10,10,0,0,0,0,0]
["DIN7238","LAB DE SISTEMAS Y MECANISMOS",1,8,8,0,0,0,0,0]
["DIN7240","TALLER DESARROLLO DE PRODUCTO",1,9,9,0,0,0,0,0]
["DIN7239","MATERIALES Y PROCESOS",1,8,8,0,0,0,0,0]
["DIN0031","ERGONOMIA",1,8,8,0,0,0,0,0]
["Total",null,{"$f":"SUM(C6:C57)","v":104},{"$f":"SUM(D6:D57)","v":1908},{"$f":"SUM(E6:E57)","v":1856},{"$f":"SUM(F6:F57)","v":50},{"$f":"F58/E58","v":2.6939655172413791E-2},{"$f":"SUM(H6:H57)","v":52},{"$f":"H58/D58","v":2.7253668763102725E-2},{"$f":"(F58+H58)/D58","v":5.3459119496855348E-2}]
[]
[]
["Repitencia de Asignaturas del Dpto. de Diseño, Mayor o Igual al 30%"]
[{"$f":"Planeación!A1","v":"2023-2"},null,null,null,null,null,null,null,null,null,null,"Ir a Inicio","Ir a Gráfico"]
["Codasg","Asignaturas","Total Cursos Abiertos","Número de Cursos con Repitencia >=30%","Matricula Inicial","Matrícula Final","Perdidos","%  Perdidos","Retirados","% Retirados","% Repitencia"]
["ELP8260","PROYECTO DE GRADO",{"$f":"VLOOKUP(A64,$A$6:$C$57,3,FALSE)","v":1},1,3,2,0,{"$f":"IFERROR(G64/F64,\"-\")","v":0},1,{"$f":"I64/E64","v":0.33333333333333331},{"$f":"(G64+I64)/E64","v":0.33333333333333331}]
["DIG0037","REALIZACION AUDIVISUAL I",{"$f":"VLOOKUP(A65,$A$6:$C$57,3,FALSE)","v":2},1,16,15,4,{"$f":"IFERROR(G65/F65,\"-\")","v":0.26666666666666666},1,{"$f":"I65/E65","v":6.25E-2},{"$f":"(G65+I65)/E65","v":0.3125}]
["Total",null,{"$f":"SUM(C64:C65)","v":3},{"$f":"SUM(D64:D65)","v":2},{"$f":"SUM(E64:E65)","v":19},{"$f":"SUM(F64:F65)","v":17},{"$f":"SUM(G64:G65)","v":4},{"$f":"G66/F66","v":0.23529411764705882},{"$f":"SUM(I64:I65)","v":2},{"$f":"I66/E66","v":0.10526315789473684},{"$f":"(G66+I66)/E66","v":0.31578947368421051}]

{"sheet":"Graf_Dis","index":14,"n_rows":2,"n_cols":15,"rows_kept":2,"cut":false,"hidden":false,"merged":[[0,0,0,14],[1,0,1,13]]}
["OFICINA DE PLANEACIÓN - INFORMACIÓN Y ESTADÍSTICA "]
[null,null,null,null,null,null,null,null,null,null,null,null,null,null,"Volver"]

{"sheet":"Rep_Edu","index":15,"n_rows":54,"n_cols":12,"rows_kept":54,"cut":false,"hidden":false,"merged":[[5,11,7,12],[9,11,12,12],[49,0,49,10],[50,0,50,10],[0,0,1,9],[2,0,2,9],[3,0,3,9]]}
["OFICINA DE PLANEACIÓN - INFORMACIÓN Y ESTADÍSTICA "]
[]
["Perdidos, Retirados y Repitencia de Asignaturas del Dpto. de Educación"]
[{"$f":"Planeación!A1","v":"2023-2"}]
["Codasg","Asignaturas","Total Cursos Abiertos","Matrícula Inicial","Matrícula Final","Perdidos","%  Perdidos","Retirados","% Retirados","% Repitencia"]
["EDU4533","DESARROLLO DEL PENSAMIENTO",1,9,9,2,0,0,{"$f":"H6/D6","v":0},{"$f":"(F6+H6)/D6","v":0.22222222222222221},null,"Volver al Índice"]
["EDU0105","CORRIENTES PEDAGOGICAS CONTEMP",1,10,10,2,0,0,0,0.2]
["EDU2100","EVALUACION EDUCATIVA",1,21,20,3,0,1,4.7619047619047616E-2,0.19047619047619047]
["EDU4545","INCLUSION Y EDUCACION",1,21,19,2,1,2,9.5238095238095233E-2,0.19047619047619047]
["EDU4547","GERENCIA DE PROYECTOS EDUCATIV",1,11,10,1,0,1,9.0909090909090912E-2,0.18181818181818182,null,"Ir a Tabla de Repitencia >=30%"]
["EDU4548","MEDIACIONES EN EDUCACION Y TIC",1,11,10,1,2,1,9.0909090909090912E-2,0.18181818181818182]
["EDU4360","DESARROLLO DEL LENGUAJE",1,21,21,3,0,0,0,0.14285714285714285]
["EDU4112","DIDAC DE LA LECTOESCRITURA",1,8,8,1,0,0,0,0.125]
["EDU4544","EXPERIENCIA  EN INFANCIA Y FAM",1,9,9,1,0,0,0,0.1111111111111111]
["INV0005","INV. EDUCATIV Y PEDAGOGICA",1,9,8,0,0,1,0.1111111111111111,0.1111111111111111]
["EDU4540","DIDACTICA EN EDUCACION INFANTI",1,10,10,1,0,0,0,0.1]
["EDU4550","EXPERIENCIA EN GESTION SOCIAL",1,10,9,0,5,1,0.1,0.1]
["EDU0097","LENGUAJES EXPRESIVOS II",1,10,10,1,0,0,0,0.1]
["EDU4542","DLLO DE LENGUAJE EXPRESIVOS II",1,21,21,2,0,0,0,9.5238095238095233E-2]
["EDU4537","FAMILIA, ESCUELA Y SOCIEDAD",1,11,10,0,0,1,9.0909090909090912E-2,9.0909090909090912E-2]
["EDU4543","DESARROLLO SOCIOAFECTIVO",1,23,22,1,0,1,4.3478260869565216E-2,8.6956521739130432E-2]
["IDS0036","APRENDER INDAGAR ACT CONTEXTO.",1,26,25,1,4,1,3.8461538461538464E-2,7.6923076923076927E-2]
["EDU4531","DESARROLLO MOTRIZ",1,14,14,1,0,0,0,7.1428571428571425E-2]
["EDU0102","LENGUAJES EXPRESIVOS I",1,14,13,0,0,1,7.1428571428571425E-2,7.1428571428571425E-2]
["ECA0060","EDUCACION EN EL CARIBE",2,72,67,0,0,5,6.9444444444444448E-2,6.9444444444444448E-2]
["ETI1031","AUTOCONOCIMIENTO Y FELICIDAD",4,155,151,4,0,4,2.5806451612903226E-2,5.1612903225806452E-2]
["IDS0045","COMO LEER  MEDIOS MASIVOS?",3,119,114,0,0,5,4.2016806722689079E-2,4.2016806722689079E-2]
["IDS0051","PEN. COMPUTACIONAL PARA TODOS",1,31,31,1,0,0,0,3.2258064516129031E-2]
["HIS0020","ESTUDIOS SOBRE INFANCIA  MUNDO",2,71,70,1,0,1,1.4084507042253521E-2,2.8169014084507043E-2]
["EDU4460","E-LEARNING",1,31,31,0,0,0,0,0]
["EDU4529","EDUCACION Y APRENDIZAJE",1,9,9,0,0,0,0,0]
["EDU4530","CUIDADO INFANTIL",1,9,9,0,0,0,0,0]
["EDU4534","MODELOS PEDAGOGICOS",1,13,13,0,0,0,0,0]
["EDU4536","JUEGO, LUDICA Y EDUCACIÓN",1,9,9,0,0,0,0,0]
["EDU7150","TEORIA Y DISEÑO CURRICULAR",1,8,8,0,0,0,0,0]
["EDU4505","EDUCACION INTERCULTURAL",1,31,31,0,0,0,0,0]
["EDU2180","ORGANIZACION CENTRO ESCOLAR",1,10,10,0,0,0,0,0]
["EDU4538","INVESTIGACION EDUCATIVA II",1,10,10,0,0,0,0,0]
["EDU4541","DLLO DE LENGUAJE EXPRESIVOS I",1,7,7,0,0,0,0,0]
["EDU4546","EXPERIENCIA EN INFANCIA Y ESCU",1,17,17,0,0,0,0,0]
["EDU0104","EDUC Y NEURODESARROLLO INFANT",1,8,8,0,0,0,0,0]
["EDU0103","EPISTEMOLOGIA DE LA EDUCACION",1,13,13,0,0,0,0,0]
["EDU4145","DIDACTICA DEL PENSAMIENTO ALEA",1,1,1,0,0,0,0,0]
["EDU0098","DIVERSIDAD E INCLUSION",1,9,9,0,0,0,0,0]
["EDU0101","PEDAGOGIA Y CONTEXTO SOCIOEDUC",1,10,10,0,0,0,0,0]
["ELP8044","PLANEACION Y ORG E-LEARNING",1,31,31,0,0,0,0,0]
["Total",null,{"$f":"SUM(C6:C46)","v":48},{"$f":"SUM(D6:D46)","v":943},{"$f":"SUM(E6:E46)","v":917},{"$f":"SUM(F6:F46)","v":29},{"$f":"F47/E47","v":3.162486368593239E-2},{"$f":"SUM(H6:H46)","v":26},{"$f":"H47/D47","v":2.7571580063626724E-2},{"$f":"(F47+H47)/D47","v":5.8324496288441142E-2}]
[]
[]
["Repitencia de Asignaturas del Dpto. de Educación, Mayor o Igual al 30%"]
[{"$f":"Planeación!A1","v":"2023-2"},null,null,null,null,null,null,null,null,null,null,"Ir a Inicio"]
["Codasg","Asignaturas","Total Cursos Abiertos","Número de Cursos con Repitencia >=30%","Matricula Inicial","Matrícula Final","Perdidos","%  Perdidos","Retirados","% Retirados","% Repitencia"]
[]
["Total",null,{"$f":"SUM(C53:C53)","v":0},{"$f":"SUM(D53:D53)","v":0},{"$f":"SUM(E53:E53)","v":0},{"$f":"SUM(F53:F53)","v":0},{"$f":"SUM(G53:G53)","v":0},{"$f":"IFERROR(G54/F54,\"-\")","v":"-"},{"$f":"SUM(I53:I53)","v":0},{"$f":"IFERROR(I54/E54,\"-\")","v":"-"},{"$f":"IFERROR((G54+I54)/E54,\"-\")","v":"-"}]

{"sheet":"Rep_Emp","index":16,"n_rows":33,"n_cols":13,"rows_kept":33,"cut":false,"hidden":false,"merged":[[5,11,7,12],[9,11,12,12],[28,0,28,10],[29,0,29,10],[0,0,1,9],[2,0,2,9],[3,0,3,9]]}
["OFICINA DE PLANEACIÓN - INFORMACIÓN Y ESTADÍSTICA "]
[]
["Perdidos, Retirados y Repitencia de Asignaturas del Dpto. de Emprendimiento y Management"]
[{"$f":"Planeación!A1","v":"2023-2"}]
["Codasg","Asignaturas","Total Cursos Abiertos","Matrícula Inicial","Matrícula Final","Perdidos","%  Perdidos","Retirados","% Retirados","% Repitencia"]
["ADM0189","EVOLUCION  PENSAMIENTO ADTIVO",7,182,173,5,{"$f":"IFERROR(F6/E6,\"-\")","v":2.8901734104046242E-2},9,{"$f":"H6/D6","v":4.9450549450549448E-2},{"$f":"(F6+H6)/D6","v":7.6923076923076927E-2},null,"Volver al Índice"]
["ADM0018","PROJECT MANAGEMENT",4,77,72,0,0,5,6.4935064935064929E-2,6.4935064935064929E-2]
["ADM0020","FUNDAMENTOS DE ADMON.",1,36,35,1,2.8571428571428571E-2,1,2.7777777777777776E-2,5.5555555555555552E-2]
["ADM3011","GESTION DEL TALENTO HUMANO",2,51,50,1,0.02,1,1.9607843137254902E-2,3.9215686274509803E-2]
["IDS0010","DLLO DEL ESPIRITU EMPRENDEDOR",10,348,342,6,1.7543859649122806E-2,6,1.7241379310344827E-2,3.4482758620689655E-2,null,"Ir a Tabla de Repitencia >=30%"]
["ADM0019","STRATEGIC MAGEMENT",3,88,85,0,0,3,3.4090909090909088E-2,3.4090909090909088E-2]
["ADM0022","DESARROLLO ORGANIZACIONAL",3,76,76,2,2.6315789473684209E-2,0,0,2.6315789473684209E-2]
["IDS0070","INNOVACION Y DLLO SOCIOECO",1,40,39,0,0,1,2.5000000000000001E-2,2.5000000000000001E-2]
["ADM4471","CREACION DE EMPRESAS",6,157,154,0,0,3,1.9108280254777069E-2,1.9108280254777069E-2]
["ADM2011","PROCESO ADMINISTRATIVO",5,146,145,1,6.8965517241379309E-3,1,6.8493150684931503E-3,1.3698630136986301E-2]
["ADM0033","RESPON. SOCIAL EMPRESARIAL",4,79,79,0,0,0,0,0]
["ADM9774","CORPORATE GOVERNMENT",1,8,8,0,0,0,0,0]
["ADM9772","E-MANAGEMENT",1,7,7,0,0,0,0,0]
["ADM0023","DEVELOP. AND ORG. CULTURE",1,21,21,0,0,0,0,0]
["ADM5215","EMPRENDIMIENTO CORPORATIVO",1,27,27,0,0,0,0,0]
["ADM5230","FINANZAS PARA NUEVAS EMPRESAS",1,28,28,0,0,0,0,0]
["ADM5235","INTERNAC DE NUEVAS EMPRESAS",1,29,29,0,0,0,0,0]
["ADM0031","ORG. AND THE SOCIAL SYSTEM",1,21,21,0,0,0,0,0]
["ADM0032","ORGANIZATIONAL DESIGN",1,20,20,0,0,0,0,0]
["ADM9773","MANAGEMENT AND CONTROL",1,6,6,0,0,0,0,0]
["Total",null,{"$f":"SUM(C6:C25)","v":55},{"$f":"SUM(D6:D25)","v":1447},{"$f":"SUM(E6:E25)","v":1417},{"$f":"SUM(F6:F25)","v":16},{"$f":"F26/E26","v":1.1291460832745237E-2},{"$f":"SUM(H6:H25)","v":30},{"$f":"H26/D26","v":2.0732550103662751E-2},{"$f":"(F26+H26)/D26","v":3.1789910158949553E-2}]
[]
[]
["Repitencia de Asignaturas del Dpto. de Emprendimiento y Management, Mayor o Igual al 30%"]
[{"$f":"Planeación!A1","v":"2023-2"},null,null,null,null,null,null,null,null,null,null,"Ir a Inicio","Ir a Gráfico"]
["Codasg","Asignaturas","Total Cursos Abiertos","Número de Cursos con Repitencia >=30%","Matricula Inicial","Matrícula Final","Perdidos","%  Perdidos","Retirados","% Retirados","% Repitencia"]
[]
["Total",null,{"$f":"SUM(C32:C32)","v":0},{"$f":"SUM(D32:D32)","v":0},{"$f":"SUM(E32:E32)","v":0},{"$f":"SUM(F32:F32)","v":0},{"$f":"SUM(G32:G32)","v":0},{"$f":"IFERROR(G33/F33,\"-\")","v":"-"},{"$f":"SUM(I32:I32)","v":0},{"$f":"IFERROR(I33/E33,\"-\")","v":"-"},{"$f":"IFERROR((G33+I33)/E33,\"-\")","v":"-"}]

{"sheet":"Rep_Enf","index":17,"n_rows":32,"n_cols":12,"rows_kept":32,"cut":false,"hidden":false,"merged":[[28,0,28,10],[0,0,1,9],[2,0,2,9],[3,0,3,9],[5,11,7,12],[9,11,12,12],[27,0,27,10]]}
["OFICINA DE PLANEACIÓN - INFORMACIÓN Y ESTADÍSTICA "]
[]
["Perdidos, Retirados y Repitencia de Asignaturas del Dpto. de Enfermería"]
[{"$f":"Planeación!A1","v":"2023-2"}]
["Codasg","Asignaturas","Total Cursos Abiertos","Matrícula Inicial","Matrícula Final","Perdidos","%  Perdidos","Retirados","% Retirados","% Repitencia"]
["ENF0033","PROFUNDIZACION ENFERMERIA",3,11,11,2,{"$f":"IFERROR(F6/E6,\"-\")","v":0.18181818181818182},0,{"$f":"H6/D6","v":0},{"$f":"(F6+H6)/D6","v":0.18181818181818182},null,"Volver al Índice"]
["ENF7883","CUIDADO DE LA MUJER Y DEL NIÑO",3,17,16,0,0,1,5.8823529411764705E-2,5.8823529411764705E-2]
["ENF7189","ENF. SALUD MENTAL Y PSIQ.",3,17,16,0,0,1,5.8823529411764705E-2,5.8823529411764705E-2]
["ENF7188","FAR. APLIC. CUID. MUJER Y NIÑO",3,17,16,0,0,1,5.8823529411764705E-2,5.8823529411764705E-2]
["ENF7187","SALUD A COLECTIVOS II",3,17,16,0,0,1,5.8823529411764705E-2,5.8823529411764705E-2,null,"Ir a Tabla de Repitencia >=30%"]
["ENF7174","PROCESO DE ATENCION EN ENF",2,32,32,1,3.125E-2,0,0,3.125E-2]
["ENF7172","INTROD.  A LA ENFERMERIA",1,28,28,0,0,0,0,0]
["ENF7173","ENFERMERIA  BASICO CLINICA",4,29,29,0,0,0,0,0]
["ENF7880","SEMIOLOGIA CLINICA",3,23,23,0,0,0,0,0]
["ENF7177","ENFERMERIA EN LA EDUCACION",1,25,25,0,0,0,0,0]
["ENF7881","CUIDADO DEL ADULTO I",4,32,32,0,0,0,0,0]
["ENF7179","FAR. APLICADA CUIDADO ADULTO I",4,32,32,0,0,0,0,0]
["ENF7882","CUIDADO ADULTO II",4,18,18,0,0,0,0,0]
["ENF7182","FAR APLICADA CUIDADO ADULTO II",4,18,18,0,0,0,0,0]
["ENF7183","SALUD A COLECTIVOS I",4,18,18,0,0,0,0,0]
["ENF7884","ENFERMERIA Y GESTION",1,11,11,0,0,0,0,0]
["ENF4110","PRACTICAS ENFERMERIA Y GESTION",2,16,16,0,0,0,0,0]
["ENF4100","SEGURIDAD Y SALUD EN EL TRABAJ",1,18,18,0,0,0,0,0]
["ENF4065","VIVE Y DEJA VIVIR:EL ESTIG VHI",1,13,13,0,0,0,0,0]
["Total",null,{"$f":"SUM(C6:C24)","v":51},{"$f":"SUM(D6:D24)","v":392},{"$f":"SUM(E6:E24)","v":388},{"$f":"SUM(F6:F24)","v":3},{"$f":"F25/E25","v":7.7319587628865982E-3},{"$f":"SUM(H6:H24)","v":4},{"$f":"H25/D25","v":1.020408163265306E-2},{"$f":"(F25+H25)/D25","v":1.7857142857142856E-2}]
[]
[]
["Repitencia de Asignaturas del Dpto. de Enfermería, Mayor o Igual al 30%"]
[{"$f":"Planeación!A1","v":"2023-2"},null,null,null,null,null,null,null,null,null,null,"Ir a Inicio"]
["Codasg","Asignaturas","Total Cursos Abiertos","Número de Cursos con Repitencia >=30%","Matricula Inicial","Matrícula Final","Perdidos","%  Perdidos","Retirados","% Retirados","% Repitencia"]
[]
["Total",null,{"$f":"SUM(C31:C31)","v":0},{"$f":"SUM(D31:D31)","v":0},{"$f":"SUM(E31:E31)","v":0},{"$f":"SUM(F31:F31)","v":0},{"$f":"SUM(G31:G31)","v":0},{"$f":"IFERROR(G32/F32,\"-\")","v":"-"},{"$f":"SUM(I31:I31)","v":0},{"$f":"IFERROR(I32/E32,\"-\")","v":"-"},{"$f":"IFERROR((G32+I32)/E32,\"-\")","v":"-"}]

{"sheet":"Rep_Esp","index":18,"n_rows":30,"n_cols":13,"rows_kept":30,"cut":false,"hidden":false,"merged":[[26,0,26,10],[0,0,1,9],[2,0,2,9],[3,0,3,9],[5,11,7,12],[9,11,12,12],[25,0,25,10]]}
["OFICINA DE PLANEACIÓN - INFORMACIÓN Y ESTADÍSTICA "]
[]
["Perdidos, Retirados y Repitencia de Asignaturas del Dpto. de Español"]
[{"$f":"Planeación!A1","v":"2023-2"}]
["Codasg","Asignaturas","Total Cursos Abiertos","Matrícula Inicial","Matrícula Final","Perdidos","%  Perdidos","Retirados","% Retirados","% Repitencia"]
["LIN4006","METOD ENSEÑANZA LENGUA MAT I",2,28,27,3,{"$f":"IFERROR(F6/E6,\"-\")","v":0.1111111111111111},1,{"$f":"H6/D6","v":3.5714285714285712E-2},{"$f":"(F6+H6)/D6","v":0.14285714285714285},null,"Volver al Índice"]
["CAS3030","COMPETENCIA COMUNICATIVA II",37,1125,1078,76,7.050092764378478E-2,47,4.1777777777777775E-2,0.10933333333333334]
["CSO4206","MUSICA Y CULT MASAS ROCK ELECT",1,29,28,2,7.1428571428571425E-2,1,3.4482758620689655E-2,0.10344827586206896]
["CMN0009","COMUNICACION Y ESCRITURA",2,43,40,1,2.5000000000000001E-2,3,6.9767441860465115E-2,9.3023255813953487E-2]
["LIN4003","DISCURSO ORAL",2,44,42,1,2.3809523809523808E-2,2,4.5454545454545456E-2,6.8181818181818177E-2,null,"Ir a Tabla de Repitencia >=30%"]
["LIN4000","ESTUDIOS DEL LENGUAJE I",1,33,32,1,3.125E-2,1,3.0303030303030304E-2,6.0606060606060608E-2]
["LIN4008","DIDACTICA Y LIT CONTEMP",2,34,33,1,3.0303030303030304E-2,1,2.9411764705882353E-2,5.8823529411764705E-2]
["CAS3020","COMPETENCIA COMUNICATIVA I",23,683,663,19,2.8657616892911009E-2,20,2.9282576866764276E-2,5.7101024890190338E-2]
["LIN4002","GENEROS DISCURSIVOS Y LENGUAJE",2,26,25,0,0,1,3.8461538461538464E-2,3.8461538461538464E-2]
["LIN4007","METOD ENSEÑANZA LENGUA MAT II",3,60,59,1,1.6949152542372881E-2,1,1.6666666666666666E-2,3.3333333333333333E-2]
["LIN4004","LITERATURA Y CULT LATINOAM",2,39,38,0,0,1,2.564102564102564E-2,2.564102564102564E-2]
["CAS0051","EXPRESION ORAL",4,82,81,0,0,1,1.2195121951219513E-2,1.2195121951219513E-2]
["HUM4204","FICCION Y GENEROS POPULARES",1,25,25,0,0,0,0,0]
["LIN4001","ESTUDIOS DEL LENGUAJE II",2,34,34,0,0,0,0,0]
["LIN4009","CONTEXTO EDUCATIVO",2,31,31,0,0,0,0,0]
["LIN4050","EDICION DE TEXTOS",1,12,12,0,0,0,0,0]
["HUM4203","LECTURA IMPRESCINDIBLES",1,20,20,0,0,0,0,0]
["Total",null,{"$f":"SUM(C6:C22)","v":88},{"$f":"SUM(D6:D22)","v":2348},{"$f":"SUM(E6:E22)","v":2268},{"$f":"SUM(F6:F22)","v":105},{"$f":"F23/E23","v":4.6296296296296294E-2},{"$f":"SUM(H6:H22)","v":80},{"$f":"H23/D23","v":3.4071550255536626E-2},{"$f":"(F23+H23)/D23","v":7.8790459965928455E-2}]
[]
[]
["Repitencia de Asignaturas del Dpto. de Español, Mayor o Igual al 30%"]
[{"$f":"Planeación!A1","v":"2023-2"},null,null,null,null,null,null,null,null,null,null,"Ir a Inicio","Ir a Gráfico"]
["Codasg","Asignaturas","Total Cursos Abiertos","Número de Cursos con Repitencia >=30%","Matricula Inicial","Matrícula Final","Perdidos","%  Perdidos","Retirados","% Retirados","% Repitencia"]
["CAS3030","COMPETENCIA COMUNICATIVA II",{"$f":"VLOOKUP(A29,$A$7:$C$22,3,FALSE)","v":37},4,121,111,37,{"$f":"IFERROR(G29/F29,\"-\")","v":0.33333333333333331},10,{"$f":"I29/E29","v":8.2644628099173556E-2},{"$f":"(G29+I29)/E29","v":0.38842975206611569}]
["Total",null,{"$f":"SUM(C29:C29)","v":37},{"$f":"SUM(D29:D29)","v":4},{"$f":"SUM(E29:E29)","v":121},{"$f":"SUM(F29:F29)","v":111},{"$f":"SUM(G29:G29)","v":37},{"$f":"G30/F30","v":0.33333333333333331},{"$f":"SUM(I29:I29)","v":10},{"$f":"I30/E30","v":8.2644628099173556E-2},{"$f":"(G30+I30)/E30","v":0.38842975206611569}]

{"sheet":"Graf_Esp","index":19,"n_rows":2,"n_cols":15,"rows_kept":2,"cut":false,"hidden":false,"merged":[[0,0,0,14],[1,0,1,13]]}
["OFICINA DE PLANEACIÓN - INFORMACIÓN Y ESTADÍSTICA "]
[null,null,null,null,null,null,null,null,null,null,null,null,null,null,"Volver"]

{"sheet":"Rep_Fin","index":20,"n_rows":32,"n_cols":13,"rows_kept":32,"cut":false,"hidden":false,"merged":[[5,11,7,12],[9,11,12,12],[27,0,27,10],[28,0,28,10],[0,0,1,9],[2,0,2,9],[3,0,3,9]]}
["OFICINA DE PLANEACIÓN - INFORMACIÓN Y ESTADÍSTICA "]
[]
["Perdidos, Retirados y Repitencia de Asignaturas del Dpto. de Finanzas y Contaduría"]
[{"$f":"Planeación!A1","v":"2023-2"}]
["Codasg","Asignaturas","Total Cursos Abiertos","Matrícula Inicial","Matrícula Final","Perdidos","%  Perdidos","Retirados","% Retirados","% Repitencia"]
["CON2014","CONTABILIDAD FINANCIERA",6,209,179,22,{"$f":"IFERROR(F6/E6,\"-\")","v":0.12290502793296089},30,{"$f":"H6/D6","v":0.14354066985645933},{"$f":"(F6+H6)/D6","v":0.24880382775119617},null,"Volver al Índice"]
["CON8073","INTERNATIONAL ACCOUNTING I",1,21,17,1,5.8823529411764705E-2,4,0.19047619047619047,0.23809523809523808]
["FIN9240","PLANEACION FINANCIERA",5,195,178,12,6.741573033707865E-2,17,8.7179487179487175E-2,0.14871794871794872]
["FIN9236","INTERNATIONAL FINANCE",1,17,15,0,0,2,0.11764705882352941,0.11764705882352941]
["ADM0016","COMPANY  VALUATION",3,74,69,2,2.8985507246376812E-2,5,6.7567567567567571E-2,9.45945945945946E-2,null,"Ir a Tabla de Repitencia >=30%"]
["CON8070","FUNDAMENTOS DE CONTROL INTERNO",1,39,37,1,2.7027027027027029E-2,2,5.128205128205128E-2,7.6923076923076927E-2]
["ADM9739","CORPORATE HOLDINGS FISCALITY",1,16,16,1,6.25E-2,0,0,6.25E-2]
["CON2016","COSTOS Y PRESUPUESTOS",6,163,156,3,1.9230769230769232E-2,7,4.2944785276073622E-2,6.1349693251533742E-2]
["CON8072","AUDITORIA INTERNATIONAL I",1,18,18,1,5.5555555555555552E-2,0,0,5.5555555555555552E-2]
["FIN4228","GESTION FINANCIERA",5,190,186,0,0,4,2.1052631578947368E-2,2.1052631578947368E-2]
["CON8075","INTERNATIONAL ACCOUNTING II",2,39,39,0,0,0,0,0]
["CON8077","INTERNATIONAL ACCOUNTING III",1,29,29,0,0,0,0,0]
["CON8067","REVISORIA FISCAL",1,22,22,0,0,0,0,0]
["ADM0021","DERIVATIVE INSTRUMENTS",1,13,13,0,0,0,0,0]
["ADM9115","INTERNATIONAL INFORMATION SYST",1,11,11,0,0,0,0,0]
["CON8079","INTERNATIONAL AUDIT II",2,46,46,0,0,0,0,0]
["ADM0026","INTERNAC FINANCE MANAGEMENT",1,13,13,0,0,0,0,0]
["ADM0011","CAPITAL MARKETS",1,14,14,0,0,0,0,0]
["ADM9738","INTERN TAXES AND INTERN PROCED",1,15,15,0,0,0,0,0]
["ADM9737","COLOMBIAN TARIFFS AND TAXES",1,15,15,0,0,0,0,0]
["Total",null,{"$f":"SUM(C6:C25)","v":42},{"$f":"SUM(D6:D25)","v":1159},{"$f":"SUM(E6:E25)","v":1088},{"$f":"SUM(F6:F25)","v":43},{"$f":"F26/E26","v":3.952205882352941E-2},{"$f":"SUM(H6:H25)","v":71},{"$f":"H26/D26","v":6.1259706643658325E-2},{"$f":"(F26+H26)/D26","v":9.8360655737704916E-2}]
[]
["Repitencia de Asignaturas del Dpto. de Finanzas y Contaduría, Mayor o Igual al 30%"]
[{"$f":"Planeación!A1","v":"2023-2"},null,null,null,null,null,null,null,null,null,null,"Ir a Inicio","Ir a Gráfico"]
["Codasg","Asignaturas","Total Cursos Abiertos","Número de Cursos con Repitencia >=30%","Matricula Inicial","Matrícula Final","Perdidos","%  Perdidos","Retirados","% Retirados","% Repitencia"]
["CON2014","CONTABILIDAD FINANCIERA",{"$f":"VLOOKUP(A31,$A$6:$C$25,3,FALSE)","v":6},2,77,61,11,{"$f":"IFERROR(G31/F31,\"-\")","v":0.18032786885245902},16,{"$f":"I31/E31","v":0.20779220779220781},{"$f":"(G31+I31)/E31","v":0.35064935064935066}]
["Total",null,{"$f":"SUM(C31:C31)","v":6},{"$f":"SUM(D31:D31)","v":2},{"$f":"SUM(E31:E31)","v":77},{"$f":"SUM(F31:F31)","v":61},{"$f":"SUM(G31:G31)","v":11},{"$f":"G32/F32","v":0.18032786885245902},{"$f":"SUM(I31:I31)","v":16},{"$f":"I32/E32","v":0.20779220779220781},{"$f":"(G32+I32)/E32","v":0.35064935064935066}]

{"sheet":"Graf_Fin","index":21,"n_rows":2,"n_cols":15,"rows_kept":2,"cut":false,"hidden":false,"merged":[[0,0,0,14],[1,0,1,13]]}
["OFICINA DE PLANEACIÓN - INFORMACIÓN Y ESTADÍSTICA "]
[null,null,null,null,null,null,null,null,null,null,null,null,null,null,"Volver"]

{"sheet":"Rep_Fis","index":22,"n_rows":52,"n_cols":13,"rows_kept":52,"cut":false,"hidden":false,"merged":[[5,11,7,12],[9,11,12,12],[45,0,45,10],[46,0,46,10],[0,0,1,9],[2,0,2,9],[3,0,3,9]]}
["OFICINA DE PLANEACIÓN - INFORMACIÓN Y ESTADÍSTICA "]
[]
["Perdidos, Retirados y Repitencia de Asignaturas del Dpto. de Física"]
[{"$f":"Planeación!A1","v":"2023-2"}]
["Codasg","Asignaturas","Total Cursos Abiertos","Matrícula Inicial","Matrícula Final","Perdidos","%  Perdidos","Retirados","% Retirados","% Repitencia"]
["GEO4014","GEOQUIMICA",2,20,15,2,{"$f":"IFERROR(F6/E6,\"-\")","v":0.13333333333333333},5,{"$f":"H6/D6","v":0.25},{"$f":"(F6+H6)/D6","v":0.35},null,"Volver al Índice"]
["FIS1023","FÍSICA MECANICA",20,403,353,52,0.14730878186968838,50,0.12406947890818859,0.25310173697270472]
["GEO4012","GEOLOGIA FISICA",2,29,29,7,0.2413793103448276,0,0,0.2413793103448276]
["FIS1043","FISICA CALOR ONDAS",15,304,272,39,0.14338235294117646,32,0.10526315789473684,0.23355263157894737]
["FIS4011","FISICA MODERNA DEL ESTADO",1,11,10,1,0.1,1,9.0909090909090912E-2,0.18181818181818182,null,"Ir a Tabla de Repitencia >=30%"]
["GEO0009","GEOLOGIA ESTRUCTURAL",2,34,29,1,3.4482758620689655E-2,5,0.14705882352941177,0.17647058823529413]
["GEO4013","GEOMORFOLOGIA",2,24,23,3,0.13043478260869565,1,4.1666666666666664E-2,0.16666666666666666]
["CSV0071","INTRODUCCION A LA ASTROFISICA",1,18,16,1,6.25E-2,2,0.1111111111111111,0.16666666666666666]
["GEO0006","PROGRAMACION EN CIENCIAS",1,32,29,2,6.8965517241379309E-2,3,9.375E-2,0.15625]
["GEO4011","GEOLOGIA ESTRUCTURAL",2,27,25,2,0.08,2,7.407407407407407E-2,0.14814814814814814]
["GEO4003","ROCAS METAMORFICAS",2,7,7,1,0.14285714285714285,0,0,0.14285714285714285]
["GEO4016","INSTRUMENTACION GEOFISICA",2,40,35,0,0,5,0.125,0.125]
["FIS1010","TEORIA ELECTROMAGNETICA",2,58,52,1,1.9230769230769232E-2,6,0.10344827586206896,0.1206896551724138]
["GEO4008","GEODESIA Y SISMOLOGIA",1,26,24,1,4.1666666666666664E-2,2,7.6923076923076927E-2,0.11538461538461539]
["INV4276","PROYECTO DE GRADO",2,36,32,0,0,4,0.1111111111111111,0.1111111111111111]
["FIS1033","FÍSICA ELECTRICIDAD",17,334,316,19,6.0126582278481014E-2,18,5.3892215568862277E-2,0.11077844311377245]
["GEO4017","INTRODUCCION A LA GEOCIENCIAS",1,10,9,0,0,1,0.1,0.1]
["CSV0052","AGUA Y SOCIEDAD",1,30,27,0,0,3,0.1,0.1]
["GEO4018","MINERALOGIA",2,22,21,1,4.7619047619047616E-2,1,4.5454545454545456E-2,9.0909090909090912E-2]
["GEO4040","AMBIENT Y PROC SUBMARINOS PROF",1,22,21,1,4.7619047619047616E-2,1,4.5454545454545456E-2,9.0909090909090912E-2]
["GEO4010","GEOLOGIA COLOMBIANA",1,34,33,2,6.0606060606060608E-2,1,2.9411764705882353E-2,8.8235294117647065E-2]
["GEO4029","SEDIMENTOLOGIA Y ROCA SEDIMENT",1,14,13,0,0,1,7.1428571428571425E-2,7.1428571428571425E-2]
["GEO4015","HIDROGEOLOGIA",1,29,28,1,3.5714285714285712E-2,1,3.4482758620689655E-2,6.8965517241379309E-2]
["GEO4024","ROCAS IGNEAS",1,15,14,0,0,1,6.6666666666666666E-2,6.6666666666666666E-2]
["GEO4009","GEOLOGIA AMBIENTAL",1,15,14,0,0,1,6.6666666666666666E-2,6.6666666666666666E-2]
["GEO4025","SENSORES REMOTOS Y SIG",2,33,31,0,0,2,6.0606060606060608E-2,6.0606060606060608E-2]
["GEO4021","PALEONTOLOGIA",1,19,19,1,5.2631578947368418E-2,0,0,5.2631578947368418E-2]
["CSV0040","FUNDAMENTO DE FISICA",3,68,65,0,0,3,4.4117647058823532E-2,4.4117647058823532E-2]
["GEO4023","RECURSOS MINERALES",2,25,24,0,0,1,0.04,0.04]
["GEO4020","OCEANOGRAFIA DINAMICA",1,25,24,0,0,1,0.04,0.04]
["GEO4031","SISMOLOGÍA AVANZADA",1,26,25,0,0,1,3.8461538461538464E-2,3.8461538461538464E-2]
["GEO4001","ANALISIS DE SERIES DE TIEMPO",1,21,21,0,0,0,0,0]
["GEO4019","OCEANOGRAFIA DESCRIPTIVA",1,18,18,0,0,0,0,0]
["GEO4006","ESTRATIGRAFIA",1,6,6,0,0,0,0,0]
["GEO0007","ESTRATIGRAFIA",1,16,16,0,0,0,0,0]
["GEO4022","PROCESOS COSTEROS",1,23,23,0,0,0,0,0]
["GEO0005","ROCAS METAMORFICAS",2,16,16,0,0,0,0,0]
["GEO0003","GEOLOGIA PLANETARIA",1,15,15,0,0,0,0,0]
["Total",null,{"$f":"SUM(C6:C43)","v":102},{"$f":"SUM(D6:D43)","v":1905},{"$f":"SUM(E6:E43)","v":1750},{"$f":"SUM(F6:F43)","v":138},{"$f":"F44/E44","v":7.8857142857142862E-2},{"$f":"SUM(H6:H43)","v":155},{"$f":"H44/D44","v":8.1364829396325458E-2},{"$f":"(F44+H44)/D44","v":0.15380577427821523}]
[]
["Repitencia de Asignaturas del Dpto. de Física, Mayor o Igual al 30%"]
[{"$f":"Planeación!A1","v":"2023-2"},null,null,null,null,null,null,null,null,null,null,"Ir a Inicio","Ir a Gráfico"]
["Codasg","Asignaturas","Total Cursos Abiertos","Número de Cursos con Repitencia >=30%","Matricula Inicial","Matrícula Final","Perdidos","%  Perdidos","Retirados","% Retirados","% Repitencia"]
["FIS1023","FÍSICA MECANICA",{"$f":"VLOOKUP(A49,$A$6:$C$43,3,FALSE)","v":20},8,161,133,30,{"$f":"IFERROR(G49/F49,\"-\")","v":0.22556390977443608},28,{"$f":"I49/E49","v":0.17391304347826086},{"$f":"(G49+I49)/E49","v":0.36024844720496896}]
["FIS1043","FISICA CALOR ONDAS",{"$f":"VLOOKUP(A50,$A$6:$C$43,3,FALSE)","v":15},5,100,79,24,{"$f":"IFERROR(G50/F50,\"-\")","v":0.30379746835443039},21,{"$f":"I50/E50","v":0.21},{"$f":"(G50+I50)/E50","v":0.45}]
["GEO4014","GEOQUIMICA",{"$f":"VLOOKUP(A51,$A$6:$C$43,3,FALSE)","v":2},1,12,9,2,{"$f":"IFERROR(G51/F51,\"-\")","v":0.22222222222222221},3,{"$f":"I51/E51","v":0.25},{"$f":"(G51+I51)/E51","v":0.41666666666666669}]
["Total",null,{"$f":"SUM(C49:C51)","v":37},{"$f":"SUM(D49:D51)","v":14},{"$f":"SUM(E49:E51)","v":273},{"$f":"SUM(F49:F51)","v":221},{"$f":"SUM(G49:G51)","v":56},{"$f":"G52/F52","v":0.25339366515837103},{"$f":"SUM(I49:I51)","v":52},{"$f":"I52/E52","v":0.19047619047619047},{"$f":"(G52+I52)/E52","v":0.39560439560439559}]

{"sheet":"Graf_Fis","index":23,"n_rows":2,"n_cols":15,"rows_kept":2,"cut":false,"hidden":false,"merged":[[0,0,0,14],[1,0,1,13]]}
["OFICINA DE PLANEACIÓN - INFORMACIÓN Y ESTADÍSTICA "]
[null,null,null,null,null,null,null,null,null,null,null,null,null,null,"Volver"]

{"sheet":"Rep_His","index":24,"n_rows":37,"n_cols":13,"rows_kept":37,"cut":false,"hidden":false,"merged":[[29,0,29,10],[0,0,1,9],[2,0,2,9],[3,0,3,9],[5,11,7,12],[9,11,12,12],[28,0,28,10]]}
["OFICINA DE PLANEACIÓN - INFORMACIÓN Y ESTADÍSTICA "]
[]
["Perdidos, Retirados y Repitencia de Asignaturas del Dpto. de Historia y Cs. Sociales"]
[{"$f":"Planeación!A1","v":"2023-2"}]
["Codasg","Asignaturas","Total Cursos Abiertos","Matrícula Inicial","Matrícula Final","Perdidos","%  Perdidos","Retirados","% Retirados","% Repitencia"]
["HIS7130","AMERICA  PREHISPANICA",2,75,50,7,{"$f":"IFERROR(F6/E6,\"-\")","v":0.14000000000000001},25,{"$f":"H6/D6","v":0.33333333333333331},{"$f":"(F6+H6)/D6","v":0.42666666666666669},null,"Volver al Índice"]
["HIS2041","FUNDAMENTOS DEL MUNDO CONTEM",2,52,38,2,5.2631578947368418E-2,14,0.26923076923076922,0.30769230769230771]
["ECA0020","CARIBE PREHISPANICO",3,99,79,9,0.11392405063291139,20,0.20202020202020202,0.29292929292929293]
["ECA7000","HRIA. Y CULTURA DEL CARIBE",6,196,164,19,0.11585365853658537,32,0.16326530612244897,0.26020408163265307]
["CSO0040","GEOGRAFIA UNIVERSAL",2,50,44,4,9.0909090909090912E-2,6,0.12,0.2,null,"Ir a Tabla de Repitencia >=30%"]
["HIS7240","AMERICA LATINA CONTEMPORANEA",2,80,71,6,8.4507042253521125E-2,9,0.1125,0.1875]
["HIS7160","COLOMBIA PREHISPANICA",1,40,37,3,8.1081081081081086E-2,3,7.4999999999999997E-2,0.15]
["CSO7030","CIENCIAS,TECNOLOGIA-SOCIEDAD",3,73,67,3,4.4776119402985072E-2,6,8.2191780821917804E-2,0.12328767123287671]
["ECA7010","CULTURA E IDENTIDAD CARIBE",3,110,104,5,4.807692307692308E-2,6,5.4545454545454543E-2,0.1]
["CSO0150","VIDA EN RED Y CAMBIO SOCIAL",2,41,39,2,5.128205128205128E-2,2,4.878048780487805E-2,9.7560975609756101E-2]
["HIS7190","HRIA. DE COL. SIGLO XX",8,314,297,12,4.0404040404040407E-2,17,5.4140127388535034E-2,9.2356687898089165E-2]
["HIS3005","HRIA POLITICA-AMERICA LATINA",1,11,11,1,9.0909090909090912E-2,0,0,9.0909090909090912E-2]
["CSO0006","FUNDAMENTOS DE ANTROPOLOGIA",5,173,166,8,4.8192771084337352E-2,7,4.046242774566474E-2,8.6705202312138727E-2]
["HIS2550","ENFERMEDADES EN EL PASADO",2,59,58,3,5.1724137931034482E-2,1,1.6949152542372881E-2,6.7796610169491525E-2]
["ECA0030","DIVERSIDAD CULTURAL CARIBE COL",2,70,67,1,1.4925373134328358E-2,3,4.2857142857142858E-2,5.7142857142857141E-2]
["CSO7020","PROB.SOCIEDAD CONTEMPORANEA",3,86,83,1,1.2048192771084338E-2,3,3.4883720930232558E-2,4.6511627906976744E-2]
["HIS2110","REVOLUCIONES EN LA HISTORIA",1,23,22,0,0,1,4.3478260869565216E-2,4.3478260869565216E-2]
["HIS2100","HISTORIA DE LAS IDEAS POLITICA",1,24,23,0,0,1,4.1666666666666664E-2,4.1666666666666664E-2]
["HIS2070","HRIA POLITICA ECON- COLOMBIA",1,32,31,0,0,1,3.125E-2,3.125E-2]
["HIS7200","HRIA. DE BARRANQUILLA",3,120,117,0,0,3,2.5000000000000001E-2,2.5000000000000001E-2]
["CSO7045","ENVIRONMENT AND SOCIETY",1,8,8,0,0,0,0,0]
["Total",null,{"$f":"SUM(C6:C26)","v":54},{"$f":"SUM(D6:D26)","v":1736},{"$f":"SUM(E6:E26)","v":1576},{"$f":"SUM(F6:F26)","v":86},{"$f":"F27/E27","v":5.4568527918781723E-2},{"$f":"SUM(H6:H26)","v":160},{"$f":"H27/D27","v":9.2165898617511524E-2},{"$f":"(F27+H27)/D27","v":0.14170506912442396}]
[]
["Repitencia de Asignaturas del Dpto. de Historia y Cs. Sociales, Mayor o Igual al 30%"]
[{"$f":"Planeación!A1","v":"2023-2"},null,null,null,null,null,null,null,null,null,null,"Ir a Inicio","Ir a Gráfico"]
["Codasg","Asignaturas","Total Cursos Abiertos","Número de Cursos con Repitencia >=30%","Matricula Inicial","Matrícula Final","Perdidos","%  Perdidos","Retirados","% Retirados","% Repitencia"]
["HIS7130","AMERICA  PREHISPANICA",{"$f":"VLOOKUP(A32,$A$6:$C$26,3,FALSE)","v":2},2,75,50,7,{"$f":"IFERROR(G32/F32,\"-\")","v":0.14000000000000001},25,{"$f":"I32/E32","v":0.33333333333333331},{"$f":"(G32+I32)/E32","v":0.42666666666666669}]
["ECA7000","HRIA. Y CULTURA DEL CARIBE",{"$f":"VLOOKUP(A33,$A$6:$C$26,3,FALSE)","v":6},3,77,54,11,{"$f":"IFERROR(G33/F33,\"-\")","v":0.20370370370370369},23,0.29870129870129869,0.44155844155844154]
["HIS2041","FUNDAMENTOS DEL MUNDO CONTEM",{"$f":"VLOOKUP(A34,$A$6:$C$26,3,FALSE)","v":2},1,30,16,2,{"$f":"IFERROR(G34/F34,\"-\")","v":0.125},14,0.46666666666666667,0.53333333333333333]
["ECA0020","CARIBE PREHISPANICO",{"$f":"VLOOKUP(A35,$A$6:$C$26,3,FALSE)","v":3},2,59,39,7,{"$f":"IFERROR(G35/F35,\"-\")","v":0.17948717948717949},20,0.33898305084745761,0.4576271186440678]
["CSO0040","GEOGRAFIA UNIVERSAL",{"$f":"VLOOKUP(A36,$A$6:$C$26,3,FALSE)","v":2},1,14,11,3,{"$f":"IFERROR(G36/F36,\"-\")","v":0.27272727272727271},3,0.21428571428571427,0.42857142857142855]
["Total",null,{"$f":"SUM(C32:C36)","v":15},{"$f":"SUM(D32:D36)","v":9},255,170,30,{"$f":"G37/F37","v":0.17647058823529413},85,0.33333333333333331,0.45098039215686275]

{"sheet":"Graf_His","index":25,"n_rows":2,"n_cols":15,"rows_kept":2,"cut":false,"hidden":false,"merged":[[0,0,0,14],[1,0,1,13]]}
["OFICINA DE PLANEACIÓN - INFORMACIÓN Y ESTADÍSTICA "]
[null,null,null,null,null,null,null,null,null,null,null,null,null,null,"Volver"]

{"sheet":"Rep_Hum","index":26,"n_rows":44,"n_cols":13,"rows_kept":44,"cut":false,"hidden":false,"merged":[[5,11,7,12],[9,11,12,12],[39,0,39,10],[40,0,40,10],[0,0,1,9],[2,0,2,9],[3,0,3,9]]}
["OFICINA DE PLANEACIÓN - INFORMACIÓN Y ESTADÍSTICA "]
[]
["Perdidos, Retirados y Repitencia de Asignaturas del Dpto. Humanidades y Filosofía"]
[{"$f":"Planeación!A1","v":"2023-2"}]
["Codasg","Asignaturas","Total Cursos Abiertos","Matrícula Inicial","Matrícula Final","Perdidos","%  Perdidos","Retirados","% Retirados","% Repitencia"]
["INV4270","PROYECTO DE GRADO II FILOSOFIA",1,7,6,2,{"$f":"IFERROR(F6/E6,\"-\")","v":0.33333333333333331},1,{"$f":"H6/D6","v":0.14285714285714285},{"$f":"(F6+H6)/D6","v":0.42857142857142855},null,"Volver al Índice"]
["FIL7010","FILOSOFIA ANTIGUA II (ARISTOT)",1,15,13,2,0.15384615384615385,2,0.13333333333333333,0.26666666666666666]
["HUM0060","LOGICAS  DE LA VIDA AMOROSA",3,126,106,8,7.5471698113207544E-2,20,0.15873015873015872,0.22222222222222221]
["HUM4190","SEM LITERATURA III (TEMATICO)",1,5,5,1,0.2,0,0,0.2]
["FIL4120","PENS MEDIEVAL Y RENACENTISTA",1,21,20,2,0.1,1,4.7619047619047616E-2,0.14285714285714285,null,"Ir a Tabla de Repitencia >=30%"]
["HUM0050","LITERATURA Y CIUDAD",3,87,80,5,6.25E-2,7,8.0459770114942528E-2,0.13793103448275862]
["IDS0035","VIAJANDO POR LA CIENCIA",1,24,21,0,0,3,0.125,0.125]
["HUM4040","HISTORIA DEL ARTE",1,52,51,3,5.8823529411764705E-2,1,1.9230769230769232E-2,7.6923076923076927E-2]
["HUM7020","LITERATURA COLOMBIANA",3,107,103,4,3.8834951456310676E-2,4,3.7383177570093455E-2,7.476635514018691E-2]
["FIL4020","INTRODUCCION A LA FILOSOFIA",9,347,332,9,2.710843373493976E-2,15,4.3227665706051875E-2,6.9164265129683003E-2]
["HUM0285","LITERATURA LATINOAMERICANA",4,153,151,8,5.2980132450331126E-2,2,1.3071895424836602E-2,6.535947712418301E-2]
["ETI1020","BIOETICA",1,17,16,0,0,1,5.8823529411764705E-2,5.8823529411764705E-2]
["ETI8070","ETICA",21,807,782,21,2.6854219948849106E-2,25,3.0978934324659233E-2,5.7001239157372985E-2]
["HUM4005","CULTURA CONTEMPORANEA Y GENERO",2,53,53,3,5.6603773584905662E-2,0,0,5.6603773584905662E-2]
["FIL4050","FILOSOFIA MODERNA II (KANT)",1,18,17,0,0,1,5.5555555555555552E-2,5.5555555555555552E-2]
["ETI4040","FILOSOFIA MORAL",1,39,38,1,2.6315789473684209E-2,1,2.564102564102564E-2,5.128205128205128E-2]
["IDS0060","CONOCIMIENTO E INVESTIGACION",7,145,142,4,2.8169014084507043E-2,3,2.0689655172413793E-2,4.8275862068965517E-2]
["HUM0110","CINE Y LITERATURA CONTEMPORA",1,131,125,0,0,6,4.5801526717557252E-2,4.5801526717557252E-2]
["HUM0120","ARTE Y TERAPIA",1,133,129,1,7.7519379844961239E-3,4,3.007518796992481E-2,3.7593984962406013E-2]
["FIL7040","PROB. FIL. CONTEMPORANEA I",13,568,554,7,1.263537906137184E-2,14,2.464788732394366E-2,3.6971830985915492E-2]
["HUM0090","ESCRITURA CREATIVA",2,60,59,1,1.6949152542372881E-2,1,1.6666666666666666E-2,3.3333333333333333E-2]
["HUM0030","MÚSICA Y CINE",1,32,31,0,0,1,3.125E-2,3.125E-2]
["HUM7040","LITERATURA NO HISPANICA",4,211,208,2,9.6153846153846159E-3,3,1.4218009478672985E-2,2.3696682464454975E-2]
["ETI0040","BIOETICA MD",3,169,169,0,0,0,0,0]
["HUM0100","GÉNERO Y DERECHO HUMANO",1,44,44,0,0,0,0,0]
["FIL1080","SEM DE AUTOR I: CULT Y PSICOAN",1,8,8,0,0,0,0,0]
["FIL2040","SEM DE FILOSOFIA Y ESTUD LITER",1,4,4,0,0,0,0,0]
["HUM4170","SEM EST CONTEMPORANEOS Y CULTU",1,7,7,0,0,0,0,0]
["FIL4090","SEM FIL DEL ACONTECIMIENTO",1,5,5,0,0,0,0,0]
["HUM4150","SEM LITERATURA I (LIT COLOMB)",1,7,7,0,0,0,0,0]
["HUM4160","SEMINARIO DE ESTETICA",1,9,9,0,0,0,0,0]
["HUM4070","TEORIA DEL ARTE I",1,10,10,0,0,0,0,0]
["Total",null,{"$f":"SUM(C6:C37)","v":94},{"$f":"SUM(D6:D37)","v":3421},{"$f":"SUM(E6:E37)","v":3305},{"$f":"SUM(F6:F37)","v":84},{"$f":"F38/E38","v":2.5416036308623297E-2},{"$f":"SUM(H6:H37)","v":116},3.3908213972522652E-2,5.8462437883659749E-2]
[]
["Repitencia de Asignaturas del Dpto. Humanidades y Filosofía, Mayor o Igual al 30%"]
[{"$f":"Planeación!A1","v":"2023-2"},null,null,null,null,null,null,null,null,null,null,"Ir a Inicio","Ir a Gráfico"]
["Codasg","Asignaturas","Total Cursos Abiertos","Número de Cursos con Repitencia >=30%","Matricula Inicial","Matrícula Final","Perdidos","%  Perdidos","Retirados","% Retirados","% Repitencia"]
["INV4270","PROYECTO DE GRADO II FILOSOFIA",{"$f":"VLOOKUP(A43,$A$6:$C$37,3,FALSE)","v":1},1,7,6,2,{"$f":"IFERROR(G43/F43,\"-\")","v":0.33333333333333331},1,{"$f":"I43/E43","v":0.14285714285714285},{"$f":"(G43+I43)/E43","v":0.42857142857142855}]
["Total",null,{"$f":"SUM(C43:C43)","v":1},{"$f":"SUM(D43:D43)","v":1},{"$f":"SUM(E43:E43)","v":7},{"$f":"SUM(F43:F43)","v":6},{"$f":"SUM(G43:G43)","v":2},{"$f":"G44/F44","v":0.33333333333333331},{"$f":"SUM(I43:I43)","v":1},{"$f":"I44/E44","v":0.14285714285714285},{"$f":"(G44+I44)/E44","v":0.42857142857142855}]

{"sheet":"Graf_Hum","index":27,"n_rows":1,"n_cols":1,"rows_kept":1,"cut":false,"hidden":false,"merged":[[0,0,0,14],[1,0,1,13]]}
["OFICINA DE PLANEACIÓN - INFORMACIÓN Y ESTADÍSTICA "]

{"sheet":"Rep_Civ","index":28,"n_rows":47,"n_cols":13,"rows_kept":47,"cut":false,"hidden":false,"merged":[[37,0,37,10],[0,0,1,9],[2,0,2,9],[3,0,3,9],[5,11,7,12],[9,11,12,12],[36,0,36,10]]}
["OFICINA DE PLANEACIÓN - INFORMACIÓN Y ESTADÍSTICA "]
[]
["Perdidos, Retirados y Repitencia de Asignaturas del Dpto. Ing. Civil y Ambiental"]
[{"$f":"Planeación!A1","v":"2023-2"}]
["Codasg","Asignaturas","Total Cursos Abiertos","Matrícula Inicial","Matrícula Final","Perdidos","%  Perdidos","Retirados","% Retirados","% Repitencia"]
["IBA4070","ESTATICA PARA ARQUITECTOS",2,46,39,15,{"$f":"IFERROR(F6/E6,\"-\")","v":0.38461538461538464},7,{"$f":"H6/D6","v":0.15217391304347827},{"$f":"(F6+H6)/D6","v":0.47826086956521741},null,"Volver al Índice"]
["ICI7104","ANÁLISIS ESTRUCTURAL",3,112,97,31,0.31958762886597936,15,0.13392857142857142,0.4107142857142857]
["ICI4021","DISEÑO DE VÍAS",2,77,68,22,0.3235294117647059,9,0.11688311688311688,0.40259740259740262]
["ICI4011","TOPOGRAFIA Y GEOINFORMACION",4,61,53,11,0.20754716981132076,8,0.13114754098360656,0.31147540983606559]
["ICI7014","INGENIERIA DE TRANSPORTE",3,97,96,25,0.26041666666666669,1,1.0309278350515464E-2,0.26804123711340205,null,"Ir a Tabla de Repitencia >=30%"]
["ELP7271","PAVIMENTOS",1,13,10,0,0,3,0.23076923076923078,0.23076923076923078]
["ICI4083","HIDRAULICA",5,69,63,9,0.14285714285714285,6,8.6956521739130432E-2,0.21739130434782608]
["IBA0022","EXPRESION GRAFICA",4,136,130,20,0.15384615384615385,6,4.4117647058823532E-2,0.19117647058823528]
["IBA4032","ESTÁTICA",5,136,126,9,7.1428571428571425E-2,10,7.3529411764705885E-2,0.13970588235294118]
["ICI7052","DISEÑO ESTRUCTURAL",2,48,45,3,6.6666666666666666E-2,3,6.25E-2,0.125]
["ICI4310","MECÁNICA DE SUELOS",6,89,88,10,0.11363636363636363,1,1.1235955056179775E-2,0.12359550561797752]
["ICI4060","GEOLOGIA",3,74,71,5,7.0422535211267609E-2,3,4.0540540540540543E-2,0.10810810810810811]
["ICI4070","HIDROLOGIA",3,90,86,5,5.8139534883720929E-2,4,4.4444444444444446E-2,0.1]
["ICI0010","INT A LA INGENIERIA CIVIL",1,42,41,3,7.3170731707317069E-2,1,2.3809523809523808E-2,9.5238095238095233E-2]
["ICI7110","FUNDACIONES",2,33,32,2,6.25E-2,1,3.0303030303030304E-2,9.0909090909090912E-2]
["ICI7171","ACUEDUCTO Y ALCANTARILLADO",3,99,98,7,7.1428571428571425E-2,1,1.0101010101010102E-2,8.0808080808080815E-2]
["ICI4051","MATERIALES DE CONSTRUCCION",4,55,53,2,3.7735849056603772E-2,2,3.6363636363636362E-2,7.2727272727272724E-2]
["ICI4280","GEOMETRIA DESCRIPTIVA",2,42,41,2,4.878048780487805E-2,1,2.3809523809523808E-2,7.1428571428571425E-2]
["ADM5031","ADMON Y CTRL DE CONSTRUCCION",4,138,134,3,2.2388059701492536E-2,4,2.8985507246376812E-2,5.0724637681159424E-2]
["ICI8750","INGENIERIA AMBIENTAL",6,87,87,1,1.1494252873563218E-2,0,0,1.1494252873563218E-2]
["ICI7081","CONSTRUCCION",2,42,42,0,0,0,0,0]
["ELP7028","TOPIC AVANZ EN TECNOL Y CONCRE",1,24,24,0,0,0,0,0]
["INV7362","PROYECTO FINAL",4,55,55,0,0,0,0,0]
["ELP7272","GEOTECNIA APLICADA",1,16,16,0,0,0,0,0]
["ELP4083","CONSTRUCCIONES SOSTENIBLES",1,29,29,0,0,0,0,0]
["ELP0021","MATERIALES INFRAESTRUCTU VIAL",1,23,23,0,0,0,0,0]
["AMB4032","GESTION DE RESIDUOS",1,28,28,0,0,0,0,0]
["ELP4076","INGENIERIA DE RIOS Y COSTAS",1,7,7,0,0,0,0,0]
["ELP7029","CORROSION DE LOS MATERIALES",1,17,17,0,0,0,0,0]
["Total",null,{"$f":"SUM(C6:C34)","v":78},{"$f":"SUM(D6:D34)","v":1785},{"$f":"SUM(E6:E34)","v":1699},{"$f":"SUM(F6:F34)","v":185},{"$f":"F35/E35","v":0.1088875809299588},{"$f":"SUM(H6:H34)","v":86},{"$f":"H35/D35","v":4.8179271708683476E-2},{"$f":"(F35+H35)/D35","v":0.15182072829131651}]
[]
["Repitencia de Asignaturas del Dpto. Ing. Civil y Ambiental, Mayor o Igual al 30%"]
[{"$f":"Planeación!A1","v":"2023-2"},null,null,null,null,null,null,null,null,null,null,"Ir a Inicio","Ir a Gráfico"]
["Codasg","Asignaturas","Total Cursos Abiertos","Número de Cursos con Repitencia >=30%","Matricula Inicial","Matrícula Final","Perdidos","%  Perdidos","Retirados","% Retirados","% Repitencia"]
["ICI4011","TOPOGRAFIA Y GEOINFORMACION",{"$f":"VLOOKUP(A40,$A$6:$C$34,3,FALSE)","v":4},2,31,27,8,{"$f":"IFERROR(G40/F40,\"-\")","v":0.29629629629629628},4,{"$f":"I40/E40","v":0.12903225806451613},{"$f":"(G40+I40)/E40","v":0.38709677419354838}]
["ICI4083","HIDRAULICA",5,1,9,8,3,0.375,1,0.1111111111111111,0.44444444444444442]
["ICI7104","ANÁLISIS ESTRUCTURAL",3,2,77,65,25,0.38461538461538464,12,0.15584415584415584,0.48051948051948051]
["ICI4021","DISEÑO DE VÍAS",2,2,77,68,22,0.3235294117647059,9,0.11688311688311688,0.40259740259740262]
["ICI7014","INGENIERIA DE TRANSPORTE",3,1,36,35,12,0.34285714285714286,1,2.7777777777777776E-2,0.3611111111111111]
["IBA0022","EXPRESION GRAFICA",4,1,34,32,9,0.28125,2,5.8823529411764705E-2,0.3235294117647059]
["IBA4070","ESTATICA PARA ARQUITECTOS",2,2,46,39,15,0.38461538461538464,7,0.15217391304347827,0.47826086956521741]
["Total",null,{"$f":"SUM(C40:C46)","v":23},{"$f":"SUM(D40:D46)","v":11},310,274,94,{"$f":"G47/F47","v":0.34306569343065696},36,0.11612903225806452,0.41935483870967744]

{"sheet":"Graf_Civ","index":29,"n_rows":2,"n_cols":15,"rows_kept":2,"cut":false,"hidden":false,"merged":[[0,0,0,14],[1,0,1,13]]}
["OFICINA DE PLANEACIÓN - INFORMACIÓN Y ESTADÍSTICA "]
[null,null,null,null,null,null,null,null,null,null,null,null,null,null,"Volver"]

{"sheet":"Rep_Sis","index":30,"n_rows":47,"n_cols":13,"rows_kept":47,"cut":false,"hidden":false,"merged":[[39,0,39,10],[9,11,11,12],[0,0,1,9],[2,0,2,9],[3,0,3,9],[5,11,7,12],[38,0,38,10]]}
["OFICINA DE PLANEACIÓN - INFORMACIÓN Y ESTADÍSTICA "]
[]
["Perdidos, Retirados y Repitencia de Asignaturas del Dpto. Ingeniería de Sistemas"]
[{"$f":"Planeación!A1","v":"2023-2"}]
["Codasg","Asignaturas","Total Cursos Abiertos","Matrícula Inicial","Matrícula Final","Perdidos","%  Perdidos","Retirados","% Retirados","% Repitencia"]
["IST7081","SISTEMAS OPERACIONALES",2,41,36,8,{"$f":"IFERROR(F6/E6,\"-\")","v":0.22222222222222221},5,{"$f":"H6/D6","v":0.12195121951219512},{"$f":"(F6+H6)/D6","v":0.31707317073170732},null,"Volver al Índice"]
["IST2088","ALGORITMIA Y PROGRAMACIÓN I",10,380,331,66,0.19939577039274925,49,0.12894736842105264,0.30263157894736842]
["IST7410","COMPILADORES",2,79,75,18,0.24,4,5.0632911392405063E-2,0.27848101265822783]
["IST4330","ESTRUCTURAS DISCRETAS",2,63,54,8,0.14814814814814814,9,0.14285714285714285,0.26984126984126983]
["ELP8011","CRIPTOGRAFIA",1,18,14,0,0,4,0.22222222222222221,0.22222222222222221,null,"Ir a Tabla de Repitencia >=30%"]
["ELP8124","MINERÍA DE DATOS",1,33,26,0,0,7,0.21212121212121213,0.21212121212121213]
["IST4360","SOLUCIONES COMP. A PROB.EN ING",7,223,188,7,3.7234042553191488E-2,35,0.15695067264573992,0.18834080717488788]
["IST7102","ESTRUCTURA DEL COMPUTADOR II",1,39,37,4,0.10810810810810811,2,5.128205128205128E-2,0.15384615384615385]
["IST2089","ALGORITMIA Y PROGRAMACIÓN II",5,161,148,9,6.0810810810810814E-2,13,8.0745341614906832E-2,0.13664596273291926]
["IST2110","PROGRAMACION ORIENTADA OBJETOS",3,89,81,3,3.7037037037037035E-2,8,8.98876404494382E-2,0.12359550561797752]
["ELP8510","PROGRAMACIÓN MÓVIL",1,33,30,1,3.3333333333333333E-2,3,9.0909090909090912E-2,0.12121212121212122]
["IST0010","INT A LA ING. DE SISTEMAS",3,87,80,3,3.7499999999999999E-2,7,8.0459770114942528E-2,0.11494252873563218]
["IST4310","ALGORITMOS Y COMPLEJIDAD",2,62,57,2,3.5087719298245612E-2,5,8.0645161290322578E-2,0.11290322580645161]
["IST7420","OPTIMIZACION",1,39,36,1,2.7777777777777776E-2,3,7.6923076923076927E-2,0.10256410256410256]
["IST4031","ESTRUCTURA DE DATOS II",3,114,110,7,6.363636363636363E-2,4,3.5087719298245612E-2,9.6491228070175433E-2]
["ELP8012","INTELIGENCIA ARTIFICIAL",1,26,24,0,0,2,7.6923076923076927E-2,7.6923076923076927E-2]
["IST4021","ESTRUCTURA DE DATOS I-IS",3,103,100,4,0.04,3,2.9126213592233011E-2,6.7961165048543687E-2]
["IST7191","REDES DE COMPUTACION",3,60,58,2,3.4482758620689655E-2,2,3.3333333333333333E-2,6.6666666666666666E-2]
["IST4012","ESTRUCTURA DEL COMPUTADOR I",2,64,62,2,3.2258064516129031E-2,2,3.125E-2,6.25E-2]
["ELP7195","REDES DE ALTA VELOCIDAD",3,53,50,0,0,3,5.6603773584905662E-2,5.6603773584905662E-2]
["IST7111","BASES DE DATOS",2,61,60,2,3.3333333333333333E-2,1,1.6393442622950821E-2,4.9180327868852458E-2]
["INV7363","PROYECTO FINAL",1,41,40,1,2.5000000000000001E-2,1,2.4390243902439025E-2,4.878048780487805E-2]
["IDS0040","CIBERETICA",1,22,21,0,0,1,4.5454545454545456E-2,4.5454545454545456E-2]
["IST7122","DISEÑO DEL SOFTWARE II",2,62,61,1,1.6393442622950821E-2,1,1.6129032258064516E-2,3.2258064516129031E-2]
["IST7072","DISEÑO DIGITAL",1,38,37,0,0,1,2.6315789473684209E-2,2.6315789473684209E-2]
["IDS0025","CIENCIA TECNOLOGIA Y GENERO",1,14,14,0,0,0,0,0]
["ELP7196","NETWORKING CON LINUX",1,20,20,0,0,0,0,0]
["IST7121","DISEÑO DE SOFTWARE I",1,30,30,0,0,0,0,0]
["IST4452","DSLLO APLICACIONES WEB BACKEND",1,34,34,0,0,0,0,0]
["ELP8480","GESTIÓN INTEGRADA EN T.I.",1,29,29,0,0,0,0,0]
["IST4453","DLLO APLICACIONES WEB FRONTEND",1,34,34,0,0,0,0,0]
["Total",null,{"$f":"SUM(C6:C36)","v":69},{"$f":"SUM(D6:D36)","v":2152},{"$f":"SUM(E6:E36)","v":1977},{"$f":"SUM(F6:F36)","v":149},{"$f":"F37/E37","v":7.5366717248356099E-2},{"$f":"SUM(H6:H36)","v":175},{"$f":"H37/D37","v":8.1319702602230481E-2},{"$f":"(F37+H37)/D37","v":0.15055762081784388}]
[]
["Repitencia de Asignaturas del Dpto. Ingeniería de Sistemas, Mayor o Igual al 30%"]
[{"$f":"Planeación!A1","v":"2023-2"},null,null,null,null,null,null,null,null,null,null,"Ir a Inicio","Ir a Gráfico"]
["Codasg","Asignaturas","Total Cursos Abiertos","Número de Cursos con Repitencia >=30%","Matricula Inicial","Matrícula Final","Perdidos","%  Perdidos","Retirados","% Retirados","% Repitencia"]
["IST7081","SOLUCIONES COMP. A PROB.EN ING",{"$f":"VLOOKUP(A42,$A$6:$C$36,3,FALSE)","v":2},2,59,40,6,{"$f":"IFERROR(G42/F42,\"-\")","v":0.15},19,{"$f":"I42/E42","v":0.32203389830508472},{"$f":"(G42+I42)/E42","v":0.42372881355932202}]
["IST4330","SISTEMAS OPERACIONALES",{"$f":"VLOOKUP(A43,$A$6:$C$36,3,FALSE)","v":2},1,13,11,3,{"$f":"IFERROR(G43/F43,\"-\")","v":0.27272727272727271},2,{"$f":"I43/E43","v":0.15384615384615385},{"$f":"(G43+I43)/E43","v":0.38461538461538464}]
["IST4360","ALGORITMIA Y PROGRAMACIÓN I",{"$f":"VLOOKUP(A44,$A$6:$C$36,3,FALSE)","v":7},6,237,195,49,{"$f":"IFERROR(G44/F44,\"-\")","v":0.25128205128205128},42,{"$f":"I44/E44","v":0.17721518987341772},{"$f":"(G44+I44)/E44","v":0.38396624472573837}]
["IST7410","ESTRUCTURAS DISCRETAS",{"$f":"VLOOKUP(A45,$A$6:$C$36,3,FALSE)","v":2},1,30,24,4,{"$f":"IFERROR(G45/F45,\"-\")","v":0.16666666666666666},6,{"$f":"I45/E45","v":0.2},{"$f":"(G45+I45)/E45","v":0.33333333333333331}]
["IST2088","COMPILADORES",{"$f":"VLOOKUP(A46,$A$6:$C$36,3,FALSE)","v":10},1,40,38,10,{"$f":"IFERROR(G46/F46,\"-\")","v":0.26315789473684209},2,{"$f":"I46/E46","v":0.05},{"$f":"(G46+I46)/E46","v":0.3}]
["Total",null,{"$f":"SUM(C42:C46)","v":23},{"$f":"SUM(D42:D46)","v":11},{"$f":"SUM(E42:E46)","v":379},{"$f":"SUM(F42:F46)","v":308},{"$f":"SUM(G42:G46)","v":72},{"$f":"G47/F47","v":0.23376623376623376},{"$f":"SUM(I42:I46)","v":71},{"$f":"I47/E47","v":0.18733509234828497},{"$f":"(G47+I47)/E47","v":0.37730870712401055}]

{"sheet":"Graf_Sis","index":31,"n_rows":2,"n_cols":15,"rows_kept":2,"cut":false,"hidden":false,"merged":[[0,0,0,14],[1,0,1,13]]}
["OFICINA DE PLANEACIÓN - INFORMACIÓN Y ESTADÍSTICA "]
[null,null,null,null,null,null,null,null,null,null,null,null,null,null,"Volver"]

{"sheet":"Rep_Ind","index":32,"n_rows":44,"n_cols":13,"rows_kept":44,"cut":false,"hidden":false,"merged":[[5,11,7,12],[9,11,11,12],[34,0,34,10],[35,0,35,10],[0,0,1,9],[2,0,2,9],[3,0,3,9]]}
["OFICINA DE PLANEACIÓN - INFORMACIÓN Y ESTADÍSTICA "]
[]
["Perdidos, Retirados y Repitencia de Asignaturas del Dpto. Ingeniería Industrial"]
[{"$f":"Planeación!A1","v":"2023-2"}]
["Codasg","Asignaturas","Total Cursos Abiertos","Matrícula Inicial","Matrícula Final","Perdidos","%  Perdidos","Retirados","% Retirados","% Repitencia"]
["IIN7050","CTRL Y GEST INT DE LA CALIDAD",8,113,86,25,{"$f":"IFERROR(F6/E6,\"-\")","v":0.29069767441860467},27,{"$f":"H6/D6","v":0.23893805309734514},{"$f":"(F6+H6)/D6","v":0.46017699115044247},null,"Volver al Índice"]
["IIN7105","SIMULACIÓN",4,109,99,34,0.34343434343434343,10,9.1743119266055051E-2,0.40366972477064222]
["IIN7061","INVESTIGACION DE OPERACIONES I",4,124,110,31,0.2818181818181818,14,0.11290322580645161,0.36290322580645162]
["IIN7171","PLAN. PROG Y CTRL PRODUCCION",3,85,74,19,0.25675675675675674,11,0.12941176470588237,0.35294117647058826]
["EST7042","ANÁLISIS  DE DATOS EN INGEN I",10,299,250,41,0.16400000000000001,49,0.16387959866220736,0.30100334448160537,null,"Ir a Tabla de Repitencia >=30%"]
["ELP4085","GESTION DE INVENTARIOS",1,17,17,5,0.29411764705882354,0,0,0.29411764705882354]
["GPY1012","FORM Y EVAL DE PROYECTOS",5,195,170,32,0.18823529411764706,25,0.12820512820512819,0.29230769230769232]
["IIN9525","DISEÑO DE SIST DE INFORMACION",1,14,12,2,0.16666666666666666,2,0.14285714285714285,0.2857142857142857]
["IIN7071","INVESTIGACION DE OPERAC 2",3,83,81,20,0.24691358024691357,2,2.4096385542168676E-2,0.26506024096385544]
["ELP8022","ANALISIS ESTADIST.MULTIVARIADO",1,20,16,0,0,4,0.2,0.2]
["IIN0008","SISTEMAS DE COSTOS DE PRODUCCI",2,60,54,6,0.1111111111111111,6,0.1,0.2]
["IIN7100","LOGISTICA Y DISTRIBUCION",3,101,99,14,0.14141414141414141,2,1.9801980198019802E-2,0.15841584158415842]
["IIN4305","INGENIERIA ECONOMICA",3,88,84,9,0.10714285714285714,4,4.5454545454545456E-2,0.14772727272727273]
["IIN4340","ESTRATEGIAS DE OPERACIONES",2,70,68,8,0.11764705882352941,2,2.8571428571428571E-2,0.14285714285714285]
["IIN1226","FUNDAMENTOS DE ING. ECONÓMICA",2,54,49,1,2.0408163265306121E-2,5,9.2592592592592587E-2,0.1111111111111111]
["IIN8897","MODELO ISO 9000 GTION CALIDAD",1,33,31,1,3.2258064516129031E-2,2,6.0606060606060608E-2,9.0909090909090912E-2]
["INV7366","PROYECTO FINAL",4,68,67,4,5.9701492537313432E-2,1,1.4705882352941176E-2,7.3529411764705885E-2]
["EST1051","ANÁLISIS DE DATOS EN INGEN II",3,104,103,4,3.8834951456310676E-2,1,9.6153846153846159E-3,4.807692307692308E-2]
["IIN9321","ANALIS  MODEL GTION TALEN HUMA",2,75,73,1,1.3698630136986301E-2,2,2.6666666666666668E-2,0.04]
["IIN8945","ANÁLIS Y EVAL DE PROY DE INVER",2,55,55,2,3.6363636363636362E-2,0,0,3.6363636363636362E-2]
["IIN7030","DIS. DE SISTEMAS PRODUCTIVOS",3,101,99,1,1.0101010101010102E-2,2,1.9801980198019802E-2,2.9702970297029702E-2]
["IIN0018","ANALITICA DE DATOS APLICADA",1,39,38,0,0,1,2.564102564102564E-2,2.564102564102564E-2]
["IIN0010","INT A LA ING. INDUSTRIAL",1,42,41,0,0,1,2.3809523809523808E-2,2.3809523809523808E-2]
["AMB8607","SEGURIDAD GESTION AMBIENTAL",5,75,74,0,0,1,1.3333333333333334E-2,1.3333333333333334E-2]
["IDS0015","CREAC DE EMP DE BASE Y TECNOL",2,76,76,1,1.3157894736842105E-2,0,0,1.3157894736842105E-2]
["IIN4300","ESTUDIO DEL TRABAJO",3,41,41,0,0,0,0,0]
["ELP8032","CREACION DE EMPRESAS (I.I)",1,40,40,0,0,0,0,0]
["Total",null,{"$f":"SUM(C6:C32)","v":80},{"$f":"SUM(D6:D32)","v":2181},{"$f":"SUM(E6:E32)","v":2007},{"$f":"SUM(F6:F32)","v":261},{"$f":"F33/E33","v":0.13004484304932734},{"$f":"SUM(H6:H32)","v":174},{"$f":"H33/D33","v":7.9779917469050887E-2},{"$f":"(F33+H33)/D33","v":0.19944979367262725}]
[]
["Repitencia de Asignaturas del Dpto. Ingeniería Industrial, Mayor o Igual al 30%"]
[{"$f":"Planeación!A1","v":"2023-2"},null,null,null,null,null,null,null,null,null,null,"Ir a Inicio","Ir a Gráfico"]
["Codasg","Asignaturas","Total Cursos Abiertos","Número de Cursos con Repitencia >=30%","Matricula Inicial","Matrícula Final","Perdidos","%  Perdidos","Retirados","% Retirados","% Repitencia"]
["IIN7050","CTRL Y GEST INT DE LA CALIDAD",{"$f":"VLOOKUP(A38,$A$6:$C$32,3,FALSE)","v":8},6,84,64,24,{"$f":"IFERROR(G38/F38,\"-\")","v":0.375},20,{"$f":"I38/E38","v":0.23809523809523808},{"$f":"(G38+I38)/E38","v":0.52380952380952384}]
["IIN7105","SIMULACIÓN",{"$f":"VLOOKUP(A39,$A$7:$C$32,3,FALSE)","v":4},3,81,72,30,0.41666666666666669,9,0.1111111111111111,0.48148148148148145]
["IIN7171","PLAN. PROG Y CTRL PRODUCCION",{"$f":"VLOOKUP(A40,$A$7:$C$32,3,FALSE)","v":3},2,57,47,17,0.36170212765957449,10,0.17543859649122806,0.47368421052631576]
["EST7042","ANÁLISIS  DE DATOS EN INGEN I",{"$f":"VLOOKUP(A41,$A$6:$C$32,3,FALSE)","v":10},5,132,102,23,0.22549019607843138,30,0.22727272727272727,0.40151515151515149]
["IIN7061","INVESTIGACION DE OPERACIONES I",{"$f":"VLOOKUP(A42,$A$7:$C$32,3,FALSE)","v":4},4,124,110,31,0.2818181818181818,14,0.11290322580645161,0.36290322580645162]
["GPY1012","FORM Y EVAL DE PROYECTOS",{"$f":"VLOOKUP(A43,$A$7:$C$32,3,FALSE)","v":5},3,115,98,22,0.22448979591836735,17,0.14782608695652175,0.33913043478260868]
["Total",null,{"$f":"SUM(C38:C43)","v":34},{"$f":"SUM(D38:D43)","v":23},{"$f":"SUM(E38:E43)","v":593},{"$f":"SUM(F38:F43)","v":493},{"$f":"SUM(G38:G43)","v":147},{"$f":"G44/F44","v":0.29817444219066935},{"$f":"SUM(I38:I43)","v":100},{"$f":"I44/E44","v":0.16863406408094436},{"$f":"(G44+I44)/E44","v":0.41652613827993257}]

{"sheet":"Graf_Ind","index":33,"n_rows":2,"n_cols":15,"rows_kept":2,"cut":false,"hidden":false,"merged":[[0,0,0,14],[1,0,1,13]]}
["OFICINA DE PLANEACIÓN - INFORMACIÓN Y ESTADÍSTICA "]
[null,null,null,null,null,null,null,null,null,null,null,null,null,null,"Volver"]

{"sheet":"Rep_Mec","index":34,"n_rows":48,"n_cols":13,"rows_kept":48,"cut":false,"hidden":false,"merged":[[33,0,33,10],[0,0,1,9],[2,0,2,9],[3,0,3,9],[5,11,7,12],[9,11,11,12],[32,0,32,10]]}
["OFICINA DE PLANEACIÓN - INFORMACIÓN Y ESTADÍSTICA "]
[]
["Perdidos, Retirados y Repitencia de Asignaturas del Dpto. Ingeniería Mecánica"]
[{"$f":"Planeación!A1","v":"2023-2"}]
["Codasg","Asignaturas","Total Cursos Abiertos","Matrícula Inicial","Matrícula Final","Perdidos","%  Perdidos","Retirados","% Retirados","% Repitencia"]
["IME7070","TERMODINAMICA II",2,44,28,2,{"$f":"IFERROR(F6/E6,\"-\")","v":7.1428571428571425E-2},16,{"$f":"H6/D6","v":0.36363636363636365},{"$f":"(F6+H6)/D6","v":0.40909090909090912},null,"Volver al Índice"]
["IME1205","CIENCIA DE LOS MATERIALES",11,157,118,20,0.16949152542372881,39,0.24840764331210191,0.37579617834394907]
["IME7095","MODELOS DE SISTEMAS DINÁMICOS",2,31,24,4,0.16666666666666666,7,0.22580645161290322,0.35483870967741937]
["IME4200","MECÁNICA DE SOLIDOS",5,168,143,32,0.22377622377622378,25,0.14880952380952381,0.3392857142857143]
["IME4070","MECANICA DE FLUIDOS",2,68,54,6,0.1111111111111111,14,0.20588235294117646,0.29411764705882354,null,"Ir a Tabla de Repitencia >=30%"]
["IME4072","MECANICA DE FLUIDOS",3,24,22,5,0.22727272727272727,2,8.3333333333333329E-2,0.29166666666666669]
["IBA4061","DINAMICA",3,81,66,8,0.12121212121212122,15,0.18518518518518517,0.2839506172839506]
["IME7061","TERMODINAMICA I",6,198,151,6,3.9735099337748346E-2,47,0.23737373737373738,0.26767676767676768]
["IME1210","MECÁNICA DE MAQUINAS",1,27,25,5,0.2,2,7.407407407407407E-2,0.25925925925925924]
["IME7220","DISEÑO MECANICO",2,67,65,11,0.16923076923076924,2,2.9850746268656716E-2,0.19402985074626866]
["IME7085","DISEÑOS DE SISTEMAS MECANICOS",2,38,36,5,0.1388888888888889,2,5.2631578947368418E-2,0.18421052631578946]
["IME7101","TRANSFERENCIA DE CALOR",8,74,66,5,7.575757575757576E-2,8,0.10810810810810811,0.17567567567567569]
["IME4205","DIBUJO MECANICO II",1,22,21,2,9.5238095238095233E-2,1,4.5454545454545456E-2,0.13636363636363635]
["IBA1012","INGENIERÍA DE MATERIALES",1,58,55,4,7.2727272727272724E-2,3,5.1724137931034482E-2,0.1206896551724138]
["IME4030","PROCESOS DE FABRICACION",9,113,105,5,4.7619047619047616E-2,8,7.0796460176991149E-2,0.11504424778761062]
["IME7192","DISEÑO SISTEMAS TERMO FLUIDO",4,37,36,2,5.5555555555555552E-2,1,2.7027027027027029E-2,8.1081081081081086E-2]
["IME4214","TURBOMAQUINAS",1,30,28,0,0,2,6.6666666666666666E-2,6.6666666666666666E-2]
["IME0010","INT A LA ING. MECANICA",1,18,18,1,5.5555555555555552E-2,0,0,5.5555555555555552E-2]
["IME7285","ENERGÍA ALTERNATIVAS",1,28,28,1,3.5714285714285712E-2,0,0,3.5714285714285712E-2]
["IME8310","INSTRUMENTACION Y CONTROL",7,57,55,0,0,2,3.5087719298245612E-2,3.5087719298245612E-2]
["INV4235","PROYECTO FINAL",3,37,37,0,0,0,0,0]
["IME7052","PROYECTOS DE INVESTIGACION",2,49,49,0,0,0,0,0]
["IME7042","GESTIÓN DE ACTIVOS",2,68,68,0,0,0,0,0]
["IME5650","INT A LA TECN COSTA AFUERA",1,28,28,0,0,0,0,0]
["IME4224","ANALISIS DE FALLA",1,10,10,0,0,0,0,0]
["Total",null,{"$f":"SUM(C6:C30)","v":81},{"$f":"SUM(D6:D30)","v":1532},{"$f":"SUM(E6:E30)","v":1336},{"$f":"SUM(F6:F30)","v":124},{"$f":"F31/E31","v":9.2814371257485026E-2},{"$f":"SUM(H6:H30)","v":196},{"$f":"H31/D31","v":0.12793733681462141},{"$f":"(F31+H31)/D31","v":0.20887728459530025}]
[]
["Repitencia de Asignaturas del Dpto. Ingeniería Mecánica, Mayor o Igual al 30%"]
[{"$f":"Planeación!A1","v":"2023-2"},null,null,null,null,null,null,null,null,null,null,"Ir a Inicio","Ir a Gráfico"]
["Codasg","Asignaturas","Total Cursos Abiertos","Número de Cursos con Repitencia >=30%","Matricula Inicial","Matrícula Final","Perdidos","%  Perdidos","Retirados","% Retirados","% Repitencia"]
["IME4072","MECANICA DE FLUIDOS",{"$f":"VLOOKUP(A36,$A$6:$C$30,3,FALSE)","v":3},1,10,8,3,{"$f":"IFERROR(G36/F36,\"-\")","v":0.375},2,{"$f":"I36/E36","v":0.2},{"$f":"(G36+I36)/E36","v":0.5}]
["IME7101","TRANSFERENCIA DE CALOR",8,2,14,9,2,0.22222222222222221,5,0.35714285714285715,0.5]
["IME4030","PROCESOS DE FABRICACION",9,1,11,9,3,0.33333333333333331,2,0.18181818181818182,0.45454545454545453]
["IME1205","CIENCIA DE LOS MATERIALES",11,9,127,88,17,0.19318181818181818,39,0.30708661417322836,0.44094488188976377]
["IME4200","MECÁNICA DE SOLIDOS",5,3,98,78,21,0.26923076923076922,20,0.20408163265306123,0.41836734693877553]
["IME7070","TERMODINAMICA II",2,2,44,28,2,7.1428571428571425E-2,16,0.36363636363636365,0.40909090909090912]
["IME8310","INSTRUMENTACION Y CONTROL",7,1,5,3,0,0,2,0.4,0.4]
["IME7095","MODELOS DE SISTEMAS DINÁMICOS",2,2,31,24,4,0.16666666666666666,7,0.22580645161290322,0.35483870967741937]
["IBA4061","DINAMICA",3,2,51,38,5,0.13157894736842105,13,0.25490196078431371,0.35294117647058826]
["IME4070","MECANICA DE FLUIDOS",2,1,33,25,3,0.12,8,0.24242424242424243,0.33333333333333331]
["IME7061","TERMODINAMICA I",6,2,63,46,4,8.6956521739130432E-2,17,0.26984126984126983,0.33333333333333331]
["IME7085","DISEÑOS DE SISTEMAS MECANICOS",2,1,12,11,3,0.27272727272727271,1,8.3333333333333329E-2,0.33333333333333331]
["Total",null,{"$f":"SUM(C36:C47)","v":60},{"$f":"SUM(D36:D47)","v":27},{"$f":"SUM(E36:E47)","v":499},{"$f":"SUM(F36:F47)","v":367},{"$f":"SUM(G36:G47)","v":67},{"$f":"G48/F48","v":0.18256130790190736},{"$f":"SUM(I36:I47)","v":132},{"$f":"I48/E48","v":0.26452905811623245},{"$f":"(G48+I48)/E48","v":0.39879759519038077}]

{"sheet":"Graf_Mec","index":35,"n_rows":2,"n_cols":15,"rows_kept":2,"cut":false,"hidden":false,"merged":[[0,0,0,14],[1,0,1,13]]}
["OFICINA DE PLANEACIÓN - INFORMACIÓN Y ESTADÍSTICA "]
[null,null,null,null,null,null,null,null,null,null,null,null,null,null,"Volver"]

{"sheet":"Rep_LegE","index":36,"n_rows":133,"n_cols":13,"rows_kept":133,"cut":false,"hidden":false,"merged":[[5,11,7,12],[9,11,11,12],[113,0,113,10],[114,0,114,10],[0,0,1,9],[2,0,2,9],[3,0,3,9]]}
["OFICINA DE PLANEACIÓN - INFORMACIÓN Y ESTADÍSTICA "]
[]
["Perdidos, Retirados y Repitencia de Asignaturas del Dpto. Lenguas Extranjeras"]
[{"$f":"Planeación!A1","v":"2023-2"}]
["Codasg","Asignaturas","Total Cursos Abiertos","Matrícula Inicial","Matrícula Final","Perdidos","%  Perdidos","Retirados","% Retirados","% Repitencia"]
["IGL4890","EXIGENCIA  INGLES I",7,139,128,41,{"$f":"IFERROR(F6/E6,\"-\")","v":0.3203125},11,{"$f":"H6/D6","v":7.9136690647482008E-2},{"$f":"(F6+H6)/D6","v":0.37410071942446044},null,"Volver al Índice"]
["IGL1350","BUSINESS ENGLISH I",1,18,15,3,0.2,3,0.16666666666666666,0.33333333333333331]
["IGL4992","ENGLISH I",3,22,19,4,0.21052631578947367,3,0.13636363636363635,0.31818181818181818]
["ALE0027","DEUTSCHE SPRACHE UND KULT 8",1,17,17,5,0.29411764705882354,0,0,0.29411764705882354]
["ALE1031","EXIGENCIA  ALEMAN I",1,14,13,3,0.23076923076923078,1,7.1428571428571425E-2,0.2857142857142857,null,"Ir a Tabla de Repitencia >=30%"]
["IGL4930","EXIGENCIA  INGLES NIVELATORIO",1,14,12,2,0.16666666666666666,2,0.14285714285714285,0.2857142857142857]
["FRA0005","LANGUE FRANC ET CULT FRANC V",1,14,13,3,0.23076923076923078,1,7.1428571428571425E-2,0.2857142857142857]
["ALE0018","DEUTSCHE SPRACHE UND KULT 5",1,11,10,2,0.2,1,9.0909090909090912E-2,0.27272727272727271]
["IGL0376","ENGLISH FOR NURSING 2",2,23,20,2,0.1,3,0.13043478260869565,0.21739130434782608]
["IGL0011","BUSINESS ENGLISH I ADM",5,79,73,11,0.15068493150684931,6,7.5949367088607597E-2,0.21518987341772153]
["IGL7750","BUSINESS ENGLISH V",4,81,74,10,0.13513513513513514,7,8.6419753086419748E-2,0.20987654320987653]
["IGL4895","EXIGENCIA  INGLES II",10,201,179,20,0.11173184357541899,22,0.10945273631840796,0.20895522388059701]
["IGL4990","EXIGENCIA INGLES NIVELATORIO",2,5,5,1,0.2,0,0,0.2]
["IGL1370","BUSINESS ENGLISH III",2,27,23,1,4.3478260869565216E-2,4,0.14814814814814814,0.18518518518518517]
["ALE0022","DEUTSCHE SPRACHE UND KULT 1",1,11,11,2,0.18181818181818182,0,0,0.18181818181818182]
["IGL0375","ENGLISH FOR NURSING 1",1,22,22,4,0.18181818181818182,0,0,0.18181818181818182]
["IGL4915","EXIGENCIA  INGLES VI",17,377,357,47,0.13165266106442577,20,5.3050397877984087E-2,0.17771883289124668]
["IGL4900","EXIGENCIA  INGLES III",12,223,207,17,8.2125603864734303E-2,16,7.1748878923766815E-2,0.14798206278026907]
["IGL5006","ENGLISH VIII",2,35,34,4,0.11764705882352941,1,2.8571428571428571E-2,0.14285714285714285]
["IGL8520","EX. INGLES NIVELATORIO SALUD",2,23,23,3,0.13043478260869565,0,0,0.13043478260869565]
["ALE7061","EXIGENCIA ALEMAN V",2,24,24,3,0.125,0,0,0.125]
["IGL0012","BUSINESS ENGLISH II ADM",5,75,73,7,9.5890410958904104E-2,2,2.6666666666666668E-2,0.12]
["IGL4994","ENGLISH II",3,34,32,2,6.25E-2,2,5.8823529411764705E-2,0.11764705882352941]
["IGL5004","ENGLISH VII",2,27,27,3,0.1111111111111111,0,0,0.1111111111111111]
["POR4080","EXIGENCIA PORTUGUES VII",1,9,9,1,0.1111111111111111,0,0,0.1111111111111111]
["POR4070","EXIGENCIA PORTUGUES V",2,9,8,0,0,1,0.1111111111111111,0.1111111111111111]
["IGL5002","ENGLISH VI",5,75,74,7,9.45945945945946E-2,1,1.3333333333333334E-2,0.10666666666666667]
["IGL4905","EXIGENCIA  INGLES IV",14,303,288,15,5.2083333333333336E-2,15,4.9504950495049507E-2,9.9009900990099015E-2]
["IGL4925","EXIGENCIA INGLES VIII",17,330,310,12,3.870967741935484E-2,20,6.0606060606060608E-2,9.696969696969697E-2]
["ALE4051","EXIGENCIA ALEMAN IV",2,21,20,1,0.05,1,4.7619047619047616E-2,9.5238095238095233E-2]
["FRA4010","EXIGENCIA DE FRANCES V",3,53,51,3,5.8823529411764705E-2,2,3.7735849056603772E-2,9.4339622641509441E-2]
["TCH4000","FOREIGN LANG TEACHING I",2,32,32,3,9.375E-2,0,0,9.375E-2]
["IGL4998","ENGLISH IV",3,54,51,2,{"$f":"IFERROR(F38/E38,\"-\")","v":3.9215686274509803E-2},3,{"$f":"H38/D38","v":5.5555555555555552E-2},{"$f":"(F38+H38)/D38","v":9.2592592592592587E-2}]
["IGL5000","ENGLISH V",3,65,62,3,4.8387096774193547E-2,3,4.6153846153846156E-2,9.2307692307692313E-2]
["CLT4003","CULT. ISSUES & INTER AFFAIRS",2,22,21,1,4.7619047619047616E-2,1,4.5454545454545456E-2,9.0909090909090912E-2]
["IGL4910","EXIGENCIA  INGLES V",15,322,305,12,3.9344262295081971E-2,17,5.2795031055900624E-2,9.0062111801242239E-2]
["ALE4031","EXIGENCIA ALEMAN II",3,34,33,2,6.0606060606060608E-2,1,2.9411764705882353E-2,8.8235294117647065E-2]
["FRA1030","EXIGENCIA DE FRANCES III",3,70,66,2,3.0303030303030304E-2,4,5.7142857142857141E-2,8.5714285714285715E-2]
["IGL4920","EXIGENCIA INGLES VII",23,473,453,20,4.4150110375275942E-2,20,4.2283298097251586E-2,8.4566596194503171E-2]
["IGL4940","INGLES CIENCIAS SALUD III",3,48,48,4,8.3333333333333329E-2,0,0,8.3333333333333329E-2]
["FRA1010","EXIGENCIA DE FRANCES I",5,72,67,1,1.4925373134328358E-2,5,6.9444444444444448E-2,8.3333333333333329E-2]
["FRA1020","EXIGENCIA DE FRANCES II",4,73,71,4,5.6338028169014086E-2,2,2.7397260273972601E-2,8.2191780821917804E-2]
["IGL4973","INTER RELATIONS ENGLISH VI",2,25,23,0,0,2,0.08,0.08]
["IGL8530","EX.INGLES VIII-SOCIAL AND SUST",11,216,210,11,5.2380952380952382E-2,6,2.7777777777777776E-2,7.8703703703703706E-2]
["FRA4020","EXIGENCIA DE FRANCES VI",4,79,77,4,5.1948051948051951E-2,2,2.5316455696202531E-2,7.5949367088607597E-2]
["IGL4100","INGLES CIENCIAS SALUD IV",3,67,65,3,4.6153846153846156E-2,2,2.9850746268656716E-2,7.4626865671641784E-2]
["IGL4996","ENGLISH III",3,41,39,1,2.564102564102564E-2,2,4.878048780487805E-2,7.3170731707317069E-2]
["FRA0003","LANGUE FRANC ET CULT FRANC III",1,14,13,0,0,1,7.1428571428571425E-2,7.1428571428571425E-2]
["ALE4041","EXIGENCIA ALEMAN III",2,14,14,1,7.1428571428571425E-2,0,0,7.1428571428571425E-2]
["ALE7071","EXIGENCIA ALEMAN VI",1,14,14,1,7.1428571428571425E-2,0,0,7.1428571428571425E-2]
["CLT5005","INTRO LENGUAS INDIGENA/CRIOLLA",1,15,14,0,0,1,6.6666666666666666E-2,6.6666666666666666E-2]
["ALE7081","EXIGENCIA ALEMAN VII",2,16,16,1,6.25E-2,0,0,6.25E-2]
["FRA0004","LANGUE FRANC ET CULT FRANC IV",2,33,32,1,3.125E-2,1,3.0303030303030304E-2,6.0606060606060608E-2]
["TCH4001","FOREIGN LANG TEACHING II",2,51,50,2,0.04,1,1.9607843137254902E-2,5.8823529411764705E-2]
["IGL1380","BUSINESS ENGLISH IV",2,35,33,0,0,2,5.7142857142857141E-2,5.7142857142857141E-2]
["IGL5014","TOPICS IN LITERATURE",2,36,34,0,0,2,5.5555555555555552E-2,5.5555555555555552E-2]
["ITA7080","LENGUA Y CULTURA ITALIANA A1.1",2,40,38,0,0,2,0.05,0.05]
["FRA7011","EXIGENCIA DE FRANCES VII",2,41,39,0,0,2,4.878048780487805E-2,4.878048780487805E-2]
["CLT4001","CULTURE & PEACEBUILDING",2,42,40,0,0,2,4.7619047619047616E-2,4.7619047619047616E-2]
["IGL4941","INGLES CIENCIAS SALUD I",2,45,43,0,0,2,4.4444444444444446E-2,4.4444444444444446E-2]
["FRA0002","LANGUE FRANC ET CULT FRANC II",1,23,22,0,0,1,4.3478260869565216E-2,4.3478260869565216E-2]
["POR9055","PORTUGUES 1",1,23,22,0,0,1,4.3478260869565216E-2,4.3478260869565216E-2]
["FRA1040","EXIGENCIA DE FRANCES IV",5,94,90,0,0,4,4.2553191489361701E-2,4.2553191489361701E-2]
["IGL7780","BUSINESS ENGLISH VIII",4,77,74,0,0,3,3.896103896103896E-2,3.896103896103896E-2]
["IGL0377","ENGLISH FOR NURSING 3",2,26,25,0,{"$f":"IFERROR(F70/E70,\"-\")","v":0},1,{"$f":"H70/D70","v":3.8461538461538464E-2},{"$f":"(F70+H70)/D70","v":3.8461538461538464E-2}]
["IGL7090","INGLES CIENCIAS SALUD V",3,53,51,0,0,2,3.7735849056603772E-2,3.7735849056603772E-2]
["IGL4975","INTER RELATIONS ENGLISH V",2,31,31,1,3.2258064516129031E-2,0,0,3.2258064516129031E-2]
["POR4050","EXIGENCIA PORTUGUES I",2,33,33,1,3.0303030303030304E-2,0,0,3.0303030303030304E-2]
["IGL5011","ENGLISH LANGUAGE IV",2,34,34,1,2.9411764705882353E-2,0,0,2.9411764705882353E-2]
["IGL7770","BUSINESS ENGLISH VII",4,78,76,0,0,2,2.564102564102564E-2,2.564102564102564E-2]
["IGL4979","INTER RELATIONS ENGLISH VIII",2,44,43,0,0,1,2.2727272727272728E-2,2.2727272727272728E-2]
["IGL4942","INGLES CIENCIAS SALUD II",2,45,44,0,0,1,2.2222222222222223E-2,2.2222222222222223E-2]
["IGL4969","INTER RELATIONS ENGLISH III",1,8,8,0,0,0,0,0]
["IGL4971","INTER RELATIONS ENGLISH IV",1,5,5,0,0,0,0,0]
["POR4065","EXIGENCIA PORTUGUES IV",1,14,14,0,0,0,0,0]
["POR4075","EXIGENCIA PORTUGUES VI",1,11,11,0,0,0,0,0]
["FRA0001","LANGUE FRANC ET CULT FRANC I",1,16,16,0,0,0,0,0]
["IGL7760","BUSINESS ENGLISH VI",4,65,65,0,0,0,0,0]
["POR4060","EXIGENCIA PORTUGUES III",1,11,11,0,0,0,0,0]
["POR4085","EXIGENCIA PORTUGUES VIII",1,16,16,0,0,0,0,0]
["CLT4002","DES. PROYECTOS CULT. Y SOC.",2,50,50,0,0,0,0,0]
["IGL1360","BUSINESS ENGLISH II",1,18,18,0,0,0,0,0]
["ALE7091","EXIGENCIA ALEMAN  VIII",2,35,35,0,0,0,0,0]
["CLT4000","LENGUAJE CULT Y GLOBALIZACION",1,26,26,0,0,0,0,0]
["IGL5012","ENGLISH LANGUAGE V",2,31,31,0,0,0,0,0]
["ALE0023","DEUTSCHE SPRACHE UND KULT 2",1,6,6,0,0,0,0,0]
["ALE0024","DEUTSCHE SPRACHE UND KULT 3",1,6,6,0,0,0,0,0]
["IGL4967","INTER RELATIONS ENGLISH II",1,2,2,0,0,0,0,0]
["FRA7021","EXIGENCIA DE FRANCES VIII",5,85,85,0,0,0,0,0]
["IGL5010","ENGLISH LANGUAGE III",1,17,17,0,0,0,0,0]
["ALE0017","DEUTSCHE SPRACHE UND KULT 4",1,9,9,0,0,0,0,0]
["IGL5009","ENGLISH LANGUAGE II",1,11,11,0,0,0,0,0]
["IGL4977","INTER RELATIONS ENGLISH VII",1,18,18,0,0,0,0,0]
["POR4055","EXIGENCIA PORTUGUES II",1,15,15,0,0,0,0,0]
["IGL5008","ENGLISH LANGUAGE I",1,6,6,0,0,0,0,0]
["TCH4002","FOREIGN LANG TEACHING III",2,35,35,0,0,0,0,0]
["IGL0251","INGLES NIVELATORIO ENFERMERIA",1,4,4,0,{"$f":"IFERROR(F102/E102,\"-\")","v":0},0,{"$f":"H102/D102","v":0},{"$f":"(F102+H102)/D102","v":0}]
["ALE0019","DEUTSCHE SPRACHE UND KULT 6",1,12,12,0,0,0,0,0]
["IGL5015","WRITING STUDIES SEMINAR",1,23,23,0,0,0,0,0]
["FRA0006","LANGUE FRANC ET CULT FRANC VI",2,35,35,0,0,0,0,0]
["FRA0007","LANGUE FRANC ET CULT FRANC VII",1,16,16,0,0,0,0,0]
["CLT5001","CINE LATINOAMERICANO",1,28,28,0,0,0,0,0]
["ALE0026","DEUTSCHE SPRACHE UND KULT 7",1,4,4,0,0,0,0,0]
["IGL4965","INTER RELATIONS ENGLISH I",3,5,5,0,0,0,0,0]
["FRA0008","LANGUE FRANC ET CULT FRAN VIII",2,29,29,0,0,0,0,0]
["CLT5020","LENGUA Y CULTURA WAYUU",1,5,5,0,0,0,0,0]
["Total",null,{"$f":"SUM(C6:C111)","v":323},{"$f":"SUM(D6:D111)","v":5643},{"$f":"SUM(E6:E111)","v":5396},{"$f":"SUM(F6:F111)","v":321},{"$f":"F112/E112","v":5.9488510007412898E-2},{"$f":"SUM(H6:H111)","v":247},{"$f":"H112/D112","v":4.3771043771043773E-2},{"$f":"(F112+H112)/D112","v":0.10065567960304803}]
[]
["Repitencia de Asignaturas del Dpto. Lenguas Extranjeras, Mayor o Igual al 30%"]
[{"$f":"Planeación!A1","v":"2023-2"},null,null,null,null,null,null,null,null,null,null,"Ir a Inicio","Ir a Gráfico"]
["Codasg","Asignaturas","Total Cursos Abiertos","Número de Cursos con Repitencia >=30%","Matricula Inicial","Matrícula Final","Perdidos","%  Perdidos","Retirados","% Retirados","% Repitencia"]
["FRA1010","EXIGENCIA DE FRANCES I",{"$f":"VLOOKUP(A117,$A$6:$C$111,3,FALSE)","v":5},1,1,0,0,{"$f":"IFERROR(G117/F117,\"-\")","v":"-"},1,{"$f":"I117/E117","v":1},{"$f":"(G117+I117)/E117","v":1}]
["IGL4925","EXIGENCIA INGLES VIII",17,1,7,4,1,0.25,3,0.42857142857142855,0.5714285714285714]
["IGL4992","ENGLISH I",3,2,6,5,2,0.4,1,0.16666666666666666,0.5]
["IGL4990","EXIGENCIA INGLES NIVELATORIO",2,1,2,2,1,0.5,0,0,0.5]
["IGL4890","EXIGENCIA  INGLES I",7,4,87,78,34,0.4358974358974359,9,0.10344827586206896,0.4942528735632184]
["IGL0011","BUSINESS ENGLISH I ADM",5,1,23,19,7,0.36842105263157893,4,0.17391304347826086,0.47826086956521741]
["IGL7750","BUSINESS ENGLISH V",4,1,22,16,4,0.25,6,0.27272727272727271,0.45454545454545453]
["IGL4998","ENGLISH IV",3,1,10,8,2,0.25,2,0.2,0.4]
["IGL1370","BUSINESS ENGLISH III",2,1,8,6,1,0.16666666666666666,2,0.25,0.375]
["IGL4915","EXIGENCIA  INGLES VI",17,3,69,60,15,0.25,9,0.13043478260869565,0.34782608695652173]
["IGL4895","EXIGENCIA  INGLES II",10,2,41,34,7,0.20588235294117646,7,0.17073170731707318,0.34146341463414637]
["IGL1350","BUSINESS ENGLISH I",1,1,18,15,3,0.2,3,0.16666666666666666,0.33333333333333331]
["IGL4905","EXIGENCIA  INGLES IV",14,1,22,16,1,6.25E-2,6,0.27272727272727271,0.31818181818181818]
["IGL4900","EXIGENCIA  INGLES III",12,1,19,15,2,0.13333333333333333,4,0.21052631578947367,0.31578947368421051]
["IGL0012","BUSINESS ENGLISH II ADM",5,1,16,15,4,0.26666666666666666,1,6.25E-2,0.3125]
["IGL8530","EX.INGLES VIII-SOCIAL AND SUST",11,1,13,11,2,0.18181818181818182,2,0.15384615384615385,0.30769230769230771]
["Total",null,{"$f":"SUM(C117:C132)","v":118},{"$f":"SUM(D117:D132)","v":23},{"$f":"SUM(E117:E132)","v":364},{"$f":"SUM(F117:F132)","v":304},{"$f":"SUM(G117:G132)","v":86},{"$f":"G133/F133","v":0.28289473684210525},{"$f":"SUM(I117:I132)","v":60},{"$f":"I133/E133","v":0.16483516483516483},{"$f":"(G133+I133)/E133","v":0.40109890109890112}]

{"sheet":"Graf_LegE","index":37,"n_rows":2,"n_cols":15,"rows_kept":2,"cut":false,"hidden":false,"merged":[[0,0,0,14],[1,0,1,13]]}
["OFICINA DE PLANEACIÓN - INFORMACIÓN Y ESTADÍSTICA "]
[null,null,null,null,null,null,null,null,null,null,null,null,null,null,"Volver"]

{"sheet":"Rep_Mat","index":38,"n_rows":61,"n_cols":13,"rows_kept":61,"cut":false,"hidden":false,"merged":[[44,0,44,10],[0,0,1,9],[2,0,2,9],[3,0,3,9],[5,11,8,12],[10,11,12,12],[43,0,43,10]]}
["OFICINA DE PLANEACIÓN - INFORMACIÓN Y ESTADÍSTICA "]
[]
["Perdidos, Retirados y Repitencia de Asignaturas del Dpto. Matemáticas y Estadística"]
[{"$f":"Planeación!A1","v":"2023-2"}]
["Codasg","Asignaturas","Total Cursos Abiertos","Matrícula Inicial","Matrícula Final","Perdidos","%  Perdidos","Retirados","% Retirados","% Repitencia"]
["MAT4160","ANALISIS MATEMATICO 1",1,27,18,3,{"$f":"IFERROR(F6/E6,\"-\")","v":0.16666666666666666},9,{"$f":"H6/D6","v":0.33333333333333331},{"$f":"(F6+H6)/D6","v":0.44444444444444442},null,"Volver al Índice"]
["EST4071","ANALISIS ESTADISTICO",1,16,10,0,0,6,0.375,0.375]
["EST1062","ESTADISTICA MATEMATICAS",1,11,9,2,0.22222222222222221,2,0.18181818181818182,0.36363636363636365]
["MAT4260","CALCULO III (ANEC)",5,189,146,20,0.13698630136986301,43,0.2275132275132275,0.33333333333333331]
["MAT4051","ANALISIS NUMERICO",1,9,7,1,0.14285714285714285,2,0.22222222222222221,0.33333333333333331]
["MAT4264","TOPOLOGIA",1,12,9,1,0.1111111111111111,3,0.25,0.33333333333333331,null,"Ir a Tabla de Repitencia >=30%"]
["MAT1101","CALCULO I",8,292,236,41,0.17372881355932204,56,0.19178082191780821,0.3321917808219178]
["MAT4258","CALCULO II (ANEC)",6,216,177,29,0.16384180790960451,39,0.18055555555555555,0.31481481481481483]
["MAT8630","GEOMETRÍA 2D",2,64,50,6,0.12,14,0.21875,0.3125]
["EST1031","ESTADISTICA II (AD)",4,134,102,6,5.8823529411764705E-2,32,0.23880597014925373,0.28358208955223879]
["MAT1111","CALCULO II",11,420,335,34,0.10149253731343283,85,0.20238095238095238,0.28333333333333333]
["MAT8570","ALGEBRA LINEAL II",1,25,19,1,5.2631578947368418E-2,6,0.24,0.28000000000000003]
["MAT4011","ECUACIONES DIFERENCIALES",8,297,248,34,0.13709677419354838,49,0.16498316498316498,0.27946127946127947]
["MAT1100","CALCULO I (ANEC)",6,215,188,31,0.16489361702127658,27,0.12558139534883722,0.26976744186046514]
["MAT4013","ECUACIONES DIFERENCIALES (MAT)",1,29,23,1,4.3478260869565216E-2,6,0.20689655172413793,0.2413793103448276]
["EST1050","ESTADISTICA II (ING)",1,25,22,3,0.13636363636363635,3,0.12,0.24]
["MAT8550","VARIABLE COMPLEJA",1,9,8,1,0.125,1,0.1111111111111111,0.22222222222222221]
["MAT1031","ALGEBRA LINEAL",12,471,410,43,0.1048780487804878,61,0.12951167728237792,0.2208067940552017]
["MAT4140","TEORIA DE GRUPOS",1,11,10,1,0.1,1,9.0909090909090912E-2,0.18181818181818182]
["MAT8540","TEORIA DE NUMEROS",1,11,11,2,0.18181818181818182,0,0,0.18181818181818182]
["MAT1121","CALCULO 3",7,250,219,14,6.3926940639269403E-2,31,0.124,0.18]
["MAT4215","TEORIA DE CODIGOS",1,39,33,1,3.0303030303030304E-2,6,0.15384615384615385,0.17948717948717949]
["MAT4190","MATEMATICAS FUNDAMENTALES",1,39,34,2,5.8823529411764705E-2,5,0.12820512820512819,0.17948717948717949]
["MAT1061","OPTIMIZACION MATEMATICA",1,6,5,0,0,1,0.16666666666666666,0.16666666666666666]
["MAT1011","ALGEBRA Y TRIGONOMETRIA",2,62,55,3,5.4545454545454543E-2,7,0.11290322580645161,0.16129032258064516]
["MAT8635","GEOMETRIA 3D",3,81,72,3,4.1666666666666664E-2,9,0.1111111111111111,0.14814814814814814]
["EST1022","ESTADISTICA I - AD",6,236,224,21,9.375E-2,12,5.0847457627118647E-2,0.13983050847457626]
["MAT4021","MATEMATICAS DISCRETAS",4,142,129,6,4.6511627906976744E-2,13,9.154929577464789E-2,0.13380281690140844]
["EST1063","METODOS ESTADISTICOS",1,15,13,0,0,2,0.13333333333333333,0.13333333333333333]
["INV4571","PROYECTO DE GRADO",1,16,16,2,0.125,0,0,0.125]
["EST1070","ESTADISTICA INFERENCIAL",4,132,123,5,4.065040650406504E-2,9,6.8181818181818177E-2,0.10606060606060606]
["MAT0040","FUNDAMENTOS DE ESTADISTICA",9,332,319,22,6.8965517241379309E-2,13,3.9156626506024098E-2,0.10542168674698796]
["MAT0020","MATEMATICAS BASICAS",2,80,74,0,0,6,7.4999999999999997E-2,7.4999999999999997E-2]
["MAT4263","TEORIA DE LA PROBABILIDAD",1,40,38,0,0,2,0.05,0.05]
["MAT1190","MATEMA.Y EL MUNDO DE LA VIDA",1,38,37,0,0,1,2.6315789473684209E-2,2.6315789473684209E-2]
["EST4540","ESTADISTICA CPG",1,20,20,0,0,0,0,0]
["Total",null,{"$f":"SUM(C6:C41)","v":118},{"$f":"SUM(D6:D41)","v":4011},{"$f":"SUM(E6:E41)","v":3449},{"$f":"SUM(F6:F41)","v":339},{"$f":"F42/E42","v":9.8289359234560739E-2},{"$f":"SUM(H6:H41)","v":562},{"$f":"H42/D42","v":0.14011468461730242},{"$f":"(F42+H42)/D42","v":0.22463226128147595}]
[]
["Repitencia de Asignaturas del Dpto. Matemáticas y Estadística, Mayor o Igual al 30%"]
[{"$f":"Planeación!A1","v":"2023-2"},null,null,null,null,null,null,null,null,null,null,"Ir a Inicio","Ir a Gráfico"]
["Codasg","Asignaturas","Total Cursos Abiertos","Número de Cursos con Repitencia >=30%","Matricula Inicial","Matrícula Final","Perdidos","%  Perdidos","Retirados","% Retirados","% Repitencia"]
["MAT4160","ANALISIS MATEMATICO 1",{"$f":"VLOOKUP(A47,$A$6:$C$41,3,FALSE)","v":1},1,27,18,3,{"$f":"IFERROR(G47/F47,\"-\")","v":0.16666666666666666},9,{"$f":"I47/E47","v":0.33333333333333331},{"$f":"(G47+I47)/E47","v":0.44444444444444442}]
["MAT1101","CALCULO I",8,5,178,137,36,0.26277372262773724,41,0.2303370786516854,0.43258426966292135]
["MAT1100","CALCULO I (ANEC)",6,2,71,55,14,0.25454545454545452,16,0.22535211267605634,0.42253521126760563]
["MAT4258","CALCULO II (ANEC)",6,3,106,84,22,0.26190476190476192,22,0.20754716981132076,0.41509433962264153]
["MAT1111","CALCULO II",11,5,189,133,20,0.15037593984962405,56,0.29629629629629628,0.40211640211640209]
["MAT4011","ECUACIONES DIFERENCIALES",8,3,102,81,18,0.22222222222222221,21,0.20588235294117646,0.38235294117647056]
["EST4071","ANALISIS ESTADISTICO",1,1,16,10,0,0,6,0.375,0.375]
["MAT8630","GEOMETRÍA 2D",2,1,40,28,3,0.10714285714285714,12,0.3,0.375]
["MAT4260","CALCULO III (ANEC)",5,4,150,112,18,0.16071428571428573,38,0.25333333333333335,0.37333333333333335]
["EST1031","ESTADISTICA II (AD)",4,2,55,39,4,0.10256410256410256,16,0.29090909090909089,0.36363636363636365]
["EST1062","ESTADISTICA MATEMATICAS",1,1,11,9,2,0.22222222222222221,2,0.18181818181818182,0.36363636363636365]
["MAT1031","ALGEBRA LINEAL",12,2,80,68,15,0.22058823529411764,12,0.15,0.33750000000000002]
["MAT4051","ANALISIS NUMERICO",1,1,9,7,1,0.14285714285714285,2,0.22222222222222221,0.33333333333333331]
["MAT4264","TOPOLOGIA",1,1,12,9,1,0.1111111111111111,3,0.25,0.33333333333333331]
["Total",null,{"$f":"SUM(C47:C60)","v":67},{"$f":"SUM(D47:D60)","v":32},1046,790,157,{"$f":"G61/F61","v":0.19873417721518988},{"$f":"SUM(I47:I60)","v":256},0.24474187380497131,0.39483747609942638]

{"sheet":"Graf_Mat","index":39,"n_rows":2,"n_cols":15,"rows_kept":2,"cut":false,"hidden":false,"merged":[[0,0,0,14],[1,0,1,13]]}
["OFICINA DE PLANEACIÓN - INFORMACIÓN Y ESTADÍSTICA "]
[null,null,null,null,null,null,null,null,null,null,null,null,null,null,"Volver"]

{"sheet":"Rep_Med","index":40,"n_rows":45,"n_cols":13,"rows_kept":45,"cut":false,"hidden":false,"merged":[[39,0,39,10],[0,0,1,9],[2,0,2,9],[3,0,3,9],[5,11,7,12],[9,11,11,12],[38,0,38,10]]}
["OFICINA DE PLANEACIÓN - INFORMACIÓN Y ESTADÍSTICA "]
[]
["Perdidos, Retirados y Repitencia de Asignaturas del Dpto. Medicina"]
[{"$f":"Planeación!A1","v":"2023-2"}]
["Codasg","Asignaturas","Total Cursos Abiertos","Matrícula Inicial","Matrícula Final","Perdidos","%  Perdidos","Retirados","% Retirados","% Repitencia"]
["CBM4030","FUNDAMENTO CIENCIAS BASICAS MD",8,187,186,33,{"$f":"IFERROR(F6/E6,\"-\")","v":0.17741935483870969},1,{"$f":"H6/D6","v":5.3475935828877002E-3},{"$f":"(F6+H6)/D6","v":0.18181818181818182},null,"Volver al Índice"]
["CBM6071","FUND BIOLOG DEL CUIDADO II",2,32,32,5,0.15625,0,0,0.15625]
["CLI0009","INTERNADO I",4,130,113,0,0,17,0.13076923076923078,0.13076923076923078]
["CBM4060","SISTEMA MUSCULOESQUELETICO",6,154,152,18,0.11842105263157894,2,1.2987012987012988E-2,0.12987012987012986]
["CBM0007","SISTEMA DIGESTIVO",4,96,94,9,9.5744680851063829E-2,2,2.0833333333333332E-2,0.11458333333333333,null,"Ir a Tabla de Repitencia >=30%"]
["CBM6070","FUND BIOLOG DEL CUIDADO I",2,34,34,3,8.8235294117647065E-2,0,0,8.8235294117647065E-2]
["CBM4050","SISTEMA ENDOCRINO",6,148,146,11,7.5342465753424653E-2,2,1.3513513513513514E-2,8.7837837837837843E-2]
["CBM6072","FUNDAMENTOS BIOLOG CUIDADO III",1,23,23,2,8.6956521739130432E-2,0,0,8.6956521739130432E-2]
["CLI0004","CLINICAS MEDICAS I",20,79,79,6,7.5949367088607597E-2,0,0,7.5949367088607597E-2]
["CBM0012","SISTEMA RESPIRATORIO",4,97,95,5,5.2631578947368418E-2,2,2.0618556701030927E-2,7.2164948453608241E-2]
["CBM4040","SISTEMA NERVIOSO",6,169,167,10,5.9880239520958084E-2,2,1.1834319526627219E-2,7.1005917159763315E-2]
["CBM0008","SISTEMA INMUNOLOGICO",4,95,93,3,3.2258064516129031E-2,2,2.1052631578947368E-2,5.2631578947368418E-2]
["CBM0009","SISTEMA RENAL",5,129,128,5,3.90625E-2,1,7.7519379844961239E-3,4.6511627906976744E-2]
["CBM0011","SISTEMA REPRODUCTOR",5,130,129,5,3.875968992248062E-2,1,7.6923076923076927E-3,4.6153846153846156E-2]
["CBM0004","SISTEMA SANGUINEO",5,129,128,4,3.125E-2,1,7.7519379844961239E-3,3.875968992248062E-2]
["CBM0006","SISTEMA CARDIOVASCULAR",5,141,140,4,2.8571428571428571E-2,1,7.0921985815602835E-3,3.5460992907801421E-2]
["CLI0014","CLINICAS PEDIATRICAS",16,113,113,3,2.6548672566371681E-2,0,0,2.6548672566371681E-2]
["CLI7040","INT A LA SEMIOLOGIA Y LA PRACT",3,151,149,2,1.3422818791946308E-2,2,1.3245033112582781E-2,2.6490066225165563E-2]
["CLI0012","SEMIOLOGIA",1,95,93,0,0,2,2.1052631578947368E-2,2.1052631578947368E-2]
["CLI7120","MEDICINA FORENSE",1,103,103,0,0,0,0,0]
["CLI0005","CLINICAS MEDICAS II Y PSIQ.",20,121,121,0,0,0,0,0]
["CLI0013","CLINICAS GINECOOBSTETRAS",16,132,132,0,0,0,0,0]
["CLI0008","GENETICA CLINICA",2,132,132,0,0,0,0,0]
["CLI0006","CLINICAS QUIRURGICAS",24,103,103,0,0,0,0,0]
["CLI6680","MEDICINA DEL DOLOR",1,27,27,0,0,0,0,0]
["CLI0011","INTERNADO II",4,111,111,0,0,0,0,0]
["CLI9970","DONACION Y TRASPLANTE",2,57,57,0,0,0,0,0]
["CLI7160","TERAPEUTICA ANTIMICROBIANA",2,62,62,0,0,0,0,0]
["CBM6073","FUND BIOLOG DEL CUIDADO IV",1,21,21,0,0,0,0,0]
["CBM4150","TOXICOLOGíA",2,57,57,0,0,0,0,0]
["CLI7150","NUTRICIÓN",1,31,31,0,0,0,0,0]
["Total",null,{"$f":"SUM(C6:C36)","v":183},{"$f":"SUM(D6:D36)","v":3089},{"$f":"SUM(E6:E36)","v":3051},{"$f":"SUM(F6:F36)","v":128},{"$f":"F37/E37","v":4.1953457882661423E-2},{"$f":"SUM(H6:H36)","v":38},{"$f":"H37/D37","v":1.2301715765619942E-2},{"$f":"(F37+H37)/D37","v":5.3739074134023956E-2}]
[]
["Repitencia de Asignaturas del Dpto. Medicina, Mayor o Igual al 30%"]
[{"$f":"Planeación!A1","v":"2023-2"},null,null,null,null,null,null,null,null,null,null,"Ir a Inicio","Ir a Gráfico"]
["Codasg","Asignaturas","Total Cursos Abiertos","Número de Cursos con Repitencia >=30%","Matricula Inicial","Matrícula Final","Perdidos","%  Perdidos","Retirados","% Retirados","% Repitencia"]
["CLI0009","INTERNADO I",{"$f":"VLOOKUP(A42,$A$6:$C$36,3,FALSE)","v":4},1,25,11,0,{"$f":"IFERROR(G42/F42,\"-\")","v":0},14,{"$f":"I42/E42","v":0.56000000000000005},{"$f":"(G42+I42)/E42","v":0.56000000000000005}]
["CLI0004","CLINICAS MEDICAS I",{"$f":"VLOOKUP(A43,$A$6:$C$36,3,FALSE)","v":20},1,4,4,2,{"$f":"IFERROR(G43/F43,\"-\")","v":0.5},0,{"$f":"I43/E43","v":0},{"$f":"(G43+I43)/E43","v":0.5}]
["CBM4030","FUNDAMENTO CIENCIAS BASICAS MD",{"$f":"VLOOKUP(A44,$A$6:$C$36,3,FALSE)","v":8},1,25,24,7,{"$f":"IFERROR(G44/F44,\"-\")","v":0.29166666666666669},1,{"$f":"I44/E44","v":0.04},{"$f":"(G44+I44)/E44","v":0.32}]
["Total",null,{"$f":"SUM(C42:C44)","v":32},{"$f":"SUM(D42:D44)","v":3},{"$f":"SUM(E42:E44)","v":54},{"$f":"SUM(F42:F44)","v":39},{"$f":"SUM(G42:G44)","v":9},{"$f":"G45/F45","v":0.23076923076923078},{"$f":"SUM(I42:I44)","v":15},{"$f":"I45/E45","v":0.27777777777777779},{"$f":"(G45+I45)/E45","v":0.44444444444444442}]

{"sheet":"Graf_Med","index":41,"n_rows":2,"n_cols":15,"rows_kept":2,"cut":false,"hidden":false,"merged":[[0,0,0,14],[1,0,1,13]]}
["OFICINA DE PLANEACIÓN - INFORMACIÓN Y ESTADÍSTICA "]
[null,null,null,null,null,null,null,null,null,null,null,null,null,null,"Volver"]

{"sheet":"Rep_Mer","index":42,"n_rows":37,"n_cols":12,"rows_kept":37,"cut":false,"hidden":false,"merged":[[33,0,33,10],[0,0,1,9],[2,0,2,9],[3,0,3,9],[5,11,7,12],[9,11,11,12],[32,0,32,10]]}
["OFICINA DE PLANEACIÓN - INFORMACIÓN Y ESTADÍSTICA "]
[]
["Perdidos, Retirados y Repitencia de Asignaturas del Dpto. Mercadeo y Neg. Internacionales"]
[{"$f":"Planeación!A1","v":"2023-2"}]
["Codasg","Asignaturas","Total Cursos Abiertos","Matrícula Inicial","Matrícula Final","Perdidos","%  Perdidos","Retirados","% Retirados","% Repitencia"]
["MDO0011","MARKETING  MANAGEMENT",3,64,59,0,1,5,{"$f":"H6/D6","v":7.8125E-2},{"$f":"(F6+H6)/D6","v":7.8125E-2},null,"Volver al Índice"]
["ADM7510","NEG INTERNALES/COMPETITIVIDAD",3,79,77,3,2,2,2.5316455696202531E-2,6.3291139240506333E-2]
["ADM0017","LOGISTICS AND DISTRIBUTION",3,67,63,0,0,4,5.9701492537313432E-2,5.9701492537313432E-2]
["MDO4090","FUNDAMENTOS DE MERCADEO",4,119,117,5,0,2,1.680672268907563E-2,5.8823529411764705E-2]
["ADM0061","INT. STRATEGIC NEGOTIATION",2,35,34,0,1,1,2.8571428571428571E-2,2.8571428571428571E-2,null,"Ir a Tabla de Repitencia >=30%"]
["ADM0056","INTERNATIONAL INTEGRATION",2,37,36,0,0,1,2.7027027027027029E-2,2.7027027027027029E-2]
["ADM0054","DISTRIBUCION FISICA INTER.",2,43,42,0,0,1,2.3255813953488372E-2,2.3255813953488372E-2]
["ADM7490","NEGOCIOS Y CULTURAS GLOBALES",3,87,85,0,1,2,2.2988505747126436E-2,2.2988505747126436E-2]
["ADM8800","INTERNATIONAL TRADE MANAGEMENT",3,92,90,0,0,2,2.1739130434782608E-2,2.1739130434782608E-2]
["ADM7420","INTELIGENCIA MERCAD INTERNALES",2,47,46,0,0,1,2.1276595744680851E-2,2.1276595744680851E-2]
["ADM0059","INTERNATIONAL EXPORT PLAN",3,98,96,0,0,2,2.0408163265306121E-2,2.0408163265306121E-2]
["MDO0031","NEGOCIOS INTERNACIONALES",2,83,83,1,0,0,0,1.2048192771084338E-2]
["ADM0057","GLOBAL BUSINESS PROTOCOL",3,89,88,0,0,1,1.1235955056179775E-2,1.1235955056179775E-2]
["ADM0058","PORT MANAGEMENT",3,90,89,0,1,1,1.1111111111111112E-2,1.1111111111111112E-2]
["ADM0052","LOGISTICA Y DISTRIBUCION",3,84,84,0,0,0,0,0]
["ADM0053","INT. CONTEMPORARY ANALYSIS",2,39,39,0,0,0,0,0]
["MDO0012","DISTRIBUTION CHANNELS",1,25,25,0,1,0,0,0]
["MDO0022","COMSUMPTION CULTURE",1,24,24,0,2,0,0,0]
["MDO0021","BRANDING",1,24,24,0,3,0,0,0]
["MDO0023","INTERNATIONAL BRAND MANAGEMENT",1,22,22,0,1,0,0,0]
["MDO0024","MANAGEMENT OF INT. SERVICES",1,23,23,0,1,0,0,0]
["MDO4015","INTER BUSINESS SEMINAR",1,37,37,0,1,0,0,0]
["ADM8795","INTERNATIONAL SALES MANAGEMENT",1,22,22,0,2,0,0,0]
["MDO8340","INTERNATIONAL MARKETING",3,72,72,0,0,0,0,0]
["MDO4010","INVESTIGACION DE MERCADOS",3,67,67,0,1,0,0,0]
["Total",null,{"$f":"SUM(C6:C30)","v":56},{"$f":"SUM(D6:D30)","v":1469},{"$f":"SUM(E6:E30)","v":1444},{"$f":"SUM(F6:F30)","v":9},{"$f":"F31/E31","v":6.2326869806094186E-3},{"$f":"SUM(H6:H30)","v":25},1.7018379850238258E-2,2.3144996596324029E-2]
[]
["Repitencia de Asignaturas del Dpto. Mercadeo y Neg. Internacionales, Mayor o Igual al 30%"]
[{"$f":"Planeación!A1","v":"2023-2"},null,null,null,null,null,null,null,null,null,null,"Ir a Inicio"]
["Codasg","Asignaturas","Total Cursos Abiertos","Número de Cursos con Repitencia >=30%","Matricula Inicial","Matrícula Final","Perdidos","%  Perdidos","Retirados","% Retirados","% Repitencia"]
[null,null,{"$f":"IFERROR(VLOOKUP(A36,$A$6:$C$30,3,FALSE),\"-\")","v":"-"},null,null,null,null,{"$f":"IFERROR(G36/F36,\"-\")","v":"-"},null,{"$f":"IFERROR(I36/E36,\"-\")","v":"-"},{"$f":"IFERROR((G36+I36)/E36,\"-\")","v":"-"}]
["Total",null,{"$f":"SUM(C36:C36)","v":0},{"$f":"SUM(D36:D36)","v":0},{"$f":"SUM(E36:E36)","v":0},{"$f":"SUM(F36:F36)","v":0},{"$f":"SUM(G36:G36)","v":0},{"$f":"IFERROR(G37/F37,\"-\")","v":"-"},{"$f":"SUM(I36:I36)","v":0},{"$f":"IFERROR(I37/E37,\"-\")","v":"-"},{"$f":"IFERROR((G37+I37)/E37,\"-\")","v":"-"}]

{"sheet":"Rep_Mus","index":43,"n_rows":94,"n_cols":13,"rows_kept":94,"cut":false,"hidden":false,"merged":[[5,11,7,12],[9,11,11,12],[81,0,81,10],[82,0,82,10],[0,0,1,9],[2,0,2,9],[3,0,3,9]]}
["OFICINA DE PLANEACIÓN - INFORMACIÓN Y ESTADÍSTICA "]
[]
["Perdidos, Retirados y Repitencia de Asignaturas del Dpto. Música"]
[{"$f":"Planeación!A1","v":"2023-2"}]
["Codasg","Asignaturas","Total Cursos Abiertos","Matrícula Inicial","Matrícula Final","Perdidos","%  Perdidos","Retirados","% Retirados","% Repitencia"]
["MUS7045","GUITARRA II",1,1,0,0,{"$f":"IFERROR(F6/E6,\"-\")","v":"-"},1,{"$f":"H6/D6","v":1},{"$f":"(F6+H6)/D6","v":1},null,"Volver al Índice"]
["MUS7538","RECITAL CLARINETE II",1,1,0,0,"-",1,1,1]
["MUS4025","DEL CLASICISMO AL IMPRESIONISM",1,3,2,1,0.5,1,0.33333333333333331,0.66666666666666663]
["MUS4060","FUNDAMENTOS DE TEORIA",1,11,9,4,0.44444444444444442,2,0.18181818181818182,0.54545454545454541]
["ECA0065","MUSICA DE COLOMBIA Y DEL CAR",1,26,18,4,0.22222222222222221,8,0.30769230769230771,0.46153846153846156,null,"Ir a Tabla de Repitencia >=30%"]
["MUS4030","ENTRENAMIENTO AUDITIVO I",1,9,7,1,0.14285714285714285,2,0.22222222222222221,0.33333333333333331]
["MUS4155","SOLFEO I",1,10,8,1,0.125,2,0.2,0.3]
["MUS4065","GESTION DE PROYECTOS MUSICALES",1,10,9,2,0.22222222222222221,1,0.1,0.3]
["MUS4035","ENTRENAMIENTO AUDITIVO II",1,14,14,4,0.2857142857142857,0,0,0.2857142857142857]
["MUS4150","PRINCIPIOS DE ARMONIA Y FORMA",1,19,19,5,0.26315789473684209,0,0,0.26315789473684209]
["MUS4090","PIANO / GUITARRA FUNCIONAL I",1,8,7,1,0.14285714285714285,1,0.125,0.25]
["MUS7450","JAZZ Y MUSICA POPULAR II",4,4,4,1,0.25,0,0,0.25]
["MUS4050","FORMA Y ANALISIS I",1,14,14,3,0.21428571428571427,0,0,0.21428571428571427]
["MUS7311","HISTORIA DE LA MUSICA II",1,5,4,0,0,1,0.2,0.2]
["MUS4175","CONTRAPUNTO Y ARMONIA I",1,8,7,0,0,1,0.125,0.125]
["MUS4170","SOLFEO IV",1,8,7,0,0,1,0.125,0.125]
["MUS4100","PIANO / GUITARRA FUNCIONAL III",2,11,10,0,0,1,9.0909090909090912E-2,9.0909090909090912E-2]
["MUS4045","ENTRENAMIENTO AUDITIVO IV",1,14,13,0,0,1,7.1428571428571425E-2,7.1428571428571425E-2]
["MUS4000","CONCEP MUSICA SIGLO XX Y XXI I",1,7,7,0,0,0,0,0]
["MUS4040","ENTRENAMIENTO AUDITIVO III",1,8,8,0,0,0,0,0]
["MUS4135","PRACTICA EN CONJUNTO VI",5,9,9,0,0,0,0,0]
["MUS4140","PRACTICA EN CONJUNTO VII",6,12,12,0,0,0,0,0]
["MUS7446","NIVELAT JAZZ Y MUSICA POPULAR",6,6,6,0,0,0,0,0]
["MUS7448","JAZZ Y MUSICA POPULAR I",8,8,8,0,0,0,0,0]
["MUS7454","JAZZ Y MUSICA POPULAR IV",8,8,8,0,0,0,0,0]
["MUS4145","PRACTICA EN CONJUNTO VIII",7,11,11,0,0,0,0,0]
["MUS7456","JAZZ Y MUSICA POPULAR V",9,9,9,0,0,0,0,0]
["MUS7458","JAZZ Y MUSICA POPULAR VI",10,10,10,0,0,0,0,0]
["MUS7460","JAZZ Y MUSICA POPULAR VII",8,8,8,0,0,0,0,0]
["MUS7462","JAZZ Y MUSICA POPULAR VIII",1,1,1,0,0,0,0,0]
["MUS7532","VIOLIN VII",1,1,1,0,0,0,0,0]
["MUS7452","JAZZ Y MUSICA POPULAR III",3,3,3,0,0,0,0,0]
["MUS4130","PRACTICA EN CONJUNTO V",6,11,11,0,{"$f":"IFERROR(F38/E38,\"-\")","v":0},0,{"$f":"H38/D38","v":0},{"$f":"(F38+H38)/D38","v":0}]
["MUS4180","CONTRAPUNTO Y ARMONIA II",1,8,8,0,0,0,0,0]
["MUS4070","MUSICA DE CAMARA I",2,10,10,0,0,0,0,0]
["MUS4160","SOLFEO II",1,17,17,0,0,0,0,0]
["HIS0050","DE LA ANTIGUEDAD AL BARROCO",1,15,15,0,0,0,0,0]
["MUS4115","PRACTICA EN CONJUNTO II",1,16,16,0,0,0,0,0]
["MUS4110","PRACTICA DE CONJUNTO I",1,7,7,0,0,0,0,0]
["MUS4120","PRACTICA EN CONJUNTO III",2,10,10,0,0,0,0,0]
["MUS4105","PIANO / GUITARRA FUNCIONAL IV",1,5,5,0,0,0,0,0]
["MUS4095","PIANO / GUITARRA FUNCIONAL II",3,17,17,0,0,0,0,0]
["MUS4125","PRACTICA EN CONJUNTO IV",5,6,6,0,0,0,0,0]
["MUS4165","SOLFEO III",1,7,7,0,0,0,0,0]
["MUS4055","FORMA Y ANALISIS II",1,12,12,0,0,0,0,0]
["MUS4005","CONCEP MUSICA SIGL XX Y XXI II",1,10,10,0,0,0,0,0]
["MUS4075","MUSICA DE CAMARA II",2,11,11,0,0,0,0,0]
["MUS4085","MUSICA DEL SIGLO XX Y XXI",1,12,12,0,0,0,0,0]
["MUS7005","CANTO II",1,1,1,0,0,0,0,0]
["MUS7015","CANTO IV",1,1,1,0,0,0,0,0]
["MUS7025","CANTO VI",1,1,1,0,0,0,0,0]
["MUS7035","CANTO VIII",1,1,1,0,0,0,0,0]
["MUS7010","CANTO III",1,1,1,0,0,0,0,0]
["MUS7020","CANTO V",1,1,1,0,0,0,0,0]
["MUS7000","CANTO I",1,1,1,0,0,0,0,0]
["MUS7312","HISTORIA DE LA MUSICA III",1,3,3,0,0,0,0,0]
["HIS7095","HISTORIA DE LA MUSICA I",1,15,15,0,0,0,0,0]
["MUS7373","TECNOLOGIA MUSICAL",1,9,9,0,0,0,0,0]
["MUS7070","GUITARRA VII",1,1,1,0,0,0,0,0]
["MUS7353","TECNICAS DE COMPOSICION I",1,8,8,0,0,0,0,0]
["MUS7534","VIOLIN VIII",1,1,1,0,0,0,0,0]
["MUS7418","CLARINETE IV",1,1,1,0,0,0,0,0]
["MUS7075","GUITARRA VIII",1,1,1,0,0,0,0,0]
["MUS7080","PIANO I",1,1,1,0,0,0,0,0]
["MUS7110","PIANO VII",1,1,1,0,{"$f":"IFERROR(F70/E70,\"-\")","v":0},0,{"$f":"H70/D70","v":0},{"$f":"(F70+H70)/D70","v":0}]
["MUS7354","TECNICAS DE COMPOSICION II",1,7,7,0,0,0,0,0]
["MUS7361","TECNICAS DE GRABACION I",1,6,6,0,0,0,0,0]
["MUS7496","VIOLA VII",1,1,1,0,0,0,0,0]
["MUS7520","VIOLIN I",1,1,1,0,0,0,0,0]
["MUS7514","VIOLONCHELO VII",1,1,1,0,0,0,0,0]
["MUS7155","RECITAL CANTO IV",1,1,1,0,0,0,0,0]
["MUS7558","RECITAL JAZZ Y MUSICA POPUL IV",3,3,3,0,0,0,0,0]
["MUS7590","RECITAL VIOLIN IV",1,1,1,0,0,0,0,0]
["MUS7175","RECITAL GUITARRA IV",1,1,1,0,0,0,0,0]
["Total",null,{"$f":"SUM(C6:C79)","v":154},{"$f":"SUM(D6:D79)","v":521},{"$f":"SUM(E6:E79)","v":497},{"$f":"SUM(F6:F79)","v":27},{"$f":"F80/E80","v":5.4325955734406441E-2},{"$f":"SUM(H6:H79)","v":24},{"$f":"H80/D80","v":4.6065259117082535E-2},{"$f":"(F80+H80)/D80","v":9.7888675623800381E-2}]
[]
["Repitencia de Asignaturas del Dpto. Música, Mayor o Igual al 30%"]
[{"$f":"Planeación!A1","v":"2023-2"},null,null,null,null,null,null,null,null,null,null,"Ir a Inicio","Ir a Gráfico"]
["Codasg","Asignaturas","Total Cursos Abiertos","Número de Cursos con Repitencia >=30%","Matricula Inicial","Matrícula Final","Perdidos","%  Perdidos","Retirados","% Retirados","% Repitencia"]
["MUS7450","JAZZ Y MUSICA POPULAR II",{"$f":"IFERROR(VLOOKUP(A85,$A$6:$C$79,3,FALSE),\"-\")","v":4},1,1,1,1,{"$f":"IFERROR(G85/F85,\"-\")","v":1},0,{"$f":"I85/E85","v":0},{"$f":"(G85+I85)/E85","v":1}]
["MUS7045","GUITARRA II",1,1,1,0,0,"-",1,1,1]
["MUS7538","RECITAL CLARINETE II",1,1,1,0,0,"-",1,1,1]
["MUS4025","DEL CLASICISMO AL IMPRESIONISM",1,1,3,2,1,0.5,1,0.33333333333333331,0.66666666666666663]
["MUS4060","FUNDAMENTOS DE TEORIA",1,1,11,9,4,0.44444444444444442,2,0.18181818181818182,0.54545454545454541]
["ECA0065","MUSICA DE COLOMBIA Y DEL CAR",1,1,26,18,4,0.22222222222222221,8,0.30769230769230771,0.46153846153846156]
["MUS4030","ENTRENAMIENTO AUDITIVO I",1,1,9,7,1,0.14285714285714285,2,0.22222222222222221,0.33333333333333331]
["MUS4065","GESTION DE PROYECTOS MUSICALES",1,1,10,9,2,0.22222222222222221,1,0.1,0.3]
["MUS4155","SOLFEO I",1,1,10,8,1,0.125,2,0.2,0.3]
["Total",null,{"$f":"SUM(C85:C91)","v":10},{"$f":"SUM(D85:D91)","v":7},{"$f":"SUM(E85:E91)","v":52},{"$f":"SUM(F85:F91)","v":37},{"$f":"SUM(G85:G91)","v":11},{"$f":"G94/F94","v":0.29729729729729731},{"$f":"SUM(I85:I91)","v":15},{"$f":"I94/E94","v":0.28846153846153844},{"$f":"(G94+I94)/E94","v":0.5}]

{"sheet":"Graf_Mus","index":44,"n_rows":2,"n_cols":15,"rows_kept":2,"cut":false,"hidden":false,"merged":[[0,0,0,14],[1,0,1,13]]}
["OFICINA DE PLANEACIÓN - INFORMACIÓN Y ESTADÍSTICA "]
[null,null,null,null,null,null,null,null,null,null,null,null,null,null,"Volver"]

{"sheet":"Rep_Odo","index":45,"n_rows":54,"n_cols":13,"rows_kept":54,"cut":false,"hidden":false,"merged":[[46,0,46,10],[0,0,1,9],[2,0,2,9],[3,0,3,9],[5,11,7,12],[9,11,11,12],[45,0,45,10]]}
["OFICINA DE PLANEACIÓN - INFORMACIÓN Y ESTADÍSTICA "]
[]
["Perdidos, Retirados y Repitencia de Asignaturas del Dpto. Odontología"]
[{"$f":"Planeación!A1","v":"2023-2"}]
["Codasg","Asignaturas","Total Cursos Abiertos","Matrícula Inicial","Matrícula Final","Perdidos","%  Perdidos","Retirados","% Retirados","% Repitencia"]
["ODO4145","PATOLOGIA ORAL",1,26,26,7,{"$f":"IFERROR(F6/E6,\"-\")","v":0.26923076923076922},0,{"$f":"H6/D6","v":0},{"$f":"(F6+H6)/D6","v":0.26923076923076922},null,"Volver al Índice"]
["ODO4010","BIOESTRUCTURA DENTAL OCLUS II",1,17,17,4,0.23529411764705882,0,0,0.23529411764705882]
["ODO4100","ENDODONCIA",2,27,27,6,0.22222222222222221,0,0,0.22222222222222221]
["ODO4165","REHABILITACION ORAL",2,27,27,6,0.22222222222222221,0,0,0.22222222222222221]
["ODO4170","SEMIOLOGIA CABEZA Y CUELLO",1,23,23,5,0.21739130434782608,0,0,0.21739130434782608,null,"Ir a Tabla de Repitencia >=30%"]
["ODO4150","PERIODONCIA Y CLINICA DE PERIO",1,24,23,4,0.17391304347826086,1,4.1666666666666664E-2,0.20833333333333334]
["ODO4090","CLINICA OPERATORIA DENTAL",2,24,24,5,0.20833333333333334,0,0,0.20833333333333334]
["ODO4070","CLI  DE REHABILITACION ORAL II",6,21,21,4,0.19047619047619047,0,0,0.19047619047619047]
["ODO4065","CLI DE REHABILITACION ORAL I",6,11,11,2,0.18181818181818182,0,0,0.18181818181818182]
["ODO4035","CLINICA CIRUGIA ORAL I",1,23,23,4,0.17391304347826086,0,0,0.17391304347826086]
["ODO4155","PREVENCION Y CLINICA DEL SANO",1,23,23,3,0.13043478260869565,0,0,0.13043478260869565]
["ODO4075","CLINICA INTEGRAL DEL ADULTO I",1,8,8,1,0.125,0,0,0.125]
["ODO4050","CLINICA DE ENDODONCIA II",6,21,21,2,9.5238095238095233E-2,0,0,9.5238095238095233E-2]
["ODO4160","RADIOLOGIA ORAL E IMAGENOLOGIA",1,13,13,1,7.6923076923076927E-2,0,0,7.6923076923076927E-2]
["ODO4180","SISTEMA ESTOMATOGNATICO II",1,15,15,1,6.6666666666666666E-2,0,0,6.6666666666666666E-2]
["ODO4055","CLINICA DE ODONTOPEDIATRIA",2,20,20,1,0.05,0,0,0.05]
["ODO4175","SISTEMA ESTOMATOGNATICO I",1,21,21,1,4.7619047619047616E-2,0,0,4.7619047619047616E-2]
["ODO4130","OPERATORIA DENTAL",2,22,22,1,4.5454545454545456E-2,0,0,4.5454545454545456E-2]
["ODO4060","CLINICA DE PERIODONCIA II",6,22,22,1,4.5454545454545456E-2,0,0,4.5454545454545456E-2]
["ODO4030","CLINICA CIRUGIA ORAL III",1,25,25,1,0.04,0,0,0.04]
["ODO4080","CLINICA INTEGRAL DEL ADULTO II",2,26,26,1,3.8461538461538464E-2,0,0,3.8461538461538464E-2]
["ODO4105","INTRODUCCION A LA ODONTOLOGIA",1,29,29,1,3.4482758620689655E-2,0,0,3.4482758620689655E-2]
["ODO4005","BIOESTRUCTURA DENTAL  OCLUS I",2,36,36,1,2.7777777777777776E-2,0,0,2.7777777777777776E-2]
["ODO4110","MATERIALES DENTALES I",1,19,19,0,0,0,0,0]
["ODO4015","CARIOLOGIA",1,13,13,0,0,0,0,0]
["ODO4115","MATERIALES DENTALES II",1,13,13,0,0,0,0,0]
["ODO4000","ANASTESIOLOGIA  ORAL",2,24,24,0,0,0,0,0]
["ODO4095","CRECIMIENTO Y DESARROLLO",1,15,15,0,0,0,0,0]
["ODO4020","CLINICA DE PERIODONCIA I",6,12,12,0,0,0,0,0]
["ODO4045","CLINICA DE ENDODONCIA I",6,14,14,0,0,0,0,0]
["ODO4125","ODONTOPEDIATRIA",1,10,10,0,0,0,0,0]
["ODO4135","ORTOPEDIA MAXILAR Y ORTODONCIA",1,18,18,0,0,0,0,0]
["ODO4040","CLINICA DE CIRUGIA ORAL II",1,9,9,0,0,0,0,0]
["ODO4185","LAB DE DESTREZAS CLINICAS",1,11,11,0,0,0,0,0]
["ODO4140","OSEOINTEGRACION",1,28,28,0,0,0,0,0]
["ODO4025","CIRUGIA ORAL Y MAXILOFACIAL",1,12,12,0,0,0,0,0]
["ODO4085","CLINICA INTEGRAL DEL NIÑO",1,11,11,0,0,0,0,0]
["ODO4120","ODONTOLOGIA LEGAL Y FORENSE",1,18,18,0,0,0,0,0]
["Total",null,{"$f":"SUM(C6:C43)","v":76},{"$f":"SUM(D6:D43)","v":731},{"$f":"SUM(E6:E43)","v":730},{"$f":"SUM(F6:F43)","v":63},{"$f":"F44/E44","v":8.6301369863013705E-2},{"$f":"SUM(H6:H43)","v":1},{"$f":"H44/D44","v":1.3679890560875513E-3},{"$f":"(F44+H44)/D44","v":8.7551299589603282E-2}]
[]
["Repitencia de Asignaturas del Dpto. Odontología, Mayor o Igual al 30%"]
[{"$f":"Planeación!A1","v":"2023-2"},null,null,null,null,null,null,null,null,null,null,"Ir a Inicio","Ir a Gráfico"]
["Codasg","Asignaturas","Total Cursos Abiertos","Número de Cursos con Repitencia >=30%","Matricula Inicial","Matrícula Final","Perdidos","%  Perdidos","Retirados","% Retirados","% Repitencia"]
["ODO4070","CLI  DE REHABILITACION ORAL II",{"$f":"VLOOKUP(A49,$A$6:$C$43,3,FALSE)","v":6},1,3,3,3,{"$f":"IFERROR(G49/F49,\"-\")","v":1},0,{"$f":"I49/E49","v":0},{"$f":"(G49+I49)/E49","v":1}]
["ODO4065","CLI DE REHABILITACION ORAL I",{"$f":"VLOOKUP(A50,$A$6:$C$43,3,FALSE)","v":6},2,4,4,2,{"$f":"IFERROR(G50/F50,\"-\")","v":0.5},0,{"$f":"I50/E50","v":0},{"$f":"(G50+I50)/E50","v":0.5}]
["ODO4050","CLINICA DE ENDODONCIA II",{"$f":"VLOOKUP(A51,$A$6:$C$43,3,FALSE)","v":6},1,4,4,2,{"$f":"IFERROR(G51/F51,\"-\")","v":0.5},0,{"$f":"I51/E51","v":0},{"$f":"(G51+I51)/E51","v":0.5}]
["ODO4100","ENDODONCIA",{"$f":"VLOOKUP(A52,$A$6:$C$43,3,FALSE)","v":2},1,13,13,5,{"$f":"IFERROR(G52/F52,\"-\")","v":0.38461538461538464},0,{"$f":"I52/E52","v":0},{"$f":"(G52+I52)/E52","v":0.38461538461538464}]
["ODO4090","CLINICA OPERATORIA DENTAL",{"$f":"VLOOKUP(A53,$A$6:$C$43,3,FALSE)","v":2},1,6,6,2,{"$f":"IFERROR(G53/F53,\"-\")","v":0.33333333333333331},0,{"$f":"I53/E53","v":0},{"$f":"(G53+I53)/E53","v":0.33333333333333331}]
["Total",null,{"$f":"SUM(C49:C53)","v":22},{"$f":"SUM(D49:D53)","v":6},{"$f":"SUM(E49:E53)","v":30},{"$f":"SUM(F49:F53)","v":30},{"$f":"SUM(G49:G53)","v":14},{"$f":"G54/F54","v":0.46666666666666667},{"$f":"SUM(I49:I53)","v":0},{"$f":"I54/E54","v":0},{"$f":"(G54+I54)/E54","v":0.46666666666666667}]

{"sheet":"Graf_Odo","index":46,"n_rows":2,"n_cols":15,"rows_kept":2,"cut":false,"hidden":false,"merged":[[0,0,0,14],[1,0,1,13]]}
["OFICINA DE PLANEACIÓN - INFORMACIÓN Y ESTADÍSTICA "]
[null,null,null,null,null,null,null,null,null,null,null,null,null,null,"Volver"]

{"sheet":"Rep_Psi","index":47,"n_rows":65,"n_cols":13,"rows_kept":65,"cut":false,"hidden":false,"merged":[[5,11,7,12],[9,11,11,12],[58,0,58,10],[59,0,59,10],[0,0,1,9],[2,0,2,9],[3,0,3,9]]}
["OFICINA DE PLANEACIÓN - INFORMACIÓN Y ESTADÍSTICA "]
[]
["Perdidos, Retirados y Repitencia de Asignaturas del Dpto. Psicología"]
[{"$f":"Planeación!A1","v":"2023-2"}]
["Codasg","Asignaturas","Total Cursos Abiertos","Matrícula Inicial","Matrícula Final","Perdidos","%  Perdidos","Retirados","% Retirados","% Repitencia"]
["PSI1300","TEND. Y AUTORES CONDUCTUALES",1,1,0,0,{"$f":"IFERROR(F6/E6,\"-\")","v":"-"},1,{"$f":"H6/D6","v":1},{"$f":"(F6+H6)/D6","v":1},null,"Volver al Índice"]
["PSI0055","PENSAMIENTO Y LENGUAJE",2,2,1,0,0,1,0.5,0.5]
["PSI0015","PSICOLOGIA DEL DESARROLLO II",1,3,3,1,0.33333333333333331,0,0,0.33333333333333331]
["PSI0119","TENDENCIAS Y AUTORES COGNITIVO",3,77,75,10,0.13333333333333333,2,2.5974025974025976E-2,0.15584415584415584]
["PSI7420","PSICOLOGÍA ORGANIZACIONAL",3,99,90,4,4.4444444444444446E-2,9,9.0909090909090912E-2,0.13131313131313133,null,"Ir a Tabla de Repitencia >=30%"]
["PSI0114","MEMORIA Y APRENDIZAJE",3,82,79,7,8.8607594936708861E-2,3,3.6585365853658534E-2,0.12195121951219512]
["PSI1061","PSICOFISIOLOGIA",3,165,161,12,7.4534161490683232E-2,4,2.4242424242424242E-2,9.696969696969697E-2]
["PSI0111","INV EN CIENCIAS SOCIALES",4,139,133,6,4.5112781954887216E-2,6,4.3165467625899283E-2,8.6330935251798566E-2]
["PSI0013","EVALUACION PSICOLOGICA",2,58,56,3,5.3571428571428568E-2,2,3.4482758620689655E-2,8.6206896551724144E-2]
["CSO0080","QUIENES SOMOS?MIRADA-EVOLUC",2,60,56,1,1.7857142857142856E-2,4,6.6666666666666666E-2,8.3333333333333329E-2]
["PSI0115","PENSAMIENTO Y LENGUAJE",3,72,70,4,5.7142857142857141E-2,2,2.7777777777777776E-2,8.3333333333333329E-2]
["PSI0118","TEND Y AUTORES FEN EXISTENCIAL",2,66,62,1,1.6129032258064516E-2,4,6.0606060606060608E-2,7.575757575757576E-2]
["PSI0120","TEND Y AUTORES CONDUCTUALES",3,81,77,1,1.2987012987012988E-2,4,4.9382716049382713E-2,6.1728395061728392E-2]
["PSI0016","PROY CULT PROCESOS PSICOLOGIC",2,51,50,2,0.04,1,1.9607843137254902E-2,5.8823529411764705E-2]
["PSI0112","TECNICAS E INSTRUMENTOS I",3,147,146,7,4.7945205479452052E-2,1,6.8027210884353739E-3,5.4421768707482991E-2]
["PSI1160","INTRODUCCIÓN A LA PSICOLOGIA",2,60,58,1,1.7241379310344827E-2,2,3.3333333333333333E-2,0.05]
["PSI7400","PSICOLOGÍA COMUNITARIA",3,94,93,3,3.2258064516129031E-2,1,1.0638297872340425E-2,4.2553191489361701E-2]
["PSI3075","APLIC EN PSICOLOGIA EDUCATIVA",3,52,50,0,0,2,3.8461538461538464E-2,3.8461538461538464E-2]
["PSI0009","PROYECTOS Y SERVIC PROG PREV",2,29,28,0,0,1,3.4482758620689655E-2,3.4482758620689655E-2]
["PSI7450","PSICOLOGIA Y SALUD",2,88,88,3,3.4090909090909088E-2,0,0,3.4090909090909088E-2]
["PSI4140","PSICOPATOLOGIA",3,66,66,2,3.0303030303030304E-2,0,0,3.0303030303030304E-2]
["PSI0117","PERCEPCION Y ATENCION",2,66,64,0,0,2,3.0303030303030304E-2,3.0303030303030304E-2]
["PSI1260","NEUROPSICOLOGÍA",3,100,98,1,1.020408163265306E-2,2,0.02,0.03]
["PSI4130","PSICOLOGIA EDUCATIVA",3,102,101,2,1.9801980198019802E-2,1,9.8039215686274508E-3,2.9411764705882353E-2]
["PSI0001","FUND SOC DE LA PSICOLOGIA",4,112,112,3,2.6785714285714284E-2,0,0,2.6785714285714284E-2]
["PSI0124","TECNICAS E INSTRUMENTOS II",2,80,78,0,0,2,2.5000000000000001E-2,2.5000000000000001E-2]
["PSI0122","PSICOLOGIA DEL DESARROLLO II",3,85,84,1,1.1904761904761904E-2,1,1.1764705882352941E-2,2.3529411764705882E-2]
["PSI4080","APLIC EN PSICOLOGIA SOCIAL",3,56,55,0,0,1,1.7857142857142856E-2,1.7857142857142856E-2]
["PSI0121","TEND Y AUTORES PSICODINAMICOS",3,117,115,0,0,2,1.7094017094017096E-2,1.7094017094017096E-2]
["PSI7440","APLIC PSICOLOGIA ORGANIZACONAL",3,59,58,0,0,1,1.6949152542372881E-2,1.6949152542372881E-2]
["PSI7460","APLIC PSICOLOGIA Y SALUD",3,62,61,0,0,1,1.6129032258064516E-2,1.6129032258064516E-2]
["PSI0113","PSICOLOGIA DEL DESARROLLO I",2,65,65,1,1.5384615384615385E-2,0,0,1.5384615384615385E-2]
["PSI0109","PSICOINMUNOLOGIA",3,81,80,0,{"$f":"IFERROR(F38/E38,\"-\")","v":0},1,{"$f":"H38/D38","v":1.2345679012345678E-2},{"$f":"(F38+H38)/D38","v":1.2345679012345678E-2}]
["PSI0116","MOTIVACION Y EMOCION",3,96,95,0,0,1,1.0416666666666666E-2,1.0416666666666666E-2]
["INV4131","MODELOS DE INV. -C. SOCIALES-5",4,29,29,0,0,0,0,0]
["PSI1090","PSICOLOGIA EVOLUTIVA",1,31,31,0,0,0,0,0]
["PSI1170","LAB. DE MOTIVACIÓN Y EMOCIÓN",1,1,1,0,0,0,0,0]
["PSI1270","PSICOINMUNOLOGÍA",1,2,2,0,0,0,0,0]
["PSI1280","PSICOLOGÍA DEL DESARROLLO",1,1,1,0,0,0,0,0]
["PSI1290","TEND. Y AUTORES COGNITIVOS",2,2,2,0,0,0,0,0]
["PSI1310","TEND. Y AUTORES PSICODINAMICOS",1,1,1,0,0,0,0,0]
["PSI1320","TEND AUTOR FENOMENOL/ EXISTENC",2,5,5,0,0,0,0,0]
["PSI4210","FUNDAMENTOS/TEORIAS PS SOCIAL",3,4,4,0,0,0,0,0]
["PSI4230","MEDICIÓN Y EVALUACIÓN",2,6,6,0,0,0,0,0]
["PSI4250","PSICOLOGÍA DE LOS GRUPOS",3,76,76,0,0,0,0,0]
["PSI4535","PSICOLOGIA APLICADA",1,25,25,0,0,0,0,0]
["PSI0012","ENTREVISTA",2,50,50,0,0,0,0,0]
["PSI4070","TEORIA DE LA PERSONALIDAD",3,56,56,0,0,0,0,0]
["PSI0017","PROY  CULT PROB RELEV CONTEX",2,49,49,0,0,0,0,0]
["PSI0014","PROY SERV DIAGN DISEÑO INTERV",1,22,22,0,0,0,0,0]
["PSI4152","VOLUNTARIADO Y TRANSF. SOCIAL",1,5,5,0,0,0,0,0]
["Total",null,{"$f":"SUM(C6:C56)","v":120},{"$f":"SUM(D6:D56)","v":2938},{"$f":"SUM(E6:E56)","v":2873},{"$f":"SUM(F6:F56)","v":76},{"$f":"F57/E57","v":2.6453184824225547E-2},{"$f":"SUM(H6:H56)","v":65},{"$f":"H57/D57","v":2.2123893805309734E-2},{"$f":"(F57+H57)/D57","v":4.7991831177671883E-2}]
[]
["Repitencia de Asignaturas del Dpto. Psicología, Mayor o Igual al 30%"]
[{"$f":"Planeación!A1","v":"2023-2"},null,null,null,null,null,null,null,null,null,null,"Ir a Inicio","Ir a Gráfico"]
["Codasg","Asignaturas","Total Cursos Abiertos","Número de Cursos con Repitencia >=30%","Matricula Inicial","Matrícula Final","Perdidos","%  Perdidos","Retirados","% Retirados","% Repitencia"]
["PSI0055","PENSAMIENTO Y LENGUAJE",{"$f":"VLOOKUP(A62,$A$6:$C$56,3,FALSE)","v":2},1,1,0,0,{"$f":"IFERROR(G62/F62,\"-\")","v":"-"},1,{"$f":"I62/E62","v":1},{"$f":"(G62+I62)/E62","v":1}]
["PSI1300","TEND. Y AUTORES CONDUCTUALES",{"$f":"VLOOKUP(A63,$A$6:$C$56,3,FALSE)","v":1},1,1,0,0,{"$f":"IFERROR(G63/F63,\"-\")","v":"-"},1,{"$f":"I63/E63","v":1},{"$f":"(G63+I63)/E63","v":1}]
["PSI0015","PSICOLOGIA DEL DESARROLLO II",{"$f":"VLOOKUP(A64,$A$6:$C$56,3,FALSE)","v":1},1,3,3,1,{"$f":"IFERROR(G64/F64,\"-\")","v":0.33333333333333331},0,{"$f":"I64/E64","v":0},{"$f":"(G64+I64)/E64","v":0.33333333333333331}]
["Total",null,{"$f":"SUM(C62:C64)","v":4},{"$f":"SUM(D62:D64)","v":3},{"$f":"SUM(E62:E64)","v":5},{"$f":"SUM(F62:F64)","v":3},{"$f":"SUM(G62:G64)","v":1},{"$f":"G65/F65","v":0.33333333333333331},{"$f":"SUM(I62:I64)","v":2},{"$f":"I65/E65","v":0.4},{"$f":"(G65+I65)/E65","v":0.6}]

{"sheet":"Graf_Psi","index":48,"n_rows":2,"n_cols":15,"rows_kept":2,"cut":false,"hidden":false,"merged":[[0,0,0,14],[1,0,1,13]]}
["OFICINA DE PLANEACIÓN - INFORMACIÓN Y ESTADÍSTICA "]
[null,null,null,null,null,null,null,null,null,null,null,null,null,null,"Volver"]

{"sheet":"Rep_Qui","index":49,"n_rows":33,"n_cols":13,"rows_kept":33,"cut":false,"hidden":false,"merged":[[29,0,29,10],[0,0,1,9],[2,0,2,9],[3,0,3,9],[5,11,7,12],[9,11,11,12],[28,0,28,10]]}
["OFICINA DE PLANEACIÓN - INFORMACIÓN Y ESTADÍSTICA "]
[]
["Perdidos, Retirados y Repitencia de Asignaturas del Dpto.  Química y Biología"]
[{"$f":"Planeación!A1","v":"2023-2"}]
["Codasg","Asignaturas","Total Cursos Abiertos","Matrícula Inicial","Matrícula Final","Perdidos","%  Perdidos","Retirados","% Retirados","% Repitencia"]
["CSV0004","AGRO-ECOLOGIA",2,54,47,0,{"$f":"IFERROR(F6/E6,\"-\")","v":0},7,{"$f":"H6/D6","v":0.12962962962962962},{"$f":"(F6+H6)/D6","v":0.12962962962962962},null,"Volver al Índice"]
["CSV0020","QUIMICA GENERAL",13,176,161,7,4.3478260869565216E-2,15,8.5227272727272721E-2,0.125]
["CSV0065","NTRA FLORA LOC Y EL BOS SEC TR",2,49,47,4,8.5106382978723402E-2,2,4.0816326530612242E-2,0.12244897959183673]
["CSV0010","BIOLOGIA",7,135,125,6,4.8000000000000001E-2,10,7.407407407407407E-2,0.11851851851851852]
["QUI4010","QUIMICA Y BIOQUIMICA",2,29,29,3,0.10344827586206896,0,0,0.10344827586206896,null,"Ir a Tabla de Repitencia >=30%"]
["CSV0061","ECOLOGIA URBANA",3,85,79,2,2.5316455696202531E-2,6,7.0588235294117646E-2,9.4117647058823528E-2]
["CSV0075","BIODIVERSIDAD Y SOCIEDAD",3,93,90,5,5.5555555555555552E-2,3,3.2258064516129031E-2,8.6021505376344093E-2]
["CSV0030","PLANTAS MEDICINALES",2,25,24,1,4.1666666666666664E-2,1,0.04,0.08]
["BIO2040","BIOLOGIA MOLECULAR",7,140,139,10,7.1942446043165464E-2,1,7.1428571428571426E-3,7.857142857142857E-2]
["BIO2030","BIOLOGIA CELULAR",5,104,104,8,7.6923076923076927E-2,0,0,7.6923076923076927E-2]
["CSV0015","BIOLOGIA,GENOMA Y SOCIEDAD",1,26,24,0,0,2,7.6923076923076927E-2,7.6923076923076927E-2]
["CSV1050","QUIMICA Y MEDIO AMBIENTE",1,30,30,2,6.6666666666666666E-2,0,0,6.6666666666666666E-2]
["QUI1070","QUIMICA",8,104,104,6,5.7692307692307696E-2,0,0,5.7692307692307696E-2]
["CSV1055","INTRODUCCION A LA NANOTECH.",1,35,33,0,0,2,5.7142857142857141E-2,5.7142857142857141E-2]
["IDS0065","COMUNICACION DE LAS CIENCIAS",2,37,35,0,0,2,5.4054054054054057E-2,5.4054054054054057E-2]
["BIO4045","BIOFISICA (ODO)",1,36,36,1,2.7777777777777776E-2,0,0,2.7777777777777776E-2]
["ECA1050","AVES DEL CARIBE COLOMBIANO",7,205,201,1,4.9751243781094526E-3,4,1.9512195121951219E-2,2.4390243902439025E-2]
["FIS1070","BIOFISICA",6,135,134,1,7.462686567164179E-3,1,7.4074074074074077E-3,1.4814814814814815E-2]
["BIO4035","BIOLOGIA CELULAR Y MOLECULAR",2,34,34,0,0,0,0,0]
["BIO4040","BIOLOGIA CELULAR Y MOLECULAR",2,31,31,0,0,0,0,0]
["QUI4015","QUIMICA GENERAL (ODO)",2,28,28,0,0,0,0,0]
["Total",null,{"$f":"SUM(C6:C26)","v":79},{"$f":"SUM(D6:D26)","v":1591},{"$f":"SUM(E6:E26)","v":1535},{"$f":"SUM(F6:F26)","v":57},{"$f":"F27/E27","v":3.713355048859935E-2},{"$f":"SUM(H6:H26)","v":56},{"$f":"H27/D27","v":3.519798868636078E-2},{"$f":"(F27+H27)/D27","v":7.1024512884978006E-2}]
[]
["Repitencia de Asignaturas del Dpto.  Química y Biología, Mayor o Igual al 30%"]
[{"$f":"Planeación!A1","v":"2023-2"},null,null,null,null,null,null,null,null,null,null,"Ir a Inicio","Ir a Gráfico"]
["Codasg","Asignaturas","Total Cursos Abiertos","Número de Cursos con Repitencia >=30%","Matricula Inicial","Matrícula Final","Perdidos","%  Perdidos","Retirados","% Retirados","% Repitencia"]
["CSV0020","QUIMICA GENERAL",{"$f":"VLOOKUP(A32,$A$6:$C$26,3,FALSE)","v":13},1,14,11,2,{"$f":"IFERROR(G32/F32,\"-\")","v":0.18181818181818182},3,{"$f":"I32/E32","v":0.21428571428571427},{"$f":"(G32+I32)/E32","v":0.35714285714285715}]
["Total",null,{"$f":"SUM(C32:C32)","v":13},{"$f":"SUM(D32:D32)","v":1},{"$f":"SUM(E32:E32)","v":14},{"$f":"SUM(F32:F32)","v":11},{"$f":"SUM(G32:G32)","v":2},{"$f":"G33/F33","v":0.18181818181818182},{"$f":"SUM(I32:I32)","v":3},{"$f":"I33/E33","v":0.21428571428571427},{"$f":"(G33+I33)/E33","v":0.35714285714285715}]

{"sheet":"Graf_Qui","index":50,"n_rows":2,"n_cols":15,"rows_kept":2,"cut":false,"hidden":false,"merged":[[0,0,0,14],[1,0,1,13]]}
["OFICINA DE PLANEACIÓN - INFORMACIÓN Y ESTADÍSTICA "]
[null,null,null,null,null,null,null,null,null,null,null,null,null,null,"Volver"]

{"sheet":"Rep_Sal","index":51,"n_rows":32,"n_cols":13,"rows_kept":32,"cut":false,"hidden":false,"merged":[[28,0,28,10],[0,0,1,9],[2,0,2,9],[3,0,3,9],[5,11,7,12],[9,11,11,12],[27,0,27,10]]}
["OFICINA DE PLANEACIÓN - INFORMACIÓN Y ESTADÍSTICA "]
[]
["Perdidos, Retirados y Repitencia de Asignaturas del Dpto. Salud Pública"]
[{"$f":"Planeación!A1","v":"2023-2"}]
["Codasg","Asignaturas","Total Cursos Abiertos","Matrícula Inicial","Matrícula Final","Perdidos","%  Perdidos","Retirados","% Retirados","% Repitencia"]
["CSV0060","SALUD GLOBAL",1,21,19,1,{"$f":"IFERROR(F6/E6,\"-\")","v":5.2631578947368418E-2},2,{"$f":"H6/D6","v":9.5238095238095233E-2},{"$f":"(F6+H6)/D6","v":0.14285714285714285},null,"Volver al Índice"]
["MFC8388","EPIDEMIOLOGIA CLINICA",3,18,17,0,0,1,5.5555555555555552E-2,5.5555555555555552E-2]
["SPB4000","SALUD BASADA EN EVIDENCIA",1,25,25,1,0.04,0,0,0.04]
["CSO0110","AMBIENTE,SALUD Y DESARROLLO",1,28,27,0,0,1,3.5714285714285712E-2,3.5714285714285712E-2]
["MFC0001","LAB. PROM. DE LA SALUD Y PREV.",21,123,122,1,8.1967213114754103E-3,1,8.130081300813009E-3,1.6260162601626018E-2,null,"Ir a Tabla de Repitencia >=30%"]
["MFC0002","PROMOC. DE LA SALUD Y PREV.(T)",4,125,124,1,8.0645161290322578E-3,1,8.0000000000000002E-3,1.6E-2]
["EST4020","BIOESTADISTICA",6,150,149,1,6.7114093959731542E-3,1,6.6666666666666671E-3,1.3333333333333334E-2]
["MFC7020","EPIDEMIOLOGIA GENERAL",3,79,79,1,1.2658227848101266E-2,0,0,1.2658227848101266E-2]
["INV7560","PROYECTO DE GRADO II",4,114,114,1,8.771929824561403E-3,0,0,8.771929824561403E-3]
["MFC8386","FAMILIA, SOCIEDAD Y SALUD",4,131,131,1,7.6335877862595417E-3,0,0,7.6335877862595417E-3]
["SOP7050","SALUD OCUPACIONAL",4,132,132,1,7.575757575757576E-3,0,0,7.575757575757576E-3]
["ADM7210","INT A LA GERENCIA EN SALUD",3,103,103,0,0,0,0,0]
["INV7550","PROYECTO DE GRADO I",4,121,121,0,0,0,0,0]
["MFC4050","SALUD BASADA EN LA EVIDENCIA",2,60,60,0,0,0,0,0]
["MFC8387","PROM SALUD Y PREVENCION ENF",6,32,32,0,0,0,0,0]
["INV0003","INVESTIGACIÓN EN SALUD",1,18,18,0,0,0,0,0]
["INV0004","TRABAJO DE GRADO",1,11,11,0,0,0,0,0]
["MFC4075","EPIDEMIOLOGIA GENERAL (ODO)",1,20,20,0,0,0,0,0]
["ADM5255","INTROD  GERENCIA EN SALUD (OD)",1,21,21,0,0,0,0,0]
["CBM9280","DETERMINANTES DE LA SALUD",1,19,19,0,0,0,0,0]
["Total",null,{"$f":"SUM(C6:C25)","v":72},{"$f":"SUM(D6:D25)","v":1351},{"$f":"SUM(E6:E25)","v":1344},{"$f":"SUM(F6:F25)","v":9},{"$f":"F26/E26","v":6.6964285714285711E-3},{"$f":"SUM(H6:H25)","v":7},{"$f":"H26/D26","v":5.1813471502590676E-3},{"$f":"(F26+H26)/D26","v":1.1843079200592153E-2}]
[]
["Repitencia de Asignaturas del Dpto. Salud Pública, Mayor o Igual al 30%"]
[{"$f":"Planeación!A1","v":"2023-2"},null,null,null,null,null,null,null,null,null,null,"Ir a Inicio","Ir a Gráfico"]
["Codasg","Asignaturas","Total Cursos Abiertos","Número de Cursos con Repitencia >=30%","Matricula Inicial","Matrícula Final","Perdidos","%  Perdidos","Retirados","% Retirados","% Repitencia"]
[]
["Total",null,{"$f":"SUM(C31:C31)","v":0},{"$f":"SUM(D31:D31)","v":0},{"$f":"SUM(E31:E31)","v":0},{"$f":"SUM(F31:F31)","v":0},{"$f":"SUM(G31:G31)","v":0},{"$f":"IFERROR(G32/F32,\"-\")","v":"-"},{"$f":"SUM(I31:I31)","v":0},{"$f":"IFERROR(I32/E32,\"-\")","v":"-"},{"$f":"IFERROR((G32+I32)/E32,\"-\")","v":"-"}]

{"sheet":"Rep_Ele","index":52,"n_rows":57,"n_cols":13,"rows_kept":57,"cut":false,"hidden":false,"merged":[[5,11,7,12],[9,11,11,12],[49,0,49,10],[50,0,50,10],[0,0,1,9],[2,0,2,9],[3,0,3,9]]}
["OFICINA DE PLANEACIÓN - INFORMACIÓN Y ESTADÍSTICA "]
[]
["Perdidos, Retirados y Repitencia de Asignaturas del Dpto. Ing Eléctrica-Electrónica"]
[{"$f":"Planeación!A1","v":"2023-2"}]
["Codasg","Asignaturas","Total Cursos Abiertos","Matrícula Inicial","Matrícula Final","Perdidos","%  Perdidos","Retirados","% Retirados","% Repitencia"]
["IEL7250","LINEAS Y REDES DE TRANSMISION",2,37,30,7,{"$f":"IFERROR(F6/E6,\"-\")","v":0.23333333333333334},7,{"$f":"H6/D6","v":0.1891891891891892},{"$f":"(F6+H6)/D6","v":0.3783783783783784},null,"Volver al Índice"]
["IEL4005","MAQUINAS ELECTRICAS",1,10,8,1,0.125,2,0.2,0.3]
["IEL4020","MAQUINAS ELECTRICAS II",1,11,9,1,0.1111111111111111,2,0.18181818181818182,0.27272727272727271]
["IEN4095","INTROD. A LA ROBÓTICA MÓVIL",1,15,12,1,8.3333333333333329E-2,3,0.2,0.26666666666666666]
["IEL1021","CIRCUITOS II",3,36,30,2,6.6666666666666666E-2,6,0.16666666666666666,0.22222222222222221,null,"Ir a Tabla de Repitencia >=30%"]
["IEN4020","ELECTRÓNICA I",3,35,28,0,0,7,0.2,0.2]
["IEN7135","MICROPROCESADORES",2,27,25,3,0.12,2,7.407407407407407E-2,0.18518518518518517]
["IEN4030","ELECTRONICA II",1,22,19,1,5.2631578947368418E-2,3,0.13636363636363635,0.18181818181818182]
["IEL7240","PROTECCIONES ELECTRICAS",2,29,27,3,0.1111111111111111,2,6.8965517241379309E-2,0.17241379310344829]
["IEN8557","REDES INALÁMBRICAS DE SENSORES",1,12,11,1,9.0909090909090912E-2,1,8.3333333333333329E-2,0.16666666666666666]
["IEN7211","MEDIOS DE TRANSMISIÓN",2,31,28,2,7.1428571428571425E-2,3,9.6774193548387094E-2,0.16129032258064516]
["IEL7150","SUBESTACIONES ELECTRICAS",1,25,24,3,0.125,1,0.04,0.16]
["IEN4100","SEÑALES Y SISTEMAS",3,63,60,7,0.11666666666666667,3,4.7619047619047616E-2,0.15873015873015872]
["IEL1011","CIRCUITOS I",4,69,61,2,3.2786885245901641E-2,8,0.11594202898550725,0.14492753623188406]
["IEL0010","INT. A LA ING. ELECTRICA",1,7,7,1,0.14285714285714285,0,0,0.14285714285714285]
["IEL8435","MEDICIONES E INTRUMENTACION",2,42,40,4,0.1,2,4.7619047619047616E-2,0.14285714285714285]
["INV0151","VIP 2",1,44,40,1,2.5000000000000001E-2,4,9.0909090909090912E-2,0.11363636363636363]
["IEN4120","LOGICA DIGITAL",2,42,38,0,0,4,9.5238095238095233E-2,9.5238095238095233E-2]
["IEL4010","MAQUINAS ELECTRICAS I",3,26,24,0,0,2,7.6923076923076927E-2,7.6923076923076927E-2]
["IEL4145","SISTEMAS ELECTRONICOS",1,13,12,0,0,1,7.6923076923076927E-2,7.6923076923076927E-2]
["IEN7136","MICROCONTROLADORES",2,44,44,3,6.8181818181818177E-2,0,0,6.8181818181818177E-2]
["IEL7070","ELEMENTOS SISTEMAS DE POTENCIA",1,17,16,0,0,1,5.8823529411764705E-2,5.8823529411764705E-2]
["IEL7110","OPER. ECON. SIST. DE POTENCIA",1,18,18,1,5.5555555555555552E-2,0,0,5.5555555555555552E-2]
["IEL4155","SMART GRIDS",1,20,20,1,0.05,0,0,0.05]
["IEL7010","ANALISIS SISTEMAS DE POTENCIA",1,23,22,0,0,1,4.3478260869565216E-2,4.3478260869565216E-2]
["IEN7220","ELECTRONICA III",2,31,30,0,0,1,3.2258064516129031E-2,3.2258064516129031E-2]
["CSV0050","ENERGIA MEDIO AMBIENTE Y SOC",3,64,62,0,0,2,3.125E-2,3.125E-2]
["IEL4045","CONTROL AUTOMÁTICO",3,52,52,1,1.9230769230769232E-2,0,0,1.9230769230769232E-2]
["IEN0010","INT A LA ING. ELECTRONICA",1,13,13,0,0,0,0,0]
["IEN7065","COMUNICACIONES",2,27,27,0,0,0,0,0]
["IEN7123","DISEÑO ELECTRÓNICO",3,38,38,0,0,0,0,0]
["IEN7140","ELECTRONICA DE POTENCIA",1,19,19,0,0,0,0,0]
["IEN8430","TELEMATICA",4,34,34,0,0,0,0,0]
["INV7364","PROYECTO FINAL",1,4,4,0,0,0,0,0]
["INV7365","PROYECTO FINAL",1,29,29,0,0,0,0,0]
["IDS0080","TIC INNOVACION Y DLLO SOCIEDAD",2,126,126,0,0,0,0,0]
["IEL4011","MAQUINAS ELECTRICAS",3,19,19,0,0,0,0,0]
["IEN4150","INSTALACIONES ELECTRICAS",1,9,9,0,0,0,0,0]
["IEN8512","CCNA 1",2,24,24,0,0,0,0,0]
["IEN8515","ANTENAS Y RADIOENLACES",1,16,16,0,0,0,0,0]
["IEL1165","PROYECTO FINAL",1,17,17,0,0,0,0,0]
["IEL8250","TEMAS ESPEC DE ING. ELECTRICA",1,19,19,0,0,0,0,0]
["Total",null,{"$f":"SUM(C6:C47)","v":75},{"$f":"SUM(D6:D47)","v":1259},{"$f":"SUM(E6:E47)","v":1191},{"$f":"SUM(F6:F47)","v":46},{"$f":"F48/E48","v":3.8623005877413935E-2},{"$f":"SUM(H6:H47)","v":68},{"$f":"H48/D48","v":5.4011119936457505E-2},{"$f":"(F48+H48)/D48","v":9.0548054011119941E-2}]
[]
["Repitencia de Asignaturas del Dpto. Ing Eléctrica-Electrónica, Mayor o Igual al 30%"]
[{"$f":"Planeación!A1","v":"2023-2"},null,null,null,null,null,null,null,null,null,null,"Ir a Inicio","Ir a Gráfico"]
["Codasg","Asignaturas","Total Cursos Abiertos","Número de Cursos con Repitencia >=30%","Matricula Inicial","Matrícula Final","Perdidos","%  Perdidos","Retirados","% Retirados","% Repitencia"]
["IEL7250","LINEAS Y REDES DE TRANSMISION",{"$f":"VLOOKUP(A53,$A$6:$C$47,3,FALSE)","v":2},1,18,15,7,{"$f":"IFERROR(G53/F53,\"-\")","v":0.46666666666666667},3,{"$f":"I53/E53","v":0.16666666666666666},{"$f":"(G53+I53)/E53","v":0.55555555555555558}]
["IEL1021","CIRCUITOS II",{"$f":"VLOOKUP(A54,$A$6:$C$47,3,FALSE)","v":3},1,7,5,1,{"$f":"IFERROR(G54/F54,\"-\")","v":0.2},2,{"$f":"I54/E54","v":0.2857142857142857},{"$f":"(G54+I54)/E54","v":0.42857142857142855}]
["IEN4020","ELECTRÓNICA I",{"$f":"VLOOKUP(A55,$A$6:$C$47,3,FALSE)","v":3},1,13,9,0,{"$f":"IFERROR(G55/F55,\"-\")","v":0},4,{"$f":"I55/E55","v":0.30769230769230771},{"$f":"(G55+I55)/E55","v":0.30769230769230771}]
["IEL4005","MAQUINAS ELECTRICAS",{"$f":"VLOOKUP(A56,$A$6:$C$47,3,FALSE)","v":1},1,10,8,1,{"$f":"IFERROR(G56/F56,\"-\")","v":0.125},2,{"$f":"I56/E56","v":0.2},{"$f":"(G56+I56)/E56","v":0.3}]
["Total",null,{"$f":"SUM(C53:C56)","v":9},{"$f":"SUM(D53:D56)","v":4},{"$f":"SUM(E53:E56)","v":48},{"$f":"SUM(F53:F56)","v":37},{"$f":"SUM(G53:G56)","v":9},{"$f":"G57/F57","v":0.24324324324324326},{"$f":"SUM(I53:I56)","v":11},{"$f":"I57/E57","v":0.22916666666666666},{"$f":"(G57+I57)/E57","v":0.41666666666666669}]

{"sheet":"Graf_Ele","index":53,"n_rows":2,"n_cols":15,"rows_kept":2,"cut":false,"hidden":false,"merged":[[0,0,0,14],[1,0,1,13]]}
["OFICINA DE PLANEACIÓN - INFORMACIÓN Y ESTADÍSTICA "]
[null,null,null,null,null,null,null,null,null,null,null,null,null,null,"Volver"]

{"sheet":"TD BD","index":54,"n_rows":32,"n_cols":4,"rows_kept":32,"cut":false,"hidden":false,"merged":[]}
[]
[]
["Departamento","Total Perdidos","total Retirados","Total Repitencia"]
["Dpto. Arquitectura y Urbanismo",49,86,135]
["Dpto. Comunicación Social",54,24,78]
["Dpto. Cs Politica y Rel Intern",19,33,52]
["Dpto. de Economía",63,40,103]
["Dpto. Derecho",313,246,559]
["Dpto. Diseño",50,52,102]
["Dpto. Educación",29,26,55]
["Dpto. Enfermería",3,4,7]
["Dpto. Español",105,80,185]
["Dpto. Física",138,155,293]
["Dpto. Historia y Cs. Sociales",86,160,246]
["Dpto. Humanidades y Filosofía",84,116,200]
["Dpto. Ing. Civil y Ambiental",185,86,271]
["Dpto. Ingeniería de Sistemas",149,175,324]
["Dpto. Ingeniería Industrial",261,174,435]
["Dpto. Ingeniería Mecánica",124,196,320]
["Dpto. Lenguas Extranjeras",321,247,568]
["Dpto. Medicina",128,38,166]
["Dpto. Mercadeo y Neg. Internac",9,25,34]
["Dpto. Música",27,24,51]
["Dpto. Odontología",63,1,64]
["Dpto. Psicología",76,65,141]
["Dpto. Química y Biología",57,56,113]
["Dpto. Salud Pública",9,7,16]
["Dpto.Ing Eléctrica-Electrónica",46,68,114]
["Dpto. Emprendim y Management",16,30,46]
["Dpto. Finanzas y Contaduría",43,71,114]
["Dpto. Matematicas y estadístic",339,562,901]
["Total general",2846,2847,5693]

{"sheet":"Departamentos","index":55,"n_rows":28,"n_cols":2,"rows_kept":28,"cut":false,"hidden":false,"merged":[]}
["Dpto. Arquitectura y Urbanismo","0047"]
["Dpto. Comunicación Social","0040"]
["Dpto. Cs Politica y Rel Intern","0050"]
["Dpto. de Economía","0013"]
["Dpto. Derecho","0051"]
["Dpto. Diseño","0049"]
["Dpto. Educación","0045"]
["Dpto. Emprendim y Management","0014"]
["Dpto. Enfermería","0034"]
["Dpto. Español","0076"]
["Dpto. Finanzas y Contaduría","0014"]
["Dpto. Física","0060"]
["Dpto. Historia y Cs. Sociales","0048"]
["Dpto. Humanidades y Filosofía","0046"]
["Dpto. Ing. Civil y Ambiental","0027"]
["Dpto. Ingeniería de Sistemas","0029"]
["Dpto. Ingeniería Industrial","0026"]
["Dpto. Ingeniería Mecánica","0024"]
["Dpto. Lenguas Extranjeras","0077"]
["Dpto. Matematicas y estadístic","0061"]
["Dpto. Medicina","0033"]
["Dpto. Mercadeo y Neg. Internac","0015"]
["Dpto. Música","0052"]
["Dpto. Odontología","0036"]
["Dpto. Psicología","0042"]
["Dpto. Química y Biología","0062"]
["Dpto. Salud Pública","0035"]
["Dpto.Ing Eléctrica-Electrónica","0020"]